BEGIN:VCALENDAR
VERSION:2.0
PRODID:-//Christ Covenant Church - ECPv6.15.20//NONSGML v1.0//EN
CALSCALE:GREGORIAN
METHOD:PUBLISH
X-WR-CALNAME:Christ Covenant Church
X-ORIGINAL-URL:https://christcovcincy.org
X-WR-CALDESC:Events for Christ Covenant Church
REFRESH-INTERVAL;VALUE=DURATION:PT1H
X-Robots-Tag:noindex
X-PUBLISHED-TTL:PT1H
BEGIN:VTIMEZONE
TZID:America/New_York
BEGIN:DAYLIGHT
TZOFFSETFROM:-0500
TZOFFSETTO:-0400
TZNAME:EDT
DTSTART:20250309T070000
END:DAYLIGHT
BEGIN:STANDARD
TZOFFSETFROM:-0400
TZOFFSETTO:-0500
TZNAME:EST
DTSTART:20251102T060000
END:STANDARD
BEGIN:DAYLIGHT
TZOFFSETFROM:-0500
TZOFFSETTO:-0400
TZNAME:EDT
DTSTART:20260308T070000
END:DAYLIGHT
BEGIN:STANDARD
TZOFFSETFROM:-0400
TZOFFSETTO:-0500
TZNAME:EST
DTSTART:20261101T060000
END:STANDARD
BEGIN:DAYLIGHT
TZOFFSETFROM:-0500
TZOFFSETTO:-0400
TZNAME:EDT
DTSTART:20270314T070000
END:DAYLIGHT
BEGIN:STANDARD
TZOFFSETFROM:-0400
TZOFFSETTO:-0500
TZNAME:EST
DTSTART:20271107T060000
END:STANDARD
END:VTIMEZONE
BEGIN:VEVENT
DTSTART;TZID=America/New_York:20260424T160000
DTEND;TZID=America/New_York:20260424T170000
DTSTAMP:20260424T012731
CREATED:20260313T023508Z
LAST-MODIFIED:20260313T023508Z
UID:10007565-1777046400-1777050000@christcovcincy.org
SUMMARY:Private Event
DESCRIPTION:after school tutoring
URL:https://christcovcincy.org/event/private-event-119/2026-04-24/
LOCATION:Library @ Christ Covenant Church Office
CATEGORIES:private event
ATTACH;FMTTYPE=image/jpeg:https://christcovcincy.org/wp-content/uploads/2023/06/privateeventcalendar.jpg
END:VEVENT
BEGIN:VEVENT
DTSTART;TZID=America/New_York:20260424T183000
DTEND;TZID=America/New_York:20260424T210000
DTSTAMP:20260424T012731
CREATED:20260107T192620Z
LAST-MODIFIED:20260107T192620Z
UID:10007420-1777055400-1777064400@christcovcincy.org
SUMMARY:Private Event
DESCRIPTION:Prather Martial Arts Competition Team practice
URL:https://christcovcincy.org/event/private-event-114/2026-04-24/
LOCATION:Church Fellowship Hall
CATEGORIES:private event
ATTACH;FMTTYPE=image/jpeg:https://christcovcincy.org/wp-content/uploads/2023/06/privateeventcalendar.jpg
END:VEVENT
BEGIN:VEVENT
DTSTART;TZID=America/New_York:20260424T190000
DTEND;TZID=America/New_York:20260424T210000
DTSTAMP:20260424T012731
CREATED:20260416T155916Z
LAST-MODIFIED:20260416T160127Z
UID:10007607-1777057200-1777064400@christcovcincy.org
SUMMARY:Women's Movie Night
DESCRIPTION:Ladies\, invite a friend and join us Fri.\, April 24\, 7 p.m.\, at Amy K.’s for “Mr. Church\,” the story of a cook who cares for three generations of women over the years. Starring Eddie Murphy.
URL:https://christcovcincy.org/event/womens-movie-night-13/
ATTACH;FMTTYPE=image/jpeg:https://christcovcincy.org/wp-content/uploads/2026/04/Womens-Movie-Mr.-Church-website-scaled.jpg
END:VEVENT
END:VCALENDAR