BEGIN:VCALENDAR
VERSION:2.0
PRODID:-//Christ Covenant Church - ECPv6.15.20//NONSGML v1.0//EN
CALSCALE:GREGORIAN
METHOD:PUBLISH
X-WR-CALNAME:Christ Covenant Church
X-ORIGINAL-URL:https://christcovcincy.org
X-WR-CALDESC:Events for Christ Covenant Church
REFRESH-INTERVAL;VALUE=DURATION:PT1H
X-Robots-Tag:noindex
X-PUBLISHED-TTL:PT1H
BEGIN:VTIMEZONE
TZID:UTC
BEGIN:STANDARD
TZOFFSETFROM:+0000
TZOFFSETTO:+0000
TZNAME:UTC
DTSTART:20250101T000000
END:STANDARD
END:VTIMEZONE
BEGIN:VTIMEZONE
TZID:America/New_York
BEGIN:DAYLIGHT
TZOFFSETFROM:-0500
TZOFFSETTO:-0400
TZNAME:EDT
DTSTART:20250309T070000
END:DAYLIGHT
BEGIN:STANDARD
TZOFFSETFROM:-0400
TZOFFSETTO:-0500
TZNAME:EST
DTSTART:20251102T060000
END:STANDARD
BEGIN:DAYLIGHT
TZOFFSETFROM:-0500
TZOFFSETTO:-0400
TZNAME:EDT
DTSTART:20260308T070000
END:DAYLIGHT
BEGIN:STANDARD
TZOFFSETFROM:-0400
TZOFFSETTO:-0500
TZNAME:EST
DTSTART:20261101T060000
END:STANDARD
BEGIN:DAYLIGHT
TZOFFSETFROM:-0500
TZOFFSETTO:-0400
TZNAME:EDT
DTSTART:20270314T070000
END:DAYLIGHT
BEGIN:STANDARD
TZOFFSETFROM:-0400
TZOFFSETTO:-0500
TZNAME:EST
DTSTART:20271107T060000
END:STANDARD
END:VTIMEZONE
BEGIN:VTIMEZONE
TZID:America/Halifax
BEGIN:DAYLIGHT
TZOFFSETFROM:-0400
TZOFFSETTO:-0300
TZNAME:ADT
DTSTART:20250309T060000
END:DAYLIGHT
BEGIN:STANDARD
TZOFFSETFROM:-0300
TZOFFSETTO:-0400
TZNAME:AST
DTSTART:20251102T050000
END:STANDARD
BEGIN:DAYLIGHT
TZOFFSETFROM:-0400
TZOFFSETTO:-0300
TZNAME:ADT
DTSTART:20260308T060000
END:DAYLIGHT
BEGIN:STANDARD
TZOFFSETFROM:-0300
TZOFFSETTO:-0400
TZNAME:AST
DTSTART:20261101T050000
END:STANDARD
BEGIN:DAYLIGHT
TZOFFSETFROM:-0400
TZOFFSETTO:-0300
TZNAME:ADT
DTSTART:20270314T060000
END:DAYLIGHT
BEGIN:STANDARD
TZOFFSETFROM:-0300
TZOFFSETTO:-0400
TZNAME:AST
DTSTART:20271107T050000
END:STANDARD
END:VTIMEZONE
BEGIN:VEVENT
DTSTART;TZID=UTC:20260423T173000
DTEND;TZID=UTC:20260423T183000
DTSTAMP:20260423T090031
CREATED:20220714T195703Z
LAST-MODIFIED:20250828T182812Z
UID:10006258-1776965400-1776969000@christcovcincy.org
SUMMARY:Weekly Prayer Group
DESCRIPTION:WEEKLY PRAYER GROUP: This ongoing prayer group that meets via Zoom every Thursday evening from 5:30-6:30 p.m. Contact Ruth Cload for the Zoom link.
URL:https://christcovcincy.org/event/weekly-prayer-group/2026-04-23/
ATTACH;FMTTYPE=image/jpeg:https://christcovcincy.org/wp-content/uploads/2023/03/ZoomPrayerMeeting.jpg
END:VEVENT
BEGIN:VEVENT
DTSTART;TZID=America/New_York:20260424T160000
DTEND;TZID=America/New_York:20260424T170000
DTSTAMP:20260423T090031
CREATED:20260313T023508Z
LAST-MODIFIED:20260313T023508Z
UID:10007565-1777046400-1777050000@christcovcincy.org
SUMMARY:Private Event
DESCRIPTION:after school tutoring
URL:https://christcovcincy.org/event/private-event-119/2026-04-24/
LOCATION:Library @ Christ Covenant Church Office
CATEGORIES:private event
ATTACH;FMTTYPE=image/jpeg:https://christcovcincy.org/wp-content/uploads/2023/06/privateeventcalendar.jpg
END:VEVENT
BEGIN:VEVENT
DTSTART;TZID=America/New_York:20260424T183000
DTEND;TZID=America/New_York:20260424T210000
DTSTAMP:20260423T090031
CREATED:20260107T192620Z
LAST-MODIFIED:20260107T192620Z
UID:10007420-1777055400-1777064400@christcovcincy.org
SUMMARY:Private Event
DESCRIPTION:Prather Martial Arts Competition Team practice
URL:https://christcovcincy.org/event/private-event-114/2026-04-24/
LOCATION:Church Fellowship Hall
CATEGORIES:private event
ATTACH;FMTTYPE=image/jpeg:https://christcovcincy.org/wp-content/uploads/2023/06/privateeventcalendar.jpg
END:VEVENT
BEGIN:VEVENT
DTSTART;TZID=America/New_York:20260424T190000
DTEND;TZID=America/New_York:20260424T210000
DTSTAMP:20260423T090031
CREATED:20260416T155916Z
LAST-MODIFIED:20260416T160127Z
UID:10007607-1777057200-1777064400@christcovcincy.org
SUMMARY:Women's Movie Night
DESCRIPTION:Ladies\, invite a friend and join us Fri.\, April 24\, 7 p.m.\, at Amy K.’s for “Mr. Church\,” the story of a cook who cares for three generations of women over the years. Starring Eddie Murphy.
URL:https://christcovcincy.org/event/womens-movie-night-13/
ATTACH;FMTTYPE=image/jpeg:https://christcovcincy.org/wp-content/uploads/2026/04/Womens-Movie-Mr.-Church-website-scaled.jpg
END:VEVENT
BEGIN:VEVENT
DTSTART;TZID=America/New_York:20260426T091500
DTEND;TZID=America/New_York:20260426T101500
DTSTAMP:20260423T090031
CREATED:20250724T173447Z
LAST-MODIFIED:20260128T190345Z
UID:10006957-1777194900-1777198500@christcovcincy.org
SUMMARY:Sunday School Classes
DESCRIPTION:Nursery Care is available for ages 3 and under. \nChildren’s classes for Preschool (ages 4-5) in Room 105\, for grades 1 & 2 in Room 102\, for grades 3 & 4 in Room 104\, for grades 5 & 6 in Room 108. \nJunior High class for grades 7 & 8 in Room 106. \nHigh School class for grades 9 & 10 in the modular building. \nAdult Sunday School for HS grades 11 & 12 and adults in Fellowship Hall.
URL:https://christcovcincy.org/event/sunday-school-classes-7/2026-04-26/
LOCATION:Christ Covenant Church\, 2191 Struble Rd\, Cincinnati\, 45231\, United States
CATEGORIES:Children's Ministry,Sunday School,Youth Ministry
ATTACH;FMTTYPE=image/jpeg:https://christcovcincy.org/wp-content/uploads/2023/01/SundaySchoolGeneral.jpg
END:VEVENT
BEGIN:VEVENT
DTSTART;TZID=UTC:20260426T103000
DTEND;TZID=UTC:20260426T233000
DTSTAMP:20260423T090031
CREATED:20220714T235224Z
LAST-MODIFIED:20260327T170225Z
UID:10006479-1777199400-1777246200@christcovcincy.org
SUMMARY:Sunday Service @ 10:30am
DESCRIPTION:Join us for Worship! 10:30 am
URL:https://christcovcincy.org/event/sunday-service-1030am/2026-04-26/
LOCATION:Christ Covenant Church\, 2191 Struble Rd\, Cincinnati\, 45231\, United States
ATTACH;FMTTYPE=image/jpeg:https://christcovcincy.org/wp-content/uploads/2023/02/SundayService.jpg
END:VEVENT
BEGIN:VEVENT
DTSTART;TZID=America/New_York:20260426T120000
DTEND;TZID=America/New_York:20260426T140000
DTSTAMP:20260423T090031
CREATED:20251002T192600Z
LAST-MODIFIED:20260107T200700Z
UID:10007316-1777204800-1777212000@christcovcincy.org
SUMMARY:Ferguson Community Group
DESCRIPTION:
URL:https://christcovcincy.org/event/ferguson-community-group-2/2026-04-26/
LOCATION:Chapel @ Christ Covenant Church Office\, 2192 Springdale Rd\, Cincinnati\, OH\, 45231
ATTACH;FMTTYPE=image/png:https://christcovcincy.org/wp-content/uploads/2022/07/Community-Group.png
END:VEVENT
BEGIN:VEVENT
DTSTART;TZID=America/New_York:20260428T114500
DTEND;TZID=America/New_York:20260428T170000
DTSTAMP:20260423T090031
CREATED:20250416T153209Z
LAST-MODIFIED:20250723T132052Z
UID:10006869-1777376700-1777395600@christcovcincy.org
SUMMARY:Private Event
DESCRIPTION:Speech and Debate Club
URL:https://christcovcincy.org/event/private-event-96/2026-04-28/
LOCATION:Christ Covenant Church\, 2191 Struble Rd\, Cincinnati\, 45231\, United States
CATEGORIES:private event
ATTACH;FMTTYPE=image/jpeg:https://christcovcincy.org/wp-content/uploads/2023/06/privateeventcalendar.jpg
END:VEVENT
BEGIN:VEVENT
DTSTART;TZID=America/New_York:20260428T160000
DTEND;TZID=America/New_York:20260428T170000
DTSTAMP:20260423T090031
CREATED:20260313T023411Z
LAST-MODIFIED:20260313T023411Z
UID:10007551-1777392000-1777395600@christcovcincy.org
SUMMARY:Private Event
DESCRIPTION:after school tutoring
URL:https://christcovcincy.org/event/private-event-118/2026-04-28/
LOCATION:Library @ Christ Covenant Church Office
CATEGORIES:private event
ATTACH;FMTTYPE=image/jpeg:https://christcovcincy.org/wp-content/uploads/2023/06/privateeventcalendar.jpg
END:VEVENT
BEGIN:VEVENT
DTSTART;TZID=America/New_York:20260429T083000
DTEND;TZID=America/New_York:20260429T170000
DTSTAMP:20260423T090031
CREATED:20250723T174657Z
LAST-MODIFIED:20250723T174657Z
UID:10006903-1777451400-1777482000@christcovcincy.org
SUMMARY:CAFE Coop
DESCRIPTION:
URL:https://christcovcincy.org/event/cafe-coop-4/2026-04-29/
LOCATION:Christ Covenant Church\, 2191 Struble Rd\, Cincinnati\, 45231\, United States
ATTACH;FMTTYPE=image/jpeg:https://christcovcincy.org/wp-content/uploads/2024/09/CafeCoop.jpg
END:VEVENT
BEGIN:VEVENT
DTSTART;TZID=America/New_York:20260430T093000
DTEND;TZID=America/New_York:20260430T113000
DTSTAMP:20260423T090031
CREATED:20250618T142717Z
LAST-MODIFIED:20251204T014308Z
UID:10006823-1777541400-1777548600@christcovcincy.org
SUMMARY:Women's Bible Study
DESCRIPTION:We will be studying the book of Hebrews using the study guide Better by Jen Wilkin. This 10-session study meets every other Thursday in the church office from 9:30–11:30 am. To sign up and order a workbook\, contact Wendy at wdetroy@fuse.net by December 21.
URL:https://christcovcincy.org/event/womens-bible-study-17/2026-04-30/
LOCATION:Chapel @ Christ Covenant Church Office\, 2192 Springdale Rd\, Cincinnati\, OH\, 45231
CATEGORIES:Women's Discipleship
ATTACH;FMTTYPE=image/jpeg:https://christcovcincy.org/wp-content/uploads/2025/06/JenWilkinHebrews.jpg
END:VEVENT
BEGIN:VEVENT
DTSTART;TZID=UTC:20260430T173000
DTEND;TZID=UTC:20260430T183000
DTSTAMP:20260423T090031
CREATED:20220714T195703Z
LAST-MODIFIED:20250828T182812Z
UID:10006259-1777570200-1777573800@christcovcincy.org
SUMMARY:Weekly Prayer Group
DESCRIPTION:WEEKLY PRAYER GROUP: This ongoing prayer group that meets via Zoom every Thursday evening from 5:30-6:30 p.m. Contact Ruth Cload for the Zoom link.
URL:https://christcovcincy.org/event/weekly-prayer-group/2026-04-30/
ATTACH;FMTTYPE=image/jpeg:https://christcovcincy.org/wp-content/uploads/2023/03/ZoomPrayerMeeting.jpg
END:VEVENT
BEGIN:VEVENT
DTSTART;TZID=America/New_York:20260430T183000
DTEND;TZID=America/New_York:20260430T200000
DTSTAMP:20260423T090031
CREATED:20250821T193342Z
LAST-MODIFIED:20260417T161411Z
UID:10007016-1777573800-1777579200@christcovcincy.org
SUMMARY:Choir Rehearsal
DESCRIPTION:
URL:https://christcovcincy.org/event/choir-rehearsal-21/2026-04-30/
LOCATION:Christ Covenant Church\, 2191 Struble Rd\, Cincinnati\, 45231\, United States
ATTACH;FMTTYPE=image/jpeg:https://christcovcincy.org/wp-content/uploads/2023/03/ChancelChoirforWeb.jpg
END:VEVENT
BEGIN:VEVENT
DTSTART;TZID=America/New_York:20260501T160000
DTEND;TZID=America/New_York:20260501T220000
DTSTAMP:20260423T090031
CREATED:20260326T202309Z
LAST-MODIFIED:20260326T202309Z
UID:10007570-1777651200-1777672800@christcovcincy.org
SUMMARY:CAFE Fine Arts Night
DESCRIPTION:
URL:https://christcovcincy.org/event/cafe-fine-arts-night/
LOCATION:Christ Covenant Church\, 2191 Struble Rd\, Cincinnati\, 45231\, United States
ATTACH;FMTTYPE=image/jpeg:https://christcovcincy.org/wp-content/uploads/2024/09/CafeCoop.jpg
END:VEVENT
BEGIN:VEVENT
DTSTART;TZID=America/Halifax:20260502T073000
DTEND;TZID=America/Halifax:20260502T090000
DTSTAMP:20260423T090031
CREATED:20241024T163346Z
LAST-MODIFIED:20260122T201225Z
UID:10007190-1777707000-1777712400@christcovcincy.org
SUMMARY:Men's Bible Study
DESCRIPTION:Join the Men of Christ Covenant as they continue their study through the book of I Samuel.
URL:https://christcovcincy.org/event/mens-bible-study-3-2025-02-01/2026-05-02/
LOCATION:Chapel @ Christ Covenant Church Office\, 2192 Springdale Rd\, Cincinnati\, OH\, 45231
CATEGORIES:Men's Discipleship
ATTACH;FMTTYPE=image/jpeg:https://christcovcincy.org/wp-content/uploads/2023/02/MensBibleStudy-copy.jpg
END:VEVENT
BEGIN:VEVENT
DTSTART;TZID=America/New_York:20260503T091500
DTEND;TZID=America/New_York:20260503T101500
DTSTAMP:20260423T090031
CREATED:20250724T173447Z
LAST-MODIFIED:20260128T190345Z
UID:10006958-1777799700-1777803300@christcovcincy.org
SUMMARY:Sunday School Classes
DESCRIPTION:Nursery Care is available for ages 3 and under. \nChildren’s classes for Preschool (ages 4-5) in Room 105\, for grades 1 & 2 in Room 102\, for grades 3 & 4 in Room 104\, for grades 5 & 6 in Room 108. \nJunior High class for grades 7 & 8 in Room 106. \nHigh School class for grades 9 & 10 in the modular building. \nAdult Sunday School for HS grades 11 & 12 and adults in Fellowship Hall.
URL:https://christcovcincy.org/event/sunday-school-classes-7/2026-05-03/
LOCATION:Christ Covenant Church\, 2191 Struble Rd\, Cincinnati\, 45231\, United States
CATEGORIES:Children's Ministry,Sunday School,Youth Ministry
ATTACH;FMTTYPE=image/jpeg:https://christcovcincy.org/wp-content/uploads/2023/01/SundaySchoolGeneral.jpg
END:VEVENT
BEGIN:VEVENT
DTSTART;TZID=UTC:20260503T103000
DTEND;TZID=UTC:20260503T233000
DTSTAMP:20260423T090031
CREATED:20220714T235224Z
LAST-MODIFIED:20260327T170225Z
UID:10006480-1777804200-1777851000@christcovcincy.org
SUMMARY:Sunday Service @ 10:30am
DESCRIPTION:Join us for Worship! 10:30 am
URL:https://christcovcincy.org/event/sunday-service-1030am/2026-05-03/
LOCATION:Christ Covenant Church\, 2191 Struble Rd\, Cincinnati\, 45231\, United States
ATTACH;FMTTYPE=image/jpeg:https://christcovcincy.org/wp-content/uploads/2023/02/SundayService.jpg
END:VEVENT
BEGIN:VEVENT
DTSTART;TZID=America/New_York:20260505T091500
DTEND;TZID=America/New_York:20260505T110000
DTSTAMP:20260423T090031
CREATED:20251218T151813Z
LAST-MODIFIED:20260213T191712Z
UID:10007379-1777972500-1777978800@christcovcincy.org
SUMMARY:Women's Tues AM Bible Study
DESCRIPTION:Get to know two teachers new to Christ Covenant women\, Winfree Brisley & Sharonda Cooper. They’ll be leading us through the book of Psalms\, focusing on key themes of wisdom\, thanksgiving\, lament\, kingship\, trust\, praise\, and more. Read details at Crossway.com. Regular meetings (1st & 3rd Tuesdays) start on January 20 and run through May 5.
URL:https://christcovcincy.org/event/womens-tues-am-bible-study-2/2026-05-05/
LOCATION:Chapel @ Christ Covenant Church Office\, 2192 Springdale Rd\, Cincinnati\, OH\, 45231
CATEGORIES:Women's Discipleship
ATTACH;FMTTYPE=image/jpeg:https://christcovcincy.org/wp-content/uploads/2026/02/Womens-Bible-Study-Turn-Your-Eyes-web.jpg
END:VEVENT
BEGIN:VEVENT
DTSTART;TZID=America/New_York:20260505T114500
DTEND;TZID=America/New_York:20260505T170000
DTSTAMP:20260423T090031
CREATED:20250416T153209Z
LAST-MODIFIED:20250723T132052Z
UID:10006870-1777981500-1778000400@christcovcincy.org
SUMMARY:Private Event
DESCRIPTION:Speech and Debate Club
URL:https://christcovcincy.org/event/private-event-96/2026-05-05/
LOCATION:Christ Covenant Church\, 2191 Struble Rd\, Cincinnati\, 45231\, United States
CATEGORIES:private event
ATTACH;FMTTYPE=image/jpeg:https://christcovcincy.org/wp-content/uploads/2023/06/privateeventcalendar.jpg
END:VEVENT
BEGIN:VEVENT
DTSTART;TZID=America/New_York:20260505T190000
DTEND;TZID=America/New_York:20260505T204500
DTSTAMP:20260423T090031
CREATED:20251218T154121Z
LAST-MODIFIED:20260213T191906Z
UID:10007388-1778007600-1778013900@christcovcincy.org
SUMMARY:Women's Tues PM Bible study
DESCRIPTION:Get to know two teachers new to Christ Covenant women\, Winfree Brisley & Sharonda Cooper. They’ll be leading us through the book of Psalms\, focusing on key themes of wisdom\, thanksgiving\, lament\, kingship\, trust\, praise\, and more. Read details at Crossway.com. Regular evening meetings (1st & 3rd Tuesdays) start on January 20 and run through May 5.
URL:https://christcovcincy.org/event/womens-tues-pm-bible-study-2/2026-05-05/
LOCATION:Chapel @ Christ Covenant Church Office\, 2192 Springdale Rd\, Cincinnati\, OH\, 45231
CATEGORIES:Women's Discipleship
ATTACH;FMTTYPE=image/jpeg:https://christcovcincy.org/wp-content/uploads/2026/02/Womens-Bible-Study-Turn-Your-Eyes-web.jpg
END:VEVENT
BEGIN:VEVENT
DTSTART;TZID=America/New_York:20260506T083000
DTEND;TZID=America/New_York:20260506T170000
DTSTAMP:20260423T090031
CREATED:20250723T174657Z
LAST-MODIFIED:20250723T174657Z
UID:10006904-1778056200-1778086800@christcovcincy.org
SUMMARY:CAFE Coop
DESCRIPTION:
URL:https://christcovcincy.org/event/cafe-coop-4/2026-05-06/
LOCATION:Christ Covenant Church\, 2191 Struble Rd\, Cincinnati\, 45231\, United States
ATTACH;FMTTYPE=image/jpeg:https://christcovcincy.org/wp-content/uploads/2024/09/CafeCoop.jpg
END:VEVENT
BEGIN:VEVENT
DTSTART;TZID=America/New_York:20260506T111500
DTEND;TZID=America/New_York:20260506T130000
DTSTAMP:20260423T090031
CREATED:20251105T185543Z
LAST-MODIFIED:20260326T204327Z
UID:10007342-1778066100-1778072400@christcovcincy.org
SUMMARY:Staff Meeting
DESCRIPTION:Staff typically meets on the 1st and 3rd Wednesday between 11:15am and 1:00pm in the chapel. \nDevotional Assignments: \nRich — Jan 7\, April 8\, May 6 \nIan — Feb 4\, April 22 \nTina — Feb 18 \nDavid — March 18 \nColleen — March 4\, May 20 \nJoyce — Jan 21
URL:https://christcovcincy.org/event/staff-meeting-5/2026-05-06/
LOCATION:Chapel @ Christ Covenant Church Office\, 2192 Springdale Rd\, Cincinnati\, OH\, 45231
ATTACH;FMTTYPE=image/jpeg:https://christcovcincy.org/wp-content/uploads/2023/01/staffmeeting.jpg
END:VEVENT
BEGIN:VEVENT
DTSTART;TZID=America/New_York:20260506T170000
DTEND;TZID=America/New_York:20260506T210000
DTSTAMP:20260423T090031
CREATED:20260212T210911Z
LAST-MODIFIED:20260327T180128Z
UID:10007489-1778086800-1778101200@christcovcincy.org
SUMMARY:Private Event
DESCRIPTION:Christian Speech & Debate Banquet
URL:https://christcovcincy.org/event/private-event-115/
LOCATION:Church Fellowship Hall
CATEGORIES:private event
ATTACH;FMTTYPE=image/jpeg:https://christcovcincy.org/wp-content/uploads/2026/03/Private-Event-Website.jpg
END:VEVENT
BEGIN:VEVENT
DTSTART;TZID=UTC:20260507T173000
DTEND;TZID=UTC:20260507T183000
DTSTAMP:20260423T090031
CREATED:20220714T195703Z
LAST-MODIFIED:20250828T182812Z
UID:10006260-1778175000-1778178600@christcovcincy.org
SUMMARY:Weekly Prayer Group
DESCRIPTION:WEEKLY PRAYER GROUP: This ongoing prayer group that meets via Zoom every Thursday evening from 5:30-6:30 p.m. Contact Ruth Cload for the Zoom link.
URL:https://christcovcincy.org/event/weekly-prayer-group/2026-05-07/
ATTACH;FMTTYPE=image/jpeg:https://christcovcincy.org/wp-content/uploads/2023/03/ZoomPrayerMeeting.jpg
END:VEVENT
BEGIN:VEVENT
DTSTART;TZID=America/New_York:20260507T183000
DTEND;TZID=America/New_York:20260507T200000
DTSTAMP:20260423T090031
CREATED:20250821T193342Z
LAST-MODIFIED:20260417T161411Z
UID:10007017-1778178600-1778184000@christcovcincy.org
SUMMARY:Choir Rehearsal
DESCRIPTION:
URL:https://christcovcincy.org/event/choir-rehearsal-21/2026-05-07/
LOCATION:Christ Covenant Church\, 2191 Struble Rd\, Cincinnati\, 45231\, United States
ATTACH;FMTTYPE=image/jpeg:https://christcovcincy.org/wp-content/uploads/2023/03/ChancelChoirforWeb.jpg
END:VEVENT
BEGIN:VEVENT
DTSTART;TZID=America/New_York:20260508T100000
DTEND;TZID=America/New_York:20260508T123000
DTSTAMP:20260423T090031
CREATED:20250903T132409Z
LAST-MODIFIED:20260121T202559Z
UID:10007129-1778234400-1778243400@christcovcincy.org
SUMMARY:Silver Heirs
DESCRIPTION:Join our senior saints for a light meal and program. See Church Life for details on the monthly program and to RSVP and order your boxed lunch.
URL:https://christcovcincy.org/event/silver-heirs-5/2026-05-08/
LOCATION:Church Fellowship Hall
CATEGORIES:fellowships
ATTACH;FMTTYPE=image/jpeg:https://christcovcincy.org/wp-content/uploads/2023/01/SilverHeirs-1.jpg
END:VEVENT
BEGIN:VEVENT
DTSTART;TZID=America/New_York:20260510T091500
DTEND;TZID=America/New_York:20260510T101500
DTSTAMP:20260423T090031
CREATED:20250724T173447Z
LAST-MODIFIED:20260128T190345Z
UID:10006959-1778404500-1778408100@christcovcincy.org
SUMMARY:Sunday School Classes
DESCRIPTION:Nursery Care is available for ages 3 and under. \nChildren’s classes for Preschool (ages 4-5) in Room 105\, for grades 1 & 2 in Room 102\, for grades 3 & 4 in Room 104\, for grades 5 & 6 in Room 108. \nJunior High class for grades 7 & 8 in Room 106. \nHigh School class for grades 9 & 10 in the modular building. \nAdult Sunday School for HS grades 11 & 12 and adults in Fellowship Hall.
URL:https://christcovcincy.org/event/sunday-school-classes-7/2026-05-10/
LOCATION:Christ Covenant Church\, 2191 Struble Rd\, Cincinnati\, 45231\, United States
CATEGORIES:Children's Ministry,Sunday School,Youth Ministry
ATTACH;FMTTYPE=image/jpeg:https://christcovcincy.org/wp-content/uploads/2023/01/SundaySchoolGeneral.jpg
END:VEVENT
BEGIN:VEVENT
DTSTART;TZID=UTC:20260510T103000
DTEND;TZID=UTC:20260510T233000
DTSTAMP:20260423T090031
CREATED:20220714T235224Z
LAST-MODIFIED:20260327T170225Z
UID:10006481-1778409000-1778455800@christcovcincy.org
SUMMARY:Sunday Service @ 10:30am
DESCRIPTION:Join us for Worship! 10:30 am
URL:https://christcovcincy.org/event/sunday-service-1030am/2026-05-10/
LOCATION:Christ Covenant Church\, 2191 Struble Rd\, Cincinnati\, 45231\, United States
ATTACH;FMTTYPE=image/jpeg:https://christcovcincy.org/wp-content/uploads/2023/02/SundayService.jpg
END:VEVENT
BEGIN:VEVENT
DTSTART;TZID=America/New_York:20260510T120000
DTEND;TZID=America/New_York:20260510T140000
DTSTAMP:20260423T090031
CREATED:20251002T192600Z
LAST-MODIFIED:20260107T200700Z
UID:10007314-1778414400-1778421600@christcovcincy.org
SUMMARY:Ferguson Community Group
DESCRIPTION:
URL:https://christcovcincy.org/event/ferguson-community-group-2/2026-05-10/
LOCATION:Chapel @ Christ Covenant Church Office\, 2192 Springdale Rd\, Cincinnati\, OH\, 45231
ATTACH;FMTTYPE=image/png:https://christcovcincy.org/wp-content/uploads/2022/07/Community-Group.png
END:VEVENT
BEGIN:VEVENT
DTSTART;TZID=UTC:20260511T190000
DTEND;TZID=UTC:20260511T210000
DTSTAMP:20260423T090031
CREATED:20221122T221642Z
LAST-MODIFIED:20250521T182505Z
UID:10006696-1778526000-1778533200@christcovcincy.org
SUMMARY:Session Meeting
DESCRIPTION:
URL:https://christcovcincy.org/event/session-meeting-2/2026-05-11/
LOCATION:Chapel @ Christ Covenant Church Office\, 2192 Springdale Rd\, Cincinnati\, OH\, 45231
ATTACH;FMTTYPE=image/png:https://christcovcincy.org/wp-content/uploads/2022/07/Board-Meeting.png
END:VEVENT
END:VCALENDAR