BEGIN:VCALENDAR
VERSION:2.0
PRODID:-//Christ Covenant Church - ECPv6.15.20//NONSGML v1.0//EN
CALSCALE:GREGORIAN
METHOD:PUBLISH
X-WR-CALNAME:Christ Covenant Church
X-ORIGINAL-URL:https://christcovcincy.org
X-WR-CALDESC:Events for Christ Covenant Church
REFRESH-INTERVAL;VALUE=DURATION:PT1H
X-Robots-Tag:noindex
X-PUBLISHED-TTL:PT1H
BEGIN:VTIMEZONE
TZID:UTC
BEGIN:STANDARD
TZOFFSETFROM:+0000
TZOFFSETTO:+0000
TZNAME:UTC
DTSTART:20220101T000000
END:STANDARD
END:VTIMEZONE
BEGIN:VTIMEZONE
TZID:America/New_York
BEGIN:DAYLIGHT
TZOFFSETFROM:-0500
TZOFFSETTO:-0400
TZNAME:EDT
DTSTART:20220313T070000
END:DAYLIGHT
BEGIN:STANDARD
TZOFFSETFROM:-0400
TZOFFSETTO:-0500
TZNAME:EST
DTSTART:20221106T060000
END:STANDARD
BEGIN:DAYLIGHT
TZOFFSETFROM:-0500
TZOFFSETTO:-0400
TZNAME:EDT
DTSTART:20230312T070000
END:DAYLIGHT
BEGIN:STANDARD
TZOFFSETFROM:-0400
TZOFFSETTO:-0500
TZNAME:EST
DTSTART:20231105T060000
END:STANDARD
BEGIN:DAYLIGHT
TZOFFSETFROM:-0500
TZOFFSETTO:-0400
TZNAME:EDT
DTSTART:20240310T070000
END:DAYLIGHT
BEGIN:STANDARD
TZOFFSETFROM:-0400
TZOFFSETTO:-0500
TZNAME:EST
DTSTART:20241103T060000
END:STANDARD
END:VTIMEZONE
BEGIN:VEVENT
DTSTART;TZID=UTC:20230301T080000
DTEND;TZID=UTC:20230301T170000
DTSTAMP:20260426T001224
CREATED:20220825T171240Z
LAST-MODIFIED:20221116T025142Z
UID:10004393-1677657600-1677690000@christcovcincy.org
SUMMARY:Cafe Coop
DESCRIPTION:Cafe Coop
URL:https://christcovcincy.org/event/cafe-coop/2023-03-01/
LOCATION:Christ Covenant Church\, 2191 Struble Rd\, Cincinnati\, 45231\, United States
ATTACH;FMTTYPE=image/png:https://christcovcincy.org/wp-content/uploads/2022/07/Cafe-Event.png
END:VEVENT
BEGIN:VEVENT
DTSTART;TZID=UTC:20230302T173000
DTEND;TZID=UTC:20230302T183000
DTSTAMP:20260426T001224
CREATED:20220714T195703Z
LAST-MODIFIED:20250828T182812Z
UID:10006097-1677778200-1677781800@christcovcincy.org
SUMMARY:Weekly Prayer Group
DESCRIPTION:WEEKLY PRAYER GROUP: This ongoing prayer group that meets via Zoom every Thursday evening from 5:30-6:30 p.m. Contact Ruth Cload for the Zoom link.
URL:https://christcovcincy.org/event/weekly-prayer-group/2023-03-02/
ATTACH;FMTTYPE=image/jpeg:https://christcovcincy.org/wp-content/uploads/2023/03/ZoomPrayerMeeting.jpg
END:VEVENT
BEGIN:VEVENT
DTSTART;VALUE=DATE:20230303
DTEND;VALUE=DATE:20230306
DTSTAMP:20260426T001224
CREATED:20221209T181029Z
LAST-MODIFIED:20230208T214621Z
UID:10004359-1677801600-1678060799@christcovcincy.org
SUMMARY:Women's Retreat
DESCRIPTION:The Women’s Spring retreat will be on March 3-5 in Nashville Indiana\, home of the lovely Brown County State Park. We will be staying at a lovely B&B called Allison House\, which will accommodate up to 14 people. This retreat is open to any women college age and older. For more information or to sign up\, please email Colleen at colleeng@christcovcincy.org. Come meet some new friends or deepen existing friendships. We will spend some devotional times exploring God’s Word and have PLENTY of fun together!
URL:https://christcovcincy.org/event/womens-retreat/
CATEGORIES:Women's Discipleship
ATTACH;FMTTYPE=image/png:https://christcovcincy.org/wp-content/uploads/2022/12/womens-retreat.png
ORGANIZER;CN="Colleen Grogan":MAILTO:colleeng@christcovcincy.org
END:VEVENT
BEGIN:VEVENT
DTSTART;TZID=UTC:20230303T190000
DTEND;TZID=UTC:20230303T210000
DTSTAMP:20260426T001224
CREATED:20230103T204633Z
LAST-MODIFIED:20230422T225432Z
UID:10004686-1677870000-1677877200@christcovcincy.org
SUMMARY:Christ Covenant Moms Night
DESCRIPTION:Join us for fellowship\, book discussion\, and prayer as we support and encourage one another in the parenting children stage of life. Event held at Michelle Nephew’s home. Contact tmiller@christcovcincy.org for more information and to get a copy of Parenting with Words of Grace.
URL:https://christcovcincy.org/event/christ-covenant-moms-night/2023-03-03/
CATEGORIES:Children's Ministry,Women's Discipleship
ATTACH;FMTTYPE=image/jpeg:https://christcovcincy.org/wp-content/uploads/2023/01/momsnight.jpg
END:VEVENT
BEGIN:VEVENT
DTSTART;TZID=UTC:20230305T091500
DTEND;TZID=UTC:20230305T101500
DTSTAMP:20260426T001224
CREATED:20230105T235039Z
LAST-MODIFIED:20230331T144802Z
UID:10004716-1678007700-1678011300@christcovcincy.org
SUMMARY:Sunday School Classes
DESCRIPTION:Nursery Care is available for ages 3 and under. \nChildren’s classes for Preschool (ages 4-5) in Room 105\, for grades 1 & 2 in Room 102\, for grades 3 & 4 in Room 104\, for grades 5 & 6 in Room 108. \nJunior High class for grades 7 & 8 in Room 106. \nHigh School class for grades 9 & 10 in the modular building. \nAdult Sunday school for high school grades 11 & 12\, and adults in the Fellowship Hall.
URL:https://christcovcincy.org/event/sunday-school-classes/2023-03-05/
LOCATION:Christ Covenant Church\, 2191 Struble Rd\, Cincinnati\, 45231\, United States
CATEGORIES:Children's Ministry,Sunday School,Youth Ministry
ATTACH;FMTTYPE=image/jpeg:https://christcovcincy.org/wp-content/uploads/2023/01/SundaySchoolGeneral.jpg
END:VEVENT
BEGIN:VEVENT
DTSTART;TZID=UTC:20230305T103000
DTEND;TZID=UTC:20230305T233000
DTSTAMP:20260426T001224
CREATED:20220714T235224Z
LAST-MODIFIED:20260327T170225Z
UID:10004123-1678012200-1678059000@christcovcincy.org
SUMMARY:Sunday Service @ 10:30am
DESCRIPTION:Join us for Worship! 10:30 am
URL:https://christcovcincy.org/event/sunday-service-1030am/2023-03-05/
LOCATION:Christ Covenant Church\, 2191 Struble Rd\, Cincinnati\, 45231\, United States
ATTACH;FMTTYPE=image/jpeg:https://christcovcincy.org/wp-content/uploads/2023/02/SundayService.jpg
END:VEVENT
BEGIN:VEVENT
DTSTART;TZID=UTC:20230305T180000
DTEND;TZID=UTC:20230305T200000
DTSTAMP:20260426T001224
CREATED:20221228T214421Z
LAST-MODIFIED:20230324T135452Z
UID:10004696-1678039200-1678046400@christcovcincy.org
SUMMARY:Youth Group
DESCRIPTION:Meet at the Church Fellowship Hall.
URL:https://christcovcincy.org/event/youth-group-2/2023-03-05/
CATEGORIES:Youth Ministry
ATTACH;FMTTYPE=image/jpeg:https://christcovcincy.org/wp-content/uploads/2022/12/CCC-Youth-Group-web-calendar.jpg
END:VEVENT
BEGIN:VEVENT
DTSTART;TZID=UTC:20230307T091500
DTEND;TZID=UTC:20230307T110000
DTSTAMP:20260426T001224
CREATED:20250407T170236Z
LAST-MODIFIED:20250407T170236Z
UID:10004309-1678180500-1678186800@christcovcincy.org
SUMMARY:Women's Bible Study
DESCRIPTION:Women‘s Bible studies will be starting in September. Here’s what’s happening: On Tuesdays\, beginning September 6\, we will be studying “God of Freedom\,” a study of Exodus 19-40. This study meets on the 1st and 3rd Tuesdays of the month\, at either 9:15-11:00 a.m. or 7:00-8:45 p.m. You can come at either time depending on your schedule. We do the same study at both times. Books are available now from Colleen Grogan. This study is open to women from their teens and up! Questions? Email Colleen at colleeng@christcovcincy.org.
URL:https://christcovcincy.org/event/womens-bible-study-3/2023-03-07/
LOCATION:Chapel @ Christ Covenant Church Office\, 2192 Springdale Rd\, Cincinnati\, OH\, 45231
CATEGORIES:Women's Discipleship
ATTACH;FMTTYPE=image/jpeg:https://christcovcincy.org/wp-content/uploads/2023/02/WomensBibleStudy.jpg
ORGANIZER;CN="Colleen Grogan":MAILTO:colleeng@christcovcincy.org
END:VEVENT
BEGIN:VEVENT
DTSTART;TZID=UTC:20230307T120000
DTEND;TZID=UTC:20230307T170000
DTSTAMP:20260426T001224
CREATED:20220822T192836Z
LAST-MODIFIED:20230427T204326Z
UID:10004352-1678190400-1678208400@christcovcincy.org
SUMMARY:Private Event
DESCRIPTION:Boerner/Langdon Speech and Debate Classes
URL:https://christcovcincy.org/event/private-event-10/2023-03-07/
ATTACH;FMTTYPE=image/png:https://christcovcincy.org/wp-content/uploads/2022/07/Private-Event.png
END:VEVENT
BEGIN:VEVENT
DTSTART;TZID=UTC:20230307T190000
DTEND;TZID=UTC:20230307T204500
DTSTAMP:20260426T001224
CREATED:20250407T170253Z
LAST-MODIFIED:20250407T170253Z
UID:10004706-1678215600-1678221900@christcovcincy.org
SUMMARY:Women's Bible Study
DESCRIPTION:Women‘s Bible studies will be starting in September. Here’s what’s happening: On Tuesdays\, beginning September 6\, we will be studying “God of Freedom\,” a study of Exodus 19-40. This study meets on the 1st and 3rd Tuesdays of the month\, at either 9:15-11:00 a.m. or 7:00-8:45 p.m. You can come at either time depending on your schedule. We do the same study at both times. Books are available now from Colleen Grogan. This study is open to women from their teens and up! Questions? Email Colleen at colleeng@christcovcincy.org.
URL:https://christcovcincy.org/event/womens-bible-study-5/2023-03-07/
ATTACH;FMTTYPE=image/jpeg:https://christcovcincy.org/wp-content/uploads/2022/10/two-people-Bible.jpg
END:VEVENT
BEGIN:VEVENT
DTSTART;TZID=UTC:20230308T080000
DTEND;TZID=UTC:20230308T170000
DTSTAMP:20260426T001224
CREATED:20220825T171240Z
LAST-MODIFIED:20221116T025142Z
UID:10004394-1678262400-1678294800@christcovcincy.org
SUMMARY:Cafe Coop
DESCRIPTION:Cafe Coop
URL:https://christcovcincy.org/event/cafe-coop/2023-03-08/
LOCATION:Christ Covenant Church\, 2191 Struble Rd\, Cincinnati\, 45231\, United States
ATTACH;FMTTYPE=image/png:https://christcovcincy.org/wp-content/uploads/2022/07/Cafe-Event.png
END:VEVENT
BEGIN:VEVENT
DTSTART;TZID=UTC:20230309T093000
DTEND;TZID=UTC:20230309T113000
DTSTAMP:20260426T001224
CREATED:20221209T180701Z
LAST-MODIFIED:20230217T234524Z
UID:10004323-1678354200-1678361400@christcovcincy.org
SUMMARY:Women's Bible study
DESCRIPTION:We will be studying the book of Exodus\, chapters 1-18 using the study guide God of Deliverance\, by Jen Wilkin. This is a 10 session study that meets every other Thursday in the Church office at 2192 Springdale Road from 9:30 am – 11:30 am. To sign up and order a workbook\, contact Wendy at wdetroy@fuse.net no later than December 31\, 2022.
URL:https://christcovcincy.org/event/womens-bible-study-4/2023-03-09/
LOCATION:Chapel @ Christ Covenant Church Office\, 2192 Springdale Rd\, Cincinnati\, OH\, 45231
CATEGORIES:Women's Discipleship
ATTACH;FMTTYPE=image/jpeg:https://christcovcincy.org/wp-content/uploads/2023/02/WomensBibleStudy.jpg
END:VEVENT
BEGIN:VEVENT
DTSTART;TZID=UTC:20230309T173000
DTEND;TZID=UTC:20230309T183000
DTSTAMP:20260426T001224
CREATED:20220714T195703Z
LAST-MODIFIED:20250828T182812Z
UID:10006098-1678383000-1678386600@christcovcincy.org
SUMMARY:Weekly Prayer Group
DESCRIPTION:WEEKLY PRAYER GROUP: This ongoing prayer group that meets via Zoom every Thursday evening from 5:30-6:30 p.m. Contact Ruth Cload for the Zoom link.
URL:https://christcovcincy.org/event/weekly-prayer-group/2023-03-09/
ATTACH;FMTTYPE=image/jpeg:https://christcovcincy.org/wp-content/uploads/2023/03/ZoomPrayerMeeting.jpg
END:VEVENT
BEGIN:VEVENT
DTSTART;TZID=UTC:20230309T183000
DTEND;TZID=UTC:20230309T210000
DTSTAMP:20260426T001224
CREATED:20220831T211315Z
LAST-MODIFIED:20230503T204543Z
UID:10004454-1678386600-1678395600@christcovcincy.org
SUMMARY:Choir Rehearsal
DESCRIPTION:See Steve Aldredge with any questions.
URL:https://christcovcincy.org/event/choir-rehearsal/2023-03-09/
ATTACH;FMTTYPE=image/jpeg:https://christcovcincy.org/wp-content/uploads/2023/03/ChancelChoirforWeb.jpg
END:VEVENT
BEGIN:VEVENT
DTSTART;TZID=UTC:20230310T100000
DTEND;TZID=UTC:20230310T130000
DTSTAMP:20260426T001224
CREATED:20230106T011628Z
LAST-MODIFIED:20230428T154039Z
UID:10004730-1678442400-1678453200@christcovcincy.org
SUMMARY:Silver Heirs
DESCRIPTION:Join the Senior Saints of the church for a time of fun and fellowship as we enjoy an interesting program and boxed lunch.  Bring your friends!  For specific monthly program details\, see the weekly Church Life.
URL:https://christcovcincy.org/event/silver-heirs-2/2023-03-10/
LOCATION:Church Fellowship Hall
ATTACH;FMTTYPE=image/jpeg:https://christcovcincy.org/wp-content/uploads/2023/01/SilverHeirs-1.jpg
END:VEVENT
BEGIN:VEVENT
DTSTART;TZID=UTC:20230310T190000
DTEND;TZID=UTC:20230310T213000
DTSTAMP:20260426T001224
CREATED:20230125T235407Z
LAST-MODIFIED:20230331T140010Z
UID:10004745-1678474800-1678483800@christcovcincy.org
SUMMARY:Women's Fellowship Night
DESCRIPTION:Let’s get together for fun and games! We will gather at Linda Young’s home in Finneytown from 7:00-9:30 pm. Play a game\, get to know a new friend or connect with those you already know\, and share some delicious snacks – a great way to spend a Friday night! Need more information? Contact Colleen Grogan at colleeng@christcovcincy.org.
URL:https://christcovcincy.org/event/womens-fellowship-night-2/2023-03-10/
LOCATION:Linda Young’s home\, 8760 Cottonwood Dr\, Cincinnati\, OH\, 45231
CATEGORIES:Women's Discipleship
ATTACH;FMTTYPE=image/jpeg:https://christcovcincy.org/wp-content/uploads/2023/01/WomensFellowshipNight.jpg
ORGANIZER;CN="Colleen Grogan":MAILTO:colleeng@christcovcincy.org
END:VEVENT
BEGIN:VEVENT
DTSTART;TZID=UTC:20230311T073000
DTEND;TZID=UTC:20230311T090000
DTSTAMP:20260426T001224
CREATED:20230216T230543Z
LAST-MODIFIED:20241023T184107Z
UID:10004777-1678519800-1678525200@christcovcincy.org
SUMMARY:Men's Bible Study
DESCRIPTION:Join the Men of Christ Covenant as they continue their study through the book of Romans.
URL:https://christcovcincy.org/event/mens-bible-study-2/2023-03-11/
LOCATION:Christ Covenant Church Office\, 2192 Springdale Road\, Cincinnati\, OH\, 45231
CATEGORIES:Men's Discipleship
ATTACH;FMTTYPE=image/jpeg:https://christcovcincy.org/wp-content/uploads/2023/02/MensBibleStudy-copy.jpg
END:VEVENT
BEGIN:VEVENT
DTSTART;TZID=America/New_York:20230311T093000
DTEND;TZID=America/New_York:20230311T110000
DTSTAMP:20260426T001224
CREATED:20230308T195045Z
LAST-MODIFIED:20230324T162344Z
UID:10004852-1678527000-1678532400@christcovcincy.org
SUMMARY:Choir Rehearsal
DESCRIPTION:
URL:https://christcovcincy.org/event/choir-rehearsal-5/2023-03-11/
LOCATION:Christ Covenant Church\, 2191 Struble Rd\, Cincinnati\, 45231\, United States
ATTACH;FMTTYPE=image/jpeg:https://christcovcincy.org/wp-content/uploads/2023/03/ChancelChoirforWeb.jpg
END:VEVENT
BEGIN:VEVENT
DTSTART;TZID=America/New_York:20230311T103000
DTEND;TZID=America/New_York:20230311T143000
DTSTAMP:20260426T001224
CREATED:20230322T162630Z
LAST-MODIFIED:20230607T151112Z
UID:10004864-1678530600-1678545000@christcovcincy.org
SUMMARY:Private Event
DESCRIPTION:Prather Martial Arts Competition Team practice
URL:https://christcovcincy.org/event/private-event-5/2023-03-11/
LOCATION:Church Fellowship Hall
ATTACH;FMTTYPE=image/png:https://christcovcincy.org/wp-content/uploads/2022/07/Private-Event.png
END:VEVENT
BEGIN:VEVENT
DTSTART;TZID=UTC:20230312T091500
DTEND;TZID=UTC:20230312T101500
DTSTAMP:20260426T001224
CREATED:20230105T235039Z
LAST-MODIFIED:20230331T144802Z
UID:10004717-1678612500-1678616100@christcovcincy.org
SUMMARY:Sunday School Classes
DESCRIPTION:Nursery Care is available for ages 3 and under. \nChildren’s classes for Preschool (ages 4-5) in Room 105\, for grades 1 & 2 in Room 102\, for grades 3 & 4 in Room 104\, for grades 5 & 6 in Room 108. \nJunior High class for grades 7 & 8 in Room 106. \nHigh School class for grades 9 & 10 in the modular building. \nAdult Sunday school for high school grades 11 & 12\, and adults in the Fellowship Hall.
URL:https://christcovcincy.org/event/sunday-school-classes/2023-03-12/
LOCATION:Christ Covenant Church\, 2191 Struble Rd\, Cincinnati\, 45231\, United States
CATEGORIES:Children's Ministry,Sunday School,Youth Ministry
ATTACH;FMTTYPE=image/jpeg:https://christcovcincy.org/wp-content/uploads/2023/01/SundaySchoolGeneral.jpg
END:VEVENT
BEGIN:VEVENT
DTSTART;TZID=UTC:20230312T103000
DTEND;TZID=UTC:20230312T233000
DTSTAMP:20260426T001224
CREATED:20220714T235224Z
LAST-MODIFIED:20260327T170225Z
UID:10004124-1678617000-1678663800@christcovcincy.org
SUMMARY:Sunday Service @ 10:30am
DESCRIPTION:Join us for Worship! 10:30 am
URL:https://christcovcincy.org/event/sunday-service-1030am/2023-03-12/
LOCATION:Christ Covenant Church\, 2191 Struble Rd\, Cincinnati\, 45231\, United States
ATTACH;FMTTYPE=image/jpeg:https://christcovcincy.org/wp-content/uploads/2023/02/SundayService.jpg
END:VEVENT
BEGIN:VEVENT
DTSTART;TZID=UTC:20230312T120000
DTEND;TZID=UTC:20230312T133000
DTSTAMP:20260426T001224
CREATED:20221228T011640Z
LAST-MODIFIED:20221228T011640Z
UID:10004689-1678622400-1678627800@christcovcincy.org
SUMMARY:Fellowship Luncheon
DESCRIPTION:More details to come.
URL:https://christcovcincy.org/event/fellowship-luncheon-3/
CATEGORIES:fellowships
ATTACH;FMTTYPE=image/png:https://christcovcincy.org/wp-content/uploads/2022/12/luncheon.png
END:VEVENT
BEGIN:VEVENT
DTSTART;TZID=America/New_York:20230312T123000
DTEND;TZID=America/New_York:20230312T140000
DTSTAMP:20260426T001224
CREATED:20230308T194934Z
LAST-MODIFIED:20230324T162733Z
UID:10004845-1678624200-1678629600@christcovcincy.org
SUMMARY:Choir Rehearsal
DESCRIPTION:
URL:https://christcovcincy.org/event/choir-rehearsal-4/2023-03-12/
LOCATION:Christ Covenant Church\, 2191 Struble Rd\, Cincinnati\, 45231\, United States
ATTACH;FMTTYPE=image/jpeg:https://christcovcincy.org/wp-content/uploads/2023/03/ChancelChoirforWeb.jpg
END:VEVENT
BEGIN:VEVENT
DTSTART;TZID=UTC:20230313T190000
DTEND;TZID=UTC:20230313T210000
DTSTAMP:20260426T001224
CREATED:20221122T221642Z
LAST-MODIFIED:20250521T182505Z
UID:10004598-1678734000-1678741200@christcovcincy.org
SUMMARY:Session Meeting
DESCRIPTION:
URL:https://christcovcincy.org/event/session-meeting-2/2023-03-13/
LOCATION:Chapel @ Christ Covenant Church Office\, 2192 Springdale Rd\, Cincinnati\, OH\, 45231
ATTACH;FMTTYPE=image/png:https://christcovcincy.org/wp-content/uploads/2022/07/Board-Meeting.png
END:VEVENT
BEGIN:VEVENT
DTSTART;TZID=UTC:20230314T120000
DTEND;TZID=UTC:20230314T170000
DTSTAMP:20260426T001224
CREATED:20220822T192836Z
LAST-MODIFIED:20230427T204326Z
UID:10004353-1678795200-1678813200@christcovcincy.org
SUMMARY:Private Event
DESCRIPTION:Boerner/Langdon Speech and Debate Classes
URL:https://christcovcincy.org/event/private-event-10/2023-03-14/
ATTACH;FMTTYPE=image/png:https://christcovcincy.org/wp-content/uploads/2022/07/Private-Event.png
END:VEVENT
BEGIN:VEVENT
DTSTART;TZID=America/New_York:20230314T190000
DTEND;TZID=America/New_York:20230314T200000
DTSTAMP:20260426T001224
CREATED:20230316T153732Z
LAST-MODIFIED:20230316T153732Z
UID:10004860-1678820400-1678824000@christcovcincy.org
SUMMARY:Nominating Committee
DESCRIPTION:Initial meeting of the 2023 Nominating Committee
URL:https://christcovcincy.org/event/nominating-committee/
LOCATION:Library @ Christ Covenant Church Office
ATTACH;FMTTYPE=image/png:https://christcovcincy.org/wp-content/uploads/2023/03/images.png
END:VEVENT
BEGIN:VEVENT
DTSTART;TZID=UTC:20230314T203000
DTEND;TZID=UTC:20230314T220000
DTSTAMP:20260426T001224
CREATED:20250407T170246Z
LAST-MODIFIED:20250407T170246Z
UID:10004505-1678825800-1678831200@christcovcincy.org
SUMMARY:ManCave
DESCRIPTION:Men of all ages are encouraged to come join in this time of fellowship and study of Proverbs.
URL:https://christcovcincy.org/event/mancave/2023-03-14/
LOCATION:Christ Covenant Church Office\, 2192 Springdale Road\, Cincinnati\, OH\, 45231
ATTACH;FMTTYPE=image/jpeg:https://christcovcincy.org/wp-content/uploads/2022/10/Mancave-1.jpg
END:VEVENT
BEGIN:VEVENT
DTSTART;TZID=UTC:20230315T080000
DTEND;TZID=UTC:20230315T170000
DTSTAMP:20260426T001224
CREATED:20220825T171240Z
LAST-MODIFIED:20221116T025142Z
UID:10004395-1678867200-1678899600@christcovcincy.org
SUMMARY:Cafe Coop
DESCRIPTION:Cafe Coop
URL:https://christcovcincy.org/event/cafe-coop/2023-03-15/
LOCATION:Christ Covenant Church\, 2191 Struble Rd\, Cincinnati\, 45231\, United States
ATTACH;FMTTYPE=image/png:https://christcovcincy.org/wp-content/uploads/2022/07/Cafe-Event.png
END:VEVENT
BEGIN:VEVENT
DTSTART;TZID=UTC:20230316T173000
DTEND;TZID=UTC:20230316T183000
DTSTAMP:20260426T001224
CREATED:20220714T195703Z
LAST-MODIFIED:20250828T182812Z
UID:10006099-1678987800-1678991400@christcovcincy.org
SUMMARY:Weekly Prayer Group
DESCRIPTION:WEEKLY PRAYER GROUP: This ongoing prayer group that meets via Zoom every Thursday evening from 5:30-6:30 p.m. Contact Ruth Cload for the Zoom link.
URL:https://christcovcincy.org/event/weekly-prayer-group/2023-03-16/
ATTACH;FMTTYPE=image/jpeg:https://christcovcincy.org/wp-content/uploads/2023/03/ZoomPrayerMeeting.jpg
END:VEVENT
BEGIN:VEVENT
DTSTART;TZID=UTC:20230316T183000
DTEND;TZID=UTC:20230316T210000
DTSTAMP:20260426T001224
CREATED:20220831T211315Z
LAST-MODIFIED:20230503T204543Z
UID:10004455-1678991400-1679000400@christcovcincy.org
SUMMARY:Choir Rehearsal
DESCRIPTION:See Steve Aldredge with any questions.
URL:https://christcovcincy.org/event/choir-rehearsal/2023-03-16/
ATTACH;FMTTYPE=image/jpeg:https://christcovcincy.org/wp-content/uploads/2023/03/ChancelChoirforWeb.jpg
END:VEVENT
END:VCALENDAR