BEGIN:VCALENDAR
VERSION:2.0
PRODID:-//Christ Covenant Church - ECPv6.15.20//NONSGML v1.0//EN
CALSCALE:GREGORIAN
METHOD:PUBLISH
X-ORIGINAL-URL:https://christcovcincy.org
X-WR-CALDESC:Events for Christ Covenant Church
REFRESH-INTERVAL;VALUE=DURATION:PT1H
X-Robots-Tag:noindex
X-PUBLISHED-TTL:PT1H
BEGIN:VTIMEZONE
TZID:UTC
BEGIN:STANDARD
TZOFFSETFROM:+0000
TZOFFSETTO:+0000
TZNAME:UTC
DTSTART:20220101T000000
END:STANDARD
END:VTIMEZONE
BEGIN:VTIMEZONE
TZID:America/New_York
BEGIN:DAYLIGHT
TZOFFSETFROM:-0500
TZOFFSETTO:-0400
TZNAME:EDT
DTSTART:20220313T070000
END:DAYLIGHT
BEGIN:STANDARD
TZOFFSETFROM:-0400
TZOFFSETTO:-0500
TZNAME:EST
DTSTART:20221106T060000
END:STANDARD
BEGIN:DAYLIGHT
TZOFFSETFROM:-0500
TZOFFSETTO:-0400
TZNAME:EDT
DTSTART:20230312T070000
END:DAYLIGHT
BEGIN:STANDARD
TZOFFSETFROM:-0400
TZOFFSETTO:-0500
TZNAME:EST
DTSTART:20231105T060000
END:STANDARD
BEGIN:DAYLIGHT
TZOFFSETFROM:-0500
TZOFFSETTO:-0400
TZNAME:EDT
DTSTART:20240310T070000
END:DAYLIGHT
BEGIN:STANDARD
TZOFFSETFROM:-0400
TZOFFSETTO:-0500
TZNAME:EST
DTSTART:20241103T060000
END:STANDARD
END:VTIMEZONE
BEGIN:VTIMEZONE
TZID:America/Halifax
BEGIN:DAYLIGHT
TZOFFSETFROM:-0400
TZOFFSETTO:-0300
TZNAME:ADT
DTSTART:20220313T060000
END:DAYLIGHT
BEGIN:STANDARD
TZOFFSETFROM:-0300
TZOFFSETTO:-0400
TZNAME:AST
DTSTART:20221106T050000
END:STANDARD
BEGIN:DAYLIGHT
TZOFFSETFROM:-0400
TZOFFSETTO:-0300
TZNAME:ADT
DTSTART:20230312T060000
END:DAYLIGHT
BEGIN:STANDARD
TZOFFSETFROM:-0300
TZOFFSETTO:-0400
TZNAME:AST
DTSTART:20231105T050000
END:STANDARD
BEGIN:DAYLIGHT
TZOFFSETFROM:-0400
TZOFFSETTO:-0300
TZNAME:ADT
DTSTART:20240310T060000
END:DAYLIGHT
BEGIN:STANDARD
TZOFFSETFROM:-0300
TZOFFSETTO:-0400
TZNAME:AST
DTSTART:20241103T050000
END:STANDARD
END:VTIMEZONE
BEGIN:VEVENT
DTSTART;TZID=UTC:20230601T173000
DTEND;TZID=UTC:20230601T183000
DTSTAMP:20260425T185759
CREATED:20220714T195703Z
LAST-MODIFIED:20250828T182812Z
UID:10006110-1685640600-1685644200@christcovcincy.org
SUMMARY:Weekly Prayer Group
DESCRIPTION:WEEKLY PRAYER GROUP: This ongoing prayer group that meets via Zoom every Thursday evening from 5:30-6:30 p.m. Contact Ruth Cload for the Zoom link.
URL:https://christcovcincy.org/event/weekly-prayer-group/2023-06-01/
ATTACH;FMTTYPE=image/jpeg:https://christcovcincy.org/wp-content/uploads/2023/03/ZoomPrayerMeeting.jpg
END:VEVENT
BEGIN:VEVENT
DTSTART;TZID=UTC:20230601T183000
DTEND;TZID=UTC:20230601T210000
DTSTAMP:20260425T185759
CREATED:20220831T211315Z
LAST-MODIFIED:20230503T204543Z
UID:10004465-1685644200-1685653200@christcovcincy.org
SUMMARY:Choir Rehearsal
DESCRIPTION:See Steve Aldredge with any questions.
URL:https://christcovcincy.org/event/choir-rehearsal/2023-06-01/
ATTACH;FMTTYPE=image/jpeg:https://christcovcincy.org/wp-content/uploads/2023/03/ChancelChoirforWeb.jpg
END:VEVENT
BEGIN:VEVENT
DTSTART;TZID=America/New_York:20230602T190000
DTEND;TZID=America/New_York:20230602T203000
DTSTAMP:20260425T185759
CREATED:20230327T134429Z
LAST-MODIFIED:20230422T225726Z
UID:10004868-1685732400-1685737800@christcovcincy.org
SUMMARY:Women's Summer Book Club
DESCRIPTION:Women of all ages are invited to read the suggested book and then join us for lively discussion! We will cover a wide range of authors and topics over the months. During the summer we will meet monthly on Friday evenings\, then in the fall we will go to every other month. Come read some great books with us! \nAt the May 5 Book Club\, we will meet at Colleen’s home to discuss Holier than Thou by Jackie Hill Perry. \nFor the June 2 Book Club\, we will read Live Your Truth by Alisa Childers. \nFor our last summer Book Club on July 7\, we will read and discuss The Secret Thoughts of an Unlikely Convert by Rosaria Butterfield. \nColleen will have a few copies of each book available for a slight discount\, so see her soon to get your copy.  And look for more book club dates and titles to be announced soon for the fall and winter!
URL:https://christcovcincy.org/event/womens-book-club-3/2023-06-02/
LOCATION:Colleen Grogan’s home
CATEGORIES:Women's Discipleship
ATTACH;FMTTYPE=image/jpeg:https://christcovcincy.org/wp-content/uploads/2023/03/summerbookclub.jpg
ORGANIZER;CN="Colleen Grogan":MAILTO:colleeng@christcovcincy.org
END:VEVENT
BEGIN:VEVENT
DTSTART;TZID=UTC:20230602T190000
DTEND;TZID=UTC:20230602T210000
DTSTAMP:20260425T185759
CREATED:20230103T204633Z
LAST-MODIFIED:20230422T225432Z
UID:10004687-1685732400-1685739600@christcovcincy.org
SUMMARY:Christ Covenant Moms Night
DESCRIPTION:Join us for fellowship\, book discussion\, and prayer as we support and encourage one another in the parenting children stage of life. Event held at Michelle Nephew’s home. Contact tmiller@christcovcincy.org for more information and to get a copy of Parenting with Words of Grace.
URL:https://christcovcincy.org/event/christ-covenant-moms-night/2023-06-02/
CATEGORIES:Children's Ministry,Women's Discipleship
ATTACH;FMTTYPE=image/jpeg:https://christcovcincy.org/wp-content/uploads/2023/01/momsnight.jpg
END:VEVENT
BEGIN:VEVENT
DTSTART;TZID=UTC:20230604T103000
DTEND;TZID=UTC:20230604T233000
DTSTAMP:20260425T185759
CREATED:20220714T235224Z
LAST-MODIFIED:20260327T170225Z
UID:10004136-1685874600-1685921400@christcovcincy.org
SUMMARY:Sunday Service @ 10:30am
DESCRIPTION:Join us for Worship! 10:30 am
URL:https://christcovcincy.org/event/sunday-service-1030am/2023-06-04/
LOCATION:Christ Covenant Church\, 2191 Struble Rd\, Cincinnati\, 45231\, United States
ATTACH;FMTTYPE=image/jpeg:https://christcovcincy.org/wp-content/uploads/2023/02/SundayService.jpg
END:VEVENT
BEGIN:VEVENT
DTSTART;TZID=America/New_York:20230604T130000
DTEND;TZID=America/New_York:20230604T170000
DTSTAMP:20260425T185759
CREATED:20230302T212631Z
LAST-MODIFIED:20230302T212631Z
UID:10004811-1685883600-1685898000@christcovcincy.org
SUMMARY:Private Event
DESCRIPTION:Spring Recital for Judy L’s piano students
URL:https://christcovcincy.org/event/private-event-2/
LOCATION:Christ Covenant Church\, 2191 Struble Rd\, Cincinnati\, 45231\, United States
ATTACH;FMTTYPE=image/png:https://christcovcincy.org/wp-content/uploads/2022/07/Private-Event.png
END:VEVENT
BEGIN:VEVENT
DTSTART;TZID=America/Halifax:20230604T170000
DTEND;TZID=America/Halifax:20230604T200000
DTSTAMP:20260425T185759
CREATED:20230530T194934Z
LAST-MODIFIED:20230913T172657Z
UID:10004913-1685898000-1685908800@christcovcincy.org
SUMMARY:Youth Group
DESCRIPTION:
URL:https://christcovcincy.org/event/youth-group-3/2023-06-04/
CATEGORIES:Youth Ministry
ATTACH;FMTTYPE=image/jpeg:https://christcovcincy.org/wp-content/uploads/2023/05/YouthGroup.jpg
END:VEVENT
BEGIN:VEVENT
DTSTART;TZID=America/New_York:20230606T150000
DTEND;TZID=America/New_York:20230606T170000
DTSTAMP:20260425T185759
CREATED:20230503T181611Z
LAST-MODIFIED:20230531T173859Z
UID:10004892-1686063600-1686070800@christcovcincy.org
SUMMARY:Family Swim Time
DESCRIPTION:
URL:https://christcovcincy.org/event/family-swim-time-3/2023-06-06/
LOCATION:Christ Covenant Church Office\, 2192 Springdale Road\, Cincinnati\, OH\, 45231
CATEGORIES:Children's Ministry
ATTACH;FMTTYPE=image/jpeg:https://christcovcincy.org/wp-content/uploads/2023/05/Swim.jpg
END:VEVENT
BEGIN:VEVENT
DTSTART;TZID=America/Halifax:20230606T170000
DTEND;TZID=America/Halifax:20230606T183000
DTSTAMP:20260425T185759
CREATED:20230601T193133Z
LAST-MODIFIED:20230614T155819Z
UID:10004927-1686070800-1686076200@christcovcincy.org
SUMMARY:Family Cookout
DESCRIPTION:Very casual. Families bring their own main dish (grill available) and a side &/or dessert to share with others. Drinks and paper goods provided.
URL:https://christcovcincy.org/event/family-cookout/2023-06-06/
LOCATION:Christ Covenant picnic and office complex\, 2192 Springdale Rd.\, Cincinnati\, OH\, 45231\, United States
CATEGORIES:Children's Ministry,fellowships
ATTACH;FMTTYPE=image/jpeg:https://christcovcincy.org/wp-content/uploads/2023/06/zac-cain-jLzukAj_PhQ-unsplash-scaled.jpg
END:VEVENT
BEGIN:VEVENT
DTSTART;TZID=America/Halifax:20230607T124500
DTEND;TZID=America/Halifax:20230607T144500
DTSTAMP:20260425T185759
CREATED:20230530T195700Z
LAST-MODIFIED:20230531T174110Z
UID:10004918-1686141900-1686149100@christcovcincy.org
SUMMARY:Youth Swim
DESCRIPTION:
URL:https://christcovcincy.org/event/youth-swim/2023-06-07/
CATEGORIES:Youth Ministry
ATTACH;FMTTYPE=image/jpeg:https://christcovcincy.org/wp-content/uploads/2023/05/youth-swim.jpg
END:VEVENT
BEGIN:VEVENT
DTSTART;TZID=UTC:20230608T173000
DTEND;TZID=UTC:20230608T183000
DTSTAMP:20260425T185759
CREATED:20220714T195703Z
LAST-MODIFIED:20250828T182812Z
UID:10006111-1686245400-1686249000@christcovcincy.org
SUMMARY:Weekly Prayer Group
DESCRIPTION:WEEKLY PRAYER GROUP: This ongoing prayer group that meets via Zoom every Thursday evening from 5:30-6:30 p.m. Contact Ruth Cload for the Zoom link.
URL:https://christcovcincy.org/event/weekly-prayer-group/2023-06-08/
ATTACH;FMTTYPE=image/jpeg:https://christcovcincy.org/wp-content/uploads/2023/03/ZoomPrayerMeeting.jpg
END:VEVENT
BEGIN:VEVENT
DTSTART;TZID=UTC:20230608T183000
DTEND;TZID=UTC:20230608T210000
DTSTAMP:20260425T185759
CREATED:20220831T211315Z
LAST-MODIFIED:20230503T204543Z
UID:10004466-1686249000-1686258000@christcovcincy.org
SUMMARY:Choir Rehearsal
DESCRIPTION:See Steve Aldredge with any questions.
URL:https://christcovcincy.org/event/choir-rehearsal/2023-06-08/
ATTACH;FMTTYPE=image/jpeg:https://christcovcincy.org/wp-content/uploads/2023/03/ChancelChoirforWeb.jpg
END:VEVENT
BEGIN:VEVENT
DTSTART;TZID=UTC:20230609T100000
DTEND;TZID=UTC:20230609T130000
DTSTAMP:20260425T185759
CREATED:20230106T011628Z
LAST-MODIFIED:20230428T154039Z
UID:10004733-1686304800-1686315600@christcovcincy.org
SUMMARY:Silver Heirs
DESCRIPTION:Join the Senior Saints of the church for a time of fun and fellowship as we enjoy an interesting program and boxed lunch.  Bring your friends!  For specific monthly program details\, see the weekly Church Life.
URL:https://christcovcincy.org/event/silver-heirs-2/2023-06-09/
LOCATION:Church Fellowship Hall
ATTACH;FMTTYPE=image/jpeg:https://christcovcincy.org/wp-content/uploads/2023/01/SilverHeirs-1.jpg
END:VEVENT
BEGIN:VEVENT
DTSTART;TZID=America/Halifax:20230609T190000
DTEND;TZID=America/Halifax:20230609T213000
DTSTAMP:20260425T185759
CREATED:20230606T135959Z
LAST-MODIFIED:20230606T135959Z
UID:10004931-1686337200-1686346200@christcovcincy.org
SUMMARY:Women's Fellowship Night
DESCRIPTION:
URL:https://christcovcincy.org/event/womens-fellowship-night-4/
LOCATION:Luana Roof’s home
ATTACH;FMTTYPE=image/jpeg:https://christcovcincy.org/wp-content/uploads/2023/01/WomensFellowshipNight.jpg
END:VEVENT
BEGIN:VEVENT
DTSTART;TZID=UTC:20230610T073000
DTEND;TZID=UTC:20230610T090000
DTSTAMP:20260425T185759
CREATED:20230216T230543Z
LAST-MODIFIED:20241023T184107Z
UID:10004780-1686382200-1686387600@christcovcincy.org
SUMMARY:Men's Bible Study
DESCRIPTION:Join the Men of Christ Covenant as they continue their study through the book of Romans.
URL:https://christcovcincy.org/event/mens-bible-study-2/2023-06-10/
LOCATION:Christ Covenant Church Office\, 2192 Springdale Road\, Cincinnati\, OH\, 45231
CATEGORIES:Men's Discipleship
ATTACH;FMTTYPE=image/jpeg:https://christcovcincy.org/wp-content/uploads/2023/02/MensBibleStudy-copy.jpg
END:VEVENT
BEGIN:VEVENT
DTSTART;TZID=America/Halifax:20230610T150000
DTEND;TZID=America/Halifax:20230610T190000
DTSTAMP:20260425T185759
CREATED:20230607T143044Z
LAST-MODIFIED:20230607T150958Z
UID:10004932-1686409200-1686423600@christcovcincy.org
SUMMARY:Private Event
DESCRIPTION:Miller family event
URL:https://christcovcincy.org/event/private-event-32/
LOCATION:Christ Covenant picnic and office complex\, 2192 Springdale Rd.\, Cincinnati\, OH\, 45231\, United States
ATTACH;FMTTYPE=image/png:https://christcovcincy.org/wp-content/uploads/2023/03/Private-Eventwebcalendar.png
END:VEVENT
BEGIN:VEVENT
DTSTART;TZID=UTC:20230611T103000
DTEND;TZID=UTC:20230611T233000
DTSTAMP:20260425T185759
CREATED:20220714T235224Z
LAST-MODIFIED:20260327T170225Z
UID:10004137-1686479400-1686526200@christcovcincy.org
SUMMARY:Sunday Service @ 10:30am
DESCRIPTION:Join us for Worship! 10:30 am
URL:https://christcovcincy.org/event/sunday-service-1030am/2023-06-11/
LOCATION:Christ Covenant Church\, 2191 Struble Rd\, Cincinnati\, 45231\, United States
ATTACH;FMTTYPE=image/jpeg:https://christcovcincy.org/wp-content/uploads/2023/02/SundayService.jpg
END:VEVENT
BEGIN:VEVENT
DTSTART;TZID=UTC:20230611T150000
DTEND;TZID=UTC:20230611T210000
DTSTAMP:20260425T185759
CREATED:20221111T022414Z
LAST-MODIFIED:20230607T120602Z
UID:10004515-1686495600-1686517200@christcovcincy.org
SUMMARY:Church Picnic
DESCRIPTION:
URL:https://christcovcincy.org/event/church-picnic/
LOCATION:Winton Woods Orchard Area Shelter\, 1309 W. Sharon Rd\, Cincinnati\, OH\, 45240
ATTACH;FMTTYPE=image/jpeg:https://christcovcincy.org/wp-content/uploads/2023/06/churchpicnicnarrow.jpg
END:VEVENT
BEGIN:VEVENT
DTSTART;TZID=UTC:20230612T190000
DTEND;TZID=UTC:20230612T210000
DTSTAMP:20260425T185759
CREATED:20221122T221642Z
LAST-MODIFIED:20250521T182505Z
UID:10004601-1686596400-1686603600@christcovcincy.org
SUMMARY:Session Meeting
DESCRIPTION:
URL:https://christcovcincy.org/event/session-meeting-2/2023-06-12/
LOCATION:Chapel @ Christ Covenant Church Office\, 2192 Springdale Rd\, Cincinnati\, OH\, 45231
ATTACH;FMTTYPE=image/png:https://christcovcincy.org/wp-content/uploads/2022/07/Board-Meeting.png
END:VEVENT
BEGIN:VEVENT
DTSTART;TZID=America/Halifax:20230613T110000
DTEND;TZID=America/Halifax:20230613T160000
DTSTAMP:20260425T185759
CREATED:20230614T160817Z
LAST-MODIFIED:20230626T135145Z
UID:10004937-1686654000-1686672000@christcovcincy.org
SUMMARY:Private Event
DESCRIPTION:Steve Aldredge working in office/online for meetings and advising
URL:https://christcovcincy.org/event/private-event-37/2023-06-13/
LOCATION:Chapel @ Christ Covenant Church Office\, 2192 Springdale Rd\, Cincinnati\, OH\, 45231
ATTACH;FMTTYPE=image/jpeg:https://christcovcincy.org/wp-content/uploads/2023/06/privateeventcalendar.jpg
END:VEVENT
BEGIN:VEVENT
DTSTART;TZID=America/New_York:20230613T150000
DTEND;TZID=America/New_York:20230613T170000
DTSTAMP:20260425T185759
CREATED:20230503T181611Z
LAST-MODIFIED:20230531T173859Z
UID:10004893-1686668400-1686675600@christcovcincy.org
SUMMARY:Family Swim Time
DESCRIPTION:
URL:https://christcovcincy.org/event/family-swim-time-3/2023-06-13/
LOCATION:Christ Covenant Church Office\, 2192 Springdale Road\, Cincinnati\, OH\, 45231
CATEGORIES:Children's Ministry
ATTACH;FMTTYPE=image/jpeg:https://christcovcincy.org/wp-content/uploads/2023/05/Swim.jpg
END:VEVENT
BEGIN:VEVENT
DTSTART;TZID=America/Halifax:20230613T170000
DTEND;TZID=America/Halifax:20230613T183000
DTSTAMP:20260425T185759
CREATED:20230601T193133Z
LAST-MODIFIED:20230614T155819Z
UID:10004928-1686675600-1686681000@christcovcincy.org
SUMMARY:Family Cookout
DESCRIPTION:Very casual. Families bring their own main dish (grill available) and a side &/or dessert to share with others. Drinks and paper goods provided.
URL:https://christcovcincy.org/event/family-cookout/2023-06-13/
LOCATION:Christ Covenant picnic and office complex\, 2192 Springdale Rd.\, Cincinnati\, OH\, 45231\, United States
CATEGORIES:Children's Ministry,fellowships
ATTACH;FMTTYPE=image/jpeg:https://christcovcincy.org/wp-content/uploads/2023/06/zac-cain-jLzukAj_PhQ-unsplash-scaled.jpg
END:VEVENT
BEGIN:VEVENT
DTSTART;TZID=UTC:20230613T203000
DTEND;TZID=UTC:20230613T220000
DTSTAMP:20260425T185759
CREATED:20250407T170246Z
LAST-MODIFIED:20250407T170246Z
UID:10004508-1686688200-1686693600@christcovcincy.org
SUMMARY:ManCave
DESCRIPTION:Men of all ages are encouraged to come join in this time of fellowship and study of Proverbs.
URL:https://christcovcincy.org/event/mancave/2023-06-13/
LOCATION:Christ Covenant Church Office\, 2192 Springdale Road\, Cincinnati\, OH\, 45231
ATTACH;FMTTYPE=image/jpeg:https://christcovcincy.org/wp-content/uploads/2022/10/Mancave-1.jpg
END:VEVENT
BEGIN:VEVENT
DTSTART;TZID=America/Halifax:20230614T110000
DTEND;TZID=America/Halifax:20230614T160000
DTSTAMP:20260425T185759
CREATED:20230614T160817Z
LAST-MODIFIED:20230626T135145Z
UID:10004938-1686740400-1686758400@christcovcincy.org
SUMMARY:Private Event
DESCRIPTION:Steve Aldredge working in office/online for meetings and advising
URL:https://christcovcincy.org/event/private-event-37/2023-06-14/
LOCATION:Chapel @ Christ Covenant Church Office\, 2192 Springdale Rd\, Cincinnati\, OH\, 45231
ATTACH;FMTTYPE=image/jpeg:https://christcovcincy.org/wp-content/uploads/2023/06/privateeventcalendar.jpg
END:VEVENT
BEGIN:VEVENT
DTSTART;TZID=America/Halifax:20230615T140000
DTEND;TZID=America/Halifax:20230615T160000
DTSTAMP:20260425T185759
CREATED:20230615T140221Z
LAST-MODIFIED:20230626T135053Z
UID:10004951-1686837600-1686844800@christcovcincy.org
SUMMARY:Private Event
DESCRIPTION:Steve Aldredge working in office/online for meetings & advising
URL:https://christcovcincy.org/event/private-event-38/
LOCATION:Chapel @ Christ Covenant Church Office\, 2192 Springdale Rd\, Cincinnati\, OH\, 45231
ATTACH;FMTTYPE=image/jpeg:https://christcovcincy.org/wp-content/uploads/2023/06/privateeventcalendar.jpg
END:VEVENT
BEGIN:VEVENT
DTSTART;TZID=UTC:20230615T173000
DTEND;TZID=UTC:20230615T183000
DTSTAMP:20260425T185759
CREATED:20220714T195703Z
LAST-MODIFIED:20250828T182812Z
UID:10006112-1686850200-1686853800@christcovcincy.org
SUMMARY:Weekly Prayer Group
DESCRIPTION:WEEKLY PRAYER GROUP: This ongoing prayer group that meets via Zoom every Thursday evening from 5:30-6:30 p.m. Contact Ruth Cload for the Zoom link.
URL:https://christcovcincy.org/event/weekly-prayer-group/2023-06-15/
ATTACH;FMTTYPE=image/jpeg:https://christcovcincy.org/wp-content/uploads/2023/03/ZoomPrayerMeeting.jpg
END:VEVENT
BEGIN:VEVENT
DTSTART;TZID=America/Halifax:20230616T110000
DTEND;TZID=America/Halifax:20230616T160000
DTSTAMP:20260425T185759
CREATED:20230614T160817Z
LAST-MODIFIED:20230626T135145Z
UID:10004939-1686913200-1686931200@christcovcincy.org
SUMMARY:Private Event
DESCRIPTION:Steve Aldredge working in office/online for meetings and advising
URL:https://christcovcincy.org/event/private-event-37/2023-06-16/
LOCATION:Chapel @ Christ Covenant Church Office\, 2192 Springdale Rd\, Cincinnati\, OH\, 45231
ATTACH;FMTTYPE=image/jpeg:https://christcovcincy.org/wp-content/uploads/2023/06/privateeventcalendar.jpg
END:VEVENT
BEGIN:VEVENT
DTSTART;TZID=America/Halifax:20230616T183000
DTEND;TZID=America/Halifax:20230616T210000
DTSTAMP:20260425T185759
CREATED:20230601T140012Z
LAST-MODIFIED:20230601T140012Z
UID:10004926-1686940200-1686949200@christcovcincy.org
SUMMARY:Piano Recital
DESCRIPTION:
URL:https://christcovcincy.org/event/piano-recital/
LOCATION:Christ Covenant Church\, 2191 Struble Rd\, Cincinnati\, 45231\, United States
END:VEVENT
BEGIN:VEVENT
DTSTART;TZID=UTC:20230618T103000
DTEND;TZID=UTC:20230618T233000
DTSTAMP:20260425T185759
CREATED:20220714T235224Z
LAST-MODIFIED:20260327T170225Z
UID:10004138-1687084200-1687131000@christcovcincy.org
SUMMARY:Sunday Service @ 10:30am
DESCRIPTION:Join us for Worship! 10:30 am
URL:https://christcovcincy.org/event/sunday-service-1030am/2023-06-18/
LOCATION:Christ Covenant Church\, 2191 Struble Rd\, Cincinnati\, 45231\, United States
ATTACH;FMTTYPE=image/jpeg:https://christcovcincy.org/wp-content/uploads/2023/02/SundayService.jpg
END:VEVENT
BEGIN:VEVENT
DTSTART;TZID=UTC:20230619T190000
DTEND;TZID=UTC:20230619T210000
DTSTAMP:20260425T185759
CREATED:20221122T221840Z
LAST-MODIFIED:20251001T185731Z
UID:10004640-1687201200-1687208400@christcovcincy.org
SUMMARY:Trustee Meeting
DESCRIPTION:
URL:https://christcovcincy.org/event/trustees-meeting/2023-06-19/
LOCATION:Chapel @ Christ Covenant Church Office\, 2192 Springdale Rd\, Cincinnati\, OH\, 45231
ATTACH;FMTTYPE=image/png:https://christcovcincy.org/wp-content/uploads/2022/07/Board-Meeting.png
END:VEVENT
END:VCALENDAR