BEGIN:VCALENDAR
VERSION:2.0
PRODID:-//Christ Covenant Church - ECPv6.15.20//NONSGML v1.0//EN
CALSCALE:GREGORIAN
METHOD:PUBLISH
X-ORIGINAL-URL:https://christcovcincy.org
X-WR-CALDESC:Events for Christ Covenant Church
REFRESH-INTERVAL;VALUE=DURATION:PT1H
X-Robots-Tag:noindex
X-PUBLISHED-TTL:PT1H
BEGIN:VTIMEZONE
TZID:America/New_York
BEGIN:DAYLIGHT
TZOFFSETFROM:-0500
TZOFFSETTO:-0400
TZNAME:EDT
DTSTART:20220313T070000
END:DAYLIGHT
BEGIN:STANDARD
TZOFFSETFROM:-0400
TZOFFSETTO:-0500
TZNAME:EST
DTSTART:20221106T060000
END:STANDARD
BEGIN:DAYLIGHT
TZOFFSETFROM:-0500
TZOFFSETTO:-0400
TZNAME:EDT
DTSTART:20230312T070000
END:DAYLIGHT
BEGIN:STANDARD
TZOFFSETFROM:-0400
TZOFFSETTO:-0500
TZNAME:EST
DTSTART:20231105T060000
END:STANDARD
BEGIN:DAYLIGHT
TZOFFSETFROM:-0500
TZOFFSETTO:-0400
TZNAME:EDT
DTSTART:20240310T070000
END:DAYLIGHT
BEGIN:STANDARD
TZOFFSETFROM:-0400
TZOFFSETTO:-0500
TZNAME:EST
DTSTART:20241103T060000
END:STANDARD
END:VTIMEZONE
BEGIN:VTIMEZONE
TZID:UTC
BEGIN:STANDARD
TZOFFSETFROM:+0000
TZOFFSETTO:+0000
TZNAME:UTC
DTSTART:20220101T000000
END:STANDARD
END:VTIMEZONE
BEGIN:VTIMEZONE
TZID:America/Halifax
BEGIN:DAYLIGHT
TZOFFSETFROM:-0400
TZOFFSETTO:-0300
TZNAME:ADT
DTSTART:20220313T060000
END:DAYLIGHT
BEGIN:STANDARD
TZOFFSETFROM:-0300
TZOFFSETTO:-0400
TZNAME:AST
DTSTART:20221106T050000
END:STANDARD
BEGIN:DAYLIGHT
TZOFFSETFROM:-0400
TZOFFSETTO:-0300
TZNAME:ADT
DTSTART:20230312T060000
END:DAYLIGHT
BEGIN:STANDARD
TZOFFSETFROM:-0300
TZOFFSETTO:-0400
TZNAME:AST
DTSTART:20231105T050000
END:STANDARD
BEGIN:DAYLIGHT
TZOFFSETFROM:-0400
TZOFFSETTO:-0300
TZNAME:ADT
DTSTART:20240310T060000
END:DAYLIGHT
BEGIN:STANDARD
TZOFFSETFROM:-0300
TZOFFSETTO:-0400
TZNAME:AST
DTSTART:20241103T050000
END:STANDARD
END:VTIMEZONE
BEGIN:VEVENT
DTSTART;TZID=America/New_York:20230801T150000
DTEND;TZID=America/New_York:20230801T170000
DTSTAMP:20260425T154640
CREATED:20230503T181611Z
LAST-MODIFIED:20230531T173859Z
UID:10004899-1690902000-1690909200@christcovcincy.org
SUMMARY:Family Swim Time
DESCRIPTION:
URL:https://christcovcincy.org/event/family-swim-time-3/2023-08-01/
LOCATION:Christ Covenant Church Office\, 2192 Springdale Road\, Cincinnati\, OH\, 45231
CATEGORIES:Children's Ministry
ATTACH;FMTTYPE=image/jpeg:https://christcovcincy.org/wp-content/uploads/2023/05/Swim.jpg
END:VEVENT
BEGIN:VEVENT
DTSTART;TZID=UTC:20230803T173000
DTEND;TZID=UTC:20230803T183000
DTSTAMP:20260425T154640
CREATED:20220714T195703Z
LAST-MODIFIED:20250828T182812Z
UID:10006119-1691083800-1691087400@christcovcincy.org
SUMMARY:Weekly Prayer Group
DESCRIPTION:WEEKLY PRAYER GROUP: This ongoing prayer group that meets via Zoom every Thursday evening from 5:30-6:30 p.m. Contact Ruth Cload for the Zoom link.
URL:https://christcovcincy.org/event/weekly-prayer-group/2023-08-03/
ATTACH;FMTTYPE=image/jpeg:https://christcovcincy.org/wp-content/uploads/2023/03/ZoomPrayerMeeting.jpg
END:VEVENT
BEGIN:VEVENT
DTSTART;VALUE=DATE:20230805
DTEND;VALUE=DATE:20230812
DTSTAMP:20260425T154640
CREATED:20230405T174648Z
LAST-MODIFIED:20240404T143704Z
UID:10004514-1691193600-1691798399@christcovcincy.org
SUMMARY:Family Camp @ Cedar Bay\, MI
DESCRIPTION:JOIN US for a week of Family Fun & Fellowship at beautiful Cedar Bay in the Upper Peninsula of Michigan on the shores of Prentiss Bay (Lake Huron).  To find out more\, visit the church website under MINISTRIES\, talk with David or Mary Rudolph\, or contact David at drudolph@christcovcincy.org.
URL:https://christcovcincy.org/event/family-camp-cedar-bay-mi/
ATTACH;FMTTYPE=image/jpeg:https://christcovcincy.org/wp-content/uploads/2023/04/cedarfamilycamp.jpg
END:VEVENT
BEGIN:VEVENT
DTSTART;TZID=America/Halifax:20230805T130000
DTEND;TZID=America/Halifax:20230805T170000
DTSTAMP:20260425T154640
CREATED:20230706T172045Z
LAST-MODIFIED:20230706T172045Z
UID:10004962-1691240400-1691254800@christcovcincy.org
SUMMARY:Private Event
DESCRIPTION:Miller baby shower
URL:https://christcovcincy.org/event/private-event-39/
LOCATION:Christ Covenant Church Office\, 2192 Springdale Road\, Cincinnati\, OH\, 45231
ATTACH;FMTTYPE=image/jpeg:https://christcovcincy.org/wp-content/uploads/2023/06/privateeventcalendar.jpg
END:VEVENT
BEGIN:VEVENT
DTSTART;TZID=UTC:20230806T103000
DTEND;TZID=UTC:20230806T233000
DTSTAMP:20260425T154640
CREATED:20220714T235224Z
LAST-MODIFIED:20260327T170225Z
UID:10004145-1691317800-1691364600@christcovcincy.org
SUMMARY:Sunday Service @ 10:30am
DESCRIPTION:Join us for Worship! 10:30 am
URL:https://christcovcincy.org/event/sunday-service-1030am/2023-08-06/
LOCATION:Christ Covenant Church\, 2191 Struble Rd\, Cincinnati\, 45231\, United States
ATTACH;FMTTYPE=image/jpeg:https://christcovcincy.org/wp-content/uploads/2023/02/SundayService.jpg
END:VEVENT
BEGIN:VEVENT
DTSTART;TZID=UTC:20230810T173000
DTEND;TZID=UTC:20230810T183000
DTSTAMP:20260425T154640
CREATED:20220714T195703Z
LAST-MODIFIED:20250828T182812Z
UID:10006120-1691688600-1691692200@christcovcincy.org
SUMMARY:Weekly Prayer Group
DESCRIPTION:WEEKLY PRAYER GROUP: This ongoing prayer group that meets via Zoom every Thursday evening from 5:30-6:30 p.m. Contact Ruth Cload for the Zoom link.
URL:https://christcovcincy.org/event/weekly-prayer-group/2023-08-10/
ATTACH;FMTTYPE=image/jpeg:https://christcovcincy.org/wp-content/uploads/2023/03/ZoomPrayerMeeting.jpg
END:VEVENT
BEGIN:VEVENT
DTSTART;TZID=UTC:20230812T073000
DTEND;TZID=UTC:20230812T090000
DTSTAMP:20260425T154640
CREATED:20230216T230543Z
LAST-MODIFIED:20241023T184107Z
UID:10004782-1691825400-1691830800@christcovcincy.org
SUMMARY:Men's Bible Study
DESCRIPTION:Join the Men of Christ Covenant as they continue their study through the book of Romans.
URL:https://christcovcincy.org/event/mens-bible-study-2/2023-08-12/
LOCATION:Christ Covenant Church Office\, 2192 Springdale Road\, Cincinnati\, OH\, 45231
CATEGORIES:Men's Discipleship
ATTACH;FMTTYPE=image/jpeg:https://christcovcincy.org/wp-content/uploads/2023/02/MensBibleStudy-copy.jpg
END:VEVENT
BEGIN:VEVENT
DTSTART;TZID=UTC:20230813T103000
DTEND;TZID=UTC:20230813T233000
DTSTAMP:20260425T154640
CREATED:20220714T235224Z
LAST-MODIFIED:20260327T170225Z
UID:10004146-1691922600-1691969400@christcovcincy.org
SUMMARY:Sunday Service @ 10:30am
DESCRIPTION:Join us for Worship! 10:30 am
URL:https://christcovcincy.org/event/sunday-service-1030am/2023-08-13/
LOCATION:Christ Covenant Church\, 2191 Struble Rd\, Cincinnati\, 45231\, United States
ATTACH;FMTTYPE=image/jpeg:https://christcovcincy.org/wp-content/uploads/2023/02/SundayService.jpg
END:VEVENT
BEGIN:VEVENT
DTSTART;TZID=America/Halifax:20230813T170000
DTEND;TZID=America/Halifax:20230813T200000
DTSTAMP:20260425T154640
CREATED:20230530T194934Z
LAST-MODIFIED:20230913T172657Z
UID:10004917-1691946000-1691956800@christcovcincy.org
SUMMARY:Youth Group
DESCRIPTION:
URL:https://christcovcincy.org/event/youth-group-3/2023-08-13/
CATEGORIES:Youth Ministry
ATTACH;FMTTYPE=image/jpeg:https://christcovcincy.org/wp-content/uploads/2023/05/YouthGroup.jpg
END:VEVENT
BEGIN:VEVENT
DTSTART;TZID=UTC:20230814T190000
DTEND;TZID=UTC:20230814T210000
DTSTAMP:20260425T154640
CREATED:20221122T221642Z
LAST-MODIFIED:20250521T182505Z
UID:10004603-1692039600-1692046800@christcovcincy.org
SUMMARY:Session Meeting
DESCRIPTION:
URL:https://christcovcincy.org/event/session-meeting-2/2023-08-14/
LOCATION:Chapel @ Christ Covenant Church Office\, 2192 Springdale Rd\, Cincinnati\, OH\, 45231
ATTACH;FMTTYPE=image/png:https://christcovcincy.org/wp-content/uploads/2022/07/Board-Meeting.png
END:VEVENT
BEGIN:VEVENT
DTSTART;TZID=America/New_York:20230815T150000
DTEND;TZID=America/New_York:20230815T170000
DTSTAMP:20260425T154640
CREATED:20230503T181611Z
LAST-MODIFIED:20230531T173859Z
UID:10004900-1692111600-1692118800@christcovcincy.org
SUMMARY:Family Swim Time
DESCRIPTION:
URL:https://christcovcincy.org/event/family-swim-time-3/2023-08-15/
LOCATION:Christ Covenant Church Office\, 2192 Springdale Road\, Cincinnati\, OH\, 45231
CATEGORIES:Children's Ministry
ATTACH;FMTTYPE=image/jpeg:https://christcovcincy.org/wp-content/uploads/2023/05/Swim.jpg
END:VEVENT
BEGIN:VEVENT
DTSTART;TZID=America/Halifax:20230815T170000
DTEND;TZID=America/Halifax:20230815T183000
DTSTAMP:20260425T154640
CREATED:20230601T193133Z
LAST-MODIFIED:20230614T155819Z
UID:10004930-1692118800-1692124200@christcovcincy.org
SUMMARY:Family Cookout
DESCRIPTION:Very casual. Families bring their own main dish (grill available) and a side &/or dessert to share with others. Drinks and paper goods provided.
URL:https://christcovcincy.org/event/family-cookout/2023-08-15/
LOCATION:Christ Covenant picnic and office complex\, 2192 Springdale Rd.\, Cincinnati\, OH\, 45231\, United States
CATEGORIES:Children's Ministry,fellowships
ATTACH;FMTTYPE=image/jpeg:https://christcovcincy.org/wp-content/uploads/2023/06/zac-cain-jLzukAj_PhQ-unsplash-scaled.jpg
END:VEVENT
BEGIN:VEVENT
DTSTART;TZID=America/Halifax:20230816T124500
DTEND;TZID=America/Halifax:20230816T144500
DTSTAMP:20260425T154640
CREATED:20230530T195700Z
LAST-MODIFIED:20230531T174110Z
UID:10004925-1692189900-1692197100@christcovcincy.org
SUMMARY:Youth Swim
DESCRIPTION:
URL:https://christcovcincy.org/event/youth-swim/2023-08-16/
CATEGORIES:Youth Ministry
ATTACH;FMTTYPE=image/jpeg:https://christcovcincy.org/wp-content/uploads/2023/05/youth-swim.jpg
END:VEVENT
BEGIN:VEVENT
DTSTART;TZID=UTC:20230817T173000
DTEND;TZID=UTC:20230817T183000
DTSTAMP:20260425T154640
CREATED:20220714T195703Z
LAST-MODIFIED:20250828T182812Z
UID:10006121-1692293400-1692297000@christcovcincy.org
SUMMARY:Weekly Prayer Group
DESCRIPTION:WEEKLY PRAYER GROUP: This ongoing prayer group that meets via Zoom every Thursday evening from 5:30-6:30 p.m. Contact Ruth Cload for the Zoom link.
URL:https://christcovcincy.org/event/weekly-prayer-group/2023-08-17/
ATTACH;FMTTYPE=image/jpeg:https://christcovcincy.org/wp-content/uploads/2023/03/ZoomPrayerMeeting.jpg
END:VEVENT
BEGIN:VEVENT
DTSTART;TZID=America/Halifax:20230819T090000
DTEND;TZID=America/Halifax:20230819T110000
DTSTAMP:20260425T154640
CREATED:20230823T164915Z
LAST-MODIFIED:20231020T165839Z
UID:10004762-1692435600-1692442800@christcovcincy.org
SUMMARY:Grief Share
DESCRIPTION:Our current session of Grief Share small group course runs from August 19 to November 18 (excluding September 2). This support group will be facilitated on Saturdays from 9-11 a.m. at our church. It is permissible to join a group in progress. Our Grief Share groups are open to both church members and those in the community. If you know a neighbor or friend who might benefit from this ministry\, encourage them to check it out! For more information or to register now for the support group\, visit our Grief Share website. Questions? Email Colleen Grogan (colleeng@christcovcincy.org).
URL:https://christcovcincy.org/event/grief-share-2/2023-08-19/
LOCATION:Christ Covenant Church\, 2191 Struble Rd\, Cincinnati\, 45231\, United States
ATTACH;FMTTYPE=image/jpeg:https://christcovcincy.org/wp-content/uploads/2023/08/griefshare3.jpg
ORGANIZER;CN="Colleen Grogan":MAILTO:colleeng@christcovcincy.org
END:VEVENT
BEGIN:VEVENT
DTSTART;TZID=America/Halifax:20230819T110000
DTEND;TZID=America/Halifax:20230819T200000
DTSTAMP:20260425T154640
CREATED:20230614T160134Z
LAST-MODIFIED:20230614T160134Z
UID:10004936-1692442800-1692475200@christcovcincy.org
SUMMARY:Private Event
DESCRIPTION:McEnaney Family Grill-Out & Fellowship
URL:https://christcovcincy.org/event/private-event-36/
LOCATION:Christ Covenant picnic and office complex\, 2192 Springdale Rd.\, Cincinnati\, OH\, 45231\, United States
END:VEVENT
BEGIN:VEVENT
DTSTART;TZID=America/Halifax:20230820T083000
DTEND;TZID=America/Halifax:20230820T101500
DTSTAMP:20260425T154640
CREATED:20230706T164454Z
LAST-MODIFIED:20230706T164454Z
UID:10004960-1692520200-1692526500@christcovcincy.org
SUMMARY:Sunday School Kick-Off Breakfast
DESCRIPTION:Join in a time of fellowship over breakfast and then stick around to see the children who are promoting in this new Sunday School year. We’ll spend time praying for the children and their teachers as we offer this ministry to the Lord for the 2023-2024 year.
URL:https://christcovcincy.org/event/sunday-school-kick-off-breakfast/
LOCATION:Church Fellowship Hall
END:VEVENT
BEGIN:VEVENT
DTSTART;TZID=UTC:20230820T103000
DTEND;TZID=UTC:20230820T233000
DTSTAMP:20260425T154640
CREATED:20220714T235224Z
LAST-MODIFIED:20260327T170225Z
UID:10004147-1692527400-1692574200@christcovcincy.org
SUMMARY:Sunday Service @ 10:30am
DESCRIPTION:Join us for Worship! 10:30 am
URL:https://christcovcincy.org/event/sunday-service-1030am/2023-08-20/
LOCATION:Christ Covenant Church\, 2191 Struble Rd\, Cincinnati\, 45231\, United States
ATTACH;FMTTYPE=image/jpeg:https://christcovcincy.org/wp-content/uploads/2023/02/SundayService.jpg
END:VEVENT
BEGIN:VEVENT
DTSTART;TZID=America/New_York:20230820T170000
DTEND;TZID=America/New_York:20230820T200000
DTSTAMP:20260425T154640
CREATED:20230405T174108Z
LAST-MODIFIED:20230803T144248Z
UID:10004889-1692550800-1692561600@christcovcincy.org
SUMMARY:Sunday Night Fellowship
DESCRIPTION:Theme: End of Summer Fun.  Say good-bye to summer with an evening of connecting with worship and casual seasonal fun.  Main Course: hot dog bar (provided). Please bring 12+ servings according to your last name: A-G: Side Dish\, H-M: Dessert\, N-Z: Fruit.
URL:https://christcovcincy.org/event/sunday-night-fellowship-2023-08-20/
LOCATION:Christ Covenant Church Office\, 2192 Springdale Road\, Cincinnati\, OH\, 45231
END:VEVENT
BEGIN:VEVENT
DTSTART;TZID=UTC:20230821T190000
DTEND;TZID=UTC:20230821T210000
DTSTAMP:20260425T154640
CREATED:20221122T221840Z
LAST-MODIFIED:20251001T185731Z
UID:10004642-1692644400-1692651600@christcovcincy.org
SUMMARY:Trustee Meeting
DESCRIPTION:
URL:https://christcovcincy.org/event/trustees-meeting/2023-08-21/
LOCATION:Chapel @ Christ Covenant Church Office\, 2192 Springdale Rd\, Cincinnati\, OH\, 45231
ATTACH;FMTTYPE=image/png:https://christcovcincy.org/wp-content/uploads/2022/07/Board-Meeting.png
END:VEVENT
BEGIN:VEVENT
DTSTART;TZID=UTC:20230821T190000
DTEND;TZID=UTC:20230821T210000
DTSTAMP:20260425T154640
CREATED:20221122T222057Z
LAST-MODIFIED:20240111T171025Z
UID:10004679-1692644400-1692651600@christcovcincy.org
SUMMARY:Deacon Meeting
DESCRIPTION:
URL:https://christcovcincy.org/event/deacon-meeting/2023-08-21/
LOCATION:Library @ Christ Covenant Church Office
ATTACH;FMTTYPE=image/png:https://christcovcincy.org/wp-content/uploads/2022/07/Board-Meeting.png
END:VEVENT
BEGIN:VEVENT
DTSTART;TZID=America/Halifax:20230822T150000
DTEND;TZID=America/Halifax:20230822T170000
DTSTAMP:20260425T154640
CREATED:20230823T163221Z
LAST-MODIFIED:20230823T163221Z
UID:10004753-1692716400-1692723600@christcovcincy.org
SUMMARY:Private Event
DESCRIPTION:Fellowship & Swim Time
URL:https://christcovcincy.org/event/private-event-41/2023-08-22/
LOCATION:Christ Covenant Church Office\, 2192 Springdale Road\, Cincinnati\, OH\, 45231
ATTACH;FMTTYPE=image/jpeg:https://christcovcincy.org/wp-content/uploads/2023/06/privateeventcalendar.jpg
END:VEVENT
BEGIN:VEVENT
DTSTART;TZID=UTC:20230822T203000
DTEND;TZID=UTC:20230822T220000
DTSTAMP:20260425T154640
CREATED:20221027T193225Z
LAST-MODIFIED:20230324T163012Z
UID:10004500-1692736200-1692741600@christcovcincy.org
SUMMARY:ManCave
DESCRIPTION:Men of all ages are encouraged to come join in this time of fellowship and study of Proverbs.
URL:https://christcovcincy.org/event/mancave/2023-08-22/
LOCATION:Christ Covenant Church Office\, 2192 Springdale Road\, Cincinnati\, OH\, 45231
ATTACH;FMTTYPE=image/jpeg:https://christcovcincy.org/wp-content/uploads/2022/10/Mancave-1.jpg
END:VEVENT
BEGIN:VEVENT
DTSTART;TZID=America/Halifax:20230823T083000
DTEND;TZID=America/Halifax:20230823T170000
DTSTAMP:20260425T154640
CREATED:20230802T171643Z
LAST-MODIFIED:20230802T181226Z
UID:10005006-1692779400-1692810000@christcovcincy.org
SUMMARY:CAFE Coop
DESCRIPTION:CAFE Coop
URL:https://christcovcincy.org/event/cafe-coop-2/2023-08-23/
LOCATION:Christ Covenant Church\, 2191 Struble Rd\, Cincinnati\, 45231\, United States
CATEGORIES:private event
ATTACH;FMTTYPE=image/png:https://christcovcincy.org/wp-content/uploads/2022/07/Cafe-Event.png
END:VEVENT
BEGIN:VEVENT
DTSTART;TZID=UTC:20230824T173000
DTEND;TZID=UTC:20230824T183000
DTSTAMP:20260425T154640
CREATED:20220714T195703Z
LAST-MODIFIED:20250828T182812Z
UID:10006122-1692898200-1692901800@christcovcincy.org
SUMMARY:Weekly Prayer Group
DESCRIPTION:WEEKLY PRAYER GROUP: This ongoing prayer group that meets via Zoom every Thursday evening from 5:30-6:30 p.m. Contact Ruth Cload for the Zoom link.
URL:https://christcovcincy.org/event/weekly-prayer-group/2023-08-24/
ATTACH;FMTTYPE=image/jpeg:https://christcovcincy.org/wp-content/uploads/2023/03/ZoomPrayerMeeting.jpg
END:VEVENT
BEGIN:VEVENT
DTSTART;TZID=America/Halifax:20230826T090000
DTEND;TZID=America/Halifax:20230826T110000
DTSTAMP:20260425T154640
CREATED:20230823T164915Z
LAST-MODIFIED:20231020T165839Z
UID:10004763-1693040400-1693047600@christcovcincy.org
SUMMARY:Grief Share
DESCRIPTION:Our current session of Grief Share small group course runs from August 19 to November 18 (excluding September 2). This support group will be facilitated on Saturdays from 9-11 a.m. at our church. It is permissible to join a group in progress. Our Grief Share groups are open to both church members and those in the community. If you know a neighbor or friend who might benefit from this ministry\, encourage them to check it out! For more information or to register now for the support group\, visit our Grief Share website. Questions? Email Colleen Grogan (colleeng@christcovcincy.org).
URL:https://christcovcincy.org/event/grief-share-2/2023-08-26/
LOCATION:Christ Covenant Church\, 2191 Struble Rd\, Cincinnati\, 45231\, United States
ATTACH;FMTTYPE=image/jpeg:https://christcovcincy.org/wp-content/uploads/2023/08/griefshare3.jpg
ORGANIZER;CN="Colleen Grogan":MAILTO:colleeng@christcovcincy.org
END:VEVENT
BEGIN:VEVENT
DTSTART;TZID=America/Halifax:20230827T091500
DTEND;TZID=America/Halifax:20230827T101500
DTSTAMP:20260425T154640
CREATED:20230921T144907Z
LAST-MODIFIED:20230921T144907Z
UID:10005100-1693127700-1693131300@christcovcincy.org
SUMMARY:Sunday School Classes
DESCRIPTION:Nursery Care is available for ages 3 and under. \nChildren’s classes for Preschool (ages 4-5) in Room 105\, for grades 1 & 2 in Room 102\, for grades 3 & 4 in Room 104\, for grades 5 & 6 in Room 108. \nJunior High class for grades 7 & 8 in Room 106. \nHigh School class for grades 9 & 10 in the modular building. \nAdult Sunday School for HS grades 11 & 12 and adults in Fellowship Hall.  Our current series is a video teaching and study guide group discussion of Jonah: You Can’t Outrun Grace by Paul Tripp. (NO ADULT CLASS on October 29. Setting up Fellowship Hall for Grace Luncheon.)
URL:https://christcovcincy.org/event/sunday-school-classes-2/2023-08-27/
LOCATION:Christ Covenant Church\, 2191 Struble Rd\, Cincinnati\, 45231\, United States
CATEGORIES:Sunday School
ATTACH;FMTTYPE=image/jpeg:https://christcovcincy.org/wp-content/uploads/2023/01/SundaySchoolGeneral.jpg
END:VEVENT
BEGIN:VEVENT
DTSTART;TZID=UTC:20230827T103000
DTEND;TZID=UTC:20230827T233000
DTSTAMP:20260425T154640
CREATED:20220714T235224Z
LAST-MODIFIED:20260327T170225Z
UID:10004148-1693132200-1693179000@christcovcincy.org
SUMMARY:Sunday Service @ 10:30am
DESCRIPTION:Join us for Worship! 10:30 am
URL:https://christcovcincy.org/event/sunday-service-1030am/2023-08-27/
LOCATION:Christ Covenant Church\, 2191 Struble Rd\, Cincinnati\, 45231\, United States
ATTACH;FMTTYPE=image/jpeg:https://christcovcincy.org/wp-content/uploads/2023/02/SundayService.jpg
END:VEVENT
BEGIN:VEVENT
DTSTART;TZID=America/Halifax:20230827T120000
DTEND;TZID=America/Halifax:20230827T133000
DTSTAMP:20260425T154640
CREATED:20230823T154118Z
LAST-MODIFIED:20230823T181853Z
UID:10005076-1693137600-1693143000@christcovcincy.org
SUMMARY:Mission Brown Bag Lunch
DESCRIPTION:Come join Laurie Klaas for an informal time of sharing over lunch in Fellowship Hall after the service. Drinks will be provided. Contact Judy Langdon with questions (513-829-1056).
URL:https://christcovcincy.org/event/mission-brown-bag-lunch-3/
LOCATION:Church Fellowship Hall
ATTACH;FMTTYPE=image/jpeg:https://christcovcincy.org/wp-content/uploads/2023/04/brownbaglunch.jpg
END:VEVENT
BEGIN:VEVENT
DTSTART;TZID=America/Halifax:20230827T180000
DTEND;TZID=America/Halifax:20230827T200000
DTSTAMP:20260425T154640
CREATED:20230913T173111Z
LAST-MODIFIED:20230913T173111Z
UID:10005080-1693159200-1693166400@christcovcincy.org
SUMMARY:Youth Group
DESCRIPTION:
URL:https://christcovcincy.org/event/youth-group-4/2023-08-27/
CATEGORIES:Youth Ministry
ATTACH;FMTTYPE=image/jpeg:https://christcovcincy.org/wp-content/uploads/2023/05/YouthGroup.jpg
END:VEVENT
END:VCALENDAR