BEGIN:VCALENDAR
VERSION:2.0
PRODID:-//Christ Covenant Church - ECPv6.15.20//NONSGML v1.0//EN
CALSCALE:GREGORIAN
METHOD:PUBLISH
X-WR-CALNAME:Christ Covenant Church
X-ORIGINAL-URL:https://christcovcincy.org
X-WR-CALDESC:Events for Christ Covenant Church
REFRESH-INTERVAL;VALUE=DURATION:PT1H
X-Robots-Tag:noindex
X-PUBLISHED-TTL:PT1H
BEGIN:VTIMEZONE
TZID:America/Halifax
BEGIN:DAYLIGHT
TZOFFSETFROM:-0400
TZOFFSETTO:-0300
TZNAME:ADT
DTSTART:20220313T060000
END:DAYLIGHT
BEGIN:STANDARD
TZOFFSETFROM:-0300
TZOFFSETTO:-0400
TZNAME:AST
DTSTART:20221106T050000
END:STANDARD
BEGIN:DAYLIGHT
TZOFFSETFROM:-0400
TZOFFSETTO:-0300
TZNAME:ADT
DTSTART:20230312T060000
END:DAYLIGHT
BEGIN:STANDARD
TZOFFSETFROM:-0300
TZOFFSETTO:-0400
TZNAME:AST
DTSTART:20231105T050000
END:STANDARD
BEGIN:DAYLIGHT
TZOFFSETFROM:-0400
TZOFFSETTO:-0300
TZNAME:ADT
DTSTART:20240310T060000
END:DAYLIGHT
BEGIN:STANDARD
TZOFFSETFROM:-0300
TZOFFSETTO:-0400
TZNAME:AST
DTSTART:20241103T050000
END:STANDARD
END:VTIMEZONE
BEGIN:VTIMEZONE
TZID:UTC
BEGIN:STANDARD
TZOFFSETFROM:+0000
TZOFFSETTO:+0000
TZNAME:UTC
DTSTART:20220101T000000
END:STANDARD
END:VTIMEZONE
BEGIN:VTIMEZONE
TZID:America/New_York
BEGIN:DAYLIGHT
TZOFFSETFROM:-0500
TZOFFSETTO:-0400
TZNAME:EDT
DTSTART:20220313T070000
END:DAYLIGHT
BEGIN:STANDARD
TZOFFSETFROM:-0400
TZOFFSETTO:-0500
TZNAME:EST
DTSTART:20221106T060000
END:STANDARD
BEGIN:DAYLIGHT
TZOFFSETFROM:-0500
TZOFFSETTO:-0400
TZNAME:EDT
DTSTART:20230312T070000
END:DAYLIGHT
BEGIN:STANDARD
TZOFFSETFROM:-0400
TZOFFSETTO:-0500
TZNAME:EST
DTSTART:20231105T060000
END:STANDARD
BEGIN:DAYLIGHT
TZOFFSETFROM:-0500
TZOFFSETTO:-0400
TZNAME:EDT
DTSTART:20240310T070000
END:DAYLIGHT
BEGIN:STANDARD
TZOFFSETFROM:-0400
TZOFFSETTO:-0500
TZNAME:EST
DTSTART:20241103T060000
END:STANDARD
END:VTIMEZONE
BEGIN:VEVENT
DTSTART;TZID=America/Halifax:20231001T091500
DTEND;TZID=America/Halifax:20231001T101500
DTSTAMP:20260425T124037
CREATED:20230921T144907Z
LAST-MODIFIED:20230921T144907Z
UID:10005105-1696151700-1696155300@christcovcincy.org
SUMMARY:Sunday School Classes
DESCRIPTION:Nursery Care is available for ages 3 and under. \nChildren’s classes for Preschool (ages 4-5) in Room 105\, for grades 1 & 2 in Room 102\, for grades 3 & 4 in Room 104\, for grades 5 & 6 in Room 108. \nJunior High class for grades 7 & 8 in Room 106. \nHigh School class for grades 9 & 10 in the modular building. \nAdult Sunday School for HS grades 11 & 12 and adults in Fellowship Hall.  Our current series is a video teaching and study guide group discussion of Jonah: You Can’t Outrun Grace by Paul Tripp. (NO ADULT CLASS on October 29. Setting up Fellowship Hall for Grace Luncheon.)
URL:https://christcovcincy.org/event/sunday-school-classes-2/2023-10-01/
LOCATION:Christ Covenant Church\, 2191 Struble Rd\, Cincinnati\, 45231\, United States
CATEGORIES:Sunday School
ATTACH;FMTTYPE=image/jpeg:https://christcovcincy.org/wp-content/uploads/2023/01/SundaySchoolGeneral.jpg
END:VEVENT
BEGIN:VEVENT
DTSTART;TZID=UTC:20231001T103000
DTEND;TZID=UTC:20231001T233000
DTSTAMP:20260425T124037
CREATED:20220714T235224Z
LAST-MODIFIED:20260327T170225Z
UID:10004153-1696156200-1696203000@christcovcincy.org
SUMMARY:Sunday Service @ 10:30am
DESCRIPTION:Join us for Worship! 10:30 am
URL:https://christcovcincy.org/event/sunday-service-1030am/2023-10-01/
LOCATION:Christ Covenant Church\, 2191 Struble Rd\, Cincinnati\, 45231\, United States
ATTACH;FMTTYPE=image/jpeg:https://christcovcincy.org/wp-content/uploads/2023/02/SundayService.jpg
END:VEVENT
BEGIN:VEVENT
DTSTART;TZID=America/Halifax:20231001T114500
DTEND;TZID=America/Halifax:20231001T133000
DTSTAMP:20260425T124037
CREATED:20230831T134341Z
LAST-MODIFIED:20231220T170607Z
UID:10004815-1696160700-1696167000@christcovcincy.org
SUMMARY:Chimes Rehearsal
DESCRIPTION:Room 106 immediately following Worship Service
URL:https://christcovcincy.org/event/chimes-rehearsal/2023-10-01/
LOCATION:Christ Covenant Church\, 2191 Struble Rd\, Cincinnati\, 45231\, United States
ATTACH;FMTTYPE=image/jpeg:https://christcovcincy.org/wp-content/uploads/2023/10/download.jpg
END:VEVENT
BEGIN:VEVENT
DTSTART;TZID=America/Halifax:20231001T170000
DTEND;TZID=America/Halifax:20231001T200000
DTSTAMP:20260425T124037
CREATED:20230727T164213Z
LAST-MODIFIED:20230928T152306Z
UID:10005002-1696179600-1696190400@christcovcincy.org
SUMMARY:Fall Fellowship: Celtic Night
DESCRIPTION:Shake out your kilt\, dust off the tam\, and fill your sporan! Guest musicians will share worship music from the Highlands followed by Celtic games. \nMain Couse Provided: Bangers (grilled sausages). Bring 12 servings to share according to your last name. A-G: potato dish\, H-M: fruit or vegetable\, N-Z: dessert.
URL:https://christcovcincy.org/event/fall-fellowship-celtic-night/
LOCATION:Christ Covenant Church Office\, 2192 Springdale Road\, Cincinnati\, OH\, 45231
CATEGORIES:fellowships
END:VEVENT
BEGIN:VEVENT
DTSTART;TZID=America/New_York:20231003T120000
DTEND;TZID=America/New_York:20231003T170000
DTSTAMP:20260425T124037
CREATED:20230412T183605Z
LAST-MODIFIED:20240516T203704Z
UID:10004524-1696334400-1696352400@christcovcincy.org
SUMMARY:Private Event
DESCRIPTION:Boerner/Langdon Speech & Debate Class
URL:https://christcovcincy.org/event/private-event-26/2023-10-03/
LOCATION:Church Fellowship Hall
ATTACH;FMTTYPE=image/png:https://christcovcincy.org/wp-content/uploads/2023/03/Private-Eventwebcalendar.png
END:VEVENT
BEGIN:VEVENT
DTSTART;TZID=America/Halifax:20231004T083000
DTEND;TZID=America/Halifax:20231004T170000
DTSTAMP:20260425T124037
CREATED:20230802T171643Z
LAST-MODIFIED:20230802T181226Z
UID:10005012-1696408200-1696438800@christcovcincy.org
SUMMARY:CAFE Coop
DESCRIPTION:CAFE Coop
URL:https://christcovcincy.org/event/cafe-coop-2/2023-10-04/
LOCATION:Christ Covenant Church\, 2191 Struble Rd\, Cincinnati\, 45231\, United States
CATEGORIES:private event
ATTACH;FMTTYPE=image/png:https://christcovcincy.org/wp-content/uploads/2022/07/Cafe-Event.png
END:VEVENT
BEGIN:VEVENT
DTSTART;TZID=America/New_York:20231005T093000
DTEND;TZID=America/New_York:20231005T113000
DTSTAMP:20260425T124037
CREATED:20230510T144158Z
LAST-MODIFIED:20240221T202909Z
UID:10004903-1696498200-1696505400@christcovcincy.org
SUMMARY:Women's Bible Study
DESCRIPTION:We will be studying the book of Exodus\, chapters 19-40 using the study guide God of Freedom\, by Jen Wilkin. This is a 10 session study that meets every other Thursday in the Church office at 2192 Springdale Road from 9:30 am – 11:30 am. To sign up and order a workbook\, contact Wendy at wdetroy@fuse.net no later than September 2\, 2023.
URL:https://christcovcincy.org/event/7900/2023-10-05/
LOCATION:Chapel @ Christ Covenant Church Office\, 2192 Springdale Rd\, Cincinnati\, OH\, 45231
ATTACH;FMTTYPE=image/jpeg:https://christcovcincy.org/wp-content/uploads/2023/02/WomensBibleStudy.jpg
END:VEVENT
BEGIN:VEVENT
DTSTART;TZID=UTC:20231005T173000
DTEND;TZID=UTC:20231005T183000
DTSTAMP:20260425T124037
CREATED:20220714T195703Z
LAST-MODIFIED:20250828T182812Z
UID:10006128-1696527000-1696530600@christcovcincy.org
SUMMARY:Weekly Prayer Group
DESCRIPTION:WEEKLY PRAYER GROUP: This ongoing prayer group that meets via Zoom every Thursday evening from 5:30-6:30 p.m. Contact Ruth Cload for the Zoom link.
URL:https://christcovcincy.org/event/weekly-prayer-group/2023-10-05/
ATTACH;FMTTYPE=image/jpeg:https://christcovcincy.org/wp-content/uploads/2023/03/ZoomPrayerMeeting.jpg
END:VEVENT
BEGIN:VEVENT
DTSTART;TZID=America/Halifax:20231005T183000
DTEND;TZID=America/Halifax:20231005T210000
DTSTAMP:20260425T124037
CREATED:20230810T203700Z
LAST-MODIFIED:20240605T190840Z
UID:10005033-1696530600-1696539600@christcovcincy.org
SUMMARY:Choir Rehearsal
DESCRIPTION:Join us in the sanctuary to prepare for leading worship\, usually every 4-6 weeks and on special dates.
URL:https://christcovcincy.org/event/choir-rehearsal-6/2023-10-05/
LOCATION:Christ Covenant Church\, 2191 Struble Rd\, Cincinnati\, 45231\, United States
ATTACH;FMTTYPE=image/jpeg:https://christcovcincy.org/wp-content/uploads/2023/03/ChancelChoirforWeb.jpg
END:VEVENT
BEGIN:VEVENT
DTSTART;TZID=America/Halifax:20231006T130000
DTEND;TZID=America/Halifax:20231006T160000
DTSTAMP:20260425T124037
CREATED:20230907T134710Z
LAST-MODIFIED:20230907T134710Z
UID:10005079-1696597200-1696608000@christcovcincy.org
SUMMARY:CAFE Event
DESCRIPTION:Sons of American Revolution presentations
URL:https://christcovcincy.org/event/cafe-event/
LOCATION:Church Fellowship Hall
ATTACH;FMTTYPE=image/png:https://christcovcincy.org/wp-content/uploads/2022/07/Cafe-Event.png
END:VEVENT
BEGIN:VEVENT
DTSTART;TZID=UTC:20231007T073000
DTEND;TZID=UTC:20231007T090000
DTSTAMP:20260425T124037
CREATED:20230216T230543Z
LAST-MODIFIED:20241023T184107Z
UID:10004784-1696663800-1696669200@christcovcincy.org
SUMMARY:Men's Bible Study
DESCRIPTION:Join the Men of Christ Covenant as they continue their study through the book of Romans.
URL:https://christcovcincy.org/event/mens-bible-study-2/2023-10-07/
LOCATION:Christ Covenant Church Office\, 2192 Springdale Road\, Cincinnati\, OH\, 45231
CATEGORIES:Men's Discipleship
ATTACH;FMTTYPE=image/jpeg:https://christcovcincy.org/wp-content/uploads/2023/02/MensBibleStudy-copy.jpg
END:VEVENT
BEGIN:VEVENT
DTSTART;TZID=America/Halifax:20231007T090000
DTEND;TZID=America/Halifax:20231007T110000
DTSTAMP:20260425T124037
CREATED:20230823T164915Z
LAST-MODIFIED:20231020T165839Z
UID:10004768-1696669200-1696676400@christcovcincy.org
SUMMARY:Grief Share
DESCRIPTION:Our current session of Grief Share small group course runs from August 19 to November 18 (excluding September 2). This support group will be facilitated on Saturdays from 9-11 a.m. at our church. It is permissible to join a group in progress. Our Grief Share groups are open to both church members and those in the community. If you know a neighbor or friend who might benefit from this ministry\, encourage them to check it out! For more information or to register now for the support group\, visit our Grief Share website. Questions? Email Colleen Grogan (colleeng@christcovcincy.org).
URL:https://christcovcincy.org/event/grief-share-2/2023-10-07/
LOCATION:Christ Covenant Church\, 2191 Struble Rd\, Cincinnati\, 45231\, United States
ATTACH;FMTTYPE=image/jpeg:https://christcovcincy.org/wp-content/uploads/2023/08/griefshare3.jpg
ORGANIZER;CN="Colleen Grogan":MAILTO:colleeng@christcovcincy.org
END:VEVENT
BEGIN:VEVENT
DTSTART;TZID=America/Halifax:20231008T091500
DTEND;TZID=America/Halifax:20231008T101500
DTSTAMP:20260425T124037
CREATED:20230921T144907Z
LAST-MODIFIED:20230921T144907Z
UID:10005106-1696756500-1696760100@christcovcincy.org
SUMMARY:Sunday School Classes
DESCRIPTION:Nursery Care is available for ages 3 and under. \nChildren’s classes for Preschool (ages 4-5) in Room 105\, for grades 1 & 2 in Room 102\, for grades 3 & 4 in Room 104\, for grades 5 & 6 in Room 108. \nJunior High class for grades 7 & 8 in Room 106. \nHigh School class for grades 9 & 10 in the modular building. \nAdult Sunday School for HS grades 11 & 12 and adults in Fellowship Hall.  Our current series is a video teaching and study guide group discussion of Jonah: You Can’t Outrun Grace by Paul Tripp. (NO ADULT CLASS on October 29. Setting up Fellowship Hall for Grace Luncheon.)
URL:https://christcovcincy.org/event/sunday-school-classes-2/2023-10-08/
LOCATION:Christ Covenant Church\, 2191 Struble Rd\, Cincinnati\, 45231\, United States
CATEGORIES:Sunday School
ATTACH;FMTTYPE=image/jpeg:https://christcovcincy.org/wp-content/uploads/2023/01/SundaySchoolGeneral.jpg
END:VEVENT
BEGIN:VEVENT
DTSTART;TZID=UTC:20231008T103000
DTEND;TZID=UTC:20231008T233000
DTSTAMP:20260425T124037
CREATED:20220714T235224Z
LAST-MODIFIED:20260327T170225Z
UID:10004154-1696761000-1696807800@christcovcincy.org
SUMMARY:Sunday Service @ 10:30am
DESCRIPTION:Join us for Worship! 10:30 am
URL:https://christcovcincy.org/event/sunday-service-1030am/2023-10-08/
LOCATION:Christ Covenant Church\, 2191 Struble Rd\, Cincinnati\, 45231\, United States
ATTACH;FMTTYPE=image/jpeg:https://christcovcincy.org/wp-content/uploads/2023/02/SundayService.jpg
END:VEVENT
BEGIN:VEVENT
DTSTART;TZID=America/Halifax:20231008T180000
DTEND;TZID=America/Halifax:20231008T200000
DTSTAMP:20260425T124037
CREATED:20230913T173111Z
LAST-MODIFIED:20230913T173111Z
UID:10005083-1696788000-1696795200@christcovcincy.org
SUMMARY:Youth Group
DESCRIPTION:
URL:https://christcovcincy.org/event/youth-group-4/2023-10-08/
CATEGORIES:Youth Ministry
ATTACH;FMTTYPE=image/jpeg:https://christcovcincy.org/wp-content/uploads/2023/05/YouthGroup.jpg
END:VEVENT
BEGIN:VEVENT
DTSTART;TZID=UTC:20231009T190000
DTEND;TZID=UTC:20231009T210000
DTSTAMP:20260425T124037
CREATED:20221122T221642Z
LAST-MODIFIED:20250521T182505Z
UID:10004605-1696878000-1696885200@christcovcincy.org
SUMMARY:Session Meeting
DESCRIPTION:
URL:https://christcovcincy.org/event/session-meeting-2/2023-10-09/
LOCATION:Chapel @ Christ Covenant Church Office\, 2192 Springdale Rd\, Cincinnati\, OH\, 45231
ATTACH;FMTTYPE=image/png:https://christcovcincy.org/wp-content/uploads/2022/07/Board-Meeting.png
END:VEVENT
BEGIN:VEVENT
DTSTART;TZID=America/Halifax:20231010T091500
DTEND;TZID=America/Halifax:20231010T110000
DTSTAMP:20260425T124037
CREATED:20230823T131356Z
LAST-MODIFIED:20231122T155648Z
UID:10005066-1696929300-1696935600@christcovcincy.org
SUMMARY:Women's Bible Study
DESCRIPTION:In the Tuesday bible studies\, we will be studying the book of Hebrews this year. We meet Tuesday mornings from 9:15-11:00am or 7:00 -8:45 pm at the church office (2192 Springdale Road). We will use the study guide Better by Jen Wilkin. You can attend either morning or evening\, since the study will be the same at each time.
URL:https://christcovcincy.org/event/womens-bible-study-6/2023-10-10/
LOCATION:Chapel @ Christ Covenant Church Office\, 2192 Springdale Rd\, Cincinnati\, OH\, 45231
CATEGORIES:Women's Discipleship
ATTACH;FMTTYPE=image/jpeg:https://christcovcincy.org/wp-content/uploads/2023/03/WomensBibleStudy.jpg
ORGANIZER;CN="Colleen Grogan":MAILTO:colleeng@christcovcincy.org
END:VEVENT
BEGIN:VEVENT
DTSTART;TZID=America/New_York:20231010T120000
DTEND;TZID=America/New_York:20231010T170000
DTSTAMP:20260425T124037
CREATED:20230412T183605Z
LAST-MODIFIED:20240516T203704Z
UID:10004525-1696939200-1696957200@christcovcincy.org
SUMMARY:Private Event
DESCRIPTION:Boerner/Langdon Speech & Debate Class
URL:https://christcovcincy.org/event/private-event-26/2023-10-10/
LOCATION:Church Fellowship Hall
ATTACH;FMTTYPE=image/png:https://christcovcincy.org/wp-content/uploads/2023/03/Private-Eventwebcalendar.png
END:VEVENT
BEGIN:VEVENT
DTSTART;TZID=America/Halifax:20231010T190000
DTEND;TZID=America/Halifax:20231010T204500
DTSTAMP:20260425T124037
CREATED:20230823T170432Z
LAST-MODIFIED:20231122T155534Z
UID:10004796-1696964400-1696970700@christcovcincy.org
SUMMARY:Women's Bible study
DESCRIPTION:In the Tuesday Bible studies\, we will be studying the book of Hebrews this year. We meet Tuesday mornings from 9:15-11:00 am or 7:00 -8:45 pm at the church office (2192 Springdale Road). We will use the study guide Better by Jen Wilkin. You can attend either morning or evening\, since the study will be the same at each time.
URL:https://christcovcincy.org/event/womens-bible-study-7/2023-10-10/
CATEGORIES:Women's Discipleship
ATTACH;FMTTYPE=image/jpeg:https://christcovcincy.org/wp-content/uploads/2023/10/WomensBibleStudy2.jpg
END:VEVENT
BEGIN:VEVENT
DTSTART;TZID=America/Halifax:20231011T083000
DTEND;TZID=America/Halifax:20231011T170000
DTSTAMP:20260425T124037
CREATED:20230802T171643Z
LAST-MODIFIED:20230802T181226Z
UID:10005013-1697013000-1697043600@christcovcincy.org
SUMMARY:CAFE Coop
DESCRIPTION:CAFE Coop
URL:https://christcovcincy.org/event/cafe-coop-2/2023-10-11/
LOCATION:Christ Covenant Church\, 2191 Struble Rd\, Cincinnati\, 45231\, United States
CATEGORIES:private event
ATTACH;FMTTYPE=image/png:https://christcovcincy.org/wp-content/uploads/2022/07/Cafe-Event.png
END:VEVENT
BEGIN:VEVENT
DTSTART;TZID=UTC:20231012T173000
DTEND;TZID=UTC:20231012T183000
DTSTAMP:20260425T124037
CREATED:20220714T195703Z
LAST-MODIFIED:20250828T182812Z
UID:10006129-1697131800-1697135400@christcovcincy.org
SUMMARY:Weekly Prayer Group
DESCRIPTION:WEEKLY PRAYER GROUP: This ongoing prayer group that meets via Zoom every Thursday evening from 5:30-6:30 p.m. Contact Ruth Cload for the Zoom link.
URL:https://christcovcincy.org/event/weekly-prayer-group/2023-10-12/
ATTACH;FMTTYPE=image/jpeg:https://christcovcincy.org/wp-content/uploads/2023/03/ZoomPrayerMeeting.jpg
END:VEVENT
BEGIN:VEVENT
DTSTART;TZID=America/Halifax:20231012T183000
DTEND;TZID=America/Halifax:20231012T210000
DTSTAMP:20260425T124037
CREATED:20230810T203700Z
LAST-MODIFIED:20240605T190840Z
UID:10005034-1697135400-1697144400@christcovcincy.org
SUMMARY:Choir Rehearsal
DESCRIPTION:Join us in the sanctuary to prepare for leading worship\, usually every 4-6 weeks and on special dates.
URL:https://christcovcincy.org/event/choir-rehearsal-6/2023-10-12/
LOCATION:Christ Covenant Church\, 2191 Struble Rd\, Cincinnati\, 45231\, United States
ATTACH;FMTTYPE=image/jpeg:https://christcovcincy.org/wp-content/uploads/2023/03/ChancelChoirforWeb.jpg
END:VEVENT
BEGIN:VEVENT
DTSTART;TZID=UTC:20231013T100000
DTEND;TZID=UTC:20231013T130000
DTSTAMP:20260425T124037
CREATED:20230106T011628Z
LAST-MODIFIED:20230428T154039Z
UID:10004736-1697191200-1697202000@christcovcincy.org
SUMMARY:Silver Heirs
DESCRIPTION:Join the Senior Saints of the church for a time of fun and fellowship as we enjoy an interesting program and boxed lunch.  Bring your friends!  For specific monthly program details\, see the weekly Church Life.
URL:https://christcovcincy.org/event/silver-heirs-2/2023-10-13/
LOCATION:Church Fellowship Hall
ATTACH;FMTTYPE=image/jpeg:https://christcovcincy.org/wp-content/uploads/2023/01/SilverHeirs-1.jpg
END:VEVENT
BEGIN:VEVENT
DTSTART;TZID=America/Halifax:20231013T190000
DTEND;TZID=America/Halifax:20231013T213000
DTSTAMP:20260425T124037
CREATED:20230927T184244Z
LAST-MODIFIED:20240327T174502Z
UID:10005130-1697223600-1697232600@christcovcincy.org
SUMMARY:Women's Game Night
DESCRIPTION:Let’s get together for fun and games! We will gather at Linda Young’s home in Finneytown from 7:00-9:30 pm. Come to enjoy conversation and games! Bring a snack to share if you wish. For more information\, contact Colleen Grogan at colleeng@christcovcincy.org.
URL:https://christcovcincy.org/event/womens-game-night/2023-10-13/
ATTACH;FMTTYPE=image/jpeg:https://christcovcincy.org/wp-content/uploads/2023/01/WomensFellowshipNight.jpg
END:VEVENT
BEGIN:VEVENT
DTSTART;TZID=America/Halifax:20231013T190000
DTEND;TZID=America/Halifax:20231013T213000
DTSTAMP:20260425T124037
CREATED:20231004T144407Z
LAST-MODIFIED:20240327T174228Z
UID:10005136-1697223600-1697232600@christcovcincy.org
SUMMARY:Women's Game Night
DESCRIPTION:Let’s get together for fun and games! We will gather at Luana Roof’s home in Monfort Heights from 7:00-9:30 pm. Come to enjoy conversation and games! Bring a snack to share if you wish. For more information\, contact Colleen Grogan at colleeng@christcovcincy.org.
URL:https://christcovcincy.org/event/womens-game-night-2/2023-10-13/
CATEGORIES:Women's Discipleship
ATTACH;FMTTYPE=image/jpeg:https://christcovcincy.org/wp-content/uploads/2023/01/WomensFellowshipNight.jpg
END:VEVENT
BEGIN:VEVENT
DTSTART;TZID=America/Halifax:20231014T090000
DTEND;TZID=America/Halifax:20231014T110000
DTSTAMP:20260425T124037
CREATED:20230823T164915Z
LAST-MODIFIED:20231020T165839Z
UID:10004769-1697274000-1697281200@christcovcincy.org
SUMMARY:Grief Share
DESCRIPTION:Our current session of Grief Share small group course runs from August 19 to November 18 (excluding September 2). This support group will be facilitated on Saturdays from 9-11 a.m. at our church. It is permissible to join a group in progress. Our Grief Share groups are open to both church members and those in the community. If you know a neighbor or friend who might benefit from this ministry\, encourage them to check it out! For more information or to register now for the support group\, visit our Grief Share website. Questions? Email Colleen Grogan (colleeng@christcovcincy.org).
URL:https://christcovcincy.org/event/grief-share-2/2023-10-14/
LOCATION:Christ Covenant Church\, 2191 Struble Rd\, Cincinnati\, 45231\, United States
ATTACH;FMTTYPE=image/jpeg:https://christcovcincy.org/wp-content/uploads/2023/08/griefshare3.jpg
ORGANIZER;CN="Colleen Grogan":MAILTO:colleeng@christcovcincy.org
END:VEVENT
BEGIN:VEVENT
DTSTART;TZID=America/Halifax:20231015T091500
DTEND;TZID=America/Halifax:20231015T101500
DTSTAMP:20260425T124037
CREATED:20230921T144907Z
LAST-MODIFIED:20230921T144907Z
UID:10005107-1697361300-1697364900@christcovcincy.org
SUMMARY:Sunday School Classes
DESCRIPTION:Nursery Care is available for ages 3 and under. \nChildren’s classes for Preschool (ages 4-5) in Room 105\, for grades 1 & 2 in Room 102\, for grades 3 & 4 in Room 104\, for grades 5 & 6 in Room 108. \nJunior High class for grades 7 & 8 in Room 106. \nHigh School class for grades 9 & 10 in the modular building. \nAdult Sunday School for HS grades 11 & 12 and adults in Fellowship Hall.  Our current series is a video teaching and study guide group discussion of Jonah: You Can’t Outrun Grace by Paul Tripp. (NO ADULT CLASS on October 29. Setting up Fellowship Hall for Grace Luncheon.)
URL:https://christcovcincy.org/event/sunday-school-classes-2/2023-10-15/
LOCATION:Christ Covenant Church\, 2191 Struble Rd\, Cincinnati\, 45231\, United States
CATEGORIES:Sunday School
ATTACH;FMTTYPE=image/jpeg:https://christcovcincy.org/wp-content/uploads/2023/01/SundaySchoolGeneral.jpg
END:VEVENT
BEGIN:VEVENT
DTSTART;TZID=UTC:20231015T103000
DTEND;TZID=UTC:20231015T233000
DTSTAMP:20260425T124037
CREATED:20220714T235224Z
LAST-MODIFIED:20260327T170225Z
UID:10004155-1697365800-1697412600@christcovcincy.org
SUMMARY:Sunday Service @ 10:30am
DESCRIPTION:Join us for Worship! 10:30 am
URL:https://christcovcincy.org/event/sunday-service-1030am/2023-10-15/
LOCATION:Christ Covenant Church\, 2191 Struble Rd\, Cincinnati\, 45231\, United States
ATTACH;FMTTYPE=image/jpeg:https://christcovcincy.org/wp-content/uploads/2023/02/SundayService.jpg
END:VEVENT
BEGIN:VEVENT
DTSTART;TZID=America/Halifax:20231015T114500
DTEND;TZID=America/Halifax:20231015T133000
DTSTAMP:20260425T124037
CREATED:20230831T134341Z
LAST-MODIFIED:20231220T170607Z
UID:10004816-1697370300-1697376600@christcovcincy.org
SUMMARY:Chimes Rehearsal
DESCRIPTION:Room 106 immediately following Worship Service
URL:https://christcovcincy.org/event/chimes-rehearsal/2023-10-15/
LOCATION:Christ Covenant Church\, 2191 Struble Rd\, Cincinnati\, 45231\, United States
ATTACH;FMTTYPE=image/jpeg:https://christcovcincy.org/wp-content/uploads/2023/10/download.jpg
END:VEVENT
BEGIN:VEVENT
DTSTART;TZID=UTC:20231016T190000
DTEND;TZID=UTC:20231016T210000
DTSTAMP:20260425T124037
CREATED:20221122T221840Z
LAST-MODIFIED:20251001T185731Z
UID:10004644-1697482800-1697490000@christcovcincy.org
SUMMARY:Trustee Meeting
DESCRIPTION:
URL:https://christcovcincy.org/event/trustees-meeting/2023-10-16/
LOCATION:Chapel @ Christ Covenant Church Office\, 2192 Springdale Rd\, Cincinnati\, OH\, 45231
ATTACH;FMTTYPE=image/png:https://christcovcincy.org/wp-content/uploads/2022/07/Board-Meeting.png
END:VEVENT
END:VCALENDAR