BEGIN:VCALENDAR
VERSION:2.0
PRODID:-//Christ Covenant Church - ECPv6.15.20//NONSGML v1.0//EN
CALSCALE:GREGORIAN
METHOD:PUBLISH
X-WR-CALNAME:Christ Covenant Church
X-ORIGINAL-URL:https://christcovcincy.org
X-WR-CALDESC:Events for Christ Covenant Church
REFRESH-INTERVAL;VALUE=DURATION:PT1H
X-Robots-Tag:noindex
X-PUBLISHED-TTL:PT1H
BEGIN:VTIMEZONE
TZID:America/Halifax
BEGIN:DAYLIGHT
TZOFFSETFROM:-0400
TZOFFSETTO:-0300
TZNAME:ADT
DTSTART:20220313T060000
END:DAYLIGHT
BEGIN:STANDARD
TZOFFSETFROM:-0300
TZOFFSETTO:-0400
TZNAME:AST
DTSTART:20221106T050000
END:STANDARD
BEGIN:DAYLIGHT
TZOFFSETFROM:-0400
TZOFFSETTO:-0300
TZNAME:ADT
DTSTART:20230312T060000
END:DAYLIGHT
BEGIN:STANDARD
TZOFFSETFROM:-0300
TZOFFSETTO:-0400
TZNAME:AST
DTSTART:20231105T050000
END:STANDARD
BEGIN:DAYLIGHT
TZOFFSETFROM:-0400
TZOFFSETTO:-0300
TZNAME:ADT
DTSTART:20240310T060000
END:DAYLIGHT
BEGIN:STANDARD
TZOFFSETFROM:-0300
TZOFFSETTO:-0400
TZNAME:AST
DTSTART:20241103T050000
END:STANDARD
END:VTIMEZONE
BEGIN:VTIMEZONE
TZID:America/New_York
BEGIN:DAYLIGHT
TZOFFSETFROM:-0500
TZOFFSETTO:-0400
TZNAME:EDT
DTSTART:20220313T070000
END:DAYLIGHT
BEGIN:STANDARD
TZOFFSETFROM:-0400
TZOFFSETTO:-0500
TZNAME:EST
DTSTART:20221106T060000
END:STANDARD
BEGIN:DAYLIGHT
TZOFFSETFROM:-0500
TZOFFSETTO:-0400
TZNAME:EDT
DTSTART:20230312T070000
END:DAYLIGHT
BEGIN:STANDARD
TZOFFSETFROM:-0400
TZOFFSETTO:-0500
TZNAME:EST
DTSTART:20231105T060000
END:STANDARD
BEGIN:DAYLIGHT
TZOFFSETFROM:-0500
TZOFFSETTO:-0400
TZNAME:EDT
DTSTART:20240310T070000
END:DAYLIGHT
BEGIN:STANDARD
TZOFFSETFROM:-0400
TZOFFSETTO:-0500
TZNAME:EST
DTSTART:20241103T060000
END:STANDARD
END:VTIMEZONE
BEGIN:VTIMEZONE
TZID:UTC
BEGIN:STANDARD
TZOFFSETFROM:+0000
TZOFFSETTO:+0000
TZNAME:UTC
DTSTART:20220101T000000
END:STANDARD
END:VTIMEZONE
BEGIN:VEVENT
DTSTART;TZID=America/Halifax:20231101T083000
DTEND;TZID=America/Halifax:20231101T170000
DTSTAMP:20260425T105844
CREATED:20230802T171643Z
LAST-MODIFIED:20230802T181226Z
UID:10005016-1698827400-1698858000@christcovcincy.org
SUMMARY:CAFE Coop
DESCRIPTION:CAFE Coop
URL:https://christcovcincy.org/event/cafe-coop-2/2023-11-01/
LOCATION:Christ Covenant Church\, 2191 Struble Rd\, Cincinnati\, 45231\, United States
CATEGORIES:private event
ATTACH;FMTTYPE=image/png:https://christcovcincy.org/wp-content/uploads/2022/07/Cafe-Event.png
END:VEVENT
BEGIN:VEVENT
DTSTART;TZID=America/New_York:20231102T093000
DTEND;TZID=America/New_York:20231102T113000
DTSTAMP:20260425T105844
CREATED:20230510T144158Z
LAST-MODIFIED:20240221T202909Z
UID:10004905-1698917400-1698924600@christcovcincy.org
SUMMARY:Women's Bible Study
DESCRIPTION:We will be studying the book of Exodus\, chapters 19-40 using the study guide God of Freedom\, by Jen Wilkin. This is a 10 session study that meets every other Thursday in the Church office at 2192 Springdale Road from 9:30 am – 11:30 am. To sign up and order a workbook\, contact Wendy at wdetroy@fuse.net no later than September 2\, 2023.
URL:https://christcovcincy.org/event/7900/2023-11-02/
LOCATION:Chapel @ Christ Covenant Church Office\, 2192 Springdale Rd\, Cincinnati\, OH\, 45231
ATTACH;FMTTYPE=image/jpeg:https://christcovcincy.org/wp-content/uploads/2023/02/WomensBibleStudy.jpg
END:VEVENT
BEGIN:VEVENT
DTSTART;TZID=UTC:20231102T173000
DTEND;TZID=UTC:20231102T183000
DTSTAMP:20260425T105844
CREATED:20220714T195703Z
LAST-MODIFIED:20250828T182812Z
UID:10006132-1698946200-1698949800@christcovcincy.org
SUMMARY:Weekly Prayer Group
DESCRIPTION:WEEKLY PRAYER GROUP: This ongoing prayer group that meets via Zoom every Thursday evening from 5:30-6:30 p.m. Contact Ruth Cload for the Zoom link.
URL:https://christcovcincy.org/event/weekly-prayer-group/2023-11-02/
ATTACH;FMTTYPE=image/jpeg:https://christcovcincy.org/wp-content/uploads/2023/03/ZoomPrayerMeeting.jpg
END:VEVENT
BEGIN:VEVENT
DTSTART;TZID=America/Halifax:20231102T183000
DTEND;TZID=America/Halifax:20231102T210000
DTSTAMP:20260425T105844
CREATED:20230810T203700Z
LAST-MODIFIED:20240605T190840Z
UID:10005036-1698949800-1698958800@christcovcincy.org
SUMMARY:Choir Rehearsal
DESCRIPTION:Join us in the sanctuary to prepare for leading worship\, usually every 4-6 weeks and on special dates.
URL:https://christcovcincy.org/event/choir-rehearsal-6/2023-11-02/
LOCATION:Christ Covenant Church\, 2191 Struble Rd\, Cincinnati\, 45231\, United States
ATTACH;FMTTYPE=image/jpeg:https://christcovcincy.org/wp-content/uploads/2023/03/ChancelChoirforWeb.jpg
END:VEVENT
BEGIN:VEVENT
DTSTART;TZID=America/Halifax:20231104T090000
DTEND;TZID=America/Halifax:20231104T110000
DTSTAMP:20260425T105844
CREATED:20230823T164915Z
LAST-MODIFIED:20231020T165839Z
UID:10004772-1699088400-1699095600@christcovcincy.org
SUMMARY:Grief Share
DESCRIPTION:Our current session of Grief Share small group course runs from August 19 to November 18 (excluding September 2). This support group will be facilitated on Saturdays from 9-11 a.m. at our church. It is permissible to join a group in progress. Our Grief Share groups are open to both church members and those in the community. If you know a neighbor or friend who might benefit from this ministry\, encourage them to check it out! For more information or to register now for the support group\, visit our Grief Share website. Questions? Email Colleen Grogan (colleeng@christcovcincy.org).
URL:https://christcovcincy.org/event/grief-share-2/2023-11-04/
LOCATION:Christ Covenant Church\, 2191 Struble Rd\, Cincinnati\, 45231\, United States
ATTACH;FMTTYPE=image/jpeg:https://christcovcincy.org/wp-content/uploads/2023/08/griefshare3.jpg
ORGANIZER;CN="Colleen Grogan":MAILTO:colleeng@christcovcincy.org
END:VEVENT
BEGIN:VEVENT
DTSTART;TZID=America/Halifax:20231104T093000
DTEND;TZID=America/Halifax:20231104T110000
DTSTAMP:20260425T105844
CREATED:20230914T204131Z
LAST-MODIFIED:20231204T200348Z
UID:10005092-1699090200-1699095600@christcovcincy.org
SUMMARY:Choir Rehearsal
DESCRIPTION:Saturday morning rehearsal for the Cantata!
URL:https://christcovcincy.org/event/choir-rehearsal-7/2023-11-04/
LOCATION:Christ Covenant Church\, 2191 Struble Rd\, Cincinnati\, 45231\, United States
ATTACH;FMTTYPE=image/jpeg:https://christcovcincy.org/wp-content/uploads/2023/03/ChancelChoirforWeb.jpg
END:VEVENT
BEGIN:VEVENT
DTSTART;TZID=America/Halifax:20231104T130000
DTEND;TZID=America/Halifax:20231104T143000
DTSTAMP:20260425T105844
CREATED:20231016T170633Z
LAST-MODIFIED:20231103T160145Z
UID:10005142-1699102800-1699108200@christcovcincy.org
SUMMARY:Women's Book Club
DESCRIPTION:Choose a biography of someone you would like to learn more about and then join us on Saturday November 4\, 1:00-2:30 pm to share with us what you learned! We will meet in the church library (at the office). Questions? colleeng@christcovcincy.org
URL:https://christcovcincy.org/event/womens-book-club-6/
LOCATION:Christ Covenant Church Office\, 2192 Springdale Road\, Cincinnati\, OH\, 45231
CATEGORIES:Women's Discipleship
ATTACH;FMTTYPE=image/jpeg:https://christcovcincy.org/wp-content/uploads/2023/11/womensbookclub3.jpg
ORGANIZER;CN="Colleen Grogan":MAILTO:colleeng@christcovcincy.org
END:VEVENT
BEGIN:VEVENT
DTSTART;TZID=America/Halifax:20231105T091500
DTEND;TZID=America/Halifax:20231105T101500
DTSTAMP:20260425T105844
CREATED:20231101T184856Z
LAST-MODIFIED:20231101T185832Z
UID:10004875-1699175700-1699179300@christcovcincy.org
SUMMARY:Sunday School Classes
DESCRIPTION:Nursery Care is available for ages 3 and under. \nChildren’s classes for Preschool (ages 4-5) in Room 105\, for grades 1 & 2 in Room 102\, for grades 3 & 4 in Room 104\, for grades 5 & 6 in Room 108. \nJunior High class for grades 7 & 8 in Room 106. \nHigh School class for grades 9 & 10 in the modular building. \nAdult Sunday School for HS grades 11 & 12 and adults in Fellowship Hall.  Our current series is a study of 1 Peter: “The False Teachers are Coming!” Led by Deacon Steve Williams\, this study provides a reminder of how to prepare for them\, recognize\, and deal with them.
URL:https://christcovcincy.org/event/sunday-school-classes-3/2023-11-05/
LOCATION:Christ Covenant Church\, 2191 Struble Rd\, Cincinnati\, 45231\, United States
CATEGORIES:Sunday School
ATTACH;FMTTYPE=image/jpeg:https://christcovcincy.org/wp-content/uploads/2023/01/SundaySchoolGeneral.jpg
END:VEVENT
BEGIN:VEVENT
DTSTART;TZID=UTC:20231105T103000
DTEND;TZID=UTC:20231105T233000
DTSTAMP:20260425T105844
CREATED:20220714T235224Z
LAST-MODIFIED:20260327T170225Z
UID:10004158-1699180200-1699227000@christcovcincy.org
SUMMARY:Sunday Service @ 10:30am
DESCRIPTION:Join us for Worship! 10:30 am
URL:https://christcovcincy.org/event/sunday-service-1030am/2023-11-05/
LOCATION:Christ Covenant Church\, 2191 Struble Rd\, Cincinnati\, 45231\, United States
ATTACH;FMTTYPE=image/jpeg:https://christcovcincy.org/wp-content/uploads/2023/02/SundayService.jpg
END:VEVENT
BEGIN:VEVENT
DTSTART;TZID=America/Halifax:20231105T114500
DTEND;TZID=America/Halifax:20231105T133000
DTSTAMP:20260425T105844
CREATED:20230831T134341Z
LAST-MODIFIED:20231220T170607Z
UID:10004819-1699184700-1699191000@christcovcincy.org
SUMMARY:Chimes Rehearsal
DESCRIPTION:Room 106 immediately following Worship Service
URL:https://christcovcincy.org/event/chimes-rehearsal/2023-11-05/
LOCATION:Christ Covenant Church\, 2191 Struble Rd\, Cincinnati\, 45231\, United States
ATTACH;FMTTYPE=image/jpeg:https://christcovcincy.org/wp-content/uploads/2023/10/download.jpg
END:VEVENT
BEGIN:VEVENT
DTSTART;TZID=America/Halifax:20231105T180000
DTEND;TZID=America/Halifax:20231105T200000
DTSTAMP:20260425T105844
CREATED:20230913T173111Z
LAST-MODIFIED:20230913T173111Z
UID:10005085-1699207200-1699214400@christcovcincy.org
SUMMARY:Youth Group
DESCRIPTION:
URL:https://christcovcincy.org/event/youth-group-4/2023-11-05/
CATEGORIES:Youth Ministry
ATTACH;FMTTYPE=image/jpeg:https://christcovcincy.org/wp-content/uploads/2023/05/YouthGroup.jpg
END:VEVENT
BEGIN:VEVENT
DTSTART;TZID=America/Halifax:20231108T083000
DTEND;TZID=America/Halifax:20231108T170000
DTSTAMP:20260425T105844
CREATED:20230802T171643Z
LAST-MODIFIED:20230802T181226Z
UID:10005017-1699432200-1699462800@christcovcincy.org
SUMMARY:CAFE Coop
DESCRIPTION:CAFE Coop
URL:https://christcovcincy.org/event/cafe-coop-2/2023-11-08/
LOCATION:Christ Covenant Church\, 2191 Struble Rd\, Cincinnati\, 45231\, United States
CATEGORIES:private event
ATTACH;FMTTYPE=image/png:https://christcovcincy.org/wp-content/uploads/2022/07/Cafe-Event.png
END:VEVENT
BEGIN:VEVENT
DTSTART;TZID=America/Halifax:20231108T190000
DTEND;TZID=America/Halifax:20231108T213000
DTSTAMP:20260425T105844
CREATED:20231025T142228Z
LAST-MODIFIED:20231025T142228Z
UID:10004851-1699470000-1699479000@christcovcincy.org
SUMMARY:Session Meeting
DESCRIPTION:
URL:https://christcovcincy.org/event/session-meeting-3/
LOCATION:Chapel @ Christ Covenant Church Office\, 2192 Springdale Rd\, Cincinnati\, OH\, 45231
ATTACH;FMTTYPE=image/png:https://christcovcincy.org/wp-content/uploads/2022/07/Board-Meeting.png
END:VEVENT
BEGIN:VEVENT
DTSTART;TZID=UTC:20231109T173000
DTEND;TZID=UTC:20231109T183000
DTSTAMP:20260425T105844
CREATED:20220714T195703Z
LAST-MODIFIED:20250828T182812Z
UID:10006133-1699551000-1699554600@christcovcincy.org
SUMMARY:Weekly Prayer Group
DESCRIPTION:WEEKLY PRAYER GROUP: This ongoing prayer group that meets via Zoom every Thursday evening from 5:30-6:30 p.m. Contact Ruth Cload for the Zoom link.
URL:https://christcovcincy.org/event/weekly-prayer-group/2023-11-09/
ATTACH;FMTTYPE=image/jpeg:https://christcovcincy.org/wp-content/uploads/2023/03/ZoomPrayerMeeting.jpg
END:VEVENT
BEGIN:VEVENT
DTSTART;TZID=America/Halifax:20231109T183000
DTEND;TZID=America/Halifax:20231109T210000
DTSTAMP:20260425T105844
CREATED:20230810T203700Z
LAST-MODIFIED:20240605T190840Z
UID:10005037-1699554600-1699563600@christcovcincy.org
SUMMARY:Choir Rehearsal
DESCRIPTION:Join us in the sanctuary to prepare for leading worship\, usually every 4-6 weeks and on special dates.
URL:https://christcovcincy.org/event/choir-rehearsal-6/2023-11-09/
LOCATION:Christ Covenant Church\, 2191 Struble Rd\, Cincinnati\, 45231\, United States
ATTACH;FMTTYPE=image/jpeg:https://christcovcincy.org/wp-content/uploads/2023/03/ChancelChoirforWeb.jpg
END:VEVENT
BEGIN:VEVENT
DTSTART;TZID=UTC:20231110T100000
DTEND;TZID=UTC:20231110T130000
DTSTAMP:20260425T105844
CREATED:20230106T011628Z
LAST-MODIFIED:20230428T154039Z
UID:10004737-1699610400-1699621200@christcovcincy.org
SUMMARY:Silver Heirs
DESCRIPTION:Join the Senior Saints of the church for a time of fun and fellowship as we enjoy an interesting program and boxed lunch.  Bring your friends!  For specific monthly program details\, see the weekly Church Life.
URL:https://christcovcincy.org/event/silver-heirs-2/2023-11-10/
LOCATION:Church Fellowship Hall
ATTACH;FMTTYPE=image/jpeg:https://christcovcincy.org/wp-content/uploads/2023/01/SilverHeirs-1.jpg
END:VEVENT
BEGIN:VEVENT
DTSTART;TZID=America/Halifax:20231110T190000
DTEND;TZID=America/Halifax:20231110T213000
DTSTAMP:20260425T105844
CREATED:20230927T184244Z
LAST-MODIFIED:20240327T174502Z
UID:10005131-1699642800-1699651800@christcovcincy.org
SUMMARY:Women's Game Night
DESCRIPTION:Let’s get together for fun and games! We will gather at Linda Young’s home in Finneytown from 7:00-9:30 pm. Come to enjoy conversation and games! Bring a snack to share if you wish. For more information\, contact Colleen Grogan at colleeng@christcovcincy.org.
URL:https://christcovcincy.org/event/womens-game-night/2023-11-10/
ATTACH;FMTTYPE=image/jpeg:https://christcovcincy.org/wp-content/uploads/2023/01/WomensFellowshipNight.jpg
END:VEVENT
BEGIN:VEVENT
DTSTART;TZID=UTC:20231111T073000
DTEND;TZID=UTC:20231111T090000
DTSTAMP:20260425T105844
CREATED:20230216T230543Z
LAST-MODIFIED:20241023T184107Z
UID:10004785-1699687800-1699693200@christcovcincy.org
SUMMARY:Men's Bible Study
DESCRIPTION:Join the Men of Christ Covenant as they continue their study through the book of Romans.
URL:https://christcovcincy.org/event/mens-bible-study-2/2023-11-11/
LOCATION:Christ Covenant Church Office\, 2192 Springdale Road\, Cincinnati\, OH\, 45231
CATEGORIES:Men's Discipleship
ATTACH;FMTTYPE=image/jpeg:https://christcovcincy.org/wp-content/uploads/2023/02/MensBibleStudy-copy.jpg
END:VEVENT
BEGIN:VEVENT
DTSTART;TZID=America/Halifax:20231111T090000
DTEND;TZID=America/Halifax:20231111T110000
DTSTAMP:20260425T105844
CREATED:20230823T164915Z
LAST-MODIFIED:20231020T165839Z
UID:10004773-1699693200-1699700400@christcovcincy.org
SUMMARY:Grief Share
DESCRIPTION:Our current session of Grief Share small group course runs from August 19 to November 18 (excluding September 2). This support group will be facilitated on Saturdays from 9-11 a.m. at our church. It is permissible to join a group in progress. Our Grief Share groups are open to both church members and those in the community. If you know a neighbor or friend who might benefit from this ministry\, encourage them to check it out! For more information or to register now for the support group\, visit our Grief Share website. Questions? Email Colleen Grogan (colleeng@christcovcincy.org).
URL:https://christcovcincy.org/event/grief-share-2/2023-11-11/
LOCATION:Christ Covenant Church\, 2191 Struble Rd\, Cincinnati\, 45231\, United States
ATTACH;FMTTYPE=image/jpeg:https://christcovcincy.org/wp-content/uploads/2023/08/griefshare3.jpg
ORGANIZER;CN="Colleen Grogan":MAILTO:colleeng@christcovcincy.org
END:VEVENT
BEGIN:VEVENT
DTSTART;TZID=America/Halifax:20231111T093000
DTEND;TZID=America/Halifax:20231111T110000
DTSTAMP:20260425T105844
CREATED:20230914T204131Z
LAST-MODIFIED:20231204T200348Z
UID:10005093-1699695000-1699700400@christcovcincy.org
SUMMARY:Choir Rehearsal
DESCRIPTION:Saturday morning rehearsal for the Cantata!
URL:https://christcovcincy.org/event/choir-rehearsal-7/2023-11-11/
LOCATION:Christ Covenant Church\, 2191 Struble Rd\, Cincinnati\, 45231\, United States
ATTACH;FMTTYPE=image/jpeg:https://christcovcincy.org/wp-content/uploads/2023/03/ChancelChoirforWeb.jpg
END:VEVENT
BEGIN:VEVENT
DTSTART;TZID=America/Halifax:20231112T091500
DTEND;TZID=America/Halifax:20231112T101500
DTSTAMP:20260425T105844
CREATED:20231101T184856Z
LAST-MODIFIED:20231101T185832Z
UID:10004876-1699780500-1699784100@christcovcincy.org
SUMMARY:Sunday School Classes
DESCRIPTION:Nursery Care is available for ages 3 and under. \nChildren’s classes for Preschool (ages 4-5) in Room 105\, for grades 1 & 2 in Room 102\, for grades 3 & 4 in Room 104\, for grades 5 & 6 in Room 108. \nJunior High class for grades 7 & 8 in Room 106. \nHigh School class for grades 9 & 10 in the modular building. \nAdult Sunday School for HS grades 11 & 12 and adults in Fellowship Hall.  Our current series is a study of 1 Peter: “The False Teachers are Coming!” Led by Deacon Steve Williams\, this study provides a reminder of how to prepare for them\, recognize\, and deal with them.
URL:https://christcovcincy.org/event/sunday-school-classes-3/2023-11-12/
LOCATION:Christ Covenant Church\, 2191 Struble Rd\, Cincinnati\, 45231\, United States
CATEGORIES:Sunday School
ATTACH;FMTTYPE=image/jpeg:https://christcovcincy.org/wp-content/uploads/2023/01/SundaySchoolGeneral.jpg
END:VEVENT
BEGIN:VEVENT
DTSTART;TZID=UTC:20231112T103000
DTEND;TZID=UTC:20231112T233000
DTSTAMP:20260425T105844
CREATED:20220714T235224Z
LAST-MODIFIED:20260327T170225Z
UID:10004159-1699785000-1699831800@christcovcincy.org
SUMMARY:Sunday Service @ 10:30am
DESCRIPTION:Join us for Worship! 10:30 am
URL:https://christcovcincy.org/event/sunday-service-1030am/2023-11-12/
LOCATION:Christ Covenant Church\, 2191 Struble Rd\, Cincinnati\, 45231\, United States
ATTACH;FMTTYPE=image/jpeg:https://christcovcincy.org/wp-content/uploads/2023/02/SundayService.jpg
END:VEVENT
BEGIN:VEVENT
DTSTART;TZID=America/Halifax:20231112T114500
DTEND;TZID=America/Halifax:20231112T123000
DTSTAMP:20260425T105844
CREATED:20231101T160928Z
LAST-MODIFIED:20231101T161139Z
UID:10004870-1699789500-1699792200@christcovcincy.org
SUMMARY:Budget Committee
DESCRIPTION:Room 108 immediately following worship service
URL:https://christcovcincy.org/event/budget-committee-meeting/
LOCATION:Christ Covenant Church\, 2191 Struble Rd\, Cincinnati\, 45231\, United States
ATTACH;FMTTYPE=image/png:https://christcovcincy.org/wp-content/uploads/2022/07/Board-Meeting.png
END:VEVENT
BEGIN:VEVENT
DTSTART;TZID=America/Halifax:20231112T114500
DTEND;TZID=America/Halifax:20231112T133000
DTSTAMP:20260425T105844
CREATED:20230831T134341Z
LAST-MODIFIED:20231220T170607Z
UID:10004820-1699789500-1699795800@christcovcincy.org
SUMMARY:Chimes Rehearsal
DESCRIPTION:Room 106 immediately following Worship Service
URL:https://christcovcincy.org/event/chimes-rehearsal/2023-11-12/
LOCATION:Christ Covenant Church\, 2191 Struble Rd\, Cincinnati\, 45231\, United States
ATTACH;FMTTYPE=image/jpeg:https://christcovcincy.org/wp-content/uploads/2023/10/download.jpg
END:VEVENT
BEGIN:VEVENT
DTSTART;TZID=America/Halifax:20231112T180000
DTEND;TZID=America/Halifax:20231112T200000
DTSTAMP:20260425T105844
CREATED:20230913T173111Z
LAST-MODIFIED:20230913T173111Z
UID:10005086-1699812000-1699819200@christcovcincy.org
SUMMARY:Youth Group
DESCRIPTION:
URL:https://christcovcincy.org/event/youth-group-4/2023-11-12/
CATEGORIES:Youth Ministry
ATTACH;FMTTYPE=image/jpeg:https://christcovcincy.org/wp-content/uploads/2023/05/YouthGroup.jpg
END:VEVENT
BEGIN:VEVENT
DTSTART;TZID=UTC:20231113T190000
DTEND;TZID=UTC:20231113T210000
DTSTAMP:20260425T105844
CREATED:20221122T221642Z
LAST-MODIFIED:20250521T182505Z
UID:10004606-1699902000-1699909200@christcovcincy.org
SUMMARY:Session Meeting
DESCRIPTION:
URL:https://christcovcincy.org/event/session-meeting-2/2023-11-13/
LOCATION:Chapel @ Christ Covenant Church Office\, 2192 Springdale Rd\, Cincinnati\, OH\, 45231
ATTACH;FMTTYPE=image/png:https://christcovcincy.org/wp-content/uploads/2022/07/Board-Meeting.png
END:VEVENT
BEGIN:VEVENT
DTSTART;TZID=America/Halifax:20231114T091500
DTEND;TZID=America/Halifax:20231114T110000
DTSTAMP:20260425T105844
CREATED:20230823T131356Z
LAST-MODIFIED:20231122T155648Z
UID:10005067-1699953300-1699959600@christcovcincy.org
SUMMARY:Women's Bible Study
DESCRIPTION:In the Tuesday bible studies\, we will be studying the book of Hebrews this year. We meet Tuesday mornings from 9:15-11:00am or 7:00 -8:45 pm at the church office (2192 Springdale Road). We will use the study guide Better by Jen Wilkin. You can attend either morning or evening\, since the study will be the same at each time.
URL:https://christcovcincy.org/event/womens-bible-study-6/2023-11-14/
LOCATION:Chapel @ Christ Covenant Church Office\, 2192 Springdale Rd\, Cincinnati\, OH\, 45231
CATEGORIES:Women's Discipleship
ATTACH;FMTTYPE=image/jpeg:https://christcovcincy.org/wp-content/uploads/2023/03/WomensBibleStudy.jpg
ORGANIZER;CN="Colleen Grogan":MAILTO:colleeng@christcovcincy.org
END:VEVENT
BEGIN:VEVENT
DTSTART;TZID=America/New_York:20231114T120000
DTEND;TZID=America/New_York:20231114T170000
DTSTAMP:20260425T105844
CREATED:20230412T183605Z
LAST-MODIFIED:20240516T203704Z
UID:10004528-1699963200-1699981200@christcovcincy.org
SUMMARY:Private Event
DESCRIPTION:Boerner/Langdon Speech & Debate Class
URL:https://christcovcincy.org/event/private-event-26/2023-11-14/
LOCATION:Church Fellowship Hall
ATTACH;FMTTYPE=image/png:https://christcovcincy.org/wp-content/uploads/2023/03/Private-Eventwebcalendar.png
END:VEVENT
BEGIN:VEVENT
DTSTART;TZID=America/Halifax:20231114T190000
DTEND;TZID=America/Halifax:20231114T204500
DTSTAMP:20260425T105844
CREATED:20230823T170432Z
LAST-MODIFIED:20231122T155534Z
UID:10004797-1699988400-1699994700@christcovcincy.org
SUMMARY:Women's Bible study
DESCRIPTION:In the Tuesday Bible studies\, we will be studying the book of Hebrews this year. We meet Tuesday mornings from 9:15-11:00 am or 7:00 -8:45 pm at the church office (2192 Springdale Road). We will use the study guide Better by Jen Wilkin. You can attend either morning or evening\, since the study will be the same at each time.
URL:https://christcovcincy.org/event/womens-bible-study-7/2023-11-14/
CATEGORIES:Women's Discipleship
ATTACH;FMTTYPE=image/jpeg:https://christcovcincy.org/wp-content/uploads/2023/10/WomensBibleStudy2.jpg
END:VEVENT
BEGIN:VEVENT
DTSTART;TZID=America/Halifax:20231115T083000
DTEND;TZID=America/Halifax:20231115T170000
DTSTAMP:20260425T105844
CREATED:20230802T171643Z
LAST-MODIFIED:20230802T181226Z
UID:10005018-1700037000-1700067600@christcovcincy.org
SUMMARY:CAFE Coop
DESCRIPTION:CAFE Coop
URL:https://christcovcincy.org/event/cafe-coop-2/2023-11-15/
LOCATION:Christ Covenant Church\, 2191 Struble Rd\, Cincinnati\, 45231\, United States
CATEGORIES:private event
ATTACH;FMTTYPE=image/png:https://christcovcincy.org/wp-content/uploads/2022/07/Cafe-Event.png
END:VEVENT
END:VCALENDAR