BEGIN:VCALENDAR
VERSION:2.0
PRODID:-//Christ Covenant Church - ECPv6.15.20//NONSGML v1.0//EN
CALSCALE:GREGORIAN
METHOD:PUBLISH
X-ORIGINAL-URL:https://christcovcincy.org
X-WR-CALDESC:Events for Christ Covenant Church
REFRESH-INTERVAL;VALUE=DURATION:PT1H
X-Robots-Tag:noindex
X-PUBLISHED-TTL:PT1H
BEGIN:VTIMEZONE
TZID:America/Halifax
BEGIN:DAYLIGHT
TZOFFSETFROM:-0400
TZOFFSETTO:-0300
TZNAME:ADT
DTSTART:20230312T060000
END:DAYLIGHT
BEGIN:STANDARD
TZOFFSETFROM:-0300
TZOFFSETTO:-0400
TZNAME:AST
DTSTART:20231105T050000
END:STANDARD
BEGIN:DAYLIGHT
TZOFFSETFROM:-0400
TZOFFSETTO:-0300
TZNAME:ADT
DTSTART:20240310T060000
END:DAYLIGHT
BEGIN:STANDARD
TZOFFSETFROM:-0300
TZOFFSETTO:-0400
TZNAME:AST
DTSTART:20241103T050000
END:STANDARD
BEGIN:DAYLIGHT
TZOFFSETFROM:-0400
TZOFFSETTO:-0300
TZNAME:ADT
DTSTART:20250309T060000
END:DAYLIGHT
BEGIN:STANDARD
TZOFFSETFROM:-0300
TZOFFSETTO:-0400
TZNAME:AST
DTSTART:20251102T050000
END:STANDARD
END:VTIMEZONE
BEGIN:VTIMEZONE
TZID:UTC
BEGIN:STANDARD
TZOFFSETFROM:+0000
TZOFFSETTO:+0000
TZNAME:UTC
DTSTART:20230101T000000
END:STANDARD
END:VTIMEZONE
BEGIN:VTIMEZONE
TZID:America/New_York
BEGIN:DAYLIGHT
TZOFFSETFROM:-0500
TZOFFSETTO:-0400
TZNAME:EDT
DTSTART:20230312T070000
END:DAYLIGHT
BEGIN:STANDARD
TZOFFSETFROM:-0400
TZOFFSETTO:-0500
TZNAME:EST
DTSTART:20231105T060000
END:STANDARD
BEGIN:DAYLIGHT
TZOFFSETFROM:-0500
TZOFFSETTO:-0400
TZNAME:EDT
DTSTART:20240310T070000
END:DAYLIGHT
BEGIN:STANDARD
TZOFFSETFROM:-0400
TZOFFSETTO:-0500
TZNAME:EST
DTSTART:20241103T060000
END:STANDARD
BEGIN:DAYLIGHT
TZOFFSETFROM:-0500
TZOFFSETTO:-0400
TZNAME:EDT
DTSTART:20250309T070000
END:DAYLIGHT
BEGIN:STANDARD
TZOFFSETFROM:-0400
TZOFFSETTO:-0500
TZNAME:EST
DTSTART:20251102T060000
END:STANDARD
END:VTIMEZONE
BEGIN:VEVENT
DTSTART;TZID=America/Halifax:20240502T093000
DTEND;TZID=America/Halifax:20240502T233000
DTSTAMP:20260424T225511
CREATED:20240221T203528Z
LAST-MODIFIED:20240221T215544Z
UID:10005219-1714642200-1714692600@christcovcincy.org
SUMMARY:Women's Bible Study
DESCRIPTION:We will be studying the book of Daniel\, chapters 7-12\, using the study guide by Beth Moore. This is a 6-session study that meets every other Thursday in the church office at 2192 Springdale Road from 9:30 am – 11:30 am. To sign up and order a workbook\, contact Wendy at wdetroy@fuse.net.  You do not need to have participated our previous study over Daniel 1-6 to join us for this study.
URL:https://christcovcincy.org/event/womens-bible-study-9/2024-05-02/
LOCATION:Chapel @ Christ Covenant Church Office\, 2192 Springdale Rd\, Cincinnati\, OH\, 45231
CATEGORIES:Women's Discipleship
ATTACH;FMTTYPE=image/jpeg:https://christcovcincy.org/wp-content/uploads/2023/03/WomensBibleStudy.jpg
END:VEVENT
BEGIN:VEVENT
DTSTART;TZID=UTC:20240502T173000
DTEND;TZID=UTC:20240502T183000
DTSTAMP:20260424T225511
CREATED:20220714T195703Z
LAST-MODIFIED:20250828T182812Z
UID:10006157-1714671000-1714674600@christcovcincy.org
SUMMARY:Weekly Prayer Group
DESCRIPTION:WEEKLY PRAYER GROUP: This ongoing prayer group that meets via Zoom every Thursday evening from 5:30-6:30 p.m. Contact Ruth Cload for the Zoom link.
URL:https://christcovcincy.org/event/weekly-prayer-group/2024-05-02/
ATTACH;FMTTYPE=image/jpeg:https://christcovcincy.org/wp-content/uploads/2023/03/ZoomPrayerMeeting.jpg
END:VEVENT
BEGIN:VEVENT
DTSTART;TZID=America/Halifax:20240502T183000
DTEND;TZID=America/Halifax:20240502T210000
DTSTAMP:20260424T225511
CREATED:20230810T203700Z
LAST-MODIFIED:20240605T190840Z
UID:10005056-1714674600-1714683600@christcovcincy.org
SUMMARY:Choir Rehearsal
DESCRIPTION:Join us in the sanctuary to prepare for leading worship\, usually every 4-6 weeks and on special dates.
URL:https://christcovcincy.org/event/choir-rehearsal-6/2024-05-02/
LOCATION:Christ Covenant Church\, 2191 Struble Rd\, Cincinnati\, 45231\, United States
ATTACH;FMTTYPE=image/jpeg:https://christcovcincy.org/wp-content/uploads/2023/03/ChancelChoirforWeb.jpg
END:VEVENT
BEGIN:VEVENT
DTSTART;TZID=America/Halifax:20240503T160000
DTEND;TZID=America/Halifax:20240503T220000
DTSTAMP:20260424T225511
CREATED:20230802T173114Z
LAST-MODIFIED:20230802T173114Z
UID:10005026-1714752000-1714773600@christcovcincy.org
SUMMARY:Private Event
DESCRIPTION:CAFE Fine Arts Night
URL:https://christcovcincy.org/event/private-event-40/
LOCATION:Christ Covenant Church\, 2191 Struble Rd\, Cincinnati\, 45231\, United States
ATTACH;FMTTYPE=image/jpeg:https://christcovcincy.org/wp-content/uploads/2023/06/privateeventcalendar.jpg
END:VEVENT
BEGIN:VEVENT
DTSTART;TZID=America/Halifax:20240505T091500
DTEND;TZID=America/Halifax:20240505T101500
DTSTAMP:20260424T225511
CREATED:20240321T184231Z
LAST-MODIFIED:20240418T023600Z
UID:10005272-1714900500-1714904100@christcovcincy.org
SUMMARY:Gospel Centered Parenting class
DESCRIPTION:A Sunday School class for parents of children from birth to young adult to equip you to talk to your kids about today’s cultural issues from a gospel point of view. Join us in the modular during Sunday School beginning April 7. This six-week class is designed to facilitate discussion based on the book and videos published by Lifeway called Christ-Centered Parenting – Gospel Conversations on Complex Cultural Issues. See David Rudolph or Tina Miller for information and to receive a copy of the book.
URL:https://christcovcincy.org/event/gospel-centered-parenting-class/2024-05-05/
CATEGORIES:Children's Ministry,Men's Discipleship,Women's Discipleship,Youth Ministry
ATTACH;FMTTYPE=image/jpeg:https://christcovcincy.org/wp-content/uploads/2024/04/Christcenteredparenting.jpg
END:VEVENT
BEGIN:VEVENT
DTSTART;TZID=America/Halifax:20240505T091500
DTEND;TZID=America/Halifax:20240505T221500
DTSTAMP:20260424T225511
CREATED:20240321T183212Z
LAST-MODIFIED:20240321T184601Z
UID:10005278-1714900500-1714947300@christcovcincy.org
SUMMARY:Sunday School
DESCRIPTION:ADULT SUNDAY SCHOOL SERIES – From Streams to Rivers to the Ocean: Finding Bible themes and tracing them from Genesis to Revelation as they grow in clarity and applying them to our lives. One or two Bible themes will be traced each week with a one or two-page handout. Dave Yeiser will teach this 8-week series beginning April 7. \nFOR CHILDREN & YOUTH: \nNursery Care is available for ages 3 and under. \nChildren’s classes for Preschool (ages 4-5) in Room 105\, for grades 1 & 2 in Room 102\, for grades 3 & 4 in Room 104\, for grades 5 & 6 in Room 108. \nJunior High class for grades 7 & 8 in Room 106. \nHigh School class for grades 9 & 10 in the modular building. \nAdult Sunday School for HS grades 11 & 12 and adults in Fellowship Hall.
URL:https://christcovcincy.org/event/sunday-school/2024-05-05/
LOCATION:Christ Covenant Church\, 2191 Struble Rd\, Cincinnati\, 45231\, United States
ATTACH;FMTTYPE=image/jpeg:https://christcovcincy.org/wp-content/uploads/2023/01/SundaySchoolGeneral.jpg
END:VEVENT
BEGIN:VEVENT
DTSTART;TZID=UTC:20240505T103000
DTEND;TZID=UTC:20240505T233000
DTSTAMP:20260424T225511
CREATED:20220714T235224Z
LAST-MODIFIED:20260327T170225Z
UID:10004184-1714905000-1714951800@christcovcincy.org
SUMMARY:Sunday Service @ 10:30am
DESCRIPTION:Join us for Worship! 10:30 am
URL:https://christcovcincy.org/event/sunday-service-1030am/2024-05-05/
LOCATION:Christ Covenant Church\, 2191 Struble Rd\, Cincinnati\, 45231\, United States
ATTACH;FMTTYPE=image/jpeg:https://christcovcincy.org/wp-content/uploads/2023/02/SundayService.jpg
END:VEVENT
BEGIN:VEVENT
DTSTART;TZID=America/Halifax:20240505T120000
DTEND;TZID=America/Halifax:20240505T130000
DTSTAMP:20260424T225511
CREATED:20240503T230426Z
LAST-MODIFIED:20240503T230426Z
UID:10005404-1714910400-1714914000@christcovcincy.org
SUMMARY:Missions Committee Meeting
DESCRIPTION:
URL:https://christcovcincy.org/event/missions-committee-meeting-2/
LOCATION:Church Fellowship Hall
ATTACH;FMTTYPE=image/jpeg:https://christcovcincy.org/wp-content/uploads/2023/05/missionscommittee.jpg
END:VEVENT
BEGIN:VEVENT
DTSTART;TZID=America/Halifax:20240505T120000
DTEND;TZID=America/Halifax:20240505T133000
DTSTAMP:20260424T225511
CREATED:20240425T200009Z
LAST-MODIFIED:20240425T200009Z
UID:10005330-1714910400-1714915800@christcovcincy.org
SUMMARY:Private Event
DESCRIPTION:luncheon
URL:https://christcovcincy.org/event/private-event-62/
LOCATION:Christ Covenant Church Office\, 2192 Springdale Road\, Cincinnati\, OH\, 45231
CATEGORIES:private event
ATTACH;FMTTYPE=image/jpeg:https://christcovcincy.org/wp-content/uploads/2023/06/privateeventcalendar.jpg
END:VEVENT
BEGIN:VEVENT
DTSTART;TZID=America/Halifax:20240507T100000
DTEND;TZID=America/Halifax:20240507T110000
DTSTAMP:20260424T225511
CREATED:20240221T202352Z
LAST-MODIFIED:20240221T202352Z
UID:10005209-1715076000-1715079600@christcovcincy.org
SUMMARY:Women's Bible Study
DESCRIPTION:Behold & Believe\, a 7-week study of Jesus’ I AM statements from the gospel of John
URL:https://christcovcincy.org/event/womens-bible-study-8/2024-05-07/
LOCATION:Chapel @ Christ Covenant Church Office\, 2192 Springdale Rd\, Cincinnati\, OH\, 45231
CATEGORIES:Women's Discipleship
ATTACH;FMTTYPE=image/jpeg:https://christcovcincy.org/wp-content/uploads/2023/10/WomensBibleStudy2.jpg
END:VEVENT
BEGIN:VEVENT
DTSTART;TZID=America/New_York:20240507T120000
DTEND;TZID=America/New_York:20240507T170000
DTSTAMP:20260424T225511
CREATED:20230412T183605Z
LAST-MODIFIED:20240516T203704Z
UID:10004548-1715083200-1715101200@christcovcincy.org
SUMMARY:Private Event
DESCRIPTION:Boerner/Langdon Speech & Debate Class
URL:https://christcovcincy.org/event/private-event-26/2024-05-07/
LOCATION:Church Fellowship Hall
ATTACH;FMTTYPE=image/png:https://christcovcincy.org/wp-content/uploads/2023/03/Private-Eventwebcalendar.png
END:VEVENT
BEGIN:VEVENT
DTSTART;TZID=America/Halifax:20240508T090000
DTEND;TZID=America/Halifax:20240508T130000
DTSTAMP:20260424T225511
CREATED:20240425T155926Z
LAST-MODIFIED:20240425T155926Z
UID:10005323-1715158800-1715173200@christcovcincy.org
SUMMARY:Private Event
DESCRIPTION:CAFE Coop End-of-Year Clean and Work Day
URL:https://christcovcincy.org/event/private-event-57/
LOCATION:Christ Covenant Church\, 2191 Struble Rd\, Cincinnati\, 45231\, United States
ATTACH;FMTTYPE=image/jpeg:https://christcovcincy.org/wp-content/uploads/2023/06/privateeventcalendar.jpg
END:VEVENT
BEGIN:VEVENT
DTSTART;TZID=UTC:20240509T173000
DTEND;TZID=UTC:20240509T183000
DTSTAMP:20260424T225511
CREATED:20220714T195703Z
LAST-MODIFIED:20250828T182812Z
UID:10006158-1715275800-1715279400@christcovcincy.org
SUMMARY:Weekly Prayer Group
DESCRIPTION:WEEKLY PRAYER GROUP: This ongoing prayer group that meets via Zoom every Thursday evening from 5:30-6:30 p.m. Contact Ruth Cload for the Zoom link.
URL:https://christcovcincy.org/event/weekly-prayer-group/2024-05-09/
ATTACH;FMTTYPE=image/jpeg:https://christcovcincy.org/wp-content/uploads/2023/03/ZoomPrayerMeeting.jpg
END:VEVENT
BEGIN:VEVENT
DTSTART;TZID=America/Halifax:20240509T183000
DTEND;TZID=America/Halifax:20240509T210000
DTSTAMP:20260424T225511
CREATED:20230810T203700Z
LAST-MODIFIED:20240605T190840Z
UID:10005057-1715279400-1715288400@christcovcincy.org
SUMMARY:Choir Rehearsal
DESCRIPTION:Join us in the sanctuary to prepare for leading worship\, usually every 4-6 weeks and on special dates.
URL:https://christcovcincy.org/event/choir-rehearsal-6/2024-05-09/
LOCATION:Christ Covenant Church\, 2191 Struble Rd\, Cincinnati\, 45231\, United States
ATTACH;FMTTYPE=image/jpeg:https://christcovcincy.org/wp-content/uploads/2023/03/ChancelChoirforWeb.jpg
END:VEVENT
BEGIN:VEVENT
DTSTART;TZID=America/Halifax:20240510T100000
DTEND;TZID=America/Halifax:20240510T130000
DTSTAMP:20260424T225511
CREATED:20231229T202053Z
LAST-MODIFIED:20240503T202055Z
UID:10005184-1715335200-1715346000@christcovcincy.org
SUMMARY:Silver Heirs - CANCELLED
DESCRIPTION:We will not meet this month. Plan to join us on June 14!
URL:https://christcovcincy.org/event/silver-heirs-3-2024-05-10/
LOCATION:Church Fellowship Hall
ATTACH;FMTTYPE=image/jpeg:https://christcovcincy.org/wp-content/uploads/2023/01/SilverHeirs-1.jpg
END:VEVENT
BEGIN:VEVENT
DTSTART;TZID=America/Halifax:20240510T183000
DTEND;TZID=America/Halifax:20240510T203000
DTSTAMP:20260424T225511
CREATED:20240306T193629Z
LAST-MODIFIED:20240306T193629Z
UID:10005251-1715365800-1715373000@christcovcincy.org
SUMMARY:Private Event
DESCRIPTION:Karate practice (Katas)
URL:https://christcovcincy.org/event/private-event-54/2024-05-10/
LOCATION:Church Fellowship Hall
ATTACH;FMTTYPE=image/jpeg:https://christcovcincy.org/wp-content/uploads/2023/06/privateeventcalendar.jpg
END:VEVENT
BEGIN:VEVENT
DTSTART;TZID=America/Halifax:20240510T190000
DTEND;TZID=America/Halifax:20240510T213000
DTSTAMP:20260424T225511
CREATED:20230927T184244Z
LAST-MODIFIED:20240327T174502Z
UID:10005134-1715367600-1715376600@christcovcincy.org
SUMMARY:Women's Game Night
DESCRIPTION:Let’s get together for fun and games! We will gather at Linda Young’s home in Finneytown from 7:00-9:30 pm. Come to enjoy conversation and games! Bring a snack to share if you wish. For more information\, contact Colleen Grogan at colleeng@christcovcincy.org.
URL:https://christcovcincy.org/event/womens-game-night/2024-05-10/
ATTACH;FMTTYPE=image/jpeg:https://christcovcincy.org/wp-content/uploads/2023/01/WomensFellowshipNight.jpg
END:VEVENT
BEGIN:VEVENT
DTSTART;TZID=America/Halifax:20240511T110000
DTEND;TZID=America/Halifax:20240511T140000
DTSTAMP:20260424T225511
CREATED:20231122T205254Z
LAST-MODIFIED:20240228T180552Z
UID:10005162-1715425200-1715436000@christcovcincy.org
SUMMARY:Private Event
DESCRIPTION:Karate Practice (Katas)
URL:https://christcovcincy.org/event/private-event-48/2024-05-11/
LOCATION:Church Fellowship Hall
ATTACH;FMTTYPE=image/jpeg:https://christcovcincy.org/wp-content/uploads/2023/06/privateeventcalendar.jpg
END:VEVENT
BEGIN:VEVENT
DTSTART;TZID=America/Halifax:20240512T091500
DTEND;TZID=America/Halifax:20240512T101500
DTSTAMP:20260424T225511
CREATED:20240321T184231Z
LAST-MODIFIED:20240418T023600Z
UID:10005273-1715505300-1715508900@christcovcincy.org
SUMMARY:Gospel Centered Parenting class
DESCRIPTION:A Sunday School class for parents of children from birth to young adult to equip you to talk to your kids about today’s cultural issues from a gospel point of view. Join us in the modular during Sunday School beginning April 7. This six-week class is designed to facilitate discussion based on the book and videos published by Lifeway called Christ-Centered Parenting – Gospel Conversations on Complex Cultural Issues. See David Rudolph or Tina Miller for information and to receive a copy of the book.
URL:https://christcovcincy.org/event/gospel-centered-parenting-class/2024-05-12/
CATEGORIES:Children's Ministry,Men's Discipleship,Women's Discipleship,Youth Ministry
ATTACH;FMTTYPE=image/jpeg:https://christcovcincy.org/wp-content/uploads/2024/04/Christcenteredparenting.jpg
END:VEVENT
BEGIN:VEVENT
DTSTART;TZID=America/Halifax:20240512T091500
DTEND;TZID=America/Halifax:20240512T221500
DTSTAMP:20260424T225511
CREATED:20240321T183212Z
LAST-MODIFIED:20240321T184601Z
UID:10005279-1715505300-1715552100@christcovcincy.org
SUMMARY:Sunday School
DESCRIPTION:ADULT SUNDAY SCHOOL SERIES – From Streams to Rivers to the Ocean: Finding Bible themes and tracing them from Genesis to Revelation as they grow in clarity and applying them to our lives. One or two Bible themes will be traced each week with a one or two-page handout. Dave Yeiser will teach this 8-week series beginning April 7. \nFOR CHILDREN & YOUTH: \nNursery Care is available for ages 3 and under. \nChildren’s classes for Preschool (ages 4-5) in Room 105\, for grades 1 & 2 in Room 102\, for grades 3 & 4 in Room 104\, for grades 5 & 6 in Room 108. \nJunior High class for grades 7 & 8 in Room 106. \nHigh School class for grades 9 & 10 in the modular building. \nAdult Sunday School for HS grades 11 & 12 and adults in Fellowship Hall.
URL:https://christcovcincy.org/event/sunday-school/2024-05-12/
LOCATION:Christ Covenant Church\, 2191 Struble Rd\, Cincinnati\, 45231\, United States
ATTACH;FMTTYPE=image/jpeg:https://christcovcincy.org/wp-content/uploads/2023/01/SundaySchoolGeneral.jpg
END:VEVENT
BEGIN:VEVENT
DTSTART;TZID=UTC:20240512T103000
DTEND;TZID=UTC:20240512T233000
DTSTAMP:20260424T225511
CREATED:20220714T235224Z
LAST-MODIFIED:20260327T170225Z
UID:10004185-1715509800-1715556600@christcovcincy.org
SUMMARY:Sunday Service @ 10:30am
DESCRIPTION:Join us for Worship! 10:30 am
URL:https://christcovcincy.org/event/sunday-service-1030am/2024-05-12/
LOCATION:Christ Covenant Church\, 2191 Struble Rd\, Cincinnati\, 45231\, United States
ATTACH;FMTTYPE=image/jpeg:https://christcovcincy.org/wp-content/uploads/2023/02/SundayService.jpg
END:VEVENT
BEGIN:VEVENT
DTSTART;TZID=America/Halifax:20240513T180000
DTEND;TZID=America/Halifax:20240513T203000
DTSTAMP:20260424T225511
CREATED:20240502T134442Z
LAST-MODIFIED:20240822T150733Z
UID:10005331-1715623200-1715632200@christcovcincy.org
SUMMARY:Music on the Move
DESCRIPTION:Music on the Move: We are taking worship\, fellowship and praise to our people! If you would like to join us\, meet at the church office by 5:50 p.m. Come with us as we bless our homebound friends and others. See the church Event Calendar for remaining Mondays.  For more information or to sign up\, see Judy Langdon\, Sue Brown\, or Steve Aldredge. All are welcome!
URL:https://christcovcincy.org/event/music-on-the-move/2024-05-13/
CATEGORIES:fellowships
ATTACH;FMTTYPE=image/jpeg:https://christcovcincy.org/wp-content/uploads/2024/05/MusicontheMovecalendar.jpg
END:VEVENT
BEGIN:VEVENT
DTSTART;TZID=UTC:20240513T190000
DTEND;TZID=UTC:20240513T210000
DTSTAMP:20260424T225511
CREATED:20221122T221642Z
LAST-MODIFIED:20250521T182505Z
UID:10004612-1715626800-1715634000@christcovcincy.org
SUMMARY:Session Meeting
DESCRIPTION:
URL:https://christcovcincy.org/event/session-meeting-2/2024-05-13/
LOCATION:Chapel @ Christ Covenant Church Office\, 2192 Springdale Rd\, Cincinnati\, OH\, 45231
ATTACH;FMTTYPE=image/png:https://christcovcincy.org/wp-content/uploads/2022/07/Board-Meeting.png
END:VEVENT
BEGIN:VEVENT
DTSTART;TZID=America/Halifax:20240514T100000
DTEND;TZID=America/Halifax:20240514T110000
DTSTAMP:20260424T225511
CREATED:20240221T202352Z
LAST-MODIFIED:20240221T202352Z
UID:10005210-1715680800-1715684400@christcovcincy.org
SUMMARY:Women's Bible Study
DESCRIPTION:Behold & Believe\, a 7-week study of Jesus’ I AM statements from the gospel of John
URL:https://christcovcincy.org/event/womens-bible-study-8/2024-05-14/
LOCATION:Chapel @ Christ Covenant Church Office\, 2192 Springdale Rd\, Cincinnati\, OH\, 45231
CATEGORIES:Women's Discipleship
ATTACH;FMTTYPE=image/jpeg:https://christcovcincy.org/wp-content/uploads/2023/10/WomensBibleStudy2.jpg
END:VEVENT
BEGIN:VEVENT
DTSTART;TZID=America/Halifax:20240514T203000
DTEND;TZID=America/Halifax:20240514T230000
DTSTAMP:20260424T225511
CREATED:20240503T202921Z
LAST-MODIFIED:20250925T184031Z
UID:10005359-1715718600-1715727600@christcovcincy.org
SUMMARY:ManCave
DESCRIPTION:Men (high school age and older) are encouraged to come join in this time of fellowship and study of Proverbs.
URL:https://christcovcincy.org/event/mancave-2/2024-05-14/
LOCATION:Church Fire Pit\, 2192 Springdale Road\, Cincinnati\, OH\, 45231
CATEGORIES:Men's Discipleship
ATTACH;FMTTYPE=image/jpeg:https://christcovcincy.org/wp-content/uploads/2022/10/Mancave-1.jpg
END:VEVENT
BEGIN:VEVENT
DTSTART;TZID=America/Halifax:20240515T100000
DTEND;TZID=America/Halifax:20240515T110000
DTSTAMP:20260424T225511
CREATED:20240515T133513Z
LAST-MODIFIED:20240515T133513Z
UID:10005406-1715767200-1715770800@christcovcincy.org
SUMMARY:Private Event
DESCRIPTION:Steve Aldredge working in office/online for meetings & advising
URL:https://christcovcincy.org/event/private-event-64/
LOCATION:Chapel @ Christ Covenant Church Office\, 2192 Springdale Rd\, Cincinnati\, OH\, 45231
CATEGORIES:private event
ATTACH;FMTTYPE=image/jpeg:https://christcovcincy.org/wp-content/uploads/2023/06/privateeventcalendar.jpg
END:VEVENT
BEGIN:VEVENT
DTSTART;TZID=America/Halifax:20240516T093000
DTEND;TZID=America/Halifax:20240516T233000
DTSTAMP:20260424T225511
CREATED:20240221T203528Z
LAST-MODIFIED:20240221T215544Z
UID:10005220-1715851800-1715902200@christcovcincy.org
SUMMARY:Women's Bible Study
DESCRIPTION:We will be studying the book of Daniel\, chapters 7-12\, using the study guide by Beth Moore. This is a 6-session study that meets every other Thursday in the church office at 2192 Springdale Road from 9:30 am – 11:30 am. To sign up and order a workbook\, contact Wendy at wdetroy@fuse.net.  You do not need to have participated our previous study over Daniel 1-6 to join us for this study.
URL:https://christcovcincy.org/event/womens-bible-study-9/2024-05-16/
LOCATION:Chapel @ Christ Covenant Church Office\, 2192 Springdale Rd\, Cincinnati\, OH\, 45231
CATEGORIES:Women's Discipleship
ATTACH;FMTTYPE=image/jpeg:https://christcovcincy.org/wp-content/uploads/2023/03/WomensBibleStudy.jpg
END:VEVENT
BEGIN:VEVENT
DTSTART;TZID=UTC:20240516T173000
DTEND;TZID=UTC:20240516T183000
DTSTAMP:20260424T225511
CREATED:20220714T195703Z
LAST-MODIFIED:20250828T182812Z
UID:10006159-1715880600-1715884200@christcovcincy.org
SUMMARY:Weekly Prayer Group
DESCRIPTION:WEEKLY PRAYER GROUP: This ongoing prayer group that meets via Zoom every Thursday evening from 5:30-6:30 p.m. Contact Ruth Cload for the Zoom link.
URL:https://christcovcincy.org/event/weekly-prayer-group/2024-05-16/
ATTACH;FMTTYPE=image/jpeg:https://christcovcincy.org/wp-content/uploads/2023/03/ZoomPrayerMeeting.jpg
END:VEVENT
BEGIN:VEVENT
DTSTART;TZID=America/Halifax:20240516T183000
DTEND;TZID=America/Halifax:20240516T210000
DTSTAMP:20260424T225511
CREATED:20230810T203700Z
LAST-MODIFIED:20240605T190840Z
UID:10005058-1715884200-1715893200@christcovcincy.org
SUMMARY:Choir Rehearsal
DESCRIPTION:Join us in the sanctuary to prepare for leading worship\, usually every 4-6 weeks and on special dates.
URL:https://christcovcincy.org/event/choir-rehearsal-6/2024-05-16/
LOCATION:Christ Covenant Church\, 2191 Struble Rd\, Cincinnati\, 45231\, United States
ATTACH;FMTTYPE=image/jpeg:https://christcovcincy.org/wp-content/uploads/2023/03/ChancelChoirforWeb.jpg
END:VEVENT
BEGIN:VEVENT
DTSTART;TZID=America/Halifax:20240517T160000
DTEND;TZID=America/Halifax:20240518T170000
DTSTAMP:20260424T225511
CREATED:20240425T161906Z
LAST-MODIFIED:20240425T161906Z
UID:10005324-1715961600-1716051600@christcovcincy.org
SUMMARY:Private Event
DESCRIPTION:Trail Life OH-0013 Campout
URL:https://christcovcincy.org/event/private-event-58/
LOCATION:Christ Covenant picnic and office complex\, 2192 Springdale Rd.\, Cincinnati\, OH\, 45231\, United States
ATTACH;FMTTYPE=image/jpeg:https://christcovcincy.org/wp-content/uploads/2023/06/privateeventcalendar.jpg
END:VEVENT
END:VCALENDAR