BEGIN:VCALENDAR
VERSION:2.0
PRODID:-//Christ Covenant Church - ECPv6.15.20//NONSGML v1.0//EN
CALSCALE:GREGORIAN
METHOD:PUBLISH
X-WR-CALNAME:Christ Covenant Church
X-ORIGINAL-URL:https://christcovcincy.org
X-WR-CALDESC:Events for Christ Covenant Church
REFRESH-INTERVAL;VALUE=DURATION:PT1H
X-Robots-Tag:noindex
X-PUBLISHED-TTL:PT1H
BEGIN:VTIMEZONE
TZID:UTC
BEGIN:STANDARD
TZOFFSETFROM:+0000
TZOFFSETTO:+0000
TZNAME:UTC
DTSTART:20230101T000000
END:STANDARD
END:VTIMEZONE
BEGIN:VTIMEZONE
TZID:America/Halifax
BEGIN:DAYLIGHT
TZOFFSETFROM:-0400
TZOFFSETTO:-0300
TZNAME:ADT
DTSTART:20230312T060000
END:DAYLIGHT
BEGIN:STANDARD
TZOFFSETFROM:-0300
TZOFFSETTO:-0400
TZNAME:AST
DTSTART:20231105T050000
END:STANDARD
BEGIN:DAYLIGHT
TZOFFSETFROM:-0400
TZOFFSETTO:-0300
TZNAME:ADT
DTSTART:20240310T060000
END:DAYLIGHT
BEGIN:STANDARD
TZOFFSETFROM:-0300
TZOFFSETTO:-0400
TZNAME:AST
DTSTART:20241103T050000
END:STANDARD
BEGIN:DAYLIGHT
TZOFFSETFROM:-0400
TZOFFSETTO:-0300
TZNAME:ADT
DTSTART:20250309T060000
END:DAYLIGHT
BEGIN:STANDARD
TZOFFSETFROM:-0300
TZOFFSETTO:-0400
TZNAME:AST
DTSTART:20251102T050000
END:STANDARD
END:VTIMEZONE
BEGIN:VEVENT
DTSTART;TZID=UTC:20240801T173000
DTEND;TZID=UTC:20240801T183000
DTSTAMP:20260424T164458
CREATED:20220714T195703Z
LAST-MODIFIED:20250828T182812Z
UID:10006170-1722533400-1722537000@christcovcincy.org
SUMMARY:Weekly Prayer Group
DESCRIPTION:WEEKLY PRAYER GROUP: This ongoing prayer group that meets via Zoom every Thursday evening from 5:30-6:30 p.m. Contact Ruth Cload for the Zoom link.
URL:https://christcovcincy.org/event/weekly-prayer-group/2024-08-01/
ATTACH;FMTTYPE=image/jpeg:https://christcovcincy.org/wp-content/uploads/2023/03/ZoomPrayerMeeting.jpg
END:VEVENT
BEGIN:VEVENT
DTSTART;VALUE=DATE:20240803
DTEND;VALUE=DATE:20240810
DTSTAMP:20260424T164458
CREATED:20240404T143851Z
LAST-MODIFIED:20240404T143851Z
UID:10005288-1722643200-1723247999@christcovcincy.org
SUMMARY:Family Camp @ Cedar Bay\, MI
DESCRIPTION:JOIN US for a week of Family Fun & Fellowship at beautiful Cedar Bay in the Upper Peninsula of Michigan on the shores of Prentiss Bay (Lake Huron).  To find out more\, visit the church website under MINISTRIES\, talk with David or Mary Rudolph\, or contact David at drudolph@christcovcincy.org.
URL:https://christcovcincy.org/event/family-camp-cedar-bay-mi-2/
ATTACH;FMTTYPE=image/jpeg:https://christcovcincy.org/wp-content/uploads/2023/04/cedarfamilycamp.jpg
END:VEVENT
BEGIN:VEVENT
DTSTART;TZID=UTC:20240804T103000
DTEND;TZID=UTC:20240804T233000
DTSTAMP:20260424T164458
CREATED:20220714T235224Z
LAST-MODIFIED:20260327T170225Z
UID:10004197-1722767400-1722814200@christcovcincy.org
SUMMARY:Sunday Service @ 10:30am
DESCRIPTION:Join us for Worship! 10:30 am
URL:https://christcovcincy.org/event/sunday-service-1030am/2024-08-04/
LOCATION:Christ Covenant Church\, 2191 Struble Rd\, Cincinnati\, 45231\, United States
ATTACH;FMTTYPE=image/jpeg:https://christcovcincy.org/wp-content/uploads/2023/02/SundayService.jpg
END:VEVENT
BEGIN:VEVENT
DTSTART;TZID=America/Halifax:20240806T183000
DTEND;TZID=America/Halifax:20240806T200000
DTSTAMP:20260424T164458
CREATED:20240306T203214Z
LAST-MODIFIED:20240828T153920Z
UID:10004998-1722969000-1722974400@christcovcincy.org
SUMMARY:Volleyball
DESCRIPTION:
URL:https://christcovcincy.org/event/volleyball/2024-08-06/
LOCATION:Christ Covenant picnic and office complex\, 2192 Springdale Rd.\, Cincinnati\, OH\, 45231\, United States
ATTACH;FMTTYPE=image/jpeg:https://christcovcincy.org/wp-content/uploads/2023/05/volley.jpg
END:VEVENT
BEGIN:VEVENT
DTSTART;TZID=UTC:20240808T173000
DTEND;TZID=UTC:20240808T183000
DTSTAMP:20260424T164458
CREATED:20220714T195703Z
LAST-MODIFIED:20250828T182812Z
UID:10006171-1723138200-1723141800@christcovcincy.org
SUMMARY:Weekly Prayer Group
DESCRIPTION:WEEKLY PRAYER GROUP: This ongoing prayer group that meets via Zoom every Thursday evening from 5:30-6:30 p.m. Contact Ruth Cload for the Zoom link.
URL:https://christcovcincy.org/event/weekly-prayer-group/2024-08-08/
ATTACH;FMTTYPE=image/jpeg:https://christcovcincy.org/wp-content/uploads/2023/03/ZoomPrayerMeeting.jpg
END:VEVENT
BEGIN:VEVENT
DTSTART;TZID=America/Halifax:20240809T160000
DTEND;TZID=America/Halifax:20240809T180000
DTSTAMP:20260424T164458
CREATED:20240613T141638Z
LAST-MODIFIED:20240613T141638Z
UID:10005139-1723219200-1723226400@christcovcincy.org
SUMMARY:Private Event
DESCRIPTION:S (Rainous) Shelley – set up for baby shower
URL:https://christcovcincy.org/event/private-event-79/
LOCATION:Christ Covenant Church Office\, 2192 Springdale Road\, Cincinnati\, OH\, 45231
CATEGORIES:private event
ATTACH;FMTTYPE=image/jpeg:https://christcovcincy.org/wp-content/uploads/2023/06/privateeventcalendar.jpg
END:VEVENT
BEGIN:VEVENT
DTSTART;TZID=America/Halifax:20240810T080000
DTEND;TZID=America/Halifax:20240810T140000
DTSTAMP:20260424T164458
CREATED:20240613T141456Z
LAST-MODIFIED:20240613T141456Z
UID:10005135-1723276800-1723298400@christcovcincy.org
SUMMARY:Private Event
DESCRIPTION:S (Rainous) Shelley baby shower – morning preparations begin at 8am\, shower begins at 10am
URL:https://christcovcincy.org/event/private-event-78/
LOCATION:Christ Covenant Church Office\, 2192 Springdale Road\, Cincinnati\, OH\, 45231
CATEGORIES:private event
ATTACH;FMTTYPE=image/jpeg:https://christcovcincy.org/wp-content/uploads/2023/06/privateeventcalendar.jpg
END:VEVENT
BEGIN:VEVENT
DTSTART;TZID=America/Halifax:20240810T140000
DTEND;TZID=America/Halifax:20240810T210000
DTSTAMP:20260424T164458
CREATED:20240724T181710Z
LAST-MODIFIED:20240724T184406Z
UID:10005441-1723298400-1723323600@christcovcincy.org
SUMMARY:Private Event
DESCRIPTION:Rainous Family birthday party/picnic/pool time
URL:https://christcovcincy.org/event/private-event-83/
LOCATION:Christ Covenant picnic and office complex\, 2192 Springdale Rd.\, Cincinnati\, OH\, 45231\, United States
CATEGORIES:private event
ATTACH;FMTTYPE=image/jpeg:https://christcovcincy.org/wp-content/uploads/2023/06/privateeventcalendar.jpg
END:VEVENT
BEGIN:VEVENT
DTSTART;TZID=UTC:20240811T103000
DTEND;TZID=UTC:20240811T233000
DTSTAMP:20260424T164458
CREATED:20220714T235224Z
LAST-MODIFIED:20260327T170225Z
UID:10004198-1723372200-1723419000@christcovcincy.org
SUMMARY:Sunday Service @ 10:30am
DESCRIPTION:Join us for Worship! 10:30 am
URL:https://christcovcincy.org/event/sunday-service-1030am/2024-08-11/
LOCATION:Christ Covenant Church\, 2191 Struble Rd\, Cincinnati\, 45231\, United States
ATTACH;FMTTYPE=image/jpeg:https://christcovcincy.org/wp-content/uploads/2023/02/SundayService.jpg
END:VEVENT
BEGIN:VEVENT
DTSTART;TZID=America/Halifax:20240811T123000
DTEND;TZID=America/Halifax:20240811T140000
DTSTAMP:20260424T164458
CREATED:20240502T134442Z
LAST-MODIFIED:20240807T145854Z
UID:10005341-1723379400-1723384800@christcovcincy.org
SUMMARY:Music on the Move
DESCRIPTION:SPECIAL Music on the Move: We are taking worship\, fellowship and praise to our people! If you would like to join us\, carpool from church following the worship service or meet us at Artis Senior Living of Bridgetown at 1  p.m. Come with us as we bless Sue Houston and her neighbors. For more information or to sign up\, see Judy Langdon\, Sue Brown\, or Steve Aldredge. All are welcome!
URL:https://christcovcincy.org/event/music-on-the-move-2024-08-12/
CATEGORIES:fellowships
ATTACH;FMTTYPE=image/jpeg:https://christcovcincy.org/wp-content/uploads/2024/05/MusicontheMovecalendar.jpg
END:VEVENT
BEGIN:VEVENT
DTSTART;TZID=America/Halifax:20240811T123000
DTEND;TZID=America/Halifax:20240811T160000
DTSTAMP:20260424T164458
CREATED:20240724T184239Z
LAST-MODIFIED:20240724T184239Z
UID:10005442-1723379400-1723392000@christcovcincy.org
SUMMARY:Private Event
DESCRIPTION:Miller family party
URL:https://christcovcincy.org/event/private-event-84/
LOCATION:Christ Covenant picnic and office complex\, 2192 Springdale Rd.\, Cincinnati\, OH\, 45231\, United States
CATEGORIES:private event
ATTACH;FMTTYPE=image/jpeg:https://christcovcincy.org/wp-content/uploads/2023/06/privateeventcalendar.jpg
END:VEVENT
BEGIN:VEVENT
DTSTART;TZID=America/Halifax:20240811T170000
DTEND;TZID=America/Halifax:20240811T200000
DTSTAMP:20260424T164458
CREATED:20240530T142704Z
LAST-MODIFIED:20240530T142704Z
UID:10005420-1723395600-1723406400@christcovcincy.org
SUMMARY:Youth Group
DESCRIPTION:
URL:https://christcovcincy.org/event/youth-group-6/2024-08-11/
CATEGORIES:Youth Ministry
ATTACH;FMTTYPE=image/jpeg:https://christcovcincy.org/wp-content/uploads/2023/05/YouthGroup.jpg
END:VEVENT
BEGIN:VEVENT
DTSTART;TZID=UTC:20240812T190000
DTEND;TZID=UTC:20240812T210000
DTSTAMP:20260424T164458
CREATED:20221122T221642Z
LAST-MODIFIED:20250521T182505Z
UID:10004615-1723489200-1723496400@christcovcincy.org
SUMMARY:Session Meeting
DESCRIPTION:
URL:https://christcovcincy.org/event/session-meeting-2/2024-08-12/
LOCATION:Chapel @ Christ Covenant Church Office\, 2192 Springdale Rd\, Cincinnati\, OH\, 45231
ATTACH;FMTTYPE=image/png:https://christcovcincy.org/wp-content/uploads/2022/07/Board-Meeting.png
END:VEVENT
BEGIN:VEVENT
DTSTART;TZID=America/Halifax:20240813T150000
DTEND;TZID=America/Halifax:20240813T170000
DTSTAMP:20260424T164458
CREATED:20240306T202623Z
LAST-MODIFIED:20240610T155758Z
UID:10004972-1723561200-1723568400@christcovcincy.org
SUMMARY:Family Swim Time
DESCRIPTION:
URL:https://christcovcincy.org/event/family-swim-time-4/2024-08-13/
LOCATION:Christ Covenant Church Office\, 2192 Springdale Road\, Cincinnati\, OH\, 45231
CATEGORIES:Children's Ministry,summer gatherings
ATTACH;FMTTYPE=image/jpeg:https://christcovcincy.org/wp-content/uploads/2023/05/Swim.jpg
END:VEVENT
BEGIN:VEVENT
DTSTART;TZID=America/Halifax:20240813T170000
DTEND;TZID=America/Halifax:20240813T184500
DTSTAMP:20260424T164458
CREATED:20240702T180836Z
LAST-MODIFIED:20240807T171620Z
UID:10005429-1723568400-1723574700@christcovcincy.org
SUMMARY:Family Fellowship & Cookout
DESCRIPTION:Join us for family fellowship & cookout after family swim time. Bring your own grilling items or main dish for your family and a side dish to share.
URL:https://christcovcincy.org/event/private-event-81/2024-08-13/
LOCATION:Christ Covenant picnic and office complex\, 2192 Springdale Rd.\, Cincinnati\, OH\, 45231\, United States
ATTACH;FMTTYPE=image/jpeg:https://christcovcincy.org/wp-content/uploads/2023/08/cookout.jpg
END:VEVENT
BEGIN:VEVENT
DTSTART;TZID=America/Halifax:20240813T183000
DTEND;TZID=America/Halifax:20240813T200000
DTSTAMP:20260424T164458
CREATED:20240306T203214Z
LAST-MODIFIED:20240828T153920Z
UID:10004999-1723573800-1723579200@christcovcincy.org
SUMMARY:Volleyball
DESCRIPTION:
URL:https://christcovcincy.org/event/volleyball/2024-08-13/
LOCATION:Christ Covenant picnic and office complex\, 2192 Springdale Rd.\, Cincinnati\, OH\, 45231\, United States
ATTACH;FMTTYPE=image/jpeg:https://christcovcincy.org/wp-content/uploads/2023/05/volley.jpg
END:VEVENT
BEGIN:VEVENT
DTSTART;TZID=America/Halifax:20240813T203000
DTEND;TZID=America/Halifax:20240813T230000
DTSTAMP:20260424T164458
CREATED:20240503T202921Z
LAST-MODIFIED:20250925T184031Z
UID:10005362-1723581000-1723590000@christcovcincy.org
SUMMARY:ManCave
DESCRIPTION:Men (high school age and older) are encouraged to come join in this time of fellowship and study of Proverbs.
URL:https://christcovcincy.org/event/mancave-2/2024-08-13/
LOCATION:Church Fire Pit\, 2192 Springdale Road\, Cincinnati\, OH\, 45231
CATEGORIES:Men's Discipleship
ATTACH;FMTTYPE=image/jpeg:https://christcovcincy.org/wp-content/uploads/2022/10/Mancave-1.jpg
END:VEVENT
BEGIN:VEVENT
DTSTART;TZID=UTC:20240815T173000
DTEND;TZID=UTC:20240815T183000
DTSTAMP:20260424T164458
CREATED:20220714T195703Z
LAST-MODIFIED:20250828T182812Z
UID:10006172-1723743000-1723746600@christcovcincy.org
SUMMARY:Weekly Prayer Group
DESCRIPTION:WEEKLY PRAYER GROUP: This ongoing prayer group that meets via Zoom every Thursday evening from 5:30-6:30 p.m. Contact Ruth Cload for the Zoom link.
URL:https://christcovcincy.org/event/weekly-prayer-group/2024-08-15/
ATTACH;FMTTYPE=image/jpeg:https://christcovcincy.org/wp-content/uploads/2023/03/ZoomPrayerMeeting.jpg
END:VEVENT
BEGIN:VEVENT
DTSTART;TZID=UTC:20240817T073000
DTEND;TZID=UTC:20240817T090000
DTSTAMP:20260424T164458
CREATED:20230216T230543Z
LAST-MODIFIED:20240821T192130Z
UID:10005064-1723879800-1723885200@christcovcincy.org
SUMMARY:Men's Bible Study
DESCRIPTION:Join the Men of Christ Covenant as they continue their study through the book of Romans.
URL:https://christcovcincy.org/event/mens-bible-study-2-2024-08-10/
LOCATION:Chapel @ Christ Covenant Church Office\, 2192 Springdale Rd\, Cincinnati\, OH\, 45231
CATEGORIES:Men's Discipleship
ATTACH;FMTTYPE=image/jpeg:https://christcovcincy.org/wp-content/uploads/2023/02/MensBibleStudy-copy.jpg
END:VEVENT
BEGIN:VEVENT
DTSTART;TZID=America/Halifax:20240817T080000
DTEND;TZID=America/Halifax:20240817T120000
DTSTAMP:20260424T164458
CREATED:20240801T181540Z
LAST-MODIFIED:20240801T200955Z
UID:10005449-1723881600-1723896000@christcovcincy.org
SUMMARY:Grief Share
DESCRIPTION:Our current session of Grief Share small group course runs from August 17 to November 16 (excluding August 31). This support group will be facilitated on Saturdays from 9-11 a.m. at our church in Room 106. It is permissible to join a group in progress. Our Grief Share groups are open to both church members and those in the community. If you know a neighbor or friend who might benefit from this ministry\, encourage them to check it out! For more information or to register now for the support group\, visit our Grief Share website. Questions? Email Ian Ferguson (iferguson@christcovcincy.org).
URL:https://christcovcincy.org/event/grief-share-3/2024-08-17/
LOCATION:Christ Covenant Church\, 2191 Struble Rd\, Cincinnati\, 45231\, United States
ATTACH;FMTTYPE=image/jpeg:https://christcovcincy.org/wp-content/uploads/2023/08/griefshare3.jpg
END:VEVENT
BEGIN:VEVENT
DTSTART;TZID=UTC:20240818T103000
DTEND;TZID=UTC:20240818T233000
DTSTAMP:20260424T164458
CREATED:20220714T235224Z
LAST-MODIFIED:20260327T170225Z
UID:10004199-1723977000-1724023800@christcovcincy.org
SUMMARY:Sunday Service @ 10:30am
DESCRIPTION:Join us for Worship! 10:30 am
URL:https://christcovcincy.org/event/sunday-service-1030am/2024-08-18/
LOCATION:Christ Covenant Church\, 2191 Struble Rd\, Cincinnati\, 45231\, United States
ATTACH;FMTTYPE=image/jpeg:https://christcovcincy.org/wp-content/uploads/2023/02/SundayService.jpg
END:VEVENT
BEGIN:VEVENT
DTSTART;TZID=America/Halifax:20240818T170000
DTEND;TZID=America/Halifax:20240818T200000
DTSTAMP:20260424T164458
CREATED:20240306T200024Z
LAST-MODIFIED:20240529T191641Z
UID:10004955-1724000400-1724011200@christcovcincy.org
SUMMARY:Sunday Night Fellowship
DESCRIPTION:On the Boardwalk \nStep right up and join the fun! Games\, popcorn\, snow cones\, prizes and more! Something for the kid in all of us. \nMain Course: hot dog bar (provided) / Bring 12 servings according to your last name – A-G: Dessert\, H-M: Chips\, N-Z: Sides
URL:https://christcovcincy.org/event/sunday-night-fellowship-2-2024-08-18/
LOCATION:Christ Covenant picnic and office complex\, 2192 Springdale Rd.\, Cincinnati\, OH\, 45231\, United States
CATEGORIES:Children's Ministry,fellowships,Youth Ministry
ATTACH;FMTTYPE=image/jpeg:https://christcovcincy.org/wp-content/uploads/2022/07/corina-rainer-9FDI-_E29fk-unsplash-scaled.jpg
END:VEVENT
BEGIN:VEVENT
DTSTART;TZID=America/Halifax:20240819T180000
DTEND;TZID=America/Halifax:20240819T203000
DTSTAMP:20260424T164458
CREATED:20240502T134442Z
LAST-MODIFIED:20240822T150733Z
UID:10005339-1724090400-1724099400@christcovcincy.org
SUMMARY:Music on the Move
DESCRIPTION:Music on the Move: We are taking worship\, fellowship and praise to our people! If you would like to join us\, meet at the church office by 5:50 p.m. Come with us as we bless our homebound friends and others. See the church Event Calendar for remaining Mondays.  For more information or to sign up\, see Judy Langdon\, Sue Brown\, or Steve Aldredge. All are welcome!
URL:https://christcovcincy.org/event/music-on-the-move/2024-08-19/
CATEGORIES:fellowships
ATTACH;FMTTYPE=image/jpeg:https://christcovcincy.org/wp-content/uploads/2024/05/MusicontheMovecalendar.jpg
END:VEVENT
BEGIN:VEVENT
DTSTART;TZID=UTC:20240819T190000
DTEND;TZID=UTC:20240819T210000
DTSTAMP:20260424T164458
CREATED:20221122T221840Z
LAST-MODIFIED:20251001T185731Z
UID:10004653-1724094000-1724101200@christcovcincy.org
SUMMARY:Trustee Meeting
DESCRIPTION:
URL:https://christcovcincy.org/event/trustees-meeting/2024-08-19/
LOCATION:Chapel @ Christ Covenant Church Office\, 2192 Springdale Rd\, Cincinnati\, OH\, 45231
ATTACH;FMTTYPE=image/png:https://christcovcincy.org/wp-content/uploads/2022/07/Board-Meeting.png
END:VEVENT
BEGIN:VEVENT
DTSTART;TZID=America/Halifax:20240820T091500
DTEND;TZID=America/Halifax:20240820T110000
DTSTAMP:20260424T164458
CREATED:20240822T202611Z
LAST-MODIFIED:20240828T164122Z
UID:10005514-1724145300-1724151600@christcovcincy.org
SUMMARY:Women's Bible Study
DESCRIPTION:In the Tuesday Bible studies this fall\, we will be studying the book of Romans. We meet on the 1st & 3rd Tuesday mornings from 9:15-11:00 am and in the evenings from 7:00 -8:45 pm at the church office (2192 Springdale Road). We will use the study guide In View of God’s Mercies by Courtney Doctor. You can attend either morning or evening\, since the study will be the same at each time.
URL:https://christcovcincy.org/event/womens-bible-study-12/2024-08-20/
LOCATION:Chapel @ Christ Covenant Church Office\, 2192 Springdale Rd\, Cincinnati\, OH\, 45231
CATEGORIES:Women's Discipleship
ATTACH;FMTTYPE=image/jpeg:https://christcovcincy.org/wp-content/uploads/2023/10/WomensBibleStudy2.jpg
ORGANIZER;CN="Colleen Grogan":MAILTO:colleeng@christcovcincy.org
END:VEVENT
BEGIN:VEVENT
DTSTART;TZID=America/Halifax:20240820T150000
DTEND;TZID=America/Halifax:20240820T170000
DTSTAMP:20260424T164458
CREATED:20240306T202623Z
LAST-MODIFIED:20240610T155758Z
UID:10004973-1724166000-1724173200@christcovcincy.org
SUMMARY:Family Swim Time
DESCRIPTION:
URL:https://christcovcincy.org/event/family-swim-time-4/2024-08-20/
LOCATION:Christ Covenant Church Office\, 2192 Springdale Road\, Cincinnati\, OH\, 45231
CATEGORIES:Children's Ministry,summer gatherings
ATTACH;FMTTYPE=image/jpeg:https://christcovcincy.org/wp-content/uploads/2023/05/Swim.jpg
END:VEVENT
BEGIN:VEVENT
DTSTART;TZID=America/Halifax:20240820T183000
DTEND;TZID=America/Halifax:20240820T200000
DTSTAMP:20260424T164458
CREATED:20240306T203214Z
LAST-MODIFIED:20240828T153920Z
UID:10005000-1724178600-1724184000@christcovcincy.org
SUMMARY:Volleyball
DESCRIPTION:
URL:https://christcovcincy.org/event/volleyball/2024-08-20/
LOCATION:Christ Covenant picnic and office complex\, 2192 Springdale Rd.\, Cincinnati\, OH\, 45231\, United States
ATTACH;FMTTYPE=image/jpeg:https://christcovcincy.org/wp-content/uploads/2023/05/volley.jpg
END:VEVENT
BEGIN:VEVENT
DTSTART;TZID=America/Halifax:20240820T190000
DTEND;TZID=America/Halifax:20240820T204500
DTSTAMP:20260424T164458
CREATED:20240822T203300Z
LAST-MODIFIED:20240828T163919Z
UID:10005522-1724180400-1724186700@christcovcincy.org
SUMMARY:Women's Bible Study
DESCRIPTION:In the Tuesday Bible studies this fall\, we will be studying the book of Romans. We meet on the 1st & 3rd Tuesday mornings from 9:15-11:00 am and in the evenings from 7:00 -8:45 pm at the church office (2192 Springdale Road). We will use the study guide In View of God’s Mercies by Courtney Doctor. You can attend either morning or evening\, since the study will be the same at each time.
URL:https://christcovcincy.org/event/womens-bible-study-13/2024-08-20/
LOCATION:Chapel @ Christ Covenant Church Office\, 2192 Springdale Rd\, Cincinnati\, OH\, 45231
CATEGORIES:Women's Discipleship
ATTACH;FMTTYPE=image/jpeg:https://christcovcincy.org/wp-content/uploads/2023/10/WomensBibleStudy2.jpg
END:VEVENT
BEGIN:VEVENT
DTSTART;TZID=America/Halifax:20240821T083000
DTEND;TZID=America/Halifax:20240821T180000
DTSTAMP:20260424T164458
CREATED:20240821T193756Z
LAST-MODIFIED:20240918T191711Z
UID:10005464-1724229000-1724263200@christcovcincy.org
SUMMARY:CAFE Coop
DESCRIPTION:
URL:https://christcovcincy.org/event/cafe-coop-3/2024-08-21/
LOCATION:Christ Covenant Church\, 2191 Struble Rd\, Cincinnati\, 45231\, United States
ATTACH;FMTTYPE=image/jpeg:https://christcovcincy.org/wp-content/uploads/2024/09/CafeCoop.jpg
END:VEVENT
BEGIN:VEVENT
DTSTART;TZID=America/Halifax:20240821T111500
DTEND;TZID=America/Halifax:20240821T130000
DTSTAMP:20260424T164458
CREATED:20240724T142411Z
LAST-MODIFIED:20240724T142457Z
UID:10005433-1724238900-1724245200@christcovcincy.org
SUMMARY:Staff Meeting
DESCRIPTION:Staff typically meets on the 1st and 3rd Wednesday between 11:15am and 1:00pm in the chapel. \n2024 Devotional Assignments: \nRich — Jan 10\, April 3\, June 5\, July 24\, Sept 4 \nIan — Sept 18\, Nov 6 \nTina — March 6\, May 1\, August 21 \nDavid — March 20\, May 15\, Nov 20 \nColleen — Jan 24\, April 17\, Oct 2 \nSteve — Feb 21\, July 10 \nJoyce — Feb 7\, Oct 16
URL:https://christcovcincy.org/event/staff-meeting-3/2024-08-21/
LOCATION:Chapel @ Christ Covenant Church Office\, 2192 Springdale Rd\, Cincinnati\, OH\, 45231
ATTACH;FMTTYPE=image/jpeg:https://christcovcincy.org/wp-content/uploads/2023/01/staffmeeting.jpg
END:VEVENT
END:VCALENDAR