BEGIN:VCALENDAR
VERSION:2.0
PRODID:-//Christ Covenant Church - ECPv6.15.20//NONSGML v1.0//EN
CALSCALE:GREGORIAN
METHOD:PUBLISH
X-ORIGINAL-URL:https://christcovcincy.org
X-WR-CALDESC:Events for Christ Covenant Church
REFRESH-INTERVAL;VALUE=DURATION:PT1H
X-Robots-Tag:noindex
X-PUBLISHED-TTL:PT1H
BEGIN:VTIMEZONE
TZID:America/Halifax
BEGIN:DAYLIGHT
TZOFFSETFROM:-0400
TZOFFSETTO:-0300
TZNAME:ADT
DTSTART:20230312T060000
END:DAYLIGHT
BEGIN:STANDARD
TZOFFSETFROM:-0300
TZOFFSETTO:-0400
TZNAME:AST
DTSTART:20231105T050000
END:STANDARD
BEGIN:DAYLIGHT
TZOFFSETFROM:-0400
TZOFFSETTO:-0300
TZNAME:ADT
DTSTART:20240310T060000
END:DAYLIGHT
BEGIN:STANDARD
TZOFFSETFROM:-0300
TZOFFSETTO:-0400
TZNAME:AST
DTSTART:20241103T050000
END:STANDARD
BEGIN:DAYLIGHT
TZOFFSETFROM:-0400
TZOFFSETTO:-0300
TZNAME:ADT
DTSTART:20250309T060000
END:DAYLIGHT
BEGIN:STANDARD
TZOFFSETFROM:-0300
TZOFFSETTO:-0400
TZNAME:AST
DTSTART:20251102T050000
END:STANDARD
END:VTIMEZONE
BEGIN:VTIMEZONE
TZID:UTC
BEGIN:STANDARD
TZOFFSETFROM:+0000
TZOFFSETTO:+0000
TZNAME:UTC
DTSTART:20230101T000000
END:STANDARD
END:VTIMEZONE
BEGIN:VEVENT
DTSTART;TZID=America/Halifax:20241201T091500
DTEND;TZID=America/Halifax:20241201T101500
DTSTAMP:20260424T103910
CREATED:20240822T210038Z
LAST-MODIFIED:20240822T210038Z
UID:10005577-1733044500-1733048100@christcovcincy.org
SUMMARY:Sunday School Classes
DESCRIPTION:Nursery Care is available for ages 3 and under. \nChildren’s classes for Preschool (ages 4-5) in Room 105\, for grades 1 & 2 in Room 102\, for grades 3 & 4 in Room 104\, for grades 5 & 6 in Room 108. \nJunior High class for grades 7 & 8 in Room 106. \nHigh School class for grades 9 & 10 in the modular building. \nAdult Sunday School for HS grades 11 & 12 and adults in Fellowship Hall.
URL:https://christcovcincy.org/event/sunday-school-classes-6/2024-12-01/
LOCATION:Christ Covenant Church\, 2191 Struble Rd\, Cincinnati\, 45231\, United States
CATEGORIES:Children's Ministry,Sunday School,Youth Ministry
ATTACH;FMTTYPE=image/jpeg:https://christcovcincy.org/wp-content/uploads/2023/01/SundaySchoolGeneral.jpg
END:VEVENT
BEGIN:VEVENT
DTSTART;TZID=UTC:20241201T103000
DTEND;TZID=UTC:20241201T233000
DTSTAMP:20260424T103910
CREATED:20220714T235224Z
LAST-MODIFIED:20260327T170225Z
UID:10004214-1733049000-1733095800@christcovcincy.org
SUMMARY:Sunday Service @ 10:30am
DESCRIPTION:Join us for Worship! 10:30 am
URL:https://christcovcincy.org/event/sunday-service-1030am/2024-12-01/
LOCATION:Christ Covenant Church\, 2191 Struble Rd\, Cincinnati\, 45231\, United States
ATTACH;FMTTYPE=image/jpeg:https://christcovcincy.org/wp-content/uploads/2023/02/SundayService.jpg
END:VEVENT
BEGIN:VEVENT
DTSTART;TZID=America/Halifax:20241201T113000
DTEND;TZID=America/Halifax:20241201T133000
DTSTAMP:20260424T103910
CREATED:20240821T194436Z
LAST-MODIFIED:20241231T194247Z
UID:10005506-1733052600-1733059800@christcovcincy.org
SUMMARY:Covenant Chimes
DESCRIPTION:Covenant Chimes will rehearse in Room 106 immediately following the worship service
URL:https://christcovcincy.org/event/chimes-rehearsal-2/2024-12-01/
LOCATION:Christ Covenant Church\, 2191 Struble Rd\, Cincinnati\, 45231\, United States
ATTACH;FMTTYPE=image/jpeg:https://christcovcincy.org/wp-content/uploads/2023/10/download.jpg
END:VEVENT
BEGIN:VEVENT
DTSTART;TZID=America/Halifax:20241201T120000
DTEND;TZID=America/Halifax:20241201T140000
DTSTAMP:20260424T103910
CREATED:20241113T181649Z
LAST-MODIFIED:20241113T181649Z
UID:10005667-1733054400-1733061600@christcovcincy.org
SUMMARY:Choir Rehearsal
DESCRIPTION:Rehearse music for the Christmas season\, including the Cantata.  Steve will provide a quick lunch immediately following the service.
URL:https://christcovcincy.org/event/choir-rehearsal-14/2024-12-01/
LOCATION:Christ Covenant Church\, 2191 Struble Rd\, Cincinnati\, 45231\, United States
ATTACH;FMTTYPE=image/jpeg:https://christcovcincy.org/wp-content/uploads/2023/03/ChancelChoirforWeb.jpg
END:VEVENT
BEGIN:VEVENT
DTSTART;TZID=America/Halifax:20241201T180000
DTEND;TZID=America/Halifax:20241201T200000
DTSTAMP:20260424T103910
CREATED:20240918T184543Z
LAST-MODIFIED:20240925T155744Z
UID:10005179-1733076000-1733083200@christcovcincy.org
SUMMARY:Youth Group
DESCRIPTION:Bob Ross Night\, 6:00 pm – 8:00 p.m. at the Church Office
URL:https://christcovcincy.org/event/youth-ministry-8/
CATEGORIES:Youth Ministry
ATTACH;FMTTYPE=image/jpeg:https://christcovcincy.org/wp-content/uploads/2024/09/YouthGroupatPlaywebsite.jpg
END:VEVENT
BEGIN:VEVENT
DTSTART;TZID=America/Halifax:20241203T091500
DTEND;TZID=America/Halifax:20241203T110000
DTSTAMP:20260424T103910
CREATED:20250407T170416Z
LAST-MODIFIED:20250407T170416Z
UID:10005521-1733217300-1733223600@christcovcincy.org
SUMMARY:Women's Bible Study
DESCRIPTION:In the Tuesday Bible studies this fall\, we will be studying the book of Romans. We meet on the 1st & 3rd Tuesday mornings from 9:15-11:00 am and in the evenings from 7:00 -8:45 pm at the church office (2192 Springdale Road). We will use the study guide In View of God’s Mercies by Courtney Doctor. You can attend either morning or evening\, since the study will be the same at each time.
URL:https://christcovcincy.org/event/womens-bible-study-12/2024-12-03/
LOCATION:Chapel @ Christ Covenant Church Office\, 2192 Springdale Rd\, Cincinnati\, OH\, 45231
CATEGORIES:Women's Discipleship
ATTACH;FMTTYPE=image/jpeg:https://christcovcincy.org/wp-content/uploads/2023/10/WomensBibleStudy2.jpg
ORGANIZER;CN="Colleen Grogan":MAILTO:colleeng@christcovcincy.org
END:VEVENT
BEGIN:VEVENT
DTSTART;TZID=America/Halifax:20241203T120000
DTEND;TZID=America/Halifax:20241203T163000
DTSTAMP:20260424T103910
CREATED:20240425T155603Z
LAST-MODIFIED:20250529T144313Z
UID:10005304-1733227200-1733243400@christcovcincy.org
SUMMARY:Private Event
DESCRIPTION:B Boerner/A Langdon Homeschool Speech & Debate
URL:https://christcovcincy.org/event/private-event-56/2024-12-03/
LOCATION:Christ Covenant Church\, 2191 Struble Rd\, Cincinnati\, 45231\, United States
CATEGORIES:private event
ATTACH;FMTTYPE=image/jpeg:https://christcovcincy.org/wp-content/uploads/2023/06/privateeventcalendar.jpg
END:VEVENT
BEGIN:VEVENT
DTSTART;TZID=America/Halifax:20241203T180000
DTEND;TZID=America/Halifax:20241203T190000
DTSTAMP:20260424T103910
CREATED:20241030T183133Z
LAST-MODIFIED:20241030T183133Z
UID:10005660-1733248800-1733252400@christcovcincy.org
SUMMARY:Women's Bible Study Dinner
DESCRIPTION:Let’s enjoy dinner together before our final Bible study of this year!
URL:https://christcovcincy.org/event/womens-bible-study-dinner/
LOCATION:Chapel @ Christ Covenant Church Office\, 2192 Springdale Rd\, Cincinnati\, OH\, 45231
CATEGORIES:Women's Discipleship
END:VEVENT
BEGIN:VEVENT
DTSTART;TZID=America/Halifax:20241203T190000
DTEND;TZID=America/Halifax:20241203T204500
DTSTAMP:20260424T103910
CREATED:20250407T170417Z
LAST-MODIFIED:20250407T170417Z
UID:10005529-1733252400-1733258700@christcovcincy.org
SUMMARY:Women's Bible Study
DESCRIPTION:In the Tuesday Bible studies this fall\, we will be studying the book of Romans. We meet on the 1st & 3rd Tuesday mornings from 9:15-11:00 am and in the evenings from 7:00 -8:45 pm at the church office (2192 Springdale Road). We will use the study guide In View of God’s Mercies by Courtney Doctor. You can attend either morning or evening\, since the study will be the same at each time.
URL:https://christcovcincy.org/event/womens-bible-study-13/2024-12-03/
LOCATION:Chapel @ Christ Covenant Church Office\, 2192 Springdale Rd\, Cincinnati\, OH\, 45231
CATEGORIES:Women's Discipleship
ATTACH;FMTTYPE=image/jpeg:https://christcovcincy.org/wp-content/uploads/2023/10/WomensBibleStudy2.jpg
END:VEVENT
BEGIN:VEVENT
DTSTART;TZID=America/Halifax:20241204T083000
DTEND;TZID=America/Halifax:20241204T180000
DTSTAMP:20260424T103910
CREATED:20240821T193756Z
LAST-MODIFIED:20240918T191711Z
UID:10005478-1733301000-1733335200@christcovcincy.org
SUMMARY:CAFE Coop
DESCRIPTION:
URL:https://christcovcincy.org/event/cafe-coop-3/2024-12-04/
LOCATION:Christ Covenant Church\, 2191 Struble Rd\, Cincinnati\, 45231\, United States
ATTACH;FMTTYPE=image/jpeg:https://christcovcincy.org/wp-content/uploads/2024/09/CafeCoop.jpg
END:VEVENT
BEGIN:VEVENT
DTSTART;TZID=America/Halifax:20241204T120000
DTEND;TZID=America/Halifax:20241204T133000
DTSTAMP:20260424T103910
CREATED:20240724T194421Z
LAST-MODIFIED:20240724T194421Z
UID:10005445-1733313600-1733319000@christcovcincy.org
SUMMARY:Volunteer Luncheon
DESCRIPTION:
URL:https://christcovcincy.org/event/volunteer-luncheon-2/
LOCATION:Chapel @ Christ Covenant Church Office\, 2192 Springdale Rd\, Cincinnati\, OH\, 45231
ATTACH;FMTTYPE=image/jpeg:https://christcovcincy.org/wp-content/uploads/2023/10/volunteerluncheon.jpg
END:VEVENT
BEGIN:VEVENT
DTSTART;TZID=UTC:20241205T173000
DTEND;TZID=UTC:20241205T183000
DTSTAMP:20260424T103910
CREATED:20220714T195703Z
LAST-MODIFIED:20250828T182812Z
UID:10006187-1733419800-1733423400@christcovcincy.org
SUMMARY:Weekly Prayer Group
DESCRIPTION:WEEKLY PRAYER GROUP: This ongoing prayer group that meets via Zoom every Thursday evening from 5:30-6:30 p.m. Contact Ruth Cload for the Zoom link.
URL:https://christcovcincy.org/event/weekly-prayer-group/2024-12-05/
ATTACH;FMTTYPE=image/jpeg:https://christcovcincy.org/wp-content/uploads/2023/03/ZoomPrayerMeeting.jpg
END:VEVENT
BEGIN:VEVENT
DTSTART;TZID=America/Halifax:20241205T183000
DTEND;TZID=America/Halifax:20241205T200000
DTSTAMP:20260424T103910
CREATED:20240822T205437Z
LAST-MODIFIED:20250605T152816Z
UID:10005542-1733423400-1733428800@christcovcincy.org
SUMMARY:Choir Rehearsal
DESCRIPTION:Join us in the sanctuary as we prepare music to lead in Sunday worship services
URL:https://christcovcincy.org/event/choir-rehearsal-12/2024-12-05/
LOCATION:Christ Covenant Church\, 2191 Struble Rd\, Cincinnati\, 45231\, United States
ATTACH;FMTTYPE=image/jpeg:https://christcovcincy.org/wp-content/uploads/2023/03/ChancelChoirforWeb.jpg
END:VEVENT
BEGIN:VEVENT
DTSTART;TZID=America/Halifax:20241207T160000
DTEND;TZID=America/Halifax:20241207T173000
DTSTAMP:20260424T103910
CREATED:20241010T144041Z
LAST-MODIFIED:20241126T212123Z
UID:10005621-1733587200-1733592600@christcovcincy.org
SUMMARY:Choir Rehearsal
DESCRIPTION:Saturday AFTERNOON rehearsal for the Cantata
URL:https://christcovcincy.org/event/choir-rehearsal-13-2024-12-07/
LOCATION:Christ Covenant Church\, 2191 Struble Rd\, Cincinnati\, 45231\, United States
ATTACH;FMTTYPE=image/jpeg:https://christcovcincy.org/wp-content/uploads/2023/03/ChancelChoirforWeb.jpg
END:VEVENT
BEGIN:VEVENT
DTSTART;TZID=America/Halifax:20241208T091500
DTEND;TZID=America/Halifax:20241208T101500
DTSTAMP:20260424T103910
CREATED:20240822T210038Z
LAST-MODIFIED:20240822T210038Z
UID:10005578-1733649300-1733652900@christcovcincy.org
SUMMARY:Sunday School Classes
DESCRIPTION:Nursery Care is available for ages 3 and under. \nChildren’s classes for Preschool (ages 4-5) in Room 105\, for grades 1 & 2 in Room 102\, for grades 3 & 4 in Room 104\, for grades 5 & 6 in Room 108. \nJunior High class for grades 7 & 8 in Room 106. \nHigh School class for grades 9 & 10 in the modular building. \nAdult Sunday School for HS grades 11 & 12 and adults in Fellowship Hall.
URL:https://christcovcincy.org/event/sunday-school-classes-6/2024-12-08/
LOCATION:Christ Covenant Church\, 2191 Struble Rd\, Cincinnati\, 45231\, United States
CATEGORIES:Children's Ministry,Sunday School,Youth Ministry
ATTACH;FMTTYPE=image/jpeg:https://christcovcincy.org/wp-content/uploads/2023/01/SundaySchoolGeneral.jpg
END:VEVENT
BEGIN:VEVENT
DTSTART;TZID=UTC:20241208T103000
DTEND;TZID=UTC:20241208T233000
DTSTAMP:20260424T103910
CREATED:20220714T235224Z
LAST-MODIFIED:20260327T170225Z
UID:10004215-1733653800-1733700600@christcovcincy.org
SUMMARY:Sunday Service @ 10:30am
DESCRIPTION:Join us for Worship! 10:30 am
URL:https://christcovcincy.org/event/sunday-service-1030am/2024-12-08/
LOCATION:Christ Covenant Church\, 2191 Struble Rd\, Cincinnati\, 45231\, United States
ATTACH;FMTTYPE=image/jpeg:https://christcovcincy.org/wp-content/uploads/2023/02/SundayService.jpg
END:VEVENT
BEGIN:VEVENT
DTSTART;TZID=America/Halifax:20241208T113000
DTEND;TZID=America/Halifax:20241208T133000
DTSTAMP:20260424T103910
CREATED:20240821T194436Z
LAST-MODIFIED:20241231T194247Z
UID:10005507-1733657400-1733664600@christcovcincy.org
SUMMARY:Covenant Chimes
DESCRIPTION:Covenant Chimes will rehearse in Room 106 immediately following the worship service
URL:https://christcovcincy.org/event/chimes-rehearsal-2/2024-12-08/
LOCATION:Christ Covenant Church\, 2191 Struble Rd\, Cincinnati\, 45231\, United States
ATTACH;FMTTYPE=image/jpeg:https://christcovcincy.org/wp-content/uploads/2023/10/download.jpg
END:VEVENT
BEGIN:VEVENT
DTSTART;TZID=America/Halifax:20241208T113000
DTEND;TZID=America/Halifax:20241208T140000
DTSTAMP:20260424T103910
CREATED:20250407T170428Z
LAST-MODIFIED:20250407T170428Z
UID:10005680-1733657400-1733666400@christcovcincy.org
SUMMARY:Ferguson Community Group
DESCRIPTION:
URL:https://christcovcincy.org/event/ferguson-community-group/2024-12-08/
LOCATION:Christ Covenant Church Office\, 2192 Springdale Road\, Cincinnati\, OH\, 45231
CATEGORIES:fellowships
ATTACH;FMTTYPE=image/png:https://christcovcincy.org/wp-content/uploads/2022/07/Community-Group.png
END:VEVENT
BEGIN:VEVENT
DTSTART;TZID=America/Halifax:20241208T120000
DTEND;TZID=America/Halifax:20241208T140000
DTSTAMP:20260424T103910
CREATED:20241113T181649Z
LAST-MODIFIED:20241113T181649Z
UID:10005668-1733659200-1733666400@christcovcincy.org
SUMMARY:Choir Rehearsal
DESCRIPTION:Rehearse music for the Christmas season\, including the Cantata.  Steve will provide a quick lunch immediately following the service.
URL:https://christcovcincy.org/event/choir-rehearsal-14/2024-12-08/
LOCATION:Christ Covenant Church\, 2191 Struble Rd\, Cincinnati\, 45231\, United States
ATTACH;FMTTYPE=image/jpeg:https://christcovcincy.org/wp-content/uploads/2023/03/ChancelChoirforWeb.jpg
END:VEVENT
BEGIN:VEVENT
DTSTART;TZID=America/Halifax:20241208T180000
DTEND;TZID=America/Halifax:20241208T200000
DTSTAMP:20260424T103910
CREATED:20240918T184658Z
LAST-MODIFIED:20240925T155706Z
UID:10005603-1733680800-1733688000@christcovcincy.org
SUMMARY:Youth Group
DESCRIPTION:Table Games\, 6:00 pm – 8:00 p.m. at the Church Office
URL:https://christcovcincy.org/event/youth-ministry-9/
CATEGORIES:Youth Ministry
ATTACH;FMTTYPE=image/jpeg:https://christcovcincy.org/wp-content/uploads/2024/09/YouthGroupatPlaywebsite.jpg
END:VEVENT
BEGIN:VEVENT
DTSTART;TZID=UTC:20241209T190000
DTEND;TZID=UTC:20241209T210000
DTSTAMP:20260424T103910
CREATED:20221122T221642Z
LAST-MODIFIED:20250521T182505Z
UID:10004619-1733770800-1733778000@christcovcincy.org
SUMMARY:Session Meeting
DESCRIPTION:
URL:https://christcovcincy.org/event/session-meeting-2/2024-12-09/
LOCATION:Chapel @ Christ Covenant Church Office\, 2192 Springdale Rd\, Cincinnati\, OH\, 45231
ATTACH;FMTTYPE=image/png:https://christcovcincy.org/wp-content/uploads/2022/07/Board-Meeting.png
END:VEVENT
BEGIN:VEVENT
DTSTART;TZID=America/Halifax:20241210T120000
DTEND;TZID=America/Halifax:20241210T163000
DTSTAMP:20260424T103910
CREATED:20240425T155603Z
LAST-MODIFIED:20250529T144313Z
UID:10005305-1733832000-1733848200@christcovcincy.org
SUMMARY:Private Event
DESCRIPTION:B Boerner/A Langdon Homeschool Speech & Debate
URL:https://christcovcincy.org/event/private-event-56/2024-12-10/
LOCATION:Christ Covenant Church\, 2191 Struble Rd\, Cincinnati\, 45231\, United States
CATEGORIES:private event
ATTACH;FMTTYPE=image/jpeg:https://christcovcincy.org/wp-content/uploads/2023/06/privateeventcalendar.jpg
END:VEVENT
BEGIN:VEVENT
DTSTART;TZID=America/Halifax:20241210T203000
DTEND;TZID=America/Halifax:20241210T230000
DTSTAMP:20260424T103910
CREATED:20240503T202921Z
LAST-MODIFIED:20250925T184031Z
UID:10005366-1733862600-1733871600@christcovcincy.org
SUMMARY:ManCave
DESCRIPTION:Men (high school age and older) are encouraged to come join in this time of fellowship and study of Proverbs.
URL:https://christcovcincy.org/event/mancave-2/2024-12-10/
LOCATION:Church Fire Pit\, 2192 Springdale Road\, Cincinnati\, OH\, 45231
CATEGORIES:Men's Discipleship
ATTACH;FMTTYPE=image/jpeg:https://christcovcincy.org/wp-content/uploads/2022/10/Mancave-1.jpg
END:VEVENT
BEGIN:VEVENT
DTSTART;TZID=America/Halifax:20241211T083000
DTEND;TZID=America/Halifax:20241211T180000
DTSTAMP:20260424T103910
CREATED:20240821T193756Z
LAST-MODIFIED:20240918T191711Z
UID:10005479-1733905800-1733940000@christcovcincy.org
SUMMARY:CAFE Coop
DESCRIPTION:
URL:https://christcovcincy.org/event/cafe-coop-3/2024-12-11/
LOCATION:Christ Covenant Church\, 2191 Struble Rd\, Cincinnati\, 45231\, United States
ATTACH;FMTTYPE=image/jpeg:https://christcovcincy.org/wp-content/uploads/2024/09/CafeCoop.jpg
END:VEVENT
BEGIN:VEVENT
DTSTART;TZID=America/Halifax:20241211T180000
DTEND;TZID=America/Halifax:20241211T180000
DTSTAMP:20260424T103910
CREATED:20241114T014733Z
LAST-MODIFIED:20241114T014733Z
UID:10005670-1733940000-1733940000@christcovcincy.org
SUMMARY:Deacon Dinner Meeting
DESCRIPTION:Enjoy a bit of business followed by our annual Christmas dinner at Harley & Holly’s home
URL:https://christcovcincy.org/event/deacon-dinner-meeting/
LOCATION:Harley & Holly Grim’s home
ATTACH;FMTTYPE=image/png:https://christcovcincy.org/wp-content/uploads/2022/07/Board-Meeting.png
END:VEVENT
BEGIN:VEVENT
DTSTART;TZID=UTC:20241212T173000
DTEND;TZID=UTC:20241212T183000
DTSTAMP:20260424T103910
CREATED:20220714T195703Z
LAST-MODIFIED:20250828T182812Z
UID:10006188-1734024600-1734028200@christcovcincy.org
SUMMARY:Weekly Prayer Group
DESCRIPTION:WEEKLY PRAYER GROUP: This ongoing prayer group that meets via Zoom every Thursday evening from 5:30-6:30 p.m. Contact Ruth Cload for the Zoom link.
URL:https://christcovcincy.org/event/weekly-prayer-group/2024-12-12/
ATTACH;FMTTYPE=image/jpeg:https://christcovcincy.org/wp-content/uploads/2023/03/ZoomPrayerMeeting.jpg
END:VEVENT
BEGIN:VEVENT
DTSTART;TZID=America/Halifax:20241212T183000
DTEND;TZID=America/Halifax:20241212T200000
DTSTAMP:20260424T103910
CREATED:20240822T205437Z
LAST-MODIFIED:20250605T152816Z
UID:10005543-1734028200-1734033600@christcovcincy.org
SUMMARY:Choir Rehearsal
DESCRIPTION:Join us in the sanctuary as we prepare music to lead in Sunday worship services
URL:https://christcovcincy.org/event/choir-rehearsal-12/2024-12-12/
LOCATION:Christ Covenant Church\, 2191 Struble Rd\, Cincinnati\, 45231\, United States
ATTACH;FMTTYPE=image/jpeg:https://christcovcincy.org/wp-content/uploads/2023/03/ChancelChoirforWeb.jpg
END:VEVENT
BEGIN:VEVENT
DTSTART;TZID=America/Halifax:20241213T100000
DTEND;TZID=America/Halifax:20241213T130000
DTSTAMP:20260424T103910
CREATED:20231229T202053Z
LAST-MODIFIED:20241114T154905Z
UID:10005185-1734084000-1734094800@christcovcincy.org
SUMMARY:Silver Heirs
DESCRIPTION:Join the Senior Saints of the church for a time of fun and fellowship as we enjoy an interesting program and boxed lunch.  Bring your friends!  For specific monthly program details\, see the weekly Church Life.
URL:https://christcovcincy.org/event/silver-heirs-3-2024-12-13/
LOCATION:Chapel @ Christ Covenant Church Office\, 2192 Springdale Rd\, Cincinnati\, OH\, 45231
ATTACH;FMTTYPE=image/jpeg:https://christcovcincy.org/wp-content/uploads/2023/01/SilverHeirs-1.jpg
END:VEVENT
BEGIN:VEVENT
DTSTART;TZID=America/Halifax:20241214T080000
DTEND;TZID=America/Halifax:20241214T093000
DTSTAMP:20260424T103910
CREATED:20241010T144041Z
LAST-MODIFIED:20241126T212321Z
UID:10005622-1734163200-1734168600@christcovcincy.org
SUMMARY:Choir Rehearsal
DESCRIPTION:Saturday morning rehearsal for the Cantata – NOTE EARLIER START TIME!
URL:https://christcovcincy.org/event/choir-rehearsal-13-2024-12-14/
LOCATION:Christ Covenant Church\, 2191 Struble Rd\, Cincinnati\, 45231\, United States
ATTACH;FMTTYPE=image/jpeg:https://christcovcincy.org/wp-content/uploads/2023/03/ChancelChoirforWeb.jpg
END:VEVENT
BEGIN:VEVENT
DTSTART;TZID=America/Halifax:20241214T100000
DTEND;TZID=America/Halifax:20241214T133000
DTSTAMP:20260424T103910
CREATED:20241213T182917Z
LAST-MODIFIED:20241213T182917Z
UID:10005214-1734170400-1734183000@christcovcincy.org
SUMMARY:Keith Kintner Memorial Service & Luncheon
DESCRIPTION:10:00 a.m. Visitation\, 11:00 a.m. Memorial Service\, Luncheon immediately following in Fellowship Hall
URL:https://christcovcincy.org/event/keith-kintner-memorial-service-luncheon/
LOCATION:Christ Covenant Church\, 2191 Struble Rd\, Cincinnati\, 45231\, United States
ATTACH;FMTTYPE=image/jpeg:https://christcovcincy.org/wp-content/uploads/2023/10/funeralbulletinwebsite.jpg
END:VEVENT
END:VCALENDAR