BEGIN:VCALENDAR
VERSION:2.0
PRODID:-//Christ Covenant Church - ECPv6.15.20//NONSGML v1.0//EN
CALSCALE:GREGORIAN
METHOD:PUBLISH
X-WR-CALNAME:Christ Covenant Church
X-ORIGINAL-URL:https://christcovcincy.org
X-WR-CALDESC:Events for Christ Covenant Church
REFRESH-INTERVAL;VALUE=DURATION:PT1H
X-Robots-Tag:noindex
X-PUBLISHED-TTL:PT1H
BEGIN:VTIMEZONE
TZID:UTC
BEGIN:STANDARD
TZOFFSETFROM:+0000
TZOFFSETTO:+0000
TZNAME:UTC
DTSTART:20240101T000000
END:STANDARD
END:VTIMEZONE
BEGIN:VTIMEZONE
TZID:America/Halifax
BEGIN:DAYLIGHT
TZOFFSETFROM:-0400
TZOFFSETTO:-0300
TZNAME:ADT
DTSTART:20240310T060000
END:DAYLIGHT
BEGIN:STANDARD
TZOFFSETFROM:-0300
TZOFFSETTO:-0400
TZNAME:AST
DTSTART:20241103T050000
END:STANDARD
BEGIN:DAYLIGHT
TZOFFSETFROM:-0400
TZOFFSETTO:-0300
TZNAME:ADT
DTSTART:20250309T060000
END:DAYLIGHT
BEGIN:STANDARD
TZOFFSETFROM:-0300
TZOFFSETTO:-0400
TZNAME:AST
DTSTART:20251102T050000
END:STANDARD
BEGIN:DAYLIGHT
TZOFFSETFROM:-0400
TZOFFSETTO:-0300
TZNAME:ADT
DTSTART:20260308T060000
END:DAYLIGHT
BEGIN:STANDARD
TZOFFSETFROM:-0300
TZOFFSETTO:-0400
TZNAME:AST
DTSTART:20261101T050000
END:STANDARD
END:VTIMEZONE
BEGIN:VEVENT
DTSTART;TZID=UTC:20250101T080000
DTEND;TZID=UTC:20250101T160000
DTSTAMP:20260424T101834
CREATED:20221122T203457Z
LAST-MODIFIED:20241127T190913Z
UID:10004592-1735718400-1735747200@christcovcincy.org
SUMMARY:Church Office Closed
DESCRIPTION:
URL:https://christcovcincy.org/event/church-office-closed/2025-01-01/
END:VEVENT
BEGIN:VEVENT
DTSTART;TZID=UTC:20250102T173000
DTEND;TZID=UTC:20250102T183000
DTSTAMP:20260424T101834
CREATED:20220714T195703Z
LAST-MODIFIED:20250828T182812Z
UID:10006191-1735839000-1735842600@christcovcincy.org
SUMMARY:Weekly Prayer Group
DESCRIPTION:WEEKLY PRAYER GROUP: This ongoing prayer group that meets via Zoom every Thursday evening from 5:30-6:30 p.m. Contact Ruth Cload for the Zoom link.
URL:https://christcovcincy.org/event/weekly-prayer-group/2025-01-02/
ATTACH;FMTTYPE=image/jpeg:https://christcovcincy.org/wp-content/uploads/2023/03/ZoomPrayerMeeting.jpg
END:VEVENT
BEGIN:VEVENT
DTSTART;TZID=America/Halifax:20250105T091500
DTEND;TZID=America/Halifax:20250105T101500
DTSTAMP:20260424T101834
CREATED:20240822T210038Z
LAST-MODIFIED:20240822T210038Z
UID:10005580-1736068500-1736072100@christcovcincy.org
SUMMARY:Sunday School Classes
DESCRIPTION:Nursery Care is available for ages 3 and under. \nChildren’s classes for Preschool (ages 4-5) in Room 105\, for grades 1 & 2 in Room 102\, for grades 3 & 4 in Room 104\, for grades 5 & 6 in Room 108. \nJunior High class for grades 7 & 8 in Room 106. \nHigh School class for grades 9 & 10 in the modular building. \nAdult Sunday School for HS grades 11 & 12 and adults in Fellowship Hall.
URL:https://christcovcincy.org/event/sunday-school-classes-6/2025-01-05/
LOCATION:Christ Covenant Church\, 2191 Struble Rd\, Cincinnati\, 45231\, United States
CATEGORIES:Children's Ministry,Sunday School,Youth Ministry
ATTACH;FMTTYPE=image/jpeg:https://christcovcincy.org/wp-content/uploads/2023/01/SundaySchoolGeneral.jpg
END:VEVENT
BEGIN:VEVENT
DTSTART;TZID=UTC:20250105T103000
DTEND;TZID=UTC:20250105T233000
DTSTAMP:20260424T101834
CREATED:20220714T235224Z
LAST-MODIFIED:20260327T170225Z
UID:10004219-1736073000-1736119800@christcovcincy.org
SUMMARY:Sunday Service @ 10:30am
DESCRIPTION:Join us for Worship! 10:30 am
URL:https://christcovcincy.org/event/sunday-service-1030am/2025-01-05/
LOCATION:Christ Covenant Church\, 2191 Struble Rd\, Cincinnati\, 45231\, United States
ATTACH;FMTTYPE=image/jpeg:https://christcovcincy.org/wp-content/uploads/2023/02/SundayService.jpg
END:VEVENT
BEGIN:VEVENT
DTSTART;TZID=America/Halifax:20250105T113000
DTEND;TZID=America/Halifax:20250105T133000
DTSTAMP:20260424T101834
CREATED:20240821T194436Z
LAST-MODIFIED:20241231T194247Z
UID:10005510-1736076600-1736083800@christcovcincy.org
SUMMARY:Covenant Chimes
DESCRIPTION:Covenant Chimes will rehearse in Room 106 immediately following the worship service
URL:https://christcovcincy.org/event/chimes-rehearsal-2/2025-01-05/
LOCATION:Christ Covenant Church\, 2191 Struble Rd\, Cincinnati\, 45231\, United States
ATTACH;FMTTYPE=image/jpeg:https://christcovcincy.org/wp-content/uploads/2023/10/download.jpg
END:VEVENT
BEGIN:VEVENT
DTSTART;TZID=America/Halifax:20250105T180000
DTEND;TZID=America/Halifax:20250105T200000
DTSTAMP:20260424T101834
CREATED:20250115T213758Z
LAST-MODIFIED:20250115T214847Z
UID:10005752-1736100000-1736107200@christcovcincy.org
SUMMARY:Youth Group SNOWED OUT!
DESCRIPTION:
URL:https://christcovcincy.org/event/youth-group-8/
LOCATION:Church Fellowship Hall
CATEGORIES:Youth Ministry
ATTACH;FMTTYPE=image/jpeg:https://christcovcincy.org/wp-content/uploads/2022/12/CCC-Youth-Group-web-calendar.jpg
END:VEVENT
BEGIN:VEVENT
DTSTART;TZID=America/Halifax:20250107T120000
DTEND;TZID=America/Halifax:20250107T163000
DTSTAMP:20260424T101834
CREATED:20240425T155603Z
LAST-MODIFIED:20250529T144313Z
UID:10005306-1736251200-1736267400@christcovcincy.org
SUMMARY:Private Event
DESCRIPTION:B Boerner/A Langdon Homeschool Speech & Debate
URL:https://christcovcincy.org/event/private-event-56/2025-01-07/
LOCATION:Christ Covenant Church\, 2191 Struble Rd\, Cincinnati\, 45231\, United States
CATEGORIES:private event
ATTACH;FMTTYPE=image/jpeg:https://christcovcincy.org/wp-content/uploads/2023/06/privateeventcalendar.jpg
END:VEVENT
BEGIN:VEVENT
DTSTART;TZID=America/Halifax:20250108T083000
DTEND;TZID=America/Halifax:20250108T180000
DTSTAMP:20260424T101834
CREATED:20240821T193756Z
LAST-MODIFIED:20240918T191711Z
UID:10005480-1736325000-1736359200@christcovcincy.org
SUMMARY:CAFE Coop
DESCRIPTION:
URL:https://christcovcincy.org/event/cafe-coop-3/2025-01-08/
LOCATION:Christ Covenant Church\, 2191 Struble Rd\, Cincinnati\, 45231\, United States
ATTACH;FMTTYPE=image/jpeg:https://christcovcincy.org/wp-content/uploads/2024/09/CafeCoop.jpg
END:VEVENT
BEGIN:VEVENT
DTSTART;TZID=America/Halifax:20250109T093000
DTEND;TZID=America/Halifax:20250109T113000
DTSTAMP:20260424T101834
CREATED:20240502T155455Z
LAST-MODIFIED:20241211T183101Z
UID:10005348-1736415000-1736422200@christcovcincy.org
SUMMARY:Women's Bible Study
DESCRIPTION:We will be studying the book of Revelation using the study guide by Jen Wilkin. This 10-session study meets every other Thursday in the church office from 9:30–11:30 am. To sign up and order a workbook\, contact Wendy at wdetroy@fuse.net by December 22.
URL:https://christcovcincy.org/event/womens-bible-study-11/2025-01-09/
LOCATION:Chapel @ Christ Covenant Church Office\, 2192 Springdale Rd\, Cincinnati\, OH\, 45231
CATEGORIES:Women's Discipleship
ATTACH;FMTTYPE=image/jpeg:https://christcovcincy.org/wp-content/uploads/2022/10/two-people-Bible.jpg
END:VEVENT
BEGIN:VEVENT
DTSTART;TZID=UTC:20250109T173000
DTEND;TZID=UTC:20250109T183000
DTSTAMP:20260424T101834
CREATED:20220714T195703Z
LAST-MODIFIED:20250828T182812Z
UID:10006192-1736443800-1736447400@christcovcincy.org
SUMMARY:Weekly Prayer Group
DESCRIPTION:WEEKLY PRAYER GROUP: This ongoing prayer group that meets via Zoom every Thursday evening from 5:30-6:30 p.m. Contact Ruth Cload for the Zoom link.
URL:https://christcovcincy.org/event/weekly-prayer-group/2025-01-09/
ATTACH;FMTTYPE=image/jpeg:https://christcovcincy.org/wp-content/uploads/2023/03/ZoomPrayerMeeting.jpg
END:VEVENT
BEGIN:VEVENT
DTSTART;TZID=America/Halifax:20250109T183000
DTEND;TZID=America/Halifax:20250109T200000
DTSTAMP:20260424T101834
CREATED:20240822T205437Z
LAST-MODIFIED:20250605T152816Z
UID:10005545-1736447400-1736452800@christcovcincy.org
SUMMARY:Choir Rehearsal
DESCRIPTION:Join us in the sanctuary as we prepare music to lead in Sunday worship services
URL:https://christcovcincy.org/event/choir-rehearsal-12/2025-01-09/
LOCATION:Christ Covenant Church\, 2191 Struble Rd\, Cincinnati\, 45231\, United States
ATTACH;FMTTYPE=image/jpeg:https://christcovcincy.org/wp-content/uploads/2023/03/ChancelChoirforWeb.jpg
END:VEVENT
BEGIN:VEVENT
DTSTART;TZID=America/Halifax:20250110T110000
DTEND;TZID=America/Halifax:20250110T130000
DTSTAMP:20260424T101834
CREATED:20241231T172707Z
LAST-MODIFIED:20250205T195203Z
UID:10005249-1736506800-1736514000@christcovcincy.org
SUMMARY:Silver Heirs CANCELLED
DESCRIPTION:Join the Senior Saints of the church for a time of fun and fellowship as we enjoy an interesting program and boxed lunch.  Bring your friends!  For specific monthly program details\, see the weekly Church Life.
URL:https://christcovcincy.org/event/silver-heirs-4/
LOCATION:Church Fellowship Hall
CATEGORIES:fellowships
ATTACH;FMTTYPE=image/jpeg:https://christcovcincy.org/wp-content/uploads/2023/01/SilverHeirs.jpg
END:VEVENT
BEGIN:VEVENT
DTSTART;TZID=America/Halifax:20250110T190000
DTEND;TZID=America/Halifax:20250110T213000
DTSTAMP:20260424T101834
CREATED:20241231T175320Z
LAST-MODIFIED:20250115T165117Z
UID:10005261-1736535600-1736544600@christcovcincy.org
SUMMARY:Women's Game Night: CANCELLED
DESCRIPTION:Let’s get together for fun and games! We will gather at Linda Young’s home in Finneytown from 7:00-9:30 pm. Come to enjoy conversation and games! Bring a snack to share if you wish. For more information\, contact Tina Miller at tmiller@christcovcincy.org.
URL:https://christcovcincy.org/event/womens-game-night-6/
LOCATION:Linda Young’s home\, 8760 Cottonwood Dr\, Cincinnati\, OH\, 45231
CATEGORIES:fellowships
ATTACH;FMTTYPE=image/jpeg:https://christcovcincy.org/wp-content/uploads/2023/01/WomensFellowshipNight.jpg
END:VEVENT
BEGIN:VEVENT
DTSTART;TZID=America/Halifax:20250112T091500
DTEND;TZID=America/Halifax:20250112T101500
DTSTAMP:20260424T101834
CREATED:20240822T210038Z
LAST-MODIFIED:20240822T210038Z
UID:10005581-1736673300-1736676900@christcovcincy.org
SUMMARY:Sunday School Classes
DESCRIPTION:Nursery Care is available for ages 3 and under. \nChildren’s classes for Preschool (ages 4-5) in Room 105\, for grades 1 & 2 in Room 102\, for grades 3 & 4 in Room 104\, for grades 5 & 6 in Room 108. \nJunior High class for grades 7 & 8 in Room 106. \nHigh School class for grades 9 & 10 in the modular building. \nAdult Sunday School for HS grades 11 & 12 and adults in Fellowship Hall.
URL:https://christcovcincy.org/event/sunday-school-classes-6/2025-01-12/
LOCATION:Christ Covenant Church\, 2191 Struble Rd\, Cincinnati\, 45231\, United States
CATEGORIES:Children's Ministry,Sunday School,Youth Ministry
ATTACH;FMTTYPE=image/jpeg:https://christcovcincy.org/wp-content/uploads/2023/01/SundaySchoolGeneral.jpg
END:VEVENT
BEGIN:VEVENT
DTSTART;TZID=UTC:20250112T103000
DTEND;TZID=UTC:20250112T233000
DTSTAMP:20260424T101834
CREATED:20220714T235224Z
LAST-MODIFIED:20260327T170225Z
UID:10004220-1736677800-1736724600@christcovcincy.org
SUMMARY:Sunday Service @ 10:30am
DESCRIPTION:Join us for Worship! 10:30 am
URL:https://christcovcincy.org/event/sunday-service-1030am/2025-01-12/
LOCATION:Christ Covenant Church\, 2191 Struble Rd\, Cincinnati\, 45231\, United States
ATTACH;FMTTYPE=image/jpeg:https://christcovcincy.org/wp-content/uploads/2023/02/SundayService.jpg
END:VEVENT
BEGIN:VEVENT
DTSTART;TZID=America/Halifax:20250112T113000
DTEND;TZID=America/Halifax:20250112T140000
DTSTAMP:20260424T101834
CREATED:20250407T170428Z
LAST-MODIFIED:20250407T170428Z
UID:10005681-1736681400-1736690400@christcovcincy.org
SUMMARY:Ferguson Community Group
DESCRIPTION:
URL:https://christcovcincy.org/event/ferguson-community-group/2025-01-12/
LOCATION:Christ Covenant Church Office\, 2192 Springdale Road\, Cincinnati\, OH\, 45231
CATEGORIES:fellowships
ATTACH;FMTTYPE=image/png:https://christcovcincy.org/wp-content/uploads/2022/07/Community-Group.png
END:VEVENT
BEGIN:VEVENT
DTSTART;TZID=America/Halifax:20250112T180000
DTEND;TZID=America/Halifax:20250112T200000
DTSTAMP:20260424T101834
CREATED:20250115T213758Z
LAST-MODIFIED:20250115T214821Z
UID:10005753-1736704800-1736712000@christcovcincy.org
SUMMARY:Youth Group
DESCRIPTION:Hockey
URL:https://christcovcincy.org/event/youth-group-8-2025-01-12/
LOCATION:Church Fellowship Hall
CATEGORIES:Youth Ministry
ATTACH;FMTTYPE=image/jpeg:https://christcovcincy.org/wp-content/uploads/2022/12/CCC-Youth-Group-web-calendar.jpg
END:VEVENT
BEGIN:VEVENT
DTSTART;TZID=UTC:20250113T190000
DTEND;TZID=UTC:20250113T210000
DTSTAMP:20260424T101834
CREATED:20221122T221642Z
LAST-MODIFIED:20250521T182505Z
UID:10004620-1736794800-1736802000@christcovcincy.org
SUMMARY:Session Meeting
DESCRIPTION:
URL:https://christcovcincy.org/event/session-meeting-2/2025-01-13/
LOCATION:Chapel @ Christ Covenant Church Office\, 2192 Springdale Rd\, Cincinnati\, OH\, 45231
ATTACH;FMTTYPE=image/png:https://christcovcincy.org/wp-content/uploads/2022/07/Board-Meeting.png
END:VEVENT
BEGIN:VEVENT
DTSTART;TZID=America/Halifax:20250114T120000
DTEND;TZID=America/Halifax:20250114T163000
DTSTAMP:20260424T101834
CREATED:20240425T155603Z
LAST-MODIFIED:20250529T144313Z
UID:10005307-1736856000-1736872200@christcovcincy.org
SUMMARY:Private Event
DESCRIPTION:B Boerner/A Langdon Homeschool Speech & Debate
URL:https://christcovcincy.org/event/private-event-56/2025-01-14/
LOCATION:Christ Covenant Church\, 2191 Struble Rd\, Cincinnati\, 45231\, United States
CATEGORIES:private event
ATTACH;FMTTYPE=image/jpeg:https://christcovcincy.org/wp-content/uploads/2023/06/privateeventcalendar.jpg
END:VEVENT
BEGIN:VEVENT
DTSTART;TZID=America/Halifax:20250114T203000
DTEND;TZID=America/Halifax:20250114T230000
DTSTAMP:20260424T101834
CREATED:20240503T202921Z
LAST-MODIFIED:20250925T184031Z
UID:10005367-1736886600-1736895600@christcovcincy.org
SUMMARY:ManCave
DESCRIPTION:Men (high school age and older) are encouraged to come join in this time of fellowship and study of Proverbs.
URL:https://christcovcincy.org/event/mancave-2/2025-01-14/
LOCATION:Church Fire Pit\, 2192 Springdale Road\, Cincinnati\, OH\, 45231
CATEGORIES:Men's Discipleship
ATTACH;FMTTYPE=image/jpeg:https://christcovcincy.org/wp-content/uploads/2022/10/Mancave-1.jpg
END:VEVENT
BEGIN:VEVENT
DTSTART;TZID=America/Halifax:20250115T083000
DTEND;TZID=America/Halifax:20250115T180000
DTSTAMP:20260424T101834
CREATED:20240821T193756Z
LAST-MODIFIED:20240918T191711Z
UID:10005481-1736929800-1736964000@christcovcincy.org
SUMMARY:CAFE Coop
DESCRIPTION:
URL:https://christcovcincy.org/event/cafe-coop-3/2025-01-15/
LOCATION:Christ Covenant Church\, 2191 Struble Rd\, Cincinnati\, 45231\, United States
ATTACH;FMTTYPE=image/jpeg:https://christcovcincy.org/wp-content/uploads/2024/09/CafeCoop.jpg
END:VEVENT
BEGIN:VEVENT
DTSTART;TZID=America/Halifax:20250115T111500
DTEND;TZID=America/Halifax:20250115T130000
DTSTAMP:20260424T101834
CREATED:20250115T204157Z
LAST-MODIFIED:20251203T194201Z
UID:10005707-1736939700-1736946000@christcovcincy.org
SUMMARY:Staff Meeting
DESCRIPTION:Staff typically meets on the 1st and 3rd Wednesday between 11:15am and 1:00pm in the chapel. \nDevotional Assignments: \nRich — Jan 15\, April 9\, July 23 \nIan — Feb 5\, May 7\, Aug 20 \nTina — March 5\, May 21 \nDavid — April 23\, July 9 \nColleen — Feb 19\, June 25 \nJoyce — March 19\, June 4
URL:https://christcovcincy.org/event/staff-meeting-4/2025-01-15/
LOCATION:Chapel @ Christ Covenant Church Office\, 2192 Springdale Rd\, Cincinnati\, OH\, 45231
ATTACH;FMTTYPE=image/jpeg:https://christcovcincy.org/wp-content/uploads/2023/01/staffmeeting.jpg
END:VEVENT
BEGIN:VEVENT
DTSTART;TZID=UTC:20250116T173000
DTEND;TZID=UTC:20250116T183000
DTSTAMP:20260424T101834
CREATED:20220714T195703Z
LAST-MODIFIED:20250828T182812Z
UID:10006193-1737048600-1737052200@christcovcincy.org
SUMMARY:Weekly Prayer Group
DESCRIPTION:WEEKLY PRAYER GROUP: This ongoing prayer group that meets via Zoom every Thursday evening from 5:30-6:30 p.m. Contact Ruth Cload for the Zoom link.
URL:https://christcovcincy.org/event/weekly-prayer-group/2025-01-16/
ATTACH;FMTTYPE=image/jpeg:https://christcovcincy.org/wp-content/uploads/2023/03/ZoomPrayerMeeting.jpg
END:VEVENT
BEGIN:VEVENT
DTSTART;TZID=America/Halifax:20250116T183000
DTEND;TZID=America/Halifax:20250116T200000
DTSTAMP:20260424T101834
CREATED:20240822T205437Z
LAST-MODIFIED:20250605T152816Z
UID:10005546-1737052200-1737057600@christcovcincy.org
SUMMARY:Choir Rehearsal
DESCRIPTION:Join us in the sanctuary as we prepare music to lead in Sunday worship services
URL:https://christcovcincy.org/event/choir-rehearsal-12/2025-01-16/
LOCATION:Christ Covenant Church\, 2191 Struble Rd\, Cincinnati\, 45231\, United States
ATTACH;FMTTYPE=image/jpeg:https://christcovcincy.org/wp-content/uploads/2023/03/ChancelChoirforWeb.jpg
END:VEVENT
BEGIN:VEVENT
DTSTART;TZID=America/Halifax:20250117T184500
DTEND;TZID=America/Halifax:20250117T204500
DTSTAMP:20260424T101834
CREATED:20241219T170613Z
LAST-MODIFIED:20250508T135833Z
UID:10005235-1737139500-1737146700@christcovcincy.org
SUMMARY:Private Event
DESCRIPTION:Prather Martial Arts Competition Team Practice
URL:https://christcovcincy.org/event/private-event-89/2025-01-17/
LOCATION:Church Fellowship Hall
CATEGORIES:private event
ATTACH;FMTTYPE=image/jpeg:https://christcovcincy.org/wp-content/uploads/2023/06/privateeventcalendar.jpg
END:VEVENT
BEGIN:VEVENT
DTSTART;TZID=America/Halifax:20250119T091500
DTEND;TZID=America/Halifax:20250119T101500
DTSTAMP:20260424T101834
CREATED:20240822T210038Z
LAST-MODIFIED:20240822T210038Z
UID:10005582-1737278100-1737281700@christcovcincy.org
SUMMARY:Sunday School Classes
DESCRIPTION:Nursery Care is available for ages 3 and under. \nChildren’s classes for Preschool (ages 4-5) in Room 105\, for grades 1 & 2 in Room 102\, for grades 3 & 4 in Room 104\, for grades 5 & 6 in Room 108. \nJunior High class for grades 7 & 8 in Room 106. \nHigh School class for grades 9 & 10 in the modular building. \nAdult Sunday School for HS grades 11 & 12 and adults in Fellowship Hall.
URL:https://christcovcincy.org/event/sunday-school-classes-6/2025-01-19/
LOCATION:Christ Covenant Church\, 2191 Struble Rd\, Cincinnati\, 45231\, United States
CATEGORIES:Children's Ministry,Sunday School,Youth Ministry
ATTACH;FMTTYPE=image/jpeg:https://christcovcincy.org/wp-content/uploads/2023/01/SundaySchoolGeneral.jpg
END:VEVENT
BEGIN:VEVENT
DTSTART;TZID=UTC:20250119T103000
DTEND;TZID=UTC:20250119T233000
DTSTAMP:20260424T101834
CREATED:20220714T235224Z
LAST-MODIFIED:20260327T170225Z
UID:10004221-1737282600-1737329400@christcovcincy.org
SUMMARY:Sunday Service @ 10:30am
DESCRIPTION:Join us for Worship! 10:30 am
URL:https://christcovcincy.org/event/sunday-service-1030am/2025-01-19/
LOCATION:Christ Covenant Church\, 2191 Struble Rd\, Cincinnati\, 45231\, United States
ATTACH;FMTTYPE=image/jpeg:https://christcovcincy.org/wp-content/uploads/2023/02/SundayService.jpg
END:VEVENT
BEGIN:VEVENT
DTSTART;TZID=America/Halifax:20250119T120000
DTEND;TZID=America/Halifax:20250119T133000
DTSTAMP:20260424T101834
CREATED:20241106T203136Z
LAST-MODIFIED:20241106T203136Z
UID:10005664-1737288000-1737293400@christcovcincy.org
SUMMARY:Fellowship Luncheon
DESCRIPTION:Immediately following the Worship Service. Watch Church Life for more details.
URL:https://christcovcincy.org/event/fellowship-luncheon-5/2025-01-19/
LOCATION:Church Fellowship Hall
CATEGORIES:fellowships
ATTACH;FMTTYPE=image/png:https://christcovcincy.org/wp-content/uploads/2022/12/luncheon.png
END:VEVENT
BEGIN:VEVENT
DTSTART;TZID=America/Halifax:20250120T163000
DTEND;TZID=America/Halifax:20250120T180000
DTSTAMP:20260424T101834
CREATED:20250115T201922Z
LAST-MODIFIED:20250115T201922Z
UID:10005692-1737390600-1737396000@christcovcincy.org
SUMMARY:Deacon Meeting
DESCRIPTION:
URL:https://christcovcincy.org/event/deacon-meeting-3/
LOCATION:Chapel @ Christ Covenant Church Office\, 2192 Springdale Rd\, Cincinnati\, OH\, 45231
ATTACH;FMTTYPE=image/png:https://christcovcincy.org/wp-content/uploads/2022/07/Board-Meeting.png
END:VEVENT
BEGIN:VEVENT
DTSTART;TZID=UTC:20250120T190000
DTEND;TZID=UTC:20250120T210000
DTSTAMP:20260424T101834
CREATED:20221122T221840Z
LAST-MODIFIED:20251001T185731Z
UID:10004657-1737399600-1737406800@christcovcincy.org
SUMMARY:Trustee Meeting
DESCRIPTION:
URL:https://christcovcincy.org/event/trustees-meeting/2025-01-20/
LOCATION:Chapel @ Christ Covenant Church Office\, 2192 Springdale Rd\, Cincinnati\, OH\, 45231
ATTACH;FMTTYPE=image/png:https://christcovcincy.org/wp-content/uploads/2022/07/Board-Meeting.png
END:VEVENT
END:VCALENDAR