BEGIN:VCALENDAR
VERSION:2.0
PRODID:-//Christ Covenant Church - ECPv6.15.20//NONSGML v1.0//EN
CALSCALE:GREGORIAN
METHOD:PUBLISH
X-WR-CALNAME:Christ Covenant Church
X-ORIGINAL-URL:https://christcovcincy.org
X-WR-CALDESC:Events for Christ Covenant Church
REFRESH-INTERVAL;VALUE=DURATION:PT1H
X-Robots-Tag:noindex
X-PUBLISHED-TTL:PT1H
BEGIN:VTIMEZONE
TZID:America/Halifax
BEGIN:DAYLIGHT
TZOFFSETFROM:-0400
TZOFFSETTO:-0300
TZNAME:ADT
DTSTART:20240310T060000
END:DAYLIGHT
BEGIN:STANDARD
TZOFFSETFROM:-0300
TZOFFSETTO:-0400
TZNAME:AST
DTSTART:20241103T050000
END:STANDARD
BEGIN:DAYLIGHT
TZOFFSETFROM:-0400
TZOFFSETTO:-0300
TZNAME:ADT
DTSTART:20250309T060000
END:DAYLIGHT
BEGIN:STANDARD
TZOFFSETFROM:-0300
TZOFFSETTO:-0400
TZNAME:AST
DTSTART:20251102T050000
END:STANDARD
BEGIN:DAYLIGHT
TZOFFSETFROM:-0400
TZOFFSETTO:-0300
TZNAME:ADT
DTSTART:20260308T060000
END:DAYLIGHT
BEGIN:STANDARD
TZOFFSETFROM:-0300
TZOFFSETTO:-0400
TZNAME:AST
DTSTART:20261101T050000
END:STANDARD
END:VTIMEZONE
BEGIN:VTIMEZONE
TZID:UTC
BEGIN:STANDARD
TZOFFSETFROM:+0000
TZOFFSETTO:+0000
TZNAME:UTC
DTSTART:20240101T000000
END:STANDARD
END:VTIMEZONE
BEGIN:VTIMEZONE
TZID:America/New_York
BEGIN:DAYLIGHT
TZOFFSETFROM:-0500
TZOFFSETTO:-0400
TZNAME:EDT
DTSTART:20240310T070000
END:DAYLIGHT
BEGIN:STANDARD
TZOFFSETFROM:-0400
TZOFFSETTO:-0500
TZNAME:EST
DTSTART:20241103T060000
END:STANDARD
BEGIN:DAYLIGHT
TZOFFSETFROM:-0500
TZOFFSETTO:-0400
TZNAME:EDT
DTSTART:20250309T070000
END:DAYLIGHT
BEGIN:STANDARD
TZOFFSETFROM:-0400
TZOFFSETTO:-0500
TZNAME:EST
DTSTART:20251102T060000
END:STANDARD
BEGIN:DAYLIGHT
TZOFFSETFROM:-0500
TZOFFSETTO:-0400
TZNAME:EDT
DTSTART:20260308T070000
END:DAYLIGHT
BEGIN:STANDARD
TZOFFSETFROM:-0400
TZOFFSETTO:-0500
TZNAME:EST
DTSTART:20261101T060000
END:STANDARD
END:VTIMEZONE
BEGIN:VEVENT
DTSTART;TZID=America/Halifax:20250501T093000
DTEND;TZID=America/Halifax:20250501T113000
DTSTAMP:20260424T025815
CREATED:20240502T155455Z
LAST-MODIFIED:20241211T183101Z
UID:10005355-1746091800-1746099000@christcovcincy.org
SUMMARY:Women's Bible Study
DESCRIPTION:We will be studying the book of Revelation using the study guide by Jen Wilkin. This 10-session study meets every other Thursday in the church office from 9:30–11:30 am. To sign up and order a workbook\, contact Wendy at wdetroy@fuse.net by December 22.
URL:https://christcovcincy.org/event/womens-bible-study-11/2025-05-01/
LOCATION:Chapel @ Christ Covenant Church Office\, 2192 Springdale Rd\, Cincinnati\, OH\, 45231
CATEGORIES:Women's Discipleship
ATTACH;FMTTYPE=image/jpeg:https://christcovcincy.org/wp-content/uploads/2022/10/two-people-Bible.jpg
END:VEVENT
BEGIN:VEVENT
DTSTART;TZID=UTC:20250501T173000
DTEND;TZID=UTC:20250501T183000
DTSTAMP:20260424T025815
CREATED:20220714T195703Z
LAST-MODIFIED:20250828T182812Z
UID:10006208-1746120600-1746124200@christcovcincy.org
SUMMARY:Weekly Prayer Group
DESCRIPTION:WEEKLY PRAYER GROUP: This ongoing prayer group that meets via Zoom every Thursday evening from 5:30-6:30 p.m. Contact Ruth Cload for the Zoom link.
URL:https://christcovcincy.org/event/weekly-prayer-group/2025-05-01/
ATTACH;FMTTYPE=image/jpeg:https://christcovcincy.org/wp-content/uploads/2023/03/ZoomPrayerMeeting.jpg
END:VEVENT
BEGIN:VEVENT
DTSTART;TZID=America/Halifax:20250501T183000
DTEND;TZID=America/Halifax:20250501T200000
DTSTAMP:20260424T025815
CREATED:20240822T205437Z
LAST-MODIFIED:20250605T152816Z
UID:10005559-1746124200-1746129600@christcovcincy.org
SUMMARY:Choir Rehearsal
DESCRIPTION:Join us in the sanctuary as we prepare music to lead in Sunday worship services
URL:https://christcovcincy.org/event/choir-rehearsal-12/2025-05-01/
LOCATION:Christ Covenant Church\, 2191 Struble Rd\, Cincinnati\, 45231\, United States
ATTACH;FMTTYPE=image/jpeg:https://christcovcincy.org/wp-content/uploads/2023/03/ChancelChoirforWeb.jpg
END:VEVENT
BEGIN:VEVENT
DTSTART;TZID=America/Halifax:20250503T073000
DTEND;TZID=America/Halifax:20250503T090000
DTSTAMP:20260424T025815
CREATED:20241024T163346Z
LAST-MODIFIED:20260122T201225Z
UID:10005646-1746257400-1746262800@christcovcincy.org
SUMMARY:Men's Bible Study
DESCRIPTION:Join the Men of Christ Covenant as they continue their study through the book of I Samuel.
URL:https://christcovcincy.org/event/mens-bible-study-3-2025-02-01/2025-05-03/
LOCATION:Chapel @ Christ Covenant Church Office\, 2192 Springdale Rd\, Cincinnati\, OH\, 45231
CATEGORIES:Men's Discipleship
ATTACH;FMTTYPE=image/jpeg:https://christcovcincy.org/wp-content/uploads/2023/02/MensBibleStudy-copy.jpg
END:VEVENT
BEGIN:VEVENT
DTSTART;TZID=America/Halifax:20250504T091500
DTEND;TZID=America/Halifax:20250504T101500
DTSTAMP:20260424T025815
CREATED:20240822T210038Z
LAST-MODIFIED:20240822T210038Z
UID:10005595-1746350100-1746353700@christcovcincy.org
SUMMARY:Sunday School Classes
DESCRIPTION:Nursery Care is available for ages 3 and under. \nChildren’s classes for Preschool (ages 4-5) in Room 105\, for grades 1 & 2 in Room 102\, for grades 3 & 4 in Room 104\, for grades 5 & 6 in Room 108. \nJunior High class for grades 7 & 8 in Room 106. \nHigh School class for grades 9 & 10 in the modular building. \nAdult Sunday School for HS grades 11 & 12 and adults in Fellowship Hall.
URL:https://christcovcincy.org/event/sunday-school-classes-6/2025-05-04/
LOCATION:Christ Covenant Church\, 2191 Struble Rd\, Cincinnati\, 45231\, United States
CATEGORIES:Children's Ministry,Sunday School,Youth Ministry
ATTACH;FMTTYPE=image/jpeg:https://christcovcincy.org/wp-content/uploads/2023/01/SundaySchoolGeneral.jpg
END:VEVENT
BEGIN:VEVENT
DTSTART;TZID=UTC:20250504T103000
DTEND;TZID=UTC:20250504T233000
DTSTAMP:20260424T025815
CREATED:20220714T235224Z
LAST-MODIFIED:20260327T170225Z
UID:10004236-1746354600-1746401400@christcovcincy.org
SUMMARY:Sunday Service @ 10:30am
DESCRIPTION:Join us for Worship! 10:30 am
URL:https://christcovcincy.org/event/sunday-service-1030am/2025-05-04/
LOCATION:Christ Covenant Church\, 2191 Struble Rd\, Cincinnati\, 45231\, United States
ATTACH;FMTTYPE=image/jpeg:https://christcovcincy.org/wp-content/uploads/2023/02/SundayService.jpg
END:VEVENT
BEGIN:VEVENT
DTSTART;TZID=America/Halifax:20250504T114500
DTEND;TZID=America/Halifax:20250504T120000
DTSTAMP:20260424T025815
CREATED:20250403T151911Z
LAST-MODIFIED:20250403T154644Z
UID:10005810-1746359100-1746360000@christcovcincy.org
SUMMARY:Congregational Meeting
DESCRIPTION:Special congregational meeting to approve change in job title for Ian Ferguson from Assistant Pastor to Associate Pastor
URL:https://christcovcincy.org/event/congregational-meeting/
LOCATION:Christ Covenant Church\, 2191 Struble Rd\, Cincinnati\, 45231\, United States
END:VEVENT
BEGIN:VEVENT
DTSTART;TZID=America/Halifax:20250507T090000
DTEND;TZID=America/Halifax:20250507T120000
DTSTAMP:20260424T025815
CREATED:20240821T193756Z
LAST-MODIFIED:20250403T160910Z
UID:10005605-1746608400-1746619200@christcovcincy.org
SUMMARY:CAFE Coop Clean Up Day
DESCRIPTION:
URL:https://christcovcincy.org/event/cafe-coop-3-2025-05-07/
LOCATION:Christ Covenant Church\, 2191 Struble Rd\, Cincinnati\, 45231\, United States
ATTACH;FMTTYPE=image/jpeg:https://christcovcincy.org/wp-content/uploads/2024/09/CafeCoop.jpg
END:VEVENT
BEGIN:VEVENT
DTSTART;TZID=UTC:20250508T173000
DTEND;TZID=UTC:20250508T183000
DTSTAMP:20260424T025815
CREATED:20220714T195703Z
LAST-MODIFIED:20250828T182812Z
UID:10006209-1746725400-1746729000@christcovcincy.org
SUMMARY:Weekly Prayer Group
DESCRIPTION:WEEKLY PRAYER GROUP: This ongoing prayer group that meets via Zoom every Thursday evening from 5:30-6:30 p.m. Contact Ruth Cload for the Zoom link.
URL:https://christcovcincy.org/event/weekly-prayer-group/2025-05-08/
ATTACH;FMTTYPE=image/jpeg:https://christcovcincy.org/wp-content/uploads/2023/03/ZoomPrayerMeeting.jpg
END:VEVENT
BEGIN:VEVENT
DTSTART;TZID=America/Halifax:20250508T183000
DTEND;TZID=America/Halifax:20250508T200000
DTSTAMP:20260424T025815
CREATED:20240822T205437Z
LAST-MODIFIED:20250605T152816Z
UID:10005560-1746729000-1746734400@christcovcincy.org
SUMMARY:Choir Rehearsal
DESCRIPTION:Join us in the sanctuary as we prepare music to lead in Sunday worship services
URL:https://christcovcincy.org/event/choir-rehearsal-12/2025-05-08/
LOCATION:Christ Covenant Church\, 2191 Struble Rd\, Cincinnati\, 45231\, United States
ATTACH;FMTTYPE=image/jpeg:https://christcovcincy.org/wp-content/uploads/2023/03/ChancelChoirforWeb.jpg
END:VEVENT
BEGIN:VEVENT
DTSTART;TZID=America/Halifax:20250509T100000
DTEND;TZID=America/Halifax:20250509T130000
DTSTAMP:20260424T025815
CREATED:20241231T172707Z
LAST-MODIFIED:20250205T195016Z
UID:10005257-1746784800-1746795600@christcovcincy.org
SUMMARY:Silver Heirs
DESCRIPTION:Join the Senior Saints of the church for a time of fun and fellowship as we enjoy an interesting program and boxed lunch.  Bring your friends!  For specific monthly program details\, see the weekly Church Life.
URL:https://christcovcincy.org/event/silver-heirs-4-2025-03-14/2025-05-09/
LOCATION:Church Fellowship Hall
CATEGORIES:fellowships
ATTACH;FMTTYPE=image/jpeg:https://christcovcincy.org/wp-content/uploads/2023/01/SilverHeirs.jpg
END:VEVENT
BEGIN:VEVENT
DTSTART;TZID=America/Halifax:20250509T190000
DTEND;TZID=America/Halifax:20250509T213000
DTSTAMP:20260424T025815
CREATED:20241002T141543Z
LAST-MODIFIED:20251230T174430Z
UID:10006003-1746817200-1746826200@christcovcincy.org
SUMMARY:Women's Game Night
DESCRIPTION:Let’s get together for fun and games! We will gather at Linda Young’s home in Finneytown from 7:00-9:30 pm. Come to enjoy conversation and games! Bring a snack to share if you wish. For more information\, contact Tina Miller at tmiller@christcovcincy.org.
URL:https://christcovcincy.org/event/womens-game-night-4/2025-05-09/
LOCATION:Linda Young’s home\, 8760 Cottonwood Dr\, Cincinnati\, OH\, 45231
CATEGORIES:fellowships,Women's Discipleship
ATTACH;FMTTYPE=image/jpeg:https://christcovcincy.org/wp-content/uploads/2023/01/WomensFellowshipNight.jpg
END:VEVENT
BEGIN:VEVENT
DTSTART;TZID=America/Halifax:20250511T091500
DTEND;TZID=America/Halifax:20250511T101500
DTSTAMP:20260424T025815
CREATED:20240822T210038Z
LAST-MODIFIED:20240822T210038Z
UID:10005596-1746954900-1746958500@christcovcincy.org
SUMMARY:Sunday School Classes
DESCRIPTION:Nursery Care is available for ages 3 and under. \nChildren’s classes for Preschool (ages 4-5) in Room 105\, for grades 1 & 2 in Room 102\, for grades 3 & 4 in Room 104\, for grades 5 & 6 in Room 108. \nJunior High class for grades 7 & 8 in Room 106. \nHigh School class for grades 9 & 10 in the modular building. \nAdult Sunday School for HS grades 11 & 12 and adults in Fellowship Hall.
URL:https://christcovcincy.org/event/sunday-school-classes-6/2025-05-11/
LOCATION:Christ Covenant Church\, 2191 Struble Rd\, Cincinnati\, 45231\, United States
CATEGORIES:Children's Ministry,Sunday School,Youth Ministry
ATTACH;FMTTYPE=image/jpeg:https://christcovcincy.org/wp-content/uploads/2023/01/SundaySchoolGeneral.jpg
END:VEVENT
BEGIN:VEVENT
DTSTART;TZID=America/New_York:20250511T103000
DTEND;TZID=America/New_York:20250511T114500
DTSTAMP:20260424T025815
CREATED:20250410T152620Z
LAST-MODIFIED:20250410T152620Z
UID:10005836-1746959400-1746963900@christcovcincy.org
SUMMARY:Recognition of HS Seniors
DESCRIPTION:Recognition of graduating HS Seniors during worship service
URL:https://christcovcincy.org/event/recognition-of-hs-seniors/
LOCATION:Christ Covenant Church\, 2191 Struble Rd\, Cincinnati\, 45231\, United States
CATEGORIES:Youth Ministry
END:VEVENT
BEGIN:VEVENT
DTSTART;TZID=UTC:20250511T103000
DTEND;TZID=UTC:20250511T233000
DTSTAMP:20260424T025815
CREATED:20220714T235224Z
LAST-MODIFIED:20260327T170225Z
UID:10004237-1746959400-1747006200@christcovcincy.org
SUMMARY:Sunday Service @ 10:30am
DESCRIPTION:Join us for Worship! 10:30 am
URL:https://christcovcincy.org/event/sunday-service-1030am/2025-05-11/
LOCATION:Christ Covenant Church\, 2191 Struble Rd\, Cincinnati\, 45231\, United States
ATTACH;FMTTYPE=image/jpeg:https://christcovcincy.org/wp-content/uploads/2023/02/SundayService.jpg
END:VEVENT
BEGIN:VEVENT
DTSTART;TZID=America/Halifax:20250511T113000
DTEND;TZID=America/Halifax:20250511T140000
DTSTAMP:20260424T025815
CREATED:20250407T170428Z
LAST-MODIFIED:20250407T170428Z
UID:10005685-1746963000-1746972000@christcovcincy.org
SUMMARY:Ferguson Community Group
DESCRIPTION:
URL:https://christcovcincy.org/event/ferguson-community-group/2025-05-11/
LOCATION:Christ Covenant Church Office\, 2192 Springdale Road\, Cincinnati\, OH\, 45231
CATEGORIES:fellowships
ATTACH;FMTTYPE=image/png:https://christcovcincy.org/wp-content/uploads/2022/07/Community-Group.png
END:VEVENT
BEGIN:VEVENT
DTSTART;TZID=America/New_York:20250512T100000
DTEND;TZID=America/New_York:20250512T120000
DTSTAMP:20260424T025815
CREATED:20250509T132332Z
LAST-MODIFIED:20250509T132332Z
UID:10006476-1747044000-1747051200@christcovcincy.org
SUMMARY:Missions Committee
DESCRIPTION:
URL:https://christcovcincy.org/event/missions-committee-4/
LOCATION:Chapel @ Christ Covenant Church Office\, 2192 Springdale Rd\, Cincinnati\, OH\, 45231
ATTACH;FMTTYPE=image/jpeg:https://christcovcincy.org/wp-content/uploads/2023/05/missionscommittee.jpg
END:VEVENT
BEGIN:VEVENT
DTSTART;TZID=UTC:20250512T190000
DTEND;TZID=UTC:20250512T210000
DTSTAMP:20260424T025815
CREATED:20221122T221642Z
LAST-MODIFIED:20250521T182505Z
UID:10004624-1747076400-1747083600@christcovcincy.org
SUMMARY:Session Meeting
DESCRIPTION:
URL:https://christcovcincy.org/event/session-meeting-2/2025-05-12/
LOCATION:Chapel @ Christ Covenant Church Office\, 2192 Springdale Rd\, Cincinnati\, OH\, 45231
ATTACH;FMTTYPE=image/png:https://christcovcincy.org/wp-content/uploads/2022/07/Board-Meeting.png
END:VEVENT
BEGIN:VEVENT
DTSTART;TZID=America/Halifax:20250513T203000
DTEND;TZID=America/Halifax:20250513T230000
DTSTAMP:20260424T025815
CREATED:20240503T202921Z
LAST-MODIFIED:20250925T184031Z
UID:10005371-1747168200-1747177200@christcovcincy.org
SUMMARY:ManCave
DESCRIPTION:Men (high school age and older) are encouraged to come join in this time of fellowship and study of Proverbs.
URL:https://christcovcincy.org/event/mancave-2/2025-05-13/
LOCATION:Church Fire Pit\, 2192 Springdale Road\, Cincinnati\, OH\, 45231
CATEGORIES:Men's Discipleship
ATTACH;FMTTYPE=image/jpeg:https://christcovcincy.org/wp-content/uploads/2022/10/Mancave-1.jpg
END:VEVENT
BEGIN:VEVENT
DTSTART;TZID=America/Halifax:20250514T090000
DTEND;TZID=America/Halifax:20250514T120000
DTSTAMP:20260424T025815
CREATED:20250403T161159Z
LAST-MODIFIED:20250403T161159Z
UID:10005811-1747213200-1747224000@christcovcincy.org
SUMMARY:CAFE Coop Teacher Workshop
DESCRIPTION:In the modular building
URL:https://christcovcincy.org/event/cafe-coop-teacher-workshop/
LOCATION:Christ Covenant Church\, 2191 Struble Rd\, Cincinnati\, 45231\, United States
ATTACH;FMTTYPE=image/jpeg:https://christcovcincy.org/wp-content/uploads/2024/09/CafeCoop.jpg
END:VEVENT
BEGIN:VEVENT
DTSTART;TZID=America/New_York:20250514T110000
DTEND;TZID=America/New_York:20250514T140000
DTSTAMP:20260424T025815
CREATED:20250423T182733Z
LAST-MODIFIED:20250612T194741Z
UID:10006001-1747220400-1747231200@christcovcincy.org
SUMMARY:Private Event
DESCRIPTION:Mt. Healthy Garden Club
URL:https://christcovcincy.org/event/private-event-98/2025-05-14/
LOCATION:Church Fellowship Hall
CATEGORIES:private event
ATTACH;FMTTYPE=image/jpeg:https://christcovcincy.org/wp-content/uploads/2023/06/privateeventcalendar.jpg
END:VEVENT
BEGIN:VEVENT
DTSTART;TZID=America/Halifax:20250515T093000
DTEND;TZID=America/Halifax:20250515T113000
DTSTAMP:20260424T025815
CREATED:20240502T155455Z
LAST-MODIFIED:20241211T183101Z
UID:10005356-1747301400-1747308600@christcovcincy.org
SUMMARY:Women's Bible Study
DESCRIPTION:We will be studying the book of Revelation using the study guide by Jen Wilkin. This 10-session study meets every other Thursday in the church office from 9:30–11:30 am. To sign up and order a workbook\, contact Wendy at wdetroy@fuse.net by December 22.
URL:https://christcovcincy.org/event/womens-bible-study-11/2025-05-15/
LOCATION:Chapel @ Christ Covenant Church Office\, 2192 Springdale Rd\, Cincinnati\, OH\, 45231
CATEGORIES:Women's Discipleship
ATTACH;FMTTYPE=image/jpeg:https://christcovcincy.org/wp-content/uploads/2022/10/two-people-Bible.jpg
END:VEVENT
BEGIN:VEVENT
DTSTART;TZID=UTC:20250515T173000
DTEND;TZID=UTC:20250515T183000
DTSTAMP:20260424T025815
CREATED:20220714T195703Z
LAST-MODIFIED:20250828T182812Z
UID:10006210-1747330200-1747333800@christcovcincy.org
SUMMARY:Weekly Prayer Group
DESCRIPTION:WEEKLY PRAYER GROUP: This ongoing prayer group that meets via Zoom every Thursday evening from 5:30-6:30 p.m. Contact Ruth Cload for the Zoom link.
URL:https://christcovcincy.org/event/weekly-prayer-group/2025-05-15/
ATTACH;FMTTYPE=image/jpeg:https://christcovcincy.org/wp-content/uploads/2023/03/ZoomPrayerMeeting.jpg
END:VEVENT
BEGIN:VEVENT
DTSTART;TZID=America/Halifax:20250515T183000
DTEND;TZID=America/Halifax:20250515T200000
DTSTAMP:20260424T025815
CREATED:20240822T205437Z
LAST-MODIFIED:20250605T152816Z
UID:10005561-1747333800-1747339200@christcovcincy.org
SUMMARY:Choir Rehearsal
DESCRIPTION:Join us in the sanctuary as we prepare music to lead in Sunday worship services
URL:https://christcovcincy.org/event/choir-rehearsal-12/2025-05-15/
LOCATION:Christ Covenant Church\, 2191 Struble Rd\, Cincinnati\, 45231\, United States
ATTACH;FMTTYPE=image/jpeg:https://christcovcincy.org/wp-content/uploads/2023/03/ChancelChoirforWeb.jpg
END:VEVENT
BEGIN:VEVENT
DTSTART;TZID=America/New_York:20250516T180000
DTEND;TZID=America/New_York:20250516T220000
DTSTAMP:20260424T025815
CREATED:20250423T181831Z
LAST-MODIFIED:20250423T181831Z
UID:10005999-1747418400-1747432800@christcovcincy.org
SUMMARY:CAFE Student Social
DESCRIPTION:
URL:https://christcovcincy.org/event/cafe-student-social/
LOCATION:Church Fellowship Hall
END:VEVENT
BEGIN:VEVENT
DTSTART;TZID=America/Halifax:20250517T080000
DTEND;TZID=America/Halifax:20250517T210000
DTSTAMP:20260424T025815
CREATED:20250226T210625Z
LAST-MODIFIED:20250226T210625Z
UID:10005767-1747468800-1747515600@christcovcincy.org
SUMMARY:Private Event
DESCRIPTION:Linnea D’s graduation party
URL:https://christcovcincy.org/event/private-event-92/
LOCATION:Christ Covenant picnic and office complex\, 2192 Springdale Rd.\, Cincinnati\, OH\, 45231\, United States
CATEGORIES:private event
ATTACH;FMTTYPE=image/jpeg:https://christcovcincy.org/wp-content/uploads/2023/06/privateeventcalendar.jpg
END:VEVENT
BEGIN:VEVENT
DTSTART;TZID=America/Halifax:20250518T091500
DTEND;TZID=America/Halifax:20250518T101500
DTSTAMP:20260424T025815
CREATED:20240822T210038Z
LAST-MODIFIED:20240822T210038Z
UID:10005597-1747559700-1747563300@christcovcincy.org
SUMMARY:Sunday School Classes
DESCRIPTION:Nursery Care is available for ages 3 and under. \nChildren’s classes for Preschool (ages 4-5) in Room 105\, for grades 1 & 2 in Room 102\, for grades 3 & 4 in Room 104\, for grades 5 & 6 in Room 108. \nJunior High class for grades 7 & 8 in Room 106. \nHigh School class for grades 9 & 10 in the modular building. \nAdult Sunday School for HS grades 11 & 12 and adults in Fellowship Hall.
URL:https://christcovcincy.org/event/sunday-school-classes-6/2025-05-18/
LOCATION:Christ Covenant Church\, 2191 Struble Rd\, Cincinnati\, 45231\, United States
CATEGORIES:Children's Ministry,Sunday School,Youth Ministry
ATTACH;FMTTYPE=image/jpeg:https://christcovcincy.org/wp-content/uploads/2023/01/SundaySchoolGeneral.jpg
END:VEVENT
BEGIN:VEVENT
DTSTART;TZID=UTC:20250518T103000
DTEND;TZID=UTC:20250518T233000
DTSTAMP:20260424T025815
CREATED:20220714T235224Z
LAST-MODIFIED:20260327T170225Z
UID:10004238-1747564200-1747611000@christcovcincy.org
SUMMARY:Sunday Service @ 10:30am
DESCRIPTION:Join us for Worship! 10:30 am
URL:https://christcovcincy.org/event/sunday-service-1030am/2025-05-18/
LOCATION:Christ Covenant Church\, 2191 Struble Rd\, Cincinnati\, 45231\, United States
ATTACH;FMTTYPE=image/jpeg:https://christcovcincy.org/wp-content/uploads/2023/02/SundayService.jpg
END:VEVENT
BEGIN:VEVENT
DTSTART;TZID=America/New_York:20250518T114500
DTEND;TZID=America/New_York:20250518T133000
DTSTAMP:20260424T025815
CREATED:20250508T152903Z
LAST-MODIFIED:20250508T152903Z
UID:10006064-1747568700-1747575000@christcovcincy.org
SUMMARY:Volunteer Orientation for Fantastic Family Nights
DESCRIPTION:Immediately following the service in Fellowship Hall.  Light lunch provided. \nCome be a part of God’s Big Build!  Join us if you would like to be a part—on any Thursday night(s) in June—of sharing the good news of Jesus with children and their families.  Not sure how you could be useful?  See Tina Miller for details.
URL:https://christcovcincy.org/event/volunteer-orientation-for-fantastic-family-nights/
LOCATION:Church Fellowship Hall
CATEGORIES:Children's Ministry
ATTACH;FMTTYPE=image/png:https://christcovcincy.org/wp-content/uploads/2025/05/Big-Build-Logo-003.png
END:VEVENT
BEGIN:VEVENT
DTSTART;TZID=America/New_York:20250519T163000
DTEND;TZID=America/New_York:20250519T180000
DTSTAMP:20260424T025815
CREATED:20250508T185005Z
LAST-MODIFIED:20250508T185005Z
UID:10006471-1747672200-1747677600@christcovcincy.org
SUMMARY:Deacon Meeting
DESCRIPTION:
URL:https://christcovcincy.org/event/deacon-meeting-6/
LOCATION:Library @ Christ Covenant Church Office
ATTACH;FMTTYPE=image/png:https://christcovcincy.org/wp-content/uploads/2022/07/Board-Meeting.png
END:VEVENT
END:VCALENDAR