BEGIN:VCALENDAR
VERSION:2.0
PRODID:-//Christ Covenant Church - ECPv6.15.20//NONSGML v1.0//EN
CALSCALE:GREGORIAN
METHOD:PUBLISH
X-ORIGINAL-URL:https://christcovcincy.org
X-WR-CALDESC:Events for Christ Covenant Church
REFRESH-INTERVAL;VALUE=DURATION:PT1H
X-Robots-Tag:noindex
X-PUBLISHED-TTL:PT1H
BEGIN:VTIMEZONE
TZID:UTC
BEGIN:STANDARD
TZOFFSETFROM:+0000
TZOFFSETTO:+0000
TZNAME:UTC
DTSTART:20240101T000000
END:STANDARD
END:VTIMEZONE
BEGIN:VTIMEZONE
TZID:America/New_York
BEGIN:DAYLIGHT
TZOFFSETFROM:-0500
TZOFFSETTO:-0400
TZNAME:EDT
DTSTART:20240310T070000
END:DAYLIGHT
BEGIN:STANDARD
TZOFFSETFROM:-0400
TZOFFSETTO:-0500
TZNAME:EST
DTSTART:20241103T060000
END:STANDARD
BEGIN:DAYLIGHT
TZOFFSETFROM:-0500
TZOFFSETTO:-0400
TZNAME:EDT
DTSTART:20250309T070000
END:DAYLIGHT
BEGIN:STANDARD
TZOFFSETFROM:-0400
TZOFFSETTO:-0500
TZNAME:EST
DTSTART:20251102T060000
END:STANDARD
BEGIN:DAYLIGHT
TZOFFSETFROM:-0500
TZOFFSETTO:-0400
TZNAME:EDT
DTSTART:20260308T070000
END:DAYLIGHT
BEGIN:STANDARD
TZOFFSETFROM:-0400
TZOFFSETTO:-0500
TZNAME:EST
DTSTART:20261101T060000
END:STANDARD
END:VTIMEZONE
BEGIN:VTIMEZONE
TZID:America/Halifax
BEGIN:DAYLIGHT
TZOFFSETFROM:-0400
TZOFFSETTO:-0300
TZNAME:ADT
DTSTART:20240310T060000
END:DAYLIGHT
BEGIN:STANDARD
TZOFFSETFROM:-0300
TZOFFSETTO:-0400
TZNAME:AST
DTSTART:20241103T050000
END:STANDARD
BEGIN:DAYLIGHT
TZOFFSETFROM:-0400
TZOFFSETTO:-0300
TZNAME:ADT
DTSTART:20250309T060000
END:DAYLIGHT
BEGIN:STANDARD
TZOFFSETFROM:-0300
TZOFFSETTO:-0400
TZNAME:AST
DTSTART:20251102T050000
END:STANDARD
BEGIN:DAYLIGHT
TZOFFSETFROM:-0400
TZOFFSETTO:-0300
TZNAME:ADT
DTSTART:20260308T060000
END:DAYLIGHT
BEGIN:STANDARD
TZOFFSETFROM:-0300
TZOFFSETTO:-0400
TZNAME:AST
DTSTART:20261101T050000
END:STANDARD
END:VTIMEZONE
BEGIN:VEVENT
DTSTART;TZID=UTC:20250601T103000
DTEND;TZID=UTC:20250601T233000
DTSTAMP:20260424T014114
CREATED:20220714T235224Z
LAST-MODIFIED:20260327T170225Z
UID:10004240-1748773800-1748820600@christcovcincy.org
SUMMARY:Sunday Service @ 10:30am
DESCRIPTION:Join us for Worship! 10:30 am
URL:https://christcovcincy.org/event/sunday-service-1030am/2025-06-01/
LOCATION:Christ Covenant Church\, 2191 Struble Rd\, Cincinnati\, 45231\, United States
ATTACH;FMTTYPE=image/jpeg:https://christcovcincy.org/wp-content/uploads/2023/02/SundayService.jpg
END:VEVENT
BEGIN:VEVENT
DTSTART;TZID=America/New_York:20250601T114500
DTEND;TZID=America/New_York:20250601T130000
DTSTAMP:20260424T014114
CREATED:20250521T183613Z
LAST-MODIFIED:20250521T183613Z
UID:10006745-1748778300-1748782800@christcovcincy.org
SUMMARY:Mission Trips Info Meeting
DESCRIPTION:Join us in Room 106 after the worship service if you have ANY questions about this summer’s mission trips to St. Louis and Detroit.  Trip participants are encouraged to attend.
URL:https://christcovcincy.org/event/mission-trips-info-meeting/
LOCATION:Christ Covenant Church\, 2191 Struble Rd\, Cincinnati\, 45231\, United States
ATTACH;FMTTYPE=image/jpeg:https://christcovcincy.org/wp-content/uploads/2023/05/missionscommittee.jpg
END:VEVENT
BEGIN:VEVENT
DTSTART;TZID=America/Halifax:20250601T130000
DTEND;TZID=America/Halifax:20250601T170000
DTSTAMP:20260424T014114
CREATED:20250326T132750Z
LAST-MODIFIED:20250326T140757Z
UID:10005801-1748782800-1748797200@christcovcincy.org
SUMMARY:Private Event
DESCRIPTION:Spring Recital for Judy L’s piano students
URL:https://christcovcincy.org/event/private-event-93/
LOCATION:Christ Covenant Church\, 2191 Struble Rd\, Cincinnati\, 45231\, United States
CATEGORIES:private event
ATTACH;FMTTYPE=image/jpeg:https://christcovcincy.org/wp-content/uploads/2023/06/privateeventcalendar.jpg
END:VEVENT
BEGIN:VEVENT
DTSTART;TZID=America/New_York:20250601T170000
DTEND;TZID=America/New_York:20250601T200000
DTSTAMP:20260424T014114
CREATED:20250410T151414Z
LAST-MODIFIED:20250410T152415Z
UID:10005818-1748797200-1748808000@christcovcincy.org
SUMMARY:Youth Group
DESCRIPTION:
URL:https://christcovcincy.org/event/youth-group-11/2025-06-01/
LOCATION:Christ Covenant picnic and office complex\, 2192 Springdale Rd.\, Cincinnati\, OH\, 45231\, United States
CATEGORIES:Youth Ministry
ATTACH;FMTTYPE=image/jpeg:https://christcovcincy.org/wp-content/uploads/2023/05/YouthGroup.jpg
END:VEVENT
BEGIN:VEVENT
DTSTART;TZID=UTC:20250602T190000
DTEND;TZID=UTC:20250602T210000
DTSTAMP:20260424T014114
CREATED:20221122T221642Z
LAST-MODIFIED:20250521T182505Z
UID:10006693-1748890800-1748898000@christcovcincy.org
SUMMARY:Session Meeting
DESCRIPTION:
URL:https://christcovcincy.org/event/session-meeting-2/2025-06-02/
LOCATION:Chapel @ Christ Covenant Church Office\, 2192 Springdale Rd\, Cincinnati\, OH\, 45231
ATTACH;FMTTYPE=image/png:https://christcovcincy.org/wp-content/uploads/2022/07/Board-Meeting.png
END:VEVENT
BEGIN:VEVENT
DTSTART;TZID=America/New_York:20250603T150000
DTEND;TZID=America/New_York:20250603T170000
DTSTAMP:20260424T014114
CREATED:20250528T163758Z
LAST-MODIFIED:20250620T161128Z
UID:10006747-1748962800-1748970000@christcovcincy.org
SUMMARY:Family Swim Time
DESCRIPTION:
URL:https://christcovcincy.org/event/family-swim-time-6/2025-06-03/
LOCATION:Swimming Pool
CATEGORIES:Children's Ministry
ATTACH;FMTTYPE=image/jpeg:https://christcovcincy.org/wp-content/uploads/2023/05/Swim.jpg
END:VEVENT
BEGIN:VEVENT
DTSTART;TZID=America/New_York:20250603T190000
DTEND;TZID=America/New_York:20250603T203000
DTSTAMP:20260424T014114
CREATED:20250416T154429Z
LAST-MODIFIED:20250821T180224Z
UID:10005930-1748977200-1748982600@christcovcincy.org
SUMMARY:Volleyball
DESCRIPTION:
URL:https://christcovcincy.org/event/volleyball-2/2025-06-03/
LOCATION:Christ Covenant picnic and office complex\, 2192 Springdale Rd.\, Cincinnati\, OH\, 45231\, United States
CATEGORIES:fellowships
ATTACH;FMTTYPE=image/jpeg:https://christcovcincy.org/wp-content/uploads/2023/05/volley.jpg
END:VEVENT
BEGIN:VEVENT
DTSTART;TZID=America/Halifax:20250604T111500
DTEND;TZID=America/Halifax:20250604T130000
DTSTAMP:20260424T014114
CREATED:20250407T170431Z
LAST-MODIFIED:20251105T190041Z
UID:10005723-1749035700-1749042000@christcovcincy.org
SUMMARY:Staff Meeting
DESCRIPTION:Staff typically meets on the 1st and 3rd Wednesday between 11:15am and 1:00pm in the chapel. \nDevotional Assignments: \nRich — Jan 15\, April 9 \nIan — Feb 5\, May 7 (did not meet)\, Aug 20 \nTina — March 5 (cancelled)\, May 21 \nDavid — April 23\, July 16 \nColleen — Feb 19\, June 25 \nJoyce — March 19\, June 4
URL:https://christcovcincy.org/event/staff-meeting-4-2/2025-06-04/
LOCATION:Chapel @ Christ Covenant Church Office\, 2192 Springdale Rd\, Cincinnati\, OH\, 45231
ATTACH;FMTTYPE=image/jpeg:https://christcovcincy.org/wp-content/uploads/2023/01/staffmeeting.jpg
END:VEVENT
BEGIN:VEVENT
DTSTART;TZID=America/New_York:20250604T124500
DTEND;TZID=America/New_York:20250604T144500
DTSTAMP:20260424T014114
CREATED:20250410T152254Z
LAST-MODIFIED:20250806T164647Z
UID:10005825-1749041100-1749048300@christcovcincy.org
SUMMARY:Youth Swim Time
DESCRIPTION:
URL:https://christcovcincy.org/event/youth-swim-time-2/2025-06-04/
LOCATION:Swimming Pool
CATEGORIES:Youth Ministry
ATTACH;FMTTYPE=image/jpeg:https://christcovcincy.org/wp-content/uploads/2025/04/Youth-Swim-Time.jpg
END:VEVENT
BEGIN:VEVENT
DTSTART;TZID=America/New_York:20250605T170000
DTEND;TZID=America/New_York:20250605T203000
DTSTAMP:20260424T014114
CREATED:20250430T172014Z
LAST-MODIFIED:20250626T143956Z
UID:10006004-1749142800-1749155400@christcovcincy.org
SUMMARY:Fantastic Family Night
DESCRIPTION:GOD’S BIG BUILD: Bring your kids\, grandkids\, cousins\, and neighbors ages 5-12 every Thursday in June for an adventure in the book of Nehemiah. Bible lessons\, songs\, crafts\, and activities will help kids discover what God is passionate about building and how they can join in! Dinner for the whole family begins at 5 p.m. Program is from 5:45-8 p.m. Activities for parents too! Location: church office and picnic area. An email will be sent in the case of bad weather to notify of a move to the church building on Struble.
URL:https://christcovcincy.org/event/fantastic-family-night/2025-06-05/
LOCATION:Christ Covenant picnic and office complex\, 2192 Springdale Rd.\, Cincinnati\, OH\, 45231\, United States
CATEGORIES:Children's Ministry,summer gatherings
ATTACH;FMTTYPE=image/png:https://christcovcincy.org/wp-content/uploads/2025/05/Big-Build-Logo-003.png
END:VEVENT
BEGIN:VEVENT
DTSTART;TZID=UTC:20250605T173000
DTEND;TZID=UTC:20250605T183000
DTSTAMP:20260424T014114
CREATED:20220714T195703Z
LAST-MODIFIED:20250828T182812Z
UID:10006213-1749144600-1749148200@christcovcincy.org
SUMMARY:Weekly Prayer Group
DESCRIPTION:WEEKLY PRAYER GROUP: This ongoing prayer group that meets via Zoom every Thursday evening from 5:30-6:30 p.m. Contact Ruth Cload for the Zoom link.
URL:https://christcovcincy.org/event/weekly-prayer-group/2025-06-05/
ATTACH;FMTTYPE=image/jpeg:https://christcovcincy.org/wp-content/uploads/2023/03/ZoomPrayerMeeting.jpg
END:VEVENT
BEGIN:VEVENT
DTSTART;TZID=America/New_York:20250605T174500
DTEND;TZID=America/New_York:20250605T183000
DTSTAMP:20260424T014114
CREATED:20250605T153026Z
LAST-MODIFIED:20250605T153026Z
UID:10006801-1749145500-1749148200@christcovcincy.org
SUMMARY:Choir Rehearsal
DESCRIPTION:Rehearsal in the sanctuary to prepare for Pentecost on June 8
URL:https://christcovcincy.org/event/choir-rehearsal-19/
LOCATION:Christ Covenant Church\, 2191 Struble Rd\, Cincinnati\, 45231\, United States
ATTACH;FMTTYPE=image/jpeg:https://christcovcincy.org/wp-content/uploads/2023/03/ChancelChoirforWeb.jpg
END:VEVENT
BEGIN:VEVENT
DTSTART;TZID=America/Halifax:20250606T184500
DTEND;TZID=America/Halifax:20250606T204500
DTSTAMP:20260424T014114
CREATED:20241219T170613Z
LAST-MODIFIED:20250508T135833Z
UID:10005244-1749235500-1749242700@christcovcincy.org
SUMMARY:Private Event
DESCRIPTION:Prather Martial Arts Competition Team Practice
URL:https://christcovcincy.org/event/private-event-89/2025-06-06/
LOCATION:Church Fellowship Hall
CATEGORIES:private event
ATTACH;FMTTYPE=image/jpeg:https://christcovcincy.org/wp-content/uploads/2023/06/privateeventcalendar.jpg
END:VEVENT
BEGIN:VEVENT
DTSTART;TZID=America/Halifax:20250607T073000
DTEND;TZID=America/Halifax:20250607T090000
DTSTAMP:20260424T014114
CREATED:20241024T163346Z
LAST-MODIFIED:20260122T201225Z
UID:10005647-1749281400-1749286800@christcovcincy.org
SUMMARY:Men's Bible Study
DESCRIPTION:Join the Men of Christ Covenant as they continue their study through the book of I Samuel.
URL:https://christcovcincy.org/event/mens-bible-study-3-2025-02-01/2025-06-07/
LOCATION:Chapel @ Christ Covenant Church Office\, 2192 Springdale Rd\, Cincinnati\, OH\, 45231
CATEGORIES:Men's Discipleship
ATTACH;FMTTYPE=image/jpeg:https://christcovcincy.org/wp-content/uploads/2023/02/MensBibleStudy-copy.jpg
END:VEVENT
BEGIN:VEVENT
DTSTART;TZID=America/New_York:20250607T093000
DTEND;TZID=America/New_York:20250607T103000
DTSTAMP:20260424T014114
CREATED:20250606T190220Z
LAST-MODIFIED:20250606T190220Z
UID:10006802-1749288600-1749292200@christcovcincy.org
SUMMARY:Choir Rehearsal
DESCRIPTION:An additional rehearsal opportunity for Pentecost music
URL:https://christcovcincy.org/event/choir-rehearsal-20/
LOCATION:Christ Covenant Church\, 2191 Struble Rd\, Cincinnati\, 45231\, United States
ATTACH;FMTTYPE=image/jpeg:https://christcovcincy.org/wp-content/uploads/2023/03/ChancelChoirforWeb.jpg
END:VEVENT
BEGIN:VEVENT
DTSTART;VALUE=DATE:20250608
DTEND;VALUE=DATE:20250609
DTSTAMP:20260424T014114
CREATED:20250606T190349Z
LAST-MODIFIED:20250606T190349Z
UID:10006803-1749340800-1749427199@christcovcincy.org
SUMMARY:Pentecost
DESCRIPTION:
URL:https://christcovcincy.org/event/pentecost/
END:VEVENT
BEGIN:VEVENT
DTSTART;TZID=UTC:20250608T103000
DTEND;TZID=UTC:20250608T233000
DTSTAMP:20260424T014114
CREATED:20220714T235224Z
LAST-MODIFIED:20260327T170225Z
UID:10004241-1749378600-1749425400@christcovcincy.org
SUMMARY:Sunday Service @ 10:30am
DESCRIPTION:Join us for Worship! 10:30 am
URL:https://christcovcincy.org/event/sunday-service-1030am/2025-06-08/
LOCATION:Christ Covenant Church\, 2191 Struble Rd\, Cincinnati\, 45231\, United States
ATTACH;FMTTYPE=image/jpeg:https://christcovcincy.org/wp-content/uploads/2023/02/SundayService.jpg
END:VEVENT
BEGIN:VEVENT
DTSTART;TZID=America/Halifax:20250608T170000
DTEND;TZID=America/Halifax:20250608T200000
DTSTAMP:20260424T014114
CREATED:20250115T210555Z
LAST-MODIFIED:20250417T155006Z
UID:10005743-1749402000-1749412800@christcovcincy.org
SUMMARY:Sunday Night Fellowship
DESCRIPTION:Game Show Night \nAlways wanted to be on a Game Show? Come for pizza dinner; stay for the family-friendly competition. \nMain Course: pizza (provided) / Bring 12 servings according to your last name – A-G: Salad\, H-M: Fruit\, N-Z: Dessert
URL:https://christcovcincy.org/event/sunday-night-fellowship-3/
LOCATION:Christ Covenant picnic and office complex\, 2192 Springdale Rd.\, Cincinnati\, OH\, 45231\, United States
CATEGORIES:fellowships,summer gatherings
ATTACH;FMTTYPE=image/jpeg:https://christcovcincy.org/wp-content/uploads/2025/03/SundayNightFellowships2025.jpg
END:VEVENT
BEGIN:VEVENT
DTSTART;TZID=America/New_York:20250609T175000
DTEND;TZID=America/New_York:20250609T203000
DTSTAMP:20260424T014114
CREATED:20250508T185706Z
LAST-MODIFIED:20250508T185706Z
UID:10006474-1749491400-1749501000@christcovcincy.org
SUMMARY:Music on the Move
DESCRIPTION:This week we will gather in song with Dick & Pat Wray.  Meet at the church office parking lot at 5:50 p.m. to carpool.  We will meet at the Wray’s home at 6:30 p.m.  Sign up in the foyer\, or contact Steve Aldredge\, Judy Langdon\, or Sue Brown.
URL:https://christcovcincy.org/event/music-on-the-move-4/
ATTACH;FMTTYPE=image/jpeg:https://christcovcincy.org/wp-content/uploads/2024/05/MusicontheMovecalendar.jpg
END:VEVENT
BEGIN:VEVENT
DTSTART;TZID=America/New_York:20250610T150000
DTEND;TZID=America/New_York:20250610T170000
DTSTAMP:20260424T014114
CREATED:20250528T163758Z
LAST-MODIFIED:20250620T161128Z
UID:10006748-1749567600-1749574800@christcovcincy.org
SUMMARY:Family Swim Time
DESCRIPTION:
URL:https://christcovcincy.org/event/family-swim-time-6/2025-06-10/
LOCATION:Swimming Pool
CATEGORIES:Children's Ministry
ATTACH;FMTTYPE=image/jpeg:https://christcovcincy.org/wp-content/uploads/2023/05/Swim.jpg
END:VEVENT
BEGIN:VEVENT
DTSTART;TZID=America/New_York:20250610T190000
DTEND;TZID=America/New_York:20250610T203000
DTSTAMP:20260424T014114
CREATED:20250416T154429Z
LAST-MODIFIED:20250821T180224Z
UID:10005931-1749582000-1749587400@christcovcincy.org
SUMMARY:Volleyball
DESCRIPTION:
URL:https://christcovcincy.org/event/volleyball-2/2025-06-10/
LOCATION:Christ Covenant picnic and office complex\, 2192 Springdale Rd.\, Cincinnati\, OH\, 45231\, United States
CATEGORIES:fellowships
ATTACH;FMTTYPE=image/jpeg:https://christcovcincy.org/wp-content/uploads/2023/05/volley.jpg
END:VEVENT
BEGIN:VEVENT
DTSTART;TZID=America/Halifax:20250610T203000
DTEND;TZID=America/Halifax:20250610T230000
DTSTAMP:20260424T014114
CREATED:20240503T202921Z
LAST-MODIFIED:20250925T184031Z
UID:10005372-1749587400-1749596400@christcovcincy.org
SUMMARY:ManCave
DESCRIPTION:Men (high school age and older) are encouraged to come join in this time of fellowship and study of Proverbs.
URL:https://christcovcincy.org/event/mancave-2/2025-06-10/
LOCATION:Church Fire Pit\, 2192 Springdale Road\, Cincinnati\, OH\, 45231
CATEGORIES:Men's Discipleship
ATTACH;FMTTYPE=image/jpeg:https://christcovcincy.org/wp-content/uploads/2022/10/Mancave-1.jpg
END:VEVENT
BEGIN:VEVENT
DTSTART;TZID=America/New_York:20250611T124500
DTEND;TZID=America/New_York:20250611T144500
DTSTAMP:20260424T014114
CREATED:20250410T152254Z
LAST-MODIFIED:20250806T164647Z
UID:10005826-1749645900-1749653100@christcovcincy.org
SUMMARY:Youth Swim Time
DESCRIPTION:
URL:https://christcovcincy.org/event/youth-swim-time-2/2025-06-11/
LOCATION:Swimming Pool
CATEGORIES:Youth Ministry
ATTACH;FMTTYPE=image/jpeg:https://christcovcincy.org/wp-content/uploads/2025/04/Youth-Swim-Time.jpg
END:VEVENT
BEGIN:VEVENT
DTSTART;TZID=America/New_York:20250612T170000
DTEND;TZID=America/New_York:20250612T203000
DTSTAMP:20260424T014114
CREATED:20250430T172014Z
LAST-MODIFIED:20250626T143956Z
UID:10006005-1749747600-1749760200@christcovcincy.org
SUMMARY:Fantastic Family Night
DESCRIPTION:GOD’S BIG BUILD: Bring your kids\, grandkids\, cousins\, and neighbors ages 5-12 every Thursday in June for an adventure in the book of Nehemiah. Bible lessons\, songs\, crafts\, and activities will help kids discover what God is passionate about building and how they can join in! Dinner for the whole family begins at 5 p.m. Program is from 5:45-8 p.m. Activities for parents too! Location: church office and picnic area. An email will be sent in the case of bad weather to notify of a move to the church building on Struble.
URL:https://christcovcincy.org/event/fantastic-family-night/2025-06-12/
LOCATION:Christ Covenant picnic and office complex\, 2192 Springdale Rd.\, Cincinnati\, OH\, 45231\, United States
CATEGORIES:Children's Ministry,summer gatherings
ATTACH;FMTTYPE=image/png:https://christcovcincy.org/wp-content/uploads/2025/05/Big-Build-Logo-003.png
END:VEVENT
BEGIN:VEVENT
DTSTART;TZID=UTC:20250612T173000
DTEND;TZID=UTC:20250612T183000
DTSTAMP:20260424T014114
CREATED:20220714T195703Z
LAST-MODIFIED:20250828T182812Z
UID:10006214-1749749400-1749753000@christcovcincy.org
SUMMARY:Weekly Prayer Group
DESCRIPTION:WEEKLY PRAYER GROUP: This ongoing prayer group that meets via Zoom every Thursday evening from 5:30-6:30 p.m. Contact Ruth Cload for the Zoom link.
URL:https://christcovcincy.org/event/weekly-prayer-group/2025-06-12/
ATTACH;FMTTYPE=image/jpeg:https://christcovcincy.org/wp-content/uploads/2023/03/ZoomPrayerMeeting.jpg
END:VEVENT
BEGIN:VEVENT
DTSTART;TZID=America/Halifax:20250613T100000
DTEND;TZID=America/Halifax:20250613T130000
DTSTAMP:20260424T014114
CREATED:20241231T172707Z
LAST-MODIFIED:20250205T195016Z
UID:10005258-1749808800-1749819600@christcovcincy.org
SUMMARY:Silver Heirs
DESCRIPTION:Join the Senior Saints of the church for a time of fun and fellowship as we enjoy an interesting program and boxed lunch.  Bring your friends!  For specific monthly program details\, see the weekly Church Life.
URL:https://christcovcincy.org/event/silver-heirs-4-2025-03-14/2025-06-13/
LOCATION:Church Fellowship Hall
CATEGORIES:fellowships
ATTACH;FMTTYPE=image/jpeg:https://christcovcincy.org/wp-content/uploads/2023/01/SilverHeirs.jpg
END:VEVENT
BEGIN:VEVENT
DTSTART;TZID=America/Halifax:20250613T190000
DTEND;TZID=America/Halifax:20250613T213000
DTSTAMP:20260424T014114
CREATED:20250326T192050Z
LAST-MODIFIED:20260225T173920Z
UID:10006800-1749841200-1749850200@christcovcincy.org
SUMMARY:Women's Game Night
DESCRIPTION:Let’s get together for fun and games! We will gather at Luana Roof’s home in Monfort Heights from 7:00-9:30 pm. Come to enjoy conversation and games! Bring a snack to share if you wish. For more information\, contact Tina Miller at tmiller@christcovcincy.org.
URL:https://christcovcincy.org/event/womens-game-night-7/2025-06-13/
LOCATION:Luana Roof’s home
CATEGORIES:fellowships,Women's Discipleship
ATTACH;FMTTYPE=image/jpeg:https://christcovcincy.org/wp-content/uploads/2023/01/WomensFellowshipNight.jpg
END:VEVENT
BEGIN:VEVENT
DTSTART;TZID=UTC:20250615T103000
DTEND;TZID=UTC:20250615T233000
DTSTAMP:20260424T014114
CREATED:20220714T235224Z
LAST-MODIFIED:20260327T170225Z
UID:10004242-1749983400-1750030200@christcovcincy.org
SUMMARY:Sunday Service @ 10:30am
DESCRIPTION:Join us for Worship! 10:30 am
URL:https://christcovcincy.org/event/sunday-service-1030am/2025-06-15/
LOCATION:Christ Covenant Church\, 2191 Struble Rd\, Cincinnati\, 45231\, United States
ATTACH;FMTTYPE=image/jpeg:https://christcovcincy.org/wp-content/uploads/2023/02/SundayService.jpg
END:VEVENT
BEGIN:VEVENT
DTSTART;TZID=America/Halifax:20250616T163000
DTEND;TZID=America/Halifax:20250616T180000
DTSTAMP:20260424T014114
CREATED:20250508T184757Z
LAST-MODIFIED:20250611T145139Z
UID:10005697-1750091400-1750096800@christcovcincy.org
SUMMARY:Deacon Meeting
DESCRIPTION:
URL:https://christcovcincy.org/event/deacon-meeting-4-2/
LOCATION:Library @ Christ Covenant Church Office
ATTACH;FMTTYPE=image/png:https://christcovcincy.org/wp-content/uploads/2022/07/Board-Meeting.png
END:VEVENT
BEGIN:VEVENT
DTSTART;TZID=America/New_York:20250616T175000
DTEND;TZID=America/New_York:20250616T203000
DTSTAMP:20260424T014114
CREATED:20250508T185833Z
LAST-MODIFIED:20250508T185833Z
UID:10006475-1750096200-1750105800@christcovcincy.org
SUMMARY:Music on the Move
DESCRIPTION:This week we will gather in song with Ann Kintner.  Meet at the church office parking lot at 5:50 p.m. to carpool.  We will meet at Ann’s home at 6:30 p.m.  Sign up in the foyer\, or contact Steve Aldredge\, Judy Langdon\, or Sue Brown.
URL:https://christcovcincy.org/event/music-on-the-move-5/
ATTACH;FMTTYPE=image/jpeg:https://christcovcincy.org/wp-content/uploads/2024/05/MusicontheMovecalendar.jpg
END:VEVENT
END:VCALENDAR