BEGIN:VCALENDAR
VERSION:2.0
PRODID:-//Christ Covenant Church - ECPv6.15.20//NONSGML v1.0//EN
CALSCALE:GREGORIAN
METHOD:PUBLISH
X-ORIGINAL-URL:https://christcovcincy.org
X-WR-CALDESC:Events for Christ Covenant Church
REFRESH-INTERVAL;VALUE=DURATION:PT1H
X-Robots-Tag:noindex
X-PUBLISHED-TTL:PT1H
BEGIN:VTIMEZONE
TZID:America/Halifax
BEGIN:DAYLIGHT
TZOFFSETFROM:-0400
TZOFFSETTO:-0300
TZNAME:ADT
DTSTART:20240310T060000
END:DAYLIGHT
BEGIN:STANDARD
TZOFFSETFROM:-0300
TZOFFSETTO:-0400
TZNAME:AST
DTSTART:20241103T050000
END:STANDARD
BEGIN:DAYLIGHT
TZOFFSETFROM:-0400
TZOFFSETTO:-0300
TZNAME:ADT
DTSTART:20250309T060000
END:DAYLIGHT
BEGIN:STANDARD
TZOFFSETFROM:-0300
TZOFFSETTO:-0400
TZNAME:AST
DTSTART:20251102T050000
END:STANDARD
BEGIN:DAYLIGHT
TZOFFSETFROM:-0400
TZOFFSETTO:-0300
TZNAME:ADT
DTSTART:20260308T060000
END:DAYLIGHT
BEGIN:STANDARD
TZOFFSETFROM:-0300
TZOFFSETTO:-0400
TZNAME:AST
DTSTART:20261101T050000
END:STANDARD
END:VTIMEZONE
BEGIN:VTIMEZONE
TZID:America/New_York
BEGIN:DAYLIGHT
TZOFFSETFROM:-0500
TZOFFSETTO:-0400
TZNAME:EDT
DTSTART:20240310T070000
END:DAYLIGHT
BEGIN:STANDARD
TZOFFSETFROM:-0400
TZOFFSETTO:-0500
TZNAME:EST
DTSTART:20241103T060000
END:STANDARD
BEGIN:DAYLIGHT
TZOFFSETFROM:-0500
TZOFFSETTO:-0400
TZNAME:EDT
DTSTART:20250309T070000
END:DAYLIGHT
BEGIN:STANDARD
TZOFFSETFROM:-0400
TZOFFSETTO:-0500
TZNAME:EST
DTSTART:20251102T060000
END:STANDARD
BEGIN:DAYLIGHT
TZOFFSETFROM:-0500
TZOFFSETTO:-0400
TZNAME:EDT
DTSTART:20260308T070000
END:DAYLIGHT
BEGIN:STANDARD
TZOFFSETFROM:-0400
TZOFFSETTO:-0500
TZNAME:EST
DTSTART:20261101T060000
END:STANDARD
END:VTIMEZONE
BEGIN:VTIMEZONE
TZID:UTC
BEGIN:STANDARD
TZOFFSETFROM:+0000
TZOFFSETTO:+0000
TZNAME:UTC
DTSTART:20240101T000000
END:STANDARD
END:VTIMEZONE
BEGIN:VEVENT
DTSTART;TZID=America/Halifax:20250802T073000
DTEND;TZID=America/Halifax:20250802T090000
DTSTAMP:20260424T001333
CREATED:20241024T163346Z
LAST-MODIFIED:20260122T201225Z
UID:10005649-1754119800-1754125200@christcovcincy.org
SUMMARY:Men's Bible Study
DESCRIPTION:Join the Men of Christ Covenant as they continue their study through the book of I Samuel.
URL:https://christcovcincy.org/event/mens-bible-study-3-2025-02-01/2025-08-02/
LOCATION:Chapel @ Christ Covenant Church Office\, 2192 Springdale Rd\, Cincinnati\, OH\, 45231
CATEGORIES:Men's Discipleship
ATTACH;FMTTYPE=image/jpeg:https://christcovcincy.org/wp-content/uploads/2023/02/MensBibleStudy-copy.jpg
END:VEVENT
BEGIN:VEVENT
DTSTART;TZID=America/New_York:20250802T120000
DTEND;TZID=America/New_York:20250802T200000
DTSTAMP:20260424T001333
CREATED:20250618T135955Z
LAST-MODIFIED:20250618T135955Z
UID:10006808-1754136000-1754164800@christcovcincy.org
SUMMARY:Private Event
DESCRIPTION:
URL:https://christcovcincy.org/event/private-event-100/
LOCATION:Swimming Pool
ATTACH;FMTTYPE=image/jpeg:https://christcovcincy.org/wp-content/uploads/2023/06/privateeventcalendar.jpg
END:VEVENT
BEGIN:VEVENT
DTSTART;TZID=America/Halifax:20250802T130000
DTEND;TZID=America/Halifax:20250808T100000
DTSTAMP:20260424T001333
CREATED:20250115T211804Z
LAST-MODIFIED:20250115T211804Z
UID:10005750-1754139600-1754647200@christcovcincy.org
SUMMARY:Family Camp @ Cedar Bay\, MI
DESCRIPTION:
URL:https://christcovcincy.org/event/family-camp-cedar-bay-mi-3/
CATEGORIES:fellowships
ATTACH;FMTTYPE=image/jpeg:https://christcovcincy.org/wp-content/uploads/2023/03/Cedar-Bay-sign-1.jpg
END:VEVENT
BEGIN:VEVENT
DTSTART;TZID=UTC:20250803T103000
DTEND;TZID=UTC:20250803T233000
DTSTAMP:20260424T001333
CREATED:20220714T235224Z
LAST-MODIFIED:20260327T170225Z
UID:10004249-1754217000-1754263800@christcovcincy.org
SUMMARY:Sunday Service @ 10:30am
DESCRIPTION:Join us for Worship! 10:30 am
URL:https://christcovcincy.org/event/sunday-service-1030am/2025-08-03/
LOCATION:Christ Covenant Church\, 2191 Struble Rd\, Cincinnati\, 45231\, United States
ATTACH;FMTTYPE=image/jpeg:https://christcovcincy.org/wp-content/uploads/2023/02/SundayService.jpg
END:VEVENT
BEGIN:VEVENT
DTSTART;TZID=America/New_York:20250805T150000
DTEND;TZID=America/New_York:20250805T170000
DTSTAMP:20260424T001333
CREATED:20250528T163758Z
LAST-MODIFIED:20250620T161128Z
UID:10006756-1754406000-1754413200@christcovcincy.org
SUMMARY:Family Swim Time
DESCRIPTION:
URL:https://christcovcincy.org/event/family-swim-time-6/2025-08-05/
LOCATION:Swimming Pool
CATEGORIES:Children's Ministry
ATTACH;FMTTYPE=image/jpeg:https://christcovcincy.org/wp-content/uploads/2023/05/Swim.jpg
END:VEVENT
BEGIN:VEVENT
DTSTART;TZID=America/New_York:20250805T183000
DTEND;TZID=America/New_York:20250805T200000
DTSTAMP:20260424T001333
CREATED:20250416T154429Z
LAST-MODIFIED:20250821T180224Z
UID:10005939-1754418600-1754424000@christcovcincy.org
SUMMARY:Volleyball
DESCRIPTION:
URL:https://christcovcincy.org/event/volleyball-2/2025-08-05/
LOCATION:Christ Covenant picnic and office complex\, 2192 Springdale Rd.\, Cincinnati\, OH\, 45231\, United States
CATEGORIES:fellowships
ATTACH;FMTTYPE=image/jpeg:https://christcovcincy.org/wp-content/uploads/2023/05/volley.jpg
END:VEVENT
BEGIN:VEVENT
DTSTART;TZID=America/New_York:20250807T150000
DTEND;TZID=America/New_York:20250807T170000
DTSTAMP:20260424T001333
CREATED:20250528T163943Z
LAST-MODIFIED:20250827T144903Z
UID:10006765-1754578800-1754586000@christcovcincy.org
SUMMARY:Family Swim Time
DESCRIPTION:
URL:https://christcovcincy.org/event/family-swim-time-7/2025-08-07/
LOCATION:Swimming Pool
CATEGORIES:Children's Ministry,summer gatherings
ATTACH;FMTTYPE=image/jpeg:https://christcovcincy.org/wp-content/uploads/2023/05/Swim.jpg
END:VEVENT
BEGIN:VEVENT
DTSTART;TZID=UTC:20250807T173000
DTEND;TZID=UTC:20250807T183000
DTSTAMP:20260424T001333
CREATED:20220714T195703Z
LAST-MODIFIED:20250828T182812Z
UID:10006222-1754587800-1754591400@christcovcincy.org
SUMMARY:Weekly Prayer Group
DESCRIPTION:WEEKLY PRAYER GROUP: This ongoing prayer group that meets via Zoom every Thursday evening from 5:30-6:30 p.m. Contact Ruth Cload for the Zoom link.
URL:https://christcovcincy.org/event/weekly-prayer-group/2025-08-07/
ATTACH;FMTTYPE=image/jpeg:https://christcovcincy.org/wp-content/uploads/2023/03/ZoomPrayerMeeting.jpg
END:VEVENT
BEGIN:VEVENT
DTSTART;TZID=UTC:20250810T103000
DTEND;TZID=UTC:20250810T233000
DTSTAMP:20260424T001333
CREATED:20220714T235224Z
LAST-MODIFIED:20260327T170225Z
UID:10004250-1754821800-1754868600@christcovcincy.org
SUMMARY:Sunday Service @ 10:30am
DESCRIPTION:Join us for Worship! 10:30 am
URL:https://christcovcincy.org/event/sunday-service-1030am/2025-08-10/
LOCATION:Christ Covenant Church\, 2191 Struble Rd\, Cincinnati\, 45231\, United States
ATTACH;FMTTYPE=image/jpeg:https://christcovcincy.org/wp-content/uploads/2023/02/SundayService.jpg
END:VEVENT
BEGIN:VEVENT
DTSTART;TZID=America/New_York:20250810T140000
DTEND;TZID=America/New_York:20250810T153000
DTSTAMP:20260424T001333
CREATED:20250724T142657Z
LAST-MODIFIED:20250724T142657Z
UID:10006921-1754834400-1754839800@christcovcincy.org
SUMMARY:Music on the Move
DESCRIPTION:This week we will share a special Sunday afternoon time of singing with Don & Mary Ann Harkrader.  Gather in the foyer after worship to carpool to lunch together. We will go to the Harkrader’s together around 2 p.m. following lunch.  Sign up in the foyer\, or contact Steve Aldredge\, Judy Langdon\, or Sue Brown.
URL:https://christcovcincy.org/event/music-on-the-move-10/
CATEGORIES:summer gatherings
ATTACH;FMTTYPE=image/jpeg:https://christcovcincy.org/wp-content/uploads/2024/05/MusicontheMovecalendar.jpg
END:VEVENT
BEGIN:VEVENT
DTSTART;TZID=America/New_York:20250810T170000
DTEND;TZID=America/New_York:20250810T200000
DTSTAMP:20260424T001333
CREATED:20250410T151414Z
LAST-MODIFIED:20250410T152415Z
UID:10005822-1754845200-1754856000@christcovcincy.org
SUMMARY:Youth Group
DESCRIPTION:
URL:https://christcovcincy.org/event/youth-group-11/2025-08-10/
LOCATION:Christ Covenant picnic and office complex\, 2192 Springdale Rd.\, Cincinnati\, OH\, 45231\, United States
CATEGORIES:Youth Ministry
ATTACH;FMTTYPE=image/jpeg:https://christcovcincy.org/wp-content/uploads/2023/05/YouthGroup.jpg
END:VEVENT
BEGIN:VEVENT
DTSTART;TZID=UTC:20250811T190000
DTEND;TZID=UTC:20250811T210000
DTSTAMP:20260424T001333
CREATED:20221122T221642Z
LAST-MODIFIED:20250521T182505Z
UID:10004627-1754938800-1754946000@christcovcincy.org
SUMMARY:Session Meeting
DESCRIPTION:
URL:https://christcovcincy.org/event/session-meeting-2/2025-08-11/
LOCATION:Chapel @ Christ Covenant Church Office\, 2192 Springdale Rd\, Cincinnati\, OH\, 45231
ATTACH;FMTTYPE=image/png:https://christcovcincy.org/wp-content/uploads/2022/07/Board-Meeting.png
END:VEVENT
BEGIN:VEVENT
DTSTART;TZID=America/Halifax:20250811T190000
DTEND;TZID=America/Halifax:20250811T210000
DTSTAMP:20260424T001333
CREATED:20250115T202508Z
LAST-MODIFIED:20251001T134226Z
UID:10006968-1754938800-1754946000@christcovcincy.org
SUMMARY:Deacon Meeting
DESCRIPTION:
URL:https://christcovcincy.org/event/deacon-meeting-4/2025-08-11/
LOCATION:Library @ Christ Covenant Church Office
ATTACH;FMTTYPE=image/png:https://christcovcincy.org/wp-content/uploads/2022/07/Board-Meeting.png
END:VEVENT
BEGIN:VEVENT
DTSTART;TZID=America/New_York:20250812T150000
DTEND;TZID=America/New_York:20250812T170000
DTSTAMP:20260424T001333
CREATED:20250528T163758Z
LAST-MODIFIED:20250620T161128Z
UID:10006757-1755010800-1755018000@christcovcincy.org
SUMMARY:Family Swim Time
DESCRIPTION:
URL:https://christcovcincy.org/event/family-swim-time-6/2025-08-12/
LOCATION:Swimming Pool
CATEGORIES:Children's Ministry
ATTACH;FMTTYPE=image/jpeg:https://christcovcincy.org/wp-content/uploads/2023/05/Swim.jpg
END:VEVENT
BEGIN:VEVENT
DTSTART;TZID=America/New_York:20250812T183000
DTEND;TZID=America/New_York:20250812T200000
DTSTAMP:20260424T001333
CREATED:20250416T154429Z
LAST-MODIFIED:20250821T180224Z
UID:10005941-1755023400-1755028800@christcovcincy.org
SUMMARY:Volleyball
DESCRIPTION:
URL:https://christcovcincy.org/event/volleyball-2/2025-08-12/
LOCATION:Christ Covenant picnic and office complex\, 2192 Springdale Rd.\, Cincinnati\, OH\, 45231\, United States
CATEGORIES:fellowships
ATTACH;FMTTYPE=image/jpeg:https://christcovcincy.org/wp-content/uploads/2023/05/volley.jpg
END:VEVENT
BEGIN:VEVENT
DTSTART;TZID=America/Halifax:20250812T203000
DTEND;TZID=America/Halifax:20250812T230000
DTSTAMP:20260424T001333
CREATED:20240503T202921Z
LAST-MODIFIED:20250925T184031Z
UID:10005374-1755030600-1755039600@christcovcincy.org
SUMMARY:ManCave
DESCRIPTION:Men (high school age and older) are encouraged to come join in this time of fellowship and study of Proverbs.
URL:https://christcovcincy.org/event/mancave-2/2025-08-12/
LOCATION:Church Fire Pit\, 2192 Springdale Road\, Cincinnati\, OH\, 45231
CATEGORIES:Men's Discipleship
ATTACH;FMTTYPE=image/jpeg:https://christcovcincy.org/wp-content/uploads/2022/10/Mancave-1.jpg
END:VEVENT
BEGIN:VEVENT
DTSTART;TZID=America/New_York:20250813T124500
DTEND;TZID=America/New_York:20250813T144500
DTSTAMP:20260424T001333
CREATED:20250410T152254Z
LAST-MODIFIED:20250806T164647Z
UID:10005835-1755089100-1755096300@christcovcincy.org
SUMMARY:Youth Swim Time
DESCRIPTION:
URL:https://christcovcincy.org/event/youth-swim-time-2/2025-08-13/
LOCATION:Swimming Pool
CATEGORIES:Youth Ministry
ATTACH;FMTTYPE=image/jpeg:https://christcovcincy.org/wp-content/uploads/2025/04/Youth-Swim-Time.jpg
END:VEVENT
BEGIN:VEVENT
DTSTART;TZID=America/New_York:20250814T150000
DTEND;TZID=America/New_York:20250814T170000
DTSTAMP:20260424T001333
CREATED:20250528T163943Z
LAST-MODIFIED:20250827T144903Z
UID:10006766-1755183600-1755190800@christcovcincy.org
SUMMARY:Family Swim Time
DESCRIPTION:
URL:https://christcovcincy.org/event/family-swim-time-7/2025-08-14/
LOCATION:Swimming Pool
CATEGORIES:Children's Ministry,summer gatherings
ATTACH;FMTTYPE=image/jpeg:https://christcovcincy.org/wp-content/uploads/2023/05/Swim.jpg
END:VEVENT
BEGIN:VEVENT
DTSTART;TZID=UTC:20250814T173000
DTEND;TZID=UTC:20250814T183000
DTSTAMP:20260424T001333
CREATED:20220714T195703Z
LAST-MODIFIED:20250828T182812Z
UID:10006223-1755192600-1755196200@christcovcincy.org
SUMMARY:Weekly Prayer Group
DESCRIPTION:WEEKLY PRAYER GROUP: This ongoing prayer group that meets via Zoom every Thursday evening from 5:30-6:30 p.m. Contact Ruth Cload for the Zoom link.
URL:https://christcovcincy.org/event/weekly-prayer-group/2025-08-14/
ATTACH;FMTTYPE=image/jpeg:https://christcovcincy.org/wp-content/uploads/2023/03/ZoomPrayerMeeting.jpg
END:VEVENT
BEGIN:VEVENT
DTSTART;TZID=America/New_York:20250816T140000
DTEND;TZID=America/New_York:20250816T200000
DTSTAMP:20260424T001333
CREATED:20250723T175032Z
LAST-MODIFIED:20250723T175032Z
UID:10006905-1755352800-1755374400@christcovcincy.org
SUMMARY:Private Event
DESCRIPTION:Family birthday party for K Crisp
URL:https://christcovcincy.org/event/private-event-103/
LOCATION:Christ Covenant picnic and office complex\, 2192 Springdale Rd.\, Cincinnati\, OH\, 45231\, United States
CATEGORIES:private event
ATTACH;FMTTYPE=image/jpeg:https://christcovcincy.org/wp-content/uploads/2023/06/privateeventcalendar.jpg
END:VEVENT
BEGIN:VEVENT
DTSTART;TZID=UTC:20250817T103000
DTEND;TZID=UTC:20250817T233000
DTSTAMP:20260424T001333
CREATED:20220714T235224Z
LAST-MODIFIED:20260327T170225Z
UID:10004251-1755426600-1755473400@christcovcincy.org
SUMMARY:Sunday Service @ 10:30am
DESCRIPTION:Join us for Worship! 10:30 am
URL:https://christcovcincy.org/event/sunday-service-1030am/2025-08-17/
LOCATION:Christ Covenant Church\, 2191 Struble Rd\, Cincinnati\, 45231\, United States
ATTACH;FMTTYPE=image/jpeg:https://christcovcincy.org/wp-content/uploads/2023/02/SundayService.jpg
END:VEVENT
BEGIN:VEVENT
DTSTART;TZID=America/Halifax:20250817T170000
DTEND;TZID=America/Halifax:20250817T200000
DTSTAMP:20260424T001333
CREATED:20250417T160135Z
LAST-MODIFIED:20250806T164339Z
UID:10005998-1755450000-1755460800@christcovcincy.org
SUMMARY:Sunday Night Fellowship
DESCRIPTION:Pinewood Derby \nDesign your own miniature car to roll down our derby track.  Contestants of all ages are welcome to participate.  Hot dog dinner beforehand\, and plenty of popcorn and derby snacks to follow. \nMain Course: hot dog bar (provided) / Bring 12 servings according to your last name – A-G: Chips\, H-M: Dessert\, N-Z: Veggie Tray
URL:https://christcovcincy.org/event/sunday-night-fellowship-6/
LOCATION:Christ Covenant picnic and office complex\, 2192 Springdale Rd.\, Cincinnati\, OH\, 45231\, United States
CATEGORIES:Children's Ministry,fellowships,summer gatherings,Youth Ministry
ATTACH;FMTTYPE=image/jpeg:https://christcovcincy.org/wp-content/uploads/2025/03/SundayNightFellowships2025.jpg
END:VEVENT
BEGIN:VEVENT
DTSTART;TZID=UTC:20250818T190000
DTEND;TZID=UTC:20250818T210000
DTSTAMP:20260424T001333
CREATED:20221122T221840Z
LAST-MODIFIED:20251001T185731Z
UID:10004664-1755543600-1755550800@christcovcincy.org
SUMMARY:Trustee Meeting
DESCRIPTION:
URL:https://christcovcincy.org/event/trustees-meeting/2025-08-18/
LOCATION:Chapel @ Christ Covenant Church Office\, 2192 Springdale Rd\, Cincinnati\, OH\, 45231
ATTACH;FMTTYPE=image/png:https://christcovcincy.org/wp-content/uploads/2022/07/Board-Meeting.png
END:VEVENT
BEGIN:VEVENT
DTSTART;TZID=America/New_York:20250819T150000
DTEND;TZID=America/New_York:20250819T170000
DTSTAMP:20260424T001333
CREATED:20250528T163758Z
LAST-MODIFIED:20250620T161128Z
UID:10006758-1755615600-1755622800@christcovcincy.org
SUMMARY:Family Swim Time
DESCRIPTION:
URL:https://christcovcincy.org/event/family-swim-time-6/2025-08-19/
LOCATION:Swimming Pool
CATEGORIES:Children's Ministry
ATTACH;FMTTYPE=image/jpeg:https://christcovcincy.org/wp-content/uploads/2023/05/Swim.jpg
END:VEVENT
BEGIN:VEVENT
DTSTART;TZID=America/New_York:20250819T183000
DTEND;TZID=America/New_York:20250819T200000
DTSTAMP:20260424T001333
CREATED:20250416T154429Z
LAST-MODIFIED:20250821T180224Z
UID:10005943-1755628200-1755633600@christcovcincy.org
SUMMARY:Volleyball
DESCRIPTION:
URL:https://christcovcincy.org/event/volleyball-2/2025-08-19/
LOCATION:Christ Covenant picnic and office complex\, 2192 Springdale Rd.\, Cincinnati\, OH\, 45231\, United States
CATEGORIES:fellowships
ATTACH;FMTTYPE=image/jpeg:https://christcovcincy.org/wp-content/uploads/2023/05/volley.jpg
END:VEVENT
BEGIN:VEVENT
DTSTART;TZID=America/New_York:20250820T083000
DTEND;TZID=America/New_York:20250820T170000
DTSTAMP:20260424T001333
CREATED:20250723T174657Z
LAST-MODIFIED:20250723T174657Z
UID:10006871-1755678600-1755709200@christcovcincy.org
SUMMARY:CAFE Coop
DESCRIPTION:
URL:https://christcovcincy.org/event/cafe-coop-4/2025-08-20/
LOCATION:Christ Covenant Church\, 2191 Struble Rd\, Cincinnati\, 45231\, United States
ATTACH;FMTTYPE=image/jpeg:https://christcovcincy.org/wp-content/uploads/2024/09/CafeCoop.jpg
END:VEVENT
BEGIN:VEVENT
DTSTART;TZID=America/Halifax:20250820T111500
DTEND;TZID=America/Halifax:20250820T130000
DTSTAMP:20260424T001333
CREATED:20250115T204157Z
LAST-MODIFIED:20251203T194201Z
UID:10005716-1755688500-1755694800@christcovcincy.org
SUMMARY:Staff Meeting
DESCRIPTION:Staff typically meets on the 1st and 3rd Wednesday between 11:15am and 1:00pm in the chapel. \nDevotional Assignments: \nRich — Jan 15\, April 9\, July 23 \nIan — Feb 5\, May 7\, Aug 20 \nTina — March 5\, May 21 \nDavid — April 23\, July 9 \nColleen — Feb 19\, June 25 \nJoyce — March 19\, June 4
URL:https://christcovcincy.org/event/staff-meeting-4/2025-08-20/
LOCATION:Chapel @ Christ Covenant Church Office\, 2192 Springdale Rd\, Cincinnati\, OH\, 45231
ATTACH;FMTTYPE=image/jpeg:https://christcovcincy.org/wp-content/uploads/2023/01/staffmeeting.jpg
END:VEVENT
BEGIN:VEVENT
DTSTART;TZID=America/New_York:20250820T150000
DTEND;TZID=America/New_York:20250820T170000
DTSTAMP:20260424T001333
CREATED:20250528T163943Z
LAST-MODIFIED:20250827T144903Z
UID:10006971-1755702000-1755709200@christcovcincy.org
SUMMARY:Family Swim Time
DESCRIPTION:
URL:https://christcovcincy.org/event/family-swim-time-7/2025-08-20/
LOCATION:Swimming Pool
CATEGORIES:Children's Ministry,summer gatherings
ATTACH;FMTTYPE=image/jpeg:https://christcovcincy.org/wp-content/uploads/2023/05/Swim.jpg
END:VEVENT
BEGIN:VEVENT
DTSTART;TZID=UTC:20250821T173000
DTEND;TZID=UTC:20250821T183000
DTSTAMP:20260424T001333
CREATED:20220714T195703Z
LAST-MODIFIED:20250828T182812Z
UID:10006224-1755797400-1755801000@christcovcincy.org
SUMMARY:Weekly Prayer Group
DESCRIPTION:WEEKLY PRAYER GROUP: This ongoing prayer group that meets via Zoom every Thursday evening from 5:30-6:30 p.m. Contact Ruth Cload for the Zoom link.
URL:https://christcovcincy.org/event/weekly-prayer-group/2025-08-21/
ATTACH;FMTTYPE=image/jpeg:https://christcovcincy.org/wp-content/uploads/2023/03/ZoomPrayerMeeting.jpg
END:VEVENT
BEGIN:VEVENT
DTSTART;TZID=America/New_York:20250824T083000
DTEND;TZID=America/New_York:20250824T101500
DTSTAMP:20260424T001333
CREATED:20250410T175314Z
LAST-MODIFIED:20250822T184116Z
UID:10005840-1756024200-1756030500@christcovcincy.org
SUMMARY:Churchwide Sunday School Kick-off Breakfast
DESCRIPTION:The new Sunday School year kicks off with our annual  breakfast. The serving line begins at 8:30 a.m.\, followed by the presentation of the children promoting to new classes and prayer for our teachers and students. Don’t miss the blessing as you hear how God is at work in our discipleship opportunities and learn about the new fall teaching series for adults.
URL:https://christcovcincy.org/event/pancake-breakfast-2/
LOCATION:Church Fellowship Hall
CATEGORIES:Children's Ministry,Sunday School
ATTACH;FMTTYPE=image/jpeg:https://christcovcincy.org/wp-content/uploads/2025/08/SundaySchoolKickoffwebsite.jpg
END:VEVENT
END:VCALENDAR