BEGIN:VCALENDAR
VERSION:2.0
PRODID:-//Christ Covenant Church - ECPv6.15.20//NONSGML v1.0//EN
CALSCALE:GREGORIAN
METHOD:PUBLISH
X-ORIGINAL-URL:https://christcovcincy.org
X-WR-CALDESC:Events for Christ Covenant Church
REFRESH-INTERVAL;VALUE=DURATION:PT1H
X-Robots-Tag:noindex
X-PUBLISHED-TTL:PT1H
BEGIN:VTIMEZONE
TZID:America/Halifax
BEGIN:DAYLIGHT
TZOFFSETFROM:-0400
TZOFFSETTO:-0300
TZNAME:ADT
DTSTART:20240310T060000
END:DAYLIGHT
BEGIN:STANDARD
TZOFFSETFROM:-0300
TZOFFSETTO:-0400
TZNAME:AST
DTSTART:20241103T050000
END:STANDARD
BEGIN:DAYLIGHT
TZOFFSETFROM:-0400
TZOFFSETTO:-0300
TZNAME:ADT
DTSTART:20250309T060000
END:DAYLIGHT
BEGIN:STANDARD
TZOFFSETFROM:-0300
TZOFFSETTO:-0400
TZNAME:AST
DTSTART:20251102T050000
END:STANDARD
BEGIN:DAYLIGHT
TZOFFSETFROM:-0400
TZOFFSETTO:-0300
TZNAME:ADT
DTSTART:20260308T060000
END:DAYLIGHT
BEGIN:STANDARD
TZOFFSETFROM:-0300
TZOFFSETTO:-0400
TZNAME:AST
DTSTART:20261101T050000
END:STANDARD
END:VTIMEZONE
BEGIN:VTIMEZONE
TZID:America/New_York
BEGIN:DAYLIGHT
TZOFFSETFROM:-0500
TZOFFSETTO:-0400
TZNAME:EDT
DTSTART:20240310T070000
END:DAYLIGHT
BEGIN:STANDARD
TZOFFSETFROM:-0400
TZOFFSETTO:-0500
TZNAME:EST
DTSTART:20241103T060000
END:STANDARD
BEGIN:DAYLIGHT
TZOFFSETFROM:-0500
TZOFFSETTO:-0400
TZNAME:EDT
DTSTART:20250309T070000
END:DAYLIGHT
BEGIN:STANDARD
TZOFFSETFROM:-0400
TZOFFSETTO:-0500
TZNAME:EST
DTSTART:20251102T060000
END:STANDARD
BEGIN:DAYLIGHT
TZOFFSETFROM:-0500
TZOFFSETTO:-0400
TZNAME:EDT
DTSTART:20260308T070000
END:DAYLIGHT
BEGIN:STANDARD
TZOFFSETFROM:-0400
TZOFFSETTO:-0500
TZNAME:EST
DTSTART:20261101T060000
END:STANDARD
END:VTIMEZONE
BEGIN:VTIMEZONE
TZID:UTC
BEGIN:STANDARD
TZOFFSETFROM:+0000
TZOFFSETTO:+0000
TZNAME:UTC
DTSTART:20240101T000000
END:STANDARD
END:VTIMEZONE
BEGIN:VEVENT
DTSTART;TZID=America/Halifax:20251101T073000
DTEND;TZID=America/Halifax:20251101T090000
DTSTAMP:20260423T190948
CREATED:20241024T163346Z
LAST-MODIFIED:20260122T201225Z
UID:10005652-1761982200-1761987600@christcovcincy.org
SUMMARY:Men's Bible Study
DESCRIPTION:Join the Men of Christ Covenant as they continue their study through the book of I Samuel.
URL:https://christcovcincy.org/event/mens-bible-study-3-2025-02-01/2025-11-01/
LOCATION:Chapel @ Christ Covenant Church Office\, 2192 Springdale Rd\, Cincinnati\, OH\, 45231
CATEGORIES:Men's Discipleship
ATTACH;FMTTYPE=image/jpeg:https://christcovcincy.org/wp-content/uploads/2023/02/MensBibleStudy-copy.jpg
END:VEVENT
BEGIN:VEVENT
DTSTART;TZID=America/New_York:20251101T110000
DTEND;TZID=America/New_York:20251101T143000
DTSTAMP:20260423T190948
CREATED:20251015T141044Z
LAST-MODIFIED:20251015T141044Z
UID:10007325-1761994800-1762007400@christcovcincy.org
SUMMARY:Memorial Service
DESCRIPTION:Service for Toni B. at 11am\, followed by a luncheon in Fellowship Hall
URL:https://christcovcincy.org/event/memorial-service-2/
LOCATION:Christ Covenant Church\, 2191 Struble Rd\, Cincinnati\, 45231\, United States
ATTACH;FMTTYPE=image/jpeg:https://christcovcincy.org/wp-content/uploads/2023/10/funeralbulletinwebsite.jpg
END:VEVENT
BEGIN:VEVENT
DTSTART;TZID=America/New_York:20251102T091500
DTEND;TZID=America/New_York:20251102T101500
DTSTAMP:20260423T190948
CREATED:20250724T173447Z
LAST-MODIFIED:20260128T190345Z
UID:10006933-1762074900-1762078500@christcovcincy.org
SUMMARY:Sunday School Classes
DESCRIPTION:Nursery Care is available for ages 3 and under. \nChildren’s classes for Preschool (ages 4-5) in Room 105\, for grades 1 & 2 in Room 102\, for grades 3 & 4 in Room 104\, for grades 5 & 6 in Room 108. \nJunior High class for grades 7 & 8 in Room 106. \nHigh School class for grades 9 & 10 in the modular building. \nAdult Sunday School for HS grades 11 & 12 and adults in Fellowship Hall.
URL:https://christcovcincy.org/event/sunday-school-classes-7/2025-11-02/
LOCATION:Christ Covenant Church\, 2191 Struble Rd\, Cincinnati\, 45231\, United States
CATEGORIES:Children's Ministry,Sunday School,Youth Ministry
ATTACH;FMTTYPE=image/jpeg:https://christcovcincy.org/wp-content/uploads/2023/01/SundaySchoolGeneral.jpg
END:VEVENT
BEGIN:VEVENT
DTSTART;TZID=UTC:20251102T103000
DTEND;TZID=UTC:20251102T233000
DTSTAMP:20260423T190948
CREATED:20220714T235224Z
LAST-MODIFIED:20260327T170225Z
UID:10004262-1762079400-1762126200@christcovcincy.org
SUMMARY:Sunday Service @ 10:30am
DESCRIPTION:Join us for Worship! 10:30 am
URL:https://christcovcincy.org/event/sunday-service-1030am/2025-11-02/
LOCATION:Christ Covenant Church\, 2191 Struble Rd\, Cincinnati\, 45231\, United States
ATTACH;FMTTYPE=image/jpeg:https://christcovcincy.org/wp-content/uploads/2023/02/SundayService.jpg
END:VEVENT
BEGIN:VEVENT
DTSTART;TZID=America/New_York:20251102T113000
DTEND;TZID=America/New_York:20251102T131500
DTSTAMP:20260423T190948
CREATED:20250918T161916Z
LAST-MODIFIED:20250918T161916Z
UID:10007176-1762083000-1762089300@christcovcincy.org
SUMMARY:Covenant Chimes
DESCRIPTION:Covenant Chimes will rehearse in Room 106 immediately following the worship service
URL:https://christcovcincy.org/event/covenant-chimes/2025-11-02/
LOCATION:Christ Covenant Church\, 2191 Struble Rd\, Cincinnati\, 45231\, United States
ATTACH;FMTTYPE=image/jpeg:https://christcovcincy.org/wp-content/uploads/2023/10/download.jpg
END:VEVENT
BEGIN:VEVENT
DTSTART;TZID=America/New_York:20251102T113000
DTEND;TZID=America/New_York:20251102T140000
DTSTAMP:20260423T190948
CREATED:20251008T151637Z
LAST-MODIFIED:20251008T153619Z
UID:10007317-1762083000-1762092000@christcovcincy.org
SUMMARY:Presbytery Planning Meeting & Luncheon
DESCRIPTION:
URL:https://christcovcincy.org/event/presbytery-planning-meeting-luncheon/
LOCATION:Church Fellowship Hall
END:VEVENT
BEGIN:VEVENT
DTSTART;TZID=America/New_York:20251102T180000
DTEND;TZID=America/New_York:20251102T200000
DTSTAMP:20260423T190948
CREATED:20250903T185957Z
LAST-MODIFIED:20250903T190049Z
UID:10007160-1762106400-1762113600@christcovcincy.org
SUMMARY:Youth Group
DESCRIPTION:
URL:https://christcovcincy.org/event/youth-group-12/2025-11-02/
LOCATION:Christ Covenant Church Office\, 2192 Springdale Road\, Cincinnati\, OH\, 45231
CATEGORIES:Youth Ministry
ATTACH;FMTTYPE=image/jpeg:https://christcovcincy.org/wp-content/uploads/2023/05/YouthGroup.jpg
END:VEVENT
BEGIN:VEVENT
DTSTART;TZID=America/New_York:20251103T160000
DTEND;TZID=America/New_York:20251103T170000
DTSTAMP:20260423T190948
CREATED:20250828T134321Z
LAST-MODIFIED:20260313T023111Z
UID:10007033-1762185600-1762189200@christcovcincy.org
SUMMARY:Private Event
DESCRIPTION:after school tutoring
URL:https://christcovcincy.org/event/private-event-107/2025-11-03/
LOCATION:Library @ Christ Covenant Church Office
CATEGORIES:private event
ATTACH;FMTTYPE=image/jpeg:https://christcovcincy.org/wp-content/uploads/2023/06/privateeventcalendar.jpg
END:VEVENT
BEGIN:VEVENT
DTSTART;TZID=America/New_York:20251104T091500
DTEND;TZID=America/New_York:20251104T110000
DTSTAMP:20260423T190948
CREATED:20250723T182435Z
LAST-MODIFIED:20251003T191751Z
UID:10006910-1762247700-1762254000@christcovcincy.org
SUMMARY:Women's Tues AM Bible Study
DESCRIPTION:Get to know a teacher new to Christ Covenant women\, Kelly Minter. She’ll be leading us through the book of Esther as we consider God working even when we don’t see Him. Read details at Lifeway.com.  Meetings (1st & 3rd Tuesdays) start on September 16 and run through December 2. \nIf you’re interested in participating in the Tuesday Esther study\, contact Tina Miller by July 31. tmiller@christcovcincy.org. \nBook cost (includes video access) = $23
URL:https://christcovcincy.org/event/womens-tues-am-bible-study/2025-11-04/
LOCATION:Chapel @ Christ Covenant Church Office\, 2192 Springdale Rd\, Cincinnati\, OH\, 45231
CATEGORIES:Women's Discipleship
ATTACH;FMTTYPE=image/jpeg:https://christcovcincy.org/wp-content/uploads/2025/07/Womens-Bible-Study-Esther-Web.jpg
END:VEVENT
BEGIN:VEVENT
DTSTART;TZID=America/New_York:20251104T190000
DTEND;TZID=America/New_York:20251104T204500
DTSTAMP:20260423T190948
CREATED:20250723T182757Z
LAST-MODIFIED:20251003T191552Z
UID:10006916-1762282800-1762289100@christcovcincy.org
SUMMARY:Women's Tues PM Bible Study
DESCRIPTION:Get to know a teacher new to Christ Covenant women\, Kelly Minter. She’ll be leading us through the book of Esther as we consider God working even when we don’t see Him. Read details at Lifeway.com.  Meetings (1st & 3rd Tuesdays) start on September 16 and run through December 2. \nIf you’re interested in participating in the Tuesday Esther study\, contact Tina Miller by July 31. tmiller@christcovcincy.org. \nBook cost (includes video access) = $23
URL:https://christcovcincy.org/event/womens-tues-pm-bible-study/2025-11-04/
LOCATION:Chapel @ Christ Covenant Church Office\, 2192 Springdale Rd\, Cincinnati\, OH\, 45231
CATEGORIES:Women's Discipleship
ATTACH;FMTTYPE=image/jpeg:https://christcovcincy.org/wp-content/uploads/2025/07/Womens-Bible-Study-Esther-Web.jpg
END:VEVENT
BEGIN:VEVENT
DTSTART;TZID=America/New_York:20251105T083000
DTEND;TZID=America/New_York:20251105T170000
DTSTAMP:20260423T190948
CREATED:20250723T174657Z
LAST-MODIFIED:20250723T174657Z
UID:10006882-1762331400-1762362000@christcovcincy.org
SUMMARY:CAFE Coop
DESCRIPTION:
URL:https://christcovcincy.org/event/cafe-coop-4/2025-11-05/
LOCATION:Christ Covenant Church\, 2191 Struble Rd\, Cincinnati\, 45231\, United States
ATTACH;FMTTYPE=image/jpeg:https://christcovcincy.org/wp-content/uploads/2024/09/CafeCoop.jpg
END:VEVENT
BEGIN:VEVENT
DTSTART;TZID=America/Halifax:20251105T111500
DTEND;TZID=America/Halifax:20251105T130000
DTSTAMP:20260423T190948
CREATED:20250407T170431Z
LAST-MODIFIED:20251105T190041Z
UID:10005726-1762341300-1762347600@christcovcincy.org
SUMMARY:Staff Meeting
DESCRIPTION:Staff typically meets on the 1st and 3rd Wednesday between 11:15am and 1:00pm in the chapel. \nDevotional Assignments: \nRich — Jan 15\, April 9 \nIan — Feb 5\, May 7 (did not meet)\, Aug 20 \nTina — March 5 (cancelled)\, May 21 \nDavid — April 23\, July 16 \nColleen — Feb 19\, June 25 \nJoyce — March 19\, June 4
URL:https://christcovcincy.org/event/staff-meeting-4-2/2025-11-05/
LOCATION:Chapel @ Christ Covenant Church Office\, 2192 Springdale Rd\, Cincinnati\, OH\, 45231
ATTACH;FMTTYPE=image/jpeg:https://christcovcincy.org/wp-content/uploads/2023/01/staffmeeting.jpg
END:VEVENT
BEGIN:VEVENT
DTSTART;TZID=America/New_York:20251105T160000
DTEND;TZID=America/New_York:20251105T170000
DTSTAMP:20260423T190948
CREATED:20250828T134650Z
LAST-MODIFIED:20260313T022922Z
UID:10007072-1762358400-1762362000@christcovcincy.org
SUMMARY:Private Event
DESCRIPTION:after school tutoring
URL:https://christcovcincy.org/event/private-event-108/2025-11-05/
LOCATION:Library @ Christ Covenant Church Office
CATEGORIES:private event
ATTACH;FMTTYPE=image/jpeg:https://christcovcincy.org/wp-content/uploads/2023/06/privateeventcalendar.jpg
END:VEVENT
BEGIN:VEVENT
DTSTART;TZID=America/New_York:20251106T093000
DTEND;TZID=America/New_York:20251106T113000
DTSTAMP:20260423T190948
CREATED:20250618T141253Z
LAST-MODIFIED:20251203T204645Z
UID:10006813-1762421400-1762428600@christcovcincy.org
SUMMARY:Women's Bible Study
DESCRIPTION:Join us for the six session study of this small but very applicable epistle every other Thursday\, 9:30-11:30 a.m. in the church office. The study involves homework and group discussion. Preview a sample of the book\, here at Lifeway.com. Talk with Tina Miller or Wendy Detroy if you have questions. \nMeeting in Room 106 at the church building beginning on October 23rd.
URL:https://christcovcincy.org/event/womens-bible-study-16/2025-11-06/
LOCATION:Chapel @ Christ Covenant Church Office\, 2192 Springdale Rd\, Cincinnati\, OH\, 45231
CATEGORIES:Women's Discipleship
ATTACH;FMTTYPE=image/jpeg:https://christcovcincy.org/wp-content/uploads/2025/06/Womens-Bible-Study-Jude.jpg
END:VEVENT
BEGIN:VEVENT
DTSTART;TZID=UTC:20251106T173000
DTEND;TZID=UTC:20251106T183000
DTSTAMP:20260423T190948
CREATED:20220714T195703Z
LAST-MODIFIED:20250828T182812Z
UID:10006235-1762450200-1762453800@christcovcincy.org
SUMMARY:Weekly Prayer Group
DESCRIPTION:WEEKLY PRAYER GROUP: This ongoing prayer group that meets via Zoom every Thursday evening from 5:30-6:30 p.m. Contact Ruth Cload for the Zoom link.
URL:https://christcovcincy.org/event/weekly-prayer-group/2025-11-06/
ATTACH;FMTTYPE=image/jpeg:https://christcovcincy.org/wp-content/uploads/2023/03/ZoomPrayerMeeting.jpg
END:VEVENT
BEGIN:VEVENT
DTSTART;TZID=America/New_York:20251106T180000
DTEND;TZID=America/New_York:20251106T210000
DTSTAMP:20260423T190948
CREATED:20251023T184041Z
LAST-MODIFIED:20251030T173507Z
UID:10007328-1762452000-1762462800@christcovcincy.org
SUMMARY:"Christmas" Choir Dinner & Rehearsal
DESCRIPTION:Come to the church office by 6pm to enjoy a festive meal together\, then continue rehearsing music for the Christmas season. Families are welcome to join us for dinner.
URL:https://christcovcincy.org/event/christmas-choir-dinner-rehearsal/
LOCATION:Chapel @ Christ Covenant Church Office\, 2192 Springdale Rd\, Cincinnati\, OH\, 45231
ATTACH;FMTTYPE=image/jpeg:https://christcovcincy.org/wp-content/uploads/2024/10/ana-maltez-M8GmV16gch0-unsplash-scaled.jpg
END:VEVENT
BEGIN:VEVENT
DTSTART;TZID=America/New_York:20251106T183000
DTEND;TZID=America/New_York:20251106T200000
DTSTAMP:20260423T190948
CREATED:20250821T193342Z
LAST-MODIFIED:20260417T161411Z
UID:10006991-1762453800-1762459200@christcovcincy.org
SUMMARY:Choir Rehearsal
DESCRIPTION:
URL:https://christcovcincy.org/event/choir-rehearsal-21/2025-11-06/
LOCATION:Christ Covenant Church\, 2191 Struble Rd\, Cincinnati\, 45231\, United States
ATTACH;FMTTYPE=image/jpeg:https://christcovcincy.org/wp-content/uploads/2023/03/ChancelChoirforWeb.jpg
END:VEVENT
BEGIN:VEVENT
DTSTART;TZID=America/New_York:20251108T093000
DTEND;TZID=America/New_York:20251108T110000
DTSTAMP:20260423T190948
CREATED:20251112T191815Z
LAST-MODIFIED:20251120T212019Z
UID:10007345-1762594200-1762599600@christcovcincy.org
SUMMARY:Choir Rehearsal
DESCRIPTION:Saturday morning rehearsal for the Cantata
URL:https://christcovcincy.org/event/choir-rehearsal-22/2025-11-08/
LOCATION:Christ Covenant Church\, 2191 Struble Rd\, Cincinnati\, 45231\, United States
ATTACH;FMTTYPE=image/jpeg:https://christcovcincy.org/wp-content/uploads/2023/03/ChancelChoirforWeb.jpg
END:VEVENT
BEGIN:VEVENT
DTSTART;TZID=America/New_York:20251108T110000
DTEND;TZID=America/New_York:20251108T160000
DTSTAMP:20260423T190948
CREATED:20251030T173059Z
LAST-MODIFIED:20251030T173059Z
UID:10007329-1762599600-1762617600@christcovcincy.org
SUMMARY:Private Event
DESCRIPTION:Rainous Family birthday celebration (kitchen & fellowship hall)
URL:https://christcovcincy.org/event/private-event-109/
LOCATION:Christ Covenant Church\, 2191 Struble Rd\, Cincinnati\, 45231\, United States
CATEGORIES:private event
ATTACH;FMTTYPE=image/jpeg:https://christcovcincy.org/wp-content/uploads/2023/06/privateeventcalendar.jpg
END:VEVENT
BEGIN:VEVENT
DTSTART;TZID=America/New_York:20251109T091500
DTEND;TZID=America/New_York:20251109T101500
DTSTAMP:20260423T190948
CREATED:20250724T173447Z
LAST-MODIFIED:20260128T190345Z
UID:10006934-1762679700-1762683300@christcovcincy.org
SUMMARY:Sunday School Classes
DESCRIPTION:Nursery Care is available for ages 3 and under. \nChildren’s classes for Preschool (ages 4-5) in Room 105\, for grades 1 & 2 in Room 102\, for grades 3 & 4 in Room 104\, for grades 5 & 6 in Room 108. \nJunior High class for grades 7 & 8 in Room 106. \nHigh School class for grades 9 & 10 in the modular building. \nAdult Sunday School for HS grades 11 & 12 and adults in Fellowship Hall.
URL:https://christcovcincy.org/event/sunday-school-classes-7/2025-11-09/
LOCATION:Christ Covenant Church\, 2191 Struble Rd\, Cincinnati\, 45231\, United States
CATEGORIES:Children's Ministry,Sunday School,Youth Ministry
ATTACH;FMTTYPE=image/jpeg:https://christcovcincy.org/wp-content/uploads/2023/01/SundaySchoolGeneral.jpg
END:VEVENT
BEGIN:VEVENT
DTSTART;TZID=UTC:20251109T103000
DTEND;TZID=UTC:20251109T233000
DTSTAMP:20260423T190948
CREATED:20220714T235224Z
LAST-MODIFIED:20260327T170225Z
UID:10004263-1762684200-1762731000@christcovcincy.org
SUMMARY:Sunday Service @ 10:30am
DESCRIPTION:Join us for Worship! 10:30 am
URL:https://christcovcincy.org/event/sunday-service-1030am/2025-11-09/
LOCATION:Christ Covenant Church\, 2191 Struble Rd\, Cincinnati\, 45231\, United States
ATTACH;FMTTYPE=image/jpeg:https://christcovcincy.org/wp-content/uploads/2023/02/SundayService.jpg
END:VEVENT
BEGIN:VEVENT
DTSTART;TZID=America/New_York:20251109T113000
DTEND;TZID=America/New_York:20251109T131500
DTSTAMP:20260423T190948
CREATED:20250918T161916Z
LAST-MODIFIED:20250918T161916Z
UID:10007177-1762687800-1762694100@christcovcincy.org
SUMMARY:Covenant Chimes
DESCRIPTION:Covenant Chimes will rehearse in Room 106 immediately following the worship service
URL:https://christcovcincy.org/event/covenant-chimes/2025-11-09/
LOCATION:Christ Covenant Church\, 2191 Struble Rd\, Cincinnati\, 45231\, United States
ATTACH;FMTTYPE=image/jpeg:https://christcovcincy.org/wp-content/uploads/2023/10/download.jpg
END:VEVENT
BEGIN:VEVENT
DTSTART;TZID=America/New_York:20251109T120000
DTEND;TZID=America/New_York:20251109T140000
DTSTAMP:20260423T190948
CREATED:20251002T192600Z
LAST-MODIFIED:20260107T200700Z
UID:10007303-1762689600-1762696800@christcovcincy.org
SUMMARY:Ferguson Community Group
DESCRIPTION:
URL:https://christcovcincy.org/event/ferguson-community-group-2/2025-11-09/
LOCATION:Chapel @ Christ Covenant Church Office\, 2192 Springdale Rd\, Cincinnati\, OH\, 45231
ATTACH;FMTTYPE=image/png:https://christcovcincy.org/wp-content/uploads/2022/07/Community-Group.png
END:VEVENT
BEGIN:VEVENT
DTSTART;TZID=America/New_York:20251109T180000
DTEND;TZID=America/New_York:20251109T200000
DTSTAMP:20260423T190948
CREATED:20250903T185957Z
LAST-MODIFIED:20250903T190049Z
UID:10007161-1762711200-1762718400@christcovcincy.org
SUMMARY:Youth Group
DESCRIPTION:
URL:https://christcovcincy.org/event/youth-group-12/2025-11-09/
LOCATION:Christ Covenant Church Office\, 2192 Springdale Road\, Cincinnati\, OH\, 45231
CATEGORIES:Youth Ministry
ATTACH;FMTTYPE=image/jpeg:https://christcovcincy.org/wp-content/uploads/2023/05/YouthGroup.jpg
END:VEVENT
BEGIN:VEVENT
DTSTART;TZID=America/New_York:20251110T160000
DTEND;TZID=America/New_York:20251110T170000
DTSTAMP:20260423T190948
CREATED:20250828T134321Z
LAST-MODIFIED:20260313T023111Z
UID:10007034-1762790400-1762794000@christcovcincy.org
SUMMARY:Private Event
DESCRIPTION:after school tutoring
URL:https://christcovcincy.org/event/private-event-107/2025-11-10/
LOCATION:Library @ Christ Covenant Church Office
CATEGORIES:private event
ATTACH;FMTTYPE=image/jpeg:https://christcovcincy.org/wp-content/uploads/2023/06/privateeventcalendar.jpg
END:VEVENT
BEGIN:VEVENT
DTSTART;TZID=UTC:20251110T190000
DTEND;TZID=UTC:20251110T210000
DTSTAMP:20260423T190948
CREATED:20221122T221642Z
LAST-MODIFIED:20250521T182505Z
UID:10004630-1762801200-1762808400@christcovcincy.org
SUMMARY:Session Meeting
DESCRIPTION:
URL:https://christcovcincy.org/event/session-meeting-2/2025-11-10/
LOCATION:Chapel @ Christ Covenant Church Office\, 2192 Springdale Rd\, Cincinnati\, OH\, 45231
ATTACH;FMTTYPE=image/png:https://christcovcincy.org/wp-content/uploads/2022/07/Board-Meeting.png
END:VEVENT
BEGIN:VEVENT
DTSTART;TZID=America/New_York:20251111T114500
DTEND;TZID=America/New_York:20251111T170000
DTSTAMP:20260423T190948
CREATED:20250416T153209Z
LAST-MODIFIED:20250723T132052Z
UID:10006850-1762861500-1762880400@christcovcincy.org
SUMMARY:Private Event
DESCRIPTION:Speech and Debate Club
URL:https://christcovcincy.org/event/private-event-96/2025-11-11/
LOCATION:Christ Covenant Church\, 2191 Struble Rd\, Cincinnati\, 45231\, United States
CATEGORIES:private event
ATTACH;FMTTYPE=image/jpeg:https://christcovcincy.org/wp-content/uploads/2023/06/privateeventcalendar.jpg
END:VEVENT
BEGIN:VEVENT
DTSTART;TZID=America/New_York:20251112T083000
DTEND;TZID=America/New_York:20251112T170000
DTSTAMP:20260423T190948
CREATED:20250723T174657Z
LAST-MODIFIED:20250723T174657Z
UID:10006883-1762936200-1762966800@christcovcincy.org
SUMMARY:CAFE Coop
DESCRIPTION:
URL:https://christcovcincy.org/event/cafe-coop-4/2025-11-12/
LOCATION:Christ Covenant Church\, 2191 Struble Rd\, Cincinnati\, 45231\, United States
ATTACH;FMTTYPE=image/jpeg:https://christcovcincy.org/wp-content/uploads/2024/09/CafeCoop.jpg
END:VEVENT
BEGIN:VEVENT
DTSTART;TZID=America/New_York:20251112T160000
DTEND;TZID=America/New_York:20251112T170000
DTSTAMP:20260423T190948
CREATED:20250828T134650Z
LAST-MODIFIED:20260313T022922Z
UID:10007073-1762963200-1762966800@christcovcincy.org
SUMMARY:Private Event
DESCRIPTION:after school tutoring
URL:https://christcovcincy.org/event/private-event-108/2025-11-12/
LOCATION:Library @ Christ Covenant Church Office
CATEGORIES:private event
ATTACH;FMTTYPE=image/jpeg:https://christcovcincy.org/wp-content/uploads/2023/06/privateeventcalendar.jpg
END:VEVENT
BEGIN:VEVENT
DTSTART;TZID=UTC:20251113T173000
DTEND;TZID=UTC:20251113T183000
DTSTAMP:20260423T190948
CREATED:20220714T195703Z
LAST-MODIFIED:20250828T182812Z
UID:10006236-1763055000-1763058600@christcovcincy.org
SUMMARY:Weekly Prayer Group
DESCRIPTION:WEEKLY PRAYER GROUP: This ongoing prayer group that meets via Zoom every Thursday evening from 5:30-6:30 p.m. Contact Ruth Cload for the Zoom link.
URL:https://christcovcincy.org/event/weekly-prayer-group/2025-11-13/
ATTACH;FMTTYPE=image/jpeg:https://christcovcincy.org/wp-content/uploads/2023/03/ZoomPrayerMeeting.jpg
END:VEVENT
END:VCALENDAR