BEGIN:VCALENDAR
VERSION:2.0
PRODID:-//Christ Covenant Church - ECPv6.15.20//NONSGML v1.0//EN
CALSCALE:GREGORIAN
METHOD:PUBLISH
X-ORIGINAL-URL:https://christcovcincy.org
X-WR-CALDESC:Events for Christ Covenant Church
REFRESH-INTERVAL;VALUE=DURATION:PT1H
X-Robots-Tag:noindex
X-PUBLISHED-TTL:PT1H
BEGIN:VTIMEZONE
TZID:America/New_York
BEGIN:DAYLIGHT
TZOFFSETFROM:-0500
TZOFFSETTO:-0400
TZNAME:EDT
DTSTART:20250309T070000
END:DAYLIGHT
BEGIN:STANDARD
TZOFFSETFROM:-0400
TZOFFSETTO:-0500
TZNAME:EST
DTSTART:20251102T060000
END:STANDARD
BEGIN:DAYLIGHT
TZOFFSETFROM:-0500
TZOFFSETTO:-0400
TZNAME:EDT
DTSTART:20260308T070000
END:DAYLIGHT
BEGIN:STANDARD
TZOFFSETFROM:-0400
TZOFFSETTO:-0500
TZNAME:EST
DTSTART:20261101T060000
END:STANDARD
BEGIN:DAYLIGHT
TZOFFSETFROM:-0500
TZOFFSETTO:-0400
TZNAME:EDT
DTSTART:20270314T070000
END:DAYLIGHT
BEGIN:STANDARD
TZOFFSETFROM:-0400
TZOFFSETTO:-0500
TZNAME:EST
DTSTART:20271107T060000
END:STANDARD
END:VTIMEZONE
BEGIN:VTIMEZONE
TZID:UTC
BEGIN:STANDARD
TZOFFSETFROM:+0000
TZOFFSETTO:+0000
TZNAME:UTC
DTSTART:20250101T000000
END:STANDARD
END:VTIMEZONE
BEGIN:VTIMEZONE
TZID:America/Halifax
BEGIN:DAYLIGHT
TZOFFSETFROM:-0400
TZOFFSETTO:-0300
TZNAME:ADT
DTSTART:20250309T060000
END:DAYLIGHT
BEGIN:STANDARD
TZOFFSETFROM:-0300
TZOFFSETTO:-0400
TZNAME:AST
DTSTART:20251102T050000
END:STANDARD
BEGIN:DAYLIGHT
TZOFFSETFROM:-0400
TZOFFSETTO:-0300
TZNAME:ADT
DTSTART:20260308T060000
END:DAYLIGHT
BEGIN:STANDARD
TZOFFSETFROM:-0300
TZOFFSETTO:-0400
TZNAME:AST
DTSTART:20261101T050000
END:STANDARD
BEGIN:DAYLIGHT
TZOFFSETFROM:-0400
TZOFFSETTO:-0300
TZNAME:ADT
DTSTART:20270314T060000
END:DAYLIGHT
BEGIN:STANDARD
TZOFFSETFROM:-0300
TZOFFSETTO:-0400
TZNAME:AST
DTSTART:20271107T050000
END:STANDARD
END:VTIMEZONE
BEGIN:VEVENT
DTSTART;TZID=America/New_York:20260603T111500
DTEND;TZID=America/New_York:20260603T130000
DTSTAMP:20260423T140352
CREATED:20251105T185543Z
LAST-MODIFIED:20260326T204327Z
UID:10007575-1780485300-1780491600@christcovcincy.org
SUMMARY:Staff Meeting
DESCRIPTION:Staff typically meets on the 1st and 3rd Wednesday between 11:15am and 1:00pm in the chapel. \nDevotional Assignments: \nRich — Jan 7\, April 8\, May 6 \nIan — Feb 4\, April 22 \nTina — Feb 18 \nDavid — March 18 \nColleen — March 4\, May 20 \nJoyce — Jan 21
URL:https://christcovcincy.org/event/staff-meeting-5/2026-06-03/
LOCATION:Chapel @ Christ Covenant Church Office\, 2192 Springdale Rd\, Cincinnati\, OH\, 45231
ATTACH;FMTTYPE=image/jpeg:https://christcovcincy.org/wp-content/uploads/2023/01/staffmeeting.jpg
END:VEVENT
BEGIN:VEVENT
DTSTART;TZID=UTC:20260604T173000
DTEND;TZID=UTC:20260604T183000
DTSTAMP:20260423T140352
CREATED:20220714T195703Z
LAST-MODIFIED:20250828T182812Z
UID:10006264-1780594200-1780597800@christcovcincy.org
SUMMARY:Weekly Prayer Group
DESCRIPTION:WEEKLY PRAYER GROUP: This ongoing prayer group that meets via Zoom every Thursday evening from 5:30-6:30 p.m. Contact Ruth Cload for the Zoom link.
URL:https://christcovcincy.org/event/weekly-prayer-group/2026-06-04/
ATTACH;FMTTYPE=image/jpeg:https://christcovcincy.org/wp-content/uploads/2023/03/ZoomPrayerMeeting.jpg
END:VEVENT
BEGIN:VEVENT
DTSTART;TZID=America/New_York:20260604T183000
DTEND;TZID=America/New_York:20260604T200000
DTSTAMP:20260423T140352
CREATED:20250821T193342Z
LAST-MODIFIED:20260417T161411Z
UID:10007021-1780597800-1780603200@christcovcincy.org
SUMMARY:Choir Rehearsal
DESCRIPTION:
URL:https://christcovcincy.org/event/choir-rehearsal-21/2026-06-04/
LOCATION:Christ Covenant Church\, 2191 Struble Rd\, Cincinnati\, 45231\, United States
ATTACH;FMTTYPE=image/jpeg:https://christcovcincy.org/wp-content/uploads/2023/03/ChancelChoirforWeb.jpg
END:VEVENT
BEGIN:VEVENT
DTSTART;TZID=America/New_York:20260604T183000
DTEND;TZID=America/New_York:20260604T200000
DTSTAMP:20260423T140352
CREATED:20260409T190525Z
LAST-MODIFIED:20260409T190525Z
UID:10007595-1780597800-1780603200@christcovcincy.org
SUMMARY:Volleyball
DESCRIPTION:Adults and youth\, ages 13 and older\, are invited to enjoy an evening of volleyball together\, 6:30 p.m. till dusk!
URL:https://christcovcincy.org/event/volleyball-3/2026-06-04/
LOCATION:Christ Covenant picnic and office complex\, 2192 Springdale Rd.\, Cincinnati\, OH\, 45231\, United States
ATTACH;FMTTYPE=image/jpeg:https://christcovcincy.org/wp-content/uploads/2026/04/Volleyball-2024-web.jpg
END:VEVENT
BEGIN:VEVENT
DTSTART;TZID=America/Halifax:20260606T073000
DTEND;TZID=America/Halifax:20260606T090000
DTSTAMP:20260423T140352
CREATED:20241024T163346Z
LAST-MODIFIED:20260122T201225Z
UID:10007191-1780731000-1780736400@christcovcincy.org
SUMMARY:Men's Bible Study
DESCRIPTION:Join the Men of Christ Covenant as they continue their study through the book of I Samuel.
URL:https://christcovcincy.org/event/mens-bible-study-3-2025-02-01/2026-06-06/
LOCATION:Chapel @ Christ Covenant Church Office\, 2192 Springdale Rd\, Cincinnati\, OH\, 45231
CATEGORIES:Men's Discipleship
ATTACH;FMTTYPE=image/jpeg:https://christcovcincy.org/wp-content/uploads/2023/02/MensBibleStudy-copy.jpg
END:VEVENT
BEGIN:VEVENT
DTSTART;TZID=UTC:20260607T103000
DTEND;TZID=UTC:20260607T233000
DTSTAMP:20260423T140352
CREATED:20220714T235224Z
LAST-MODIFIED:20260327T170225Z
UID:10006485-1780828200-1780875000@christcovcincy.org
SUMMARY:Sunday Service @ 10:30am
DESCRIPTION:Join us for Worship! 10:30 am
URL:https://christcovcincy.org/event/sunday-service-1030am/2026-06-07/
LOCATION:Christ Covenant Church\, 2191 Struble Rd\, Cincinnati\, 45231\, United States
ATTACH;FMTTYPE=image/jpeg:https://christcovcincy.org/wp-content/uploads/2023/02/SundayService.jpg
END:VEVENT
BEGIN:VEVENT
DTSTART;TZID=UTC:20260608T190000
DTEND;TZID=UTC:20260608T210000
DTSTAMP:20260423T140352
CREATED:20221122T221642Z
LAST-MODIFIED:20250521T182505Z
UID:10006697-1780945200-1780952400@christcovcincy.org
SUMMARY:Session Meeting
DESCRIPTION:
URL:https://christcovcincy.org/event/session-meeting-2/2026-06-08/
LOCATION:Chapel @ Christ Covenant Church Office\, 2192 Springdale Rd\, Cincinnati\, OH\, 45231
ATTACH;FMTTYPE=image/png:https://christcovcincy.org/wp-content/uploads/2022/07/Board-Meeting.png
END:VEVENT
BEGIN:VEVENT
DTSTART;TZID=UTC:20260611T173000
DTEND;TZID=UTC:20260611T183000
DTSTAMP:20260423T140352
CREATED:20220714T195703Z
LAST-MODIFIED:20250828T182812Z
UID:10006265-1781199000-1781202600@christcovcincy.org
SUMMARY:Weekly Prayer Group
DESCRIPTION:WEEKLY PRAYER GROUP: This ongoing prayer group that meets via Zoom every Thursday evening from 5:30-6:30 p.m. Contact Ruth Cload for the Zoom link.
URL:https://christcovcincy.org/event/weekly-prayer-group/2026-06-11/
ATTACH;FMTTYPE=image/jpeg:https://christcovcincy.org/wp-content/uploads/2023/03/ZoomPrayerMeeting.jpg
END:VEVENT
BEGIN:VEVENT
DTSTART;TZID=America/New_York:20260611T183000
DTEND;TZID=America/New_York:20260611T200000
DTSTAMP:20260423T140352
CREATED:20260409T190525Z
LAST-MODIFIED:20260409T190525Z
UID:10007596-1781202600-1781208000@christcovcincy.org
SUMMARY:Volleyball
DESCRIPTION:Adults and youth\, ages 13 and older\, are invited to enjoy an evening of volleyball together\, 6:30 p.m. till dusk!
URL:https://christcovcincy.org/event/volleyball-3/2026-06-11/
LOCATION:Christ Covenant picnic and office complex\, 2192 Springdale Rd.\, Cincinnati\, OH\, 45231\, United States
ATTACH;FMTTYPE=image/jpeg:https://christcovcincy.org/wp-content/uploads/2026/04/Volleyball-2024-web.jpg
END:VEVENT
BEGIN:VEVENT
DTSTART;TZID=America/New_York:20260612T100000
DTEND;TZID=America/New_York:20260612T123000
DTSTAMP:20260423T140352
CREATED:20250903T132409Z
LAST-MODIFIED:20260121T202559Z
UID:10007130-1781258400-1781267400@christcovcincy.org
SUMMARY:Silver Heirs
DESCRIPTION:Join our senior saints for a light meal and program. See Church Life for details on the monthly program and to RSVP and order your boxed lunch.
URL:https://christcovcincy.org/event/silver-heirs-5/2026-06-12/
LOCATION:Church Fellowship Hall
CATEGORIES:fellowships
ATTACH;FMTTYPE=image/jpeg:https://christcovcincy.org/wp-content/uploads/2023/01/SilverHeirs-1.jpg
END:VEVENT
BEGIN:VEVENT
DTSTART;TZID=America/New_York:20260612T183000
DTEND;TZID=America/New_York:20260612T210000
DTSTAMP:20260423T140352
CREATED:20260107T192620Z
LAST-MODIFIED:20260107T192620Z
UID:10007422-1781289000-1781298000@christcovcincy.org
SUMMARY:Private Event
DESCRIPTION:Prather Martial Arts Competition Team practice
URL:https://christcovcincy.org/event/private-event-114/2026-06-12/
LOCATION:Church Fellowship Hall
CATEGORIES:private event
ATTACH;FMTTYPE=image/jpeg:https://christcovcincy.org/wp-content/uploads/2023/06/privateeventcalendar.jpg
END:VEVENT
BEGIN:VEVENT
DTSTART;TZID=UTC:20260614T103000
DTEND;TZID=UTC:20260614T233000
DTSTAMP:20260423T140352
CREATED:20220714T235224Z
LAST-MODIFIED:20260327T170225Z
UID:10006486-1781433000-1781479800@christcovcincy.org
SUMMARY:Sunday Service @ 10:30am
DESCRIPTION:Join us for Worship! 10:30 am
URL:https://christcovcincy.org/event/sunday-service-1030am/2026-06-14/
LOCATION:Christ Covenant Church\, 2191 Struble Rd\, Cincinnati\, 45231\, United States
ATTACH;FMTTYPE=image/jpeg:https://christcovcincy.org/wp-content/uploads/2023/02/SundayService.jpg
END:VEVENT
BEGIN:VEVENT
DTSTART;TZID=America/New_York:20260614T150000
DTEND;TZID=America/New_York:20260614T210000
DTSTAMP:20260423T140352
CREATED:20250618T143710Z
LAST-MODIFIED:20250620T190814Z
UID:10006826-1781449200-1781470800@christcovcincy.org
SUMMARY:Church Picnic
DESCRIPTION:Gather in Winton Woods Park at the Orchard Area Shelter from 3-9 p.m.  A time of fun and fellowship.  Bring your own meat to grill for your family.  Bring 12 servings (according to your last name): A-F: TBD\, G-L: TBD\, M-R: TBD\, S-Z: TBD.
URL:https://christcovcincy.org/event/church-picnic-4/
LOCATION:Winton Woods Orchard Area Shelter\, 1309 W. Sharon Rd\, Cincinnati\, OH\, 45240
CATEGORIES:fellowships,summer gatherings
ATTACH;FMTTYPE=image/jpeg:https://christcovcincy.org/wp-content/uploads/2025/06/church-picnic-2026.jpg
END:VEVENT
BEGIN:VEVENT
DTSTART;TZID=UTC:20260615T190000
DTEND;TZID=UTC:20260615T210000
DTSTAMP:20260423T140352
CREATED:20221122T221840Z
LAST-MODIFIED:20251001T185731Z
UID:10007250-1781550000-1781557200@christcovcincy.org
SUMMARY:Trustee Meeting
DESCRIPTION:
URL:https://christcovcincy.org/event/trustees-meeting/2026-06-15/
LOCATION:Chapel @ Christ Covenant Church Office\, 2192 Springdale Rd\, Cincinnati\, OH\, 45231
ATTACH;FMTTYPE=image/png:https://christcovcincy.org/wp-content/uploads/2022/07/Board-Meeting.png
END:VEVENT
BEGIN:VEVENT
DTSTART;TZID=America/Halifax:20260615T190000
DTEND;TZID=America/Halifax:20260615T210000
DTSTAMP:20260423T140352
CREATED:20250115T202508Z
LAST-MODIFIED:20251001T134226Z
UID:10005843-1781550000-1781557200@christcovcincy.org
SUMMARY:Deacon Meeting
DESCRIPTION:
URL:https://christcovcincy.org/event/deacon-meeting-4/2026-06-15/
LOCATION:Library @ Christ Covenant Church Office
ATTACH;FMTTYPE=image/png:https://christcovcincy.org/wp-content/uploads/2022/07/Board-Meeting.png
END:VEVENT
BEGIN:VEVENT
DTSTART;TZID=UTC:20260618T173000
DTEND;TZID=UTC:20260618T183000
DTSTAMP:20260423T140352
CREATED:20220714T195703Z
LAST-MODIFIED:20250828T182812Z
UID:10006266-1781803800-1781807400@christcovcincy.org
SUMMARY:Weekly Prayer Group
DESCRIPTION:WEEKLY PRAYER GROUP: This ongoing prayer group that meets via Zoom every Thursday evening from 5:30-6:30 p.m. Contact Ruth Cload for the Zoom link.
URL:https://christcovcincy.org/event/weekly-prayer-group/2026-06-18/
ATTACH;FMTTYPE=image/jpeg:https://christcovcincy.org/wp-content/uploads/2023/03/ZoomPrayerMeeting.jpg
END:VEVENT
BEGIN:VEVENT
DTSTART;TZID=America/New_York:20260618T183000
DTEND;TZID=America/New_York:20260618T200000
DTSTAMP:20260423T140352
CREATED:20260409T190525Z
LAST-MODIFIED:20260409T190525Z
UID:10007597-1781807400-1781812800@christcovcincy.org
SUMMARY:Volleyball
DESCRIPTION:Adults and youth\, ages 13 and older\, are invited to enjoy an evening of volleyball together\, 6:30 p.m. till dusk!
URL:https://christcovcincy.org/event/volleyball-3/2026-06-18/
LOCATION:Christ Covenant picnic and office complex\, 2192 Springdale Rd.\, Cincinnati\, OH\, 45231\, United States
ATTACH;FMTTYPE=image/jpeg:https://christcovcincy.org/wp-content/uploads/2026/04/Volleyball-2024-web.jpg
END:VEVENT
BEGIN:VEVENT
DTSTART;TZID=America/New_York:20260619T183000
DTEND;TZID=America/New_York:20260619T210000
DTSTAMP:20260423T140352
CREATED:20260107T192620Z
LAST-MODIFIED:20260107T192620Z
UID:10007423-1781893800-1781902800@christcovcincy.org
SUMMARY:Private Event
DESCRIPTION:Prather Martial Arts Competition Team practice
URL:https://christcovcincy.org/event/private-event-114/2026-06-19/
LOCATION:Church Fellowship Hall
CATEGORIES:private event
ATTACH;FMTTYPE=image/jpeg:https://christcovcincy.org/wp-content/uploads/2023/06/privateeventcalendar.jpg
END:VEVENT
BEGIN:VEVENT
DTSTART;TZID=UTC:20260621T103000
DTEND;TZID=UTC:20260621T233000
DTSTAMP:20260423T140352
CREATED:20220714T235224Z
LAST-MODIFIED:20260327T170225Z
UID:10006487-1782037800-1782084600@christcovcincy.org
SUMMARY:Sunday Service @ 10:30am
DESCRIPTION:Join us for Worship! 10:30 am
URL:https://christcovcincy.org/event/sunday-service-1030am/2026-06-21/
LOCATION:Christ Covenant Church\, 2191 Struble Rd\, Cincinnati\, 45231\, United States
ATTACH;FMTTYPE=image/jpeg:https://christcovcincy.org/wp-content/uploads/2023/02/SundayService.jpg
END:VEVENT
BEGIN:VEVENT
DTSTART;TZID=America/New_York:20260624T111500
DTEND;TZID=America/New_York:20260624T130000
DTSTAMP:20260423T140352
CREATED:20251105T185543Z
LAST-MODIFIED:20260326T204327Z
UID:10007576-1782299700-1782306000@christcovcincy.org
SUMMARY:Staff Meeting
DESCRIPTION:Staff typically meets on the 1st and 3rd Wednesday between 11:15am and 1:00pm in the chapel. \nDevotional Assignments: \nRich — Jan 7\, April 8\, May 6 \nIan — Feb 4\, April 22 \nTina — Feb 18 \nDavid — March 18 \nColleen — March 4\, May 20 \nJoyce — Jan 21
URL:https://christcovcincy.org/event/staff-meeting-5/2026-06-24/
LOCATION:Chapel @ Christ Covenant Church Office\, 2192 Springdale Rd\, Cincinnati\, OH\, 45231
ATTACH;FMTTYPE=image/jpeg:https://christcovcincy.org/wp-content/uploads/2023/01/staffmeeting.jpg
END:VEVENT
BEGIN:VEVENT
DTSTART;TZID=UTC:20260625T173000
DTEND;TZID=UTC:20260625T183000
DTSTAMP:20260423T140352
CREATED:20220714T195703Z
LAST-MODIFIED:20250828T182812Z
UID:10006267-1782408600-1782412200@christcovcincy.org
SUMMARY:Weekly Prayer Group
DESCRIPTION:WEEKLY PRAYER GROUP: This ongoing prayer group that meets via Zoom every Thursday evening from 5:30-6:30 p.m. Contact Ruth Cload for the Zoom link.
URL:https://christcovcincy.org/event/weekly-prayer-group/2026-06-25/
ATTACH;FMTTYPE=image/jpeg:https://christcovcincy.org/wp-content/uploads/2023/03/ZoomPrayerMeeting.jpg
END:VEVENT
BEGIN:VEVENT
DTSTART;TZID=America/New_York:20260625T183000
DTEND;TZID=America/New_York:20260625T200000
DTSTAMP:20260423T140352
CREATED:20260409T190525Z
LAST-MODIFIED:20260409T190525Z
UID:10007598-1782412200-1782417600@christcovcincy.org
SUMMARY:Volleyball
DESCRIPTION:Adults and youth\, ages 13 and older\, are invited to enjoy an evening of volleyball together\, 6:30 p.m. till dusk!
URL:https://christcovcincy.org/event/volleyball-3/2026-06-25/
LOCATION:Christ Covenant picnic and office complex\, 2192 Springdale Rd.\, Cincinnati\, OH\, 45231\, United States
ATTACH;FMTTYPE=image/jpeg:https://christcovcincy.org/wp-content/uploads/2026/04/Volleyball-2024-web.jpg
END:VEVENT
BEGIN:VEVENT
DTSTART;TZID=UTC:20260628T103000
DTEND;TZID=UTC:20260628T233000
DTSTAMP:20260423T140352
CREATED:20220714T235224Z
LAST-MODIFIED:20260327T170225Z
UID:10006488-1782642600-1782689400@christcovcincy.org
SUMMARY:Sunday Service @ 10:30am
DESCRIPTION:Join us for Worship! 10:30 am
URL:https://christcovcincy.org/event/sunday-service-1030am/2026-06-28/
LOCATION:Christ Covenant Church\, 2191 Struble Rd\, Cincinnati\, 45231\, United States
ATTACH;FMTTYPE=image/jpeg:https://christcovcincy.org/wp-content/uploads/2023/02/SundayService.jpg
END:VEVENT
BEGIN:VEVENT
DTSTART;TZID=America/New_York:20260628T170000
DTEND;TZID=America/New_York:20260628T200000
DTSTAMP:20260423T140352
CREATED:20260304T182434Z
LAST-MODIFIED:20260304T182434Z
UID:10007505-1782666000-1782676800@christcovcincy.org
SUMMARY:Sunday Night Fellowship
DESCRIPTION:
URL:https://christcovcincy.org/event/sunday-night-fellowship-7/
LOCATION:Christ Covenant picnic and office complex\, 2192 Springdale Rd.\, Cincinnati\, OH\, 45231\, United States
CATEGORIES:fellowships,summer gatherings
END:VEVENT
END:VCALENDAR