BEGIN:VCALENDAR
VERSION:2.0
PRODID:-//Christ Covenant Church - ECPv6.15.20//NONSGML v1.0//EN
CALSCALE:GREGORIAN
METHOD:PUBLISH
X-WR-CALNAME:Christ Covenant Church
X-ORIGINAL-URL:https://christcovcincy.org
X-WR-CALDESC:Events for Christ Covenant Church
REFRESH-INTERVAL;VALUE=DURATION:PT1H
X-Robots-Tag:noindex
X-PUBLISHED-TTL:PT1H
BEGIN:VTIMEZONE
TZID:America/New_York
BEGIN:DAYLIGHT
TZOFFSETFROM:-0500
TZOFFSETTO:-0400
TZNAME:EDT
DTSTART:20250309T070000
END:DAYLIGHT
BEGIN:STANDARD
TZOFFSETFROM:-0400
TZOFFSETTO:-0500
TZNAME:EST
DTSTART:20251102T060000
END:STANDARD
BEGIN:DAYLIGHT
TZOFFSETFROM:-0500
TZOFFSETTO:-0400
TZNAME:EDT
DTSTART:20260308T070000
END:DAYLIGHT
BEGIN:STANDARD
TZOFFSETFROM:-0400
TZOFFSETTO:-0500
TZNAME:EST
DTSTART:20261101T060000
END:STANDARD
BEGIN:DAYLIGHT
TZOFFSETFROM:-0500
TZOFFSETTO:-0400
TZNAME:EDT
DTSTART:20270314T070000
END:DAYLIGHT
BEGIN:STANDARD
TZOFFSETFROM:-0400
TZOFFSETTO:-0500
TZNAME:EST
DTSTART:20271107T060000
END:STANDARD
END:VTIMEZONE
BEGIN:VTIMEZONE
TZID:UTC
BEGIN:STANDARD
TZOFFSETFROM:+0000
TZOFFSETTO:+0000
TZNAME:UTC
DTSTART:20250101T000000
END:STANDARD
END:VTIMEZONE
BEGIN:VTIMEZONE
TZID:America/Halifax
BEGIN:DAYLIGHT
TZOFFSETFROM:-0400
TZOFFSETTO:-0300
TZNAME:ADT
DTSTART:20250309T060000
END:DAYLIGHT
BEGIN:STANDARD
TZOFFSETFROM:-0300
TZOFFSETTO:-0400
TZNAME:AST
DTSTART:20251102T050000
END:STANDARD
BEGIN:DAYLIGHT
TZOFFSETFROM:-0400
TZOFFSETTO:-0300
TZNAME:ADT
DTSTART:20260308T060000
END:DAYLIGHT
BEGIN:STANDARD
TZOFFSETFROM:-0300
TZOFFSETTO:-0400
TZNAME:AST
DTSTART:20261101T050000
END:STANDARD
BEGIN:DAYLIGHT
TZOFFSETFROM:-0400
TZOFFSETTO:-0300
TZNAME:ADT
DTSTART:20270314T060000
END:DAYLIGHT
BEGIN:STANDARD
TZOFFSETFROM:-0300
TZOFFSETTO:-0400
TZNAME:AST
DTSTART:20271107T050000
END:STANDARD
END:VTIMEZONE
BEGIN:VEVENT
DTSTART;TZID=America/New_York:20260701T120000
DTEND;TZID=America/New_York:20260707T220000
DTSTAMP:20260423T151207
CREATED:20260304T185319Z
LAST-MODIFIED:20260304T185319Z
UID:10007541-1782907200-1783461600@christcovcincy.org
SUMMARY:RYM Summer Conference
DESCRIPTION:Reformed Youth Ministries Summer Conference for high school students \nLaguna Beach Christian Retreat Center\, Panama City Beach\, FL
URL:https://christcovcincy.org/event/rym-summer-conference-2/
CATEGORIES:Youth Ministry
END:VEVENT
BEGIN:VEVENT
DTSTART;TZID=UTC:20260702T173000
DTEND;TZID=UTC:20260702T183000
DTSTAMP:20260423T151207
CREATED:20220714T195703Z
LAST-MODIFIED:20250828T182812Z
UID:10006268-1783013400-1783017000@christcovcincy.org
SUMMARY:Weekly Prayer Group
DESCRIPTION:WEEKLY PRAYER GROUP: This ongoing prayer group that meets via Zoom every Thursday evening from 5:30-6:30 p.m. Contact Ruth Cload for the Zoom link.
URL:https://christcovcincy.org/event/weekly-prayer-group/2026-07-02/
ATTACH;FMTTYPE=image/jpeg:https://christcovcincy.org/wp-content/uploads/2023/03/ZoomPrayerMeeting.jpg
END:VEVENT
BEGIN:VEVENT
DTSTART;TZID=America/New_York:20260702T183000
DTEND;TZID=America/New_York:20260702T200000
DTSTAMP:20260423T151207
CREATED:20260409T190525Z
LAST-MODIFIED:20260409T190525Z
UID:10007599-1783017000-1783022400@christcovcincy.org
SUMMARY:Volleyball
DESCRIPTION:Adults and youth\, ages 13 and older\, are invited to enjoy an evening of volleyball together\, 6:30 p.m. till dusk!
URL:https://christcovcincy.org/event/volleyball-3/2026-07-02/
LOCATION:Christ Covenant picnic and office complex\, 2192 Springdale Rd.\, Cincinnati\, OH\, 45231\, United States
ATTACH;FMTTYPE=image/jpeg:https://christcovcincy.org/wp-content/uploads/2026/04/Volleyball-2024-web.jpg
END:VEVENT
BEGIN:VEVENT
DTSTART;TZID=America/Halifax:20260704T073000
DTEND;TZID=America/Halifax:20260704T090000
DTSTAMP:20260423T151207
CREATED:20241024T163346Z
LAST-MODIFIED:20260122T201225Z
UID:10007192-1783150200-1783155600@christcovcincy.org
SUMMARY:Men's Bible Study
DESCRIPTION:Join the Men of Christ Covenant as they continue their study through the book of I Samuel.
URL:https://christcovcincy.org/event/mens-bible-study-3-2025-02-01/2026-07-04/
LOCATION:Chapel @ Christ Covenant Church Office\, 2192 Springdale Rd\, Cincinnati\, OH\, 45231
CATEGORIES:Men's Discipleship
ATTACH;FMTTYPE=image/jpeg:https://christcovcincy.org/wp-content/uploads/2023/02/MensBibleStudy-copy.jpg
END:VEVENT
BEGIN:VEVENT
DTSTART;TZID=UTC:20260705T103000
DTEND;TZID=UTC:20260705T233000
DTSTAMP:20260423T151207
CREATED:20220714T235224Z
LAST-MODIFIED:20260327T170225Z
UID:10006489-1783247400-1783294200@christcovcincy.org
SUMMARY:Sunday Service @ 10:30am
DESCRIPTION:Join us for Worship! 10:30 am
URL:https://christcovcincy.org/event/sunday-service-1030am/2026-07-05/
LOCATION:Christ Covenant Church\, 2191 Struble Rd\, Cincinnati\, 45231\, United States
ATTACH;FMTTYPE=image/jpeg:https://christcovcincy.org/wp-content/uploads/2023/02/SundayService.jpg
END:VEVENT
BEGIN:VEVENT
DTSTART;TZID=America/New_York:20260708T111500
DTEND;TZID=America/New_York:20260708T130000
DTSTAMP:20260423T151207
CREATED:20251105T185543Z
LAST-MODIFIED:20260326T204327Z
UID:10007577-1783509300-1783515600@christcovcincy.org
SUMMARY:Staff Meeting
DESCRIPTION:Staff typically meets on the 1st and 3rd Wednesday between 11:15am and 1:00pm in the chapel. \nDevotional Assignments: \nRich — Jan 7\, April 8\, May 6 \nIan — Feb 4\, April 22 \nTina — Feb 18 \nDavid — March 18 \nColleen — March 4\, May 20 \nJoyce — Jan 21
URL:https://christcovcincy.org/event/staff-meeting-5/2026-07-08/
LOCATION:Chapel @ Christ Covenant Church Office\, 2192 Springdale Rd\, Cincinnati\, OH\, 45231
ATTACH;FMTTYPE=image/jpeg:https://christcovcincy.org/wp-content/uploads/2023/01/staffmeeting.jpg
END:VEVENT
BEGIN:VEVENT
DTSTART;TZID=UTC:20260709T173000
DTEND;TZID=UTC:20260709T183000
DTSTAMP:20260423T151207
CREATED:20220714T195703Z
LAST-MODIFIED:20250828T182812Z
UID:10006269-1783618200-1783621800@christcovcincy.org
SUMMARY:Weekly Prayer Group
DESCRIPTION:WEEKLY PRAYER GROUP: This ongoing prayer group that meets via Zoom every Thursday evening from 5:30-6:30 p.m. Contact Ruth Cload for the Zoom link.
URL:https://christcovcincy.org/event/weekly-prayer-group/2026-07-09/
ATTACH;FMTTYPE=image/jpeg:https://christcovcincy.org/wp-content/uploads/2023/03/ZoomPrayerMeeting.jpg
END:VEVENT
BEGIN:VEVENT
DTSTART;TZID=America/New_York:20260709T183000
DTEND;TZID=America/New_York:20260709T200000
DTSTAMP:20260423T151207
CREATED:20260409T190525Z
LAST-MODIFIED:20260409T190525Z
UID:10007600-1783621800-1783627200@christcovcincy.org
SUMMARY:Volleyball
DESCRIPTION:Adults and youth\, ages 13 and older\, are invited to enjoy an evening of volleyball together\, 6:30 p.m. till dusk!
URL:https://christcovcincy.org/event/volleyball-3/2026-07-09/
LOCATION:Christ Covenant picnic and office complex\, 2192 Springdale Rd.\, Cincinnati\, OH\, 45231\, United States
ATTACH;FMTTYPE=image/jpeg:https://christcovcincy.org/wp-content/uploads/2026/04/Volleyball-2024-web.jpg
END:VEVENT
BEGIN:VEVENT
DTSTART;TZID=America/New_York:20260710T100000
DTEND;TZID=America/New_York:20260710T123000
DTSTAMP:20260423T151207
CREATED:20250903T132409Z
LAST-MODIFIED:20260121T202559Z
UID:10007131-1783677600-1783686600@christcovcincy.org
SUMMARY:Silver Heirs
DESCRIPTION:Join our senior saints for a light meal and program. See Church Life for details on the monthly program and to RSVP and order your boxed lunch.
URL:https://christcovcincy.org/event/silver-heirs-5/2026-07-10/
LOCATION:Church Fellowship Hall
CATEGORIES:fellowships
ATTACH;FMTTYPE=image/jpeg:https://christcovcincy.org/wp-content/uploads/2023/01/SilverHeirs-1.jpg
END:VEVENT
BEGIN:VEVENT
DTSTART;TZID=UTC:20260712T103000
DTEND;TZID=UTC:20260712T233000
DTSTAMP:20260423T151207
CREATED:20220714T235224Z
LAST-MODIFIED:20260327T170225Z
UID:10006490-1783852200-1783899000@christcovcincy.org
SUMMARY:Sunday Service @ 10:30am
DESCRIPTION:Join us for Worship! 10:30 am
URL:https://christcovcincy.org/event/sunday-service-1030am/2026-07-12/
LOCATION:Christ Covenant Church\, 2191 Struble Rd\, Cincinnati\, 45231\, United States
ATTACH;FMTTYPE=image/jpeg:https://christcovcincy.org/wp-content/uploads/2023/02/SundayService.jpg
END:VEVENT
BEGIN:VEVENT
DTSTART;TZID=America/New_York:20260712T170000
DTEND;TZID=America/New_York:20260712T200000
DTSTAMP:20260423T151207
CREATED:20260304T182458Z
LAST-MODIFIED:20260304T182458Z
UID:10007506-1783875600-1783886400@christcovcincy.org
SUMMARY:Sunday Night Fellowship
DESCRIPTION:
URL:https://christcovcincy.org/event/sunday-night-fellowship-8/
LOCATION:Christ Covenant picnic and office complex\, 2192 Springdale Rd.\, Cincinnati\, OH\, 45231\, United States
CATEGORIES:fellowships,summer gatherings
END:VEVENT
BEGIN:VEVENT
DTSTART;TZID=UTC:20260713T190000
DTEND;TZID=UTC:20260713T210000
DTSTAMP:20260423T151207
CREATED:20221122T221642Z
LAST-MODIFIED:20250521T182505Z
UID:10006698-1783969200-1783976400@christcovcincy.org
SUMMARY:Session Meeting
DESCRIPTION:
URL:https://christcovcincy.org/event/session-meeting-2/2026-07-13/
LOCATION:Chapel @ Christ Covenant Church Office\, 2192 Springdale Rd\, Cincinnati\, OH\, 45231
ATTACH;FMTTYPE=image/png:https://christcovcincy.org/wp-content/uploads/2022/07/Board-Meeting.png
END:VEVENT
BEGIN:VEVENT
DTSTART;TZID=America/New_York:20260716T080000
DTEND;TZID=America/New_York:20260716T220000
DTSTAMP:20260423T151207
CREATED:20250410T150115Z
LAST-MODIFIED:20260326T205215Z
UID:10005816-1784188800-1784239200@christcovcincy.org
SUMMARY:Private Event
DESCRIPTION:Emily L wedding decorating in the sanctuary & fellowship hall; wedding rehearsal at 5pm in the sanctuary; picnic to follow at the church office
URL:https://christcovcincy.org/event/private-event-94/
LOCATION:Christ Covenant Church\, 2191 Struble Rd\, Cincinnati\, 45231\, United States
CATEGORIES:private event
ATTACH;FMTTYPE=image/jpeg:https://christcovcincy.org/wp-content/uploads/2023/06/privateeventcalendar.jpg
END:VEVENT
BEGIN:VEVENT
DTSTART;TZID=America/New_York:20260716T160000
DTEND;TZID=America/New_York:20260716T210000
DTSTAMP:20260423T151207
CREATED:20260305T173151Z
LAST-MODIFIED:20260305T173151Z
UID:10007543-1784217600-1784235600@christcovcincy.org
SUMMARY:Private Event
DESCRIPTION:Lanning-Miller Wedding Rehearsal Dinner
URL:https://christcovcincy.org/event/private-event-117/
LOCATION:Christ Covenant picnic and office complex\, 2192 Springdale Rd.\, Cincinnati\, OH\, 45231\, United States
CATEGORIES:private event
ATTACH;FMTTYPE=image/jpeg:https://christcovcincy.org/wp-content/uploads/2023/06/privateeventcalendar.jpg
END:VEVENT
BEGIN:VEVENT
DTSTART;TZID=UTC:20260716T173000
DTEND;TZID=UTC:20260716T183000
DTSTAMP:20260423T151207
CREATED:20220714T195703Z
LAST-MODIFIED:20250828T182812Z
UID:10006270-1784223000-1784226600@christcovcincy.org
SUMMARY:Weekly Prayer Group
DESCRIPTION:WEEKLY PRAYER GROUP: This ongoing prayer group that meets via Zoom every Thursday evening from 5:30-6:30 p.m. Contact Ruth Cload for the Zoom link.
URL:https://christcovcincy.org/event/weekly-prayer-group/2026-07-16/
ATTACH;FMTTYPE=image/jpeg:https://christcovcincy.org/wp-content/uploads/2023/03/ZoomPrayerMeeting.jpg
END:VEVENT
BEGIN:VEVENT
DTSTART;TZID=America/New_York:20260717T080000
DTEND;TZID=America/New_York:20260717T220000
DTSTAMP:20260423T151207
CREATED:20250410T150242Z
LAST-MODIFIED:20260326T205535Z
UID:10005817-1784275200-1784325600@christcovcincy.org
SUMMARY:Private Event
DESCRIPTION:Emily L wedding: bridal party by 10am; pictures at 3pm; doors open at 4:30pm; ceremony at 5pm; reception in Fellowship Hall; send-off at 9:45; then clean up
URL:https://christcovcincy.org/event/private-event-95/
LOCATION:Christ Covenant Church\, 2191 Struble Rd\, Cincinnati\, 45231\, United States
CATEGORIES:private event
ATTACH;FMTTYPE=image/jpeg:https://christcovcincy.org/wp-content/uploads/2023/06/privateeventcalendar.jpg
END:VEVENT
BEGIN:VEVENT
DTSTART;TZID=UTC:20260719T103000
DTEND;TZID=UTC:20260719T233000
DTSTAMP:20260423T151207
CREATED:20220714T235224Z
LAST-MODIFIED:20260327T170225Z
UID:10006491-1784457000-1784503800@christcovcincy.org
SUMMARY:Sunday Service @ 10:30am
DESCRIPTION:Join us for Worship! 10:30 am
URL:https://christcovcincy.org/event/sunday-service-1030am/2026-07-19/
LOCATION:Christ Covenant Church\, 2191 Struble Rd\, Cincinnati\, 45231\, United States
ATTACH;FMTTYPE=image/jpeg:https://christcovcincy.org/wp-content/uploads/2023/02/SundayService.jpg
END:VEVENT
BEGIN:VEVENT
DTSTART;TZID=UTC:20260720T190000
DTEND;TZID=UTC:20260720T210000
DTSTAMP:20260423T151207
CREATED:20221122T221840Z
LAST-MODIFIED:20251001T185731Z
UID:10007251-1784574000-1784581200@christcovcincy.org
SUMMARY:Trustee Meeting
DESCRIPTION:
URL:https://christcovcincy.org/event/trustees-meeting/2026-07-20/
LOCATION:Chapel @ Christ Covenant Church Office\, 2192 Springdale Rd\, Cincinnati\, OH\, 45231
ATTACH;FMTTYPE=image/png:https://christcovcincy.org/wp-content/uploads/2022/07/Board-Meeting.png
END:VEVENT
BEGIN:VEVENT
DTSTART;TZID=America/Halifax:20260720T190000
DTEND;TZID=America/Halifax:20260720T210000
DTSTAMP:20260423T151207
CREATED:20250115T202508Z
LAST-MODIFIED:20251001T134226Z
UID:10005844-1784574000-1784581200@christcovcincy.org
SUMMARY:Deacon Meeting
DESCRIPTION:
URL:https://christcovcincy.org/event/deacon-meeting-4/2026-07-20/
LOCATION:Library @ Christ Covenant Church Office
ATTACH;FMTTYPE=image/png:https://christcovcincy.org/wp-content/uploads/2022/07/Board-Meeting.png
END:VEVENT
BEGIN:VEVENT
DTSTART;TZID=America/New_York:20260722T111500
DTEND;TZID=America/New_York:20260722T130000
DTSTAMP:20260423T151207
CREATED:20251105T185543Z
LAST-MODIFIED:20260326T204327Z
UID:10007578-1784718900-1784725200@christcovcincy.org
SUMMARY:Staff Meeting
DESCRIPTION:Staff typically meets on the 1st and 3rd Wednesday between 11:15am and 1:00pm in the chapel. \nDevotional Assignments: \nRich — Jan 7\, April 8\, May 6 \nIan — Feb 4\, April 22 \nTina — Feb 18 \nDavid — March 18 \nColleen — March 4\, May 20 \nJoyce — Jan 21
URL:https://christcovcincy.org/event/staff-meeting-5/2026-07-22/
LOCATION:Chapel @ Christ Covenant Church Office\, 2192 Springdale Rd\, Cincinnati\, OH\, 45231
ATTACH;FMTTYPE=image/jpeg:https://christcovcincy.org/wp-content/uploads/2023/01/staffmeeting.jpg
END:VEVENT
BEGIN:VEVENT
DTSTART;TZID=UTC:20260723T173000
DTEND;TZID=UTC:20260723T183000
DTSTAMP:20260423T151207
CREATED:20220714T195703Z
LAST-MODIFIED:20250828T182812Z
UID:10006271-1784827800-1784831400@christcovcincy.org
SUMMARY:Weekly Prayer Group
DESCRIPTION:WEEKLY PRAYER GROUP: This ongoing prayer group that meets via Zoom every Thursday evening from 5:30-6:30 p.m. Contact Ruth Cload for the Zoom link.
URL:https://christcovcincy.org/event/weekly-prayer-group/2026-07-23/
ATTACH;FMTTYPE=image/jpeg:https://christcovcincy.org/wp-content/uploads/2023/03/ZoomPrayerMeeting.jpg
END:VEVENT
BEGIN:VEVENT
DTSTART;TZID=America/New_York:20260723T183000
DTEND;TZID=America/New_York:20260723T200000
DTSTAMP:20260423T151207
CREATED:20260409T190525Z
LAST-MODIFIED:20260409T190525Z
UID:10007601-1784831400-1784836800@christcovcincy.org
SUMMARY:Volleyball
DESCRIPTION:Adults and youth\, ages 13 and older\, are invited to enjoy an evening of volleyball together\, 6:30 p.m. till dusk!
URL:https://christcovcincy.org/event/volleyball-3/2026-07-23/
LOCATION:Christ Covenant picnic and office complex\, 2192 Springdale Rd.\, Cincinnati\, OH\, 45231\, United States
ATTACH;FMTTYPE=image/jpeg:https://christcovcincy.org/wp-content/uploads/2026/04/Volleyball-2024-web.jpg
END:VEVENT
BEGIN:VEVENT
DTSTART;TZID=UTC:20260726T103000
DTEND;TZID=UTC:20260726T233000
DTSTAMP:20260423T151207
CREATED:20220714T235224Z
LAST-MODIFIED:20260327T170225Z
UID:10006492-1785061800-1785108600@christcovcincy.org
SUMMARY:Sunday Service @ 10:30am
DESCRIPTION:Join us for Worship! 10:30 am
URL:https://christcovcincy.org/event/sunday-service-1030am/2026-07-26/
LOCATION:Christ Covenant Church\, 2191 Struble Rd\, Cincinnati\, 45231\, United States
ATTACH;FMTTYPE=image/jpeg:https://christcovcincy.org/wp-content/uploads/2023/02/SundayService.jpg
END:VEVENT
BEGIN:VEVENT
DTSTART;TZID=America/New_York:20260726T170000
DTEND;TZID=America/New_York:20260726T200000
DTSTAMP:20260423T151207
CREATED:20260304T182516Z
LAST-MODIFIED:20260304T182516Z
UID:10007507-1785085200-1785096000@christcovcincy.org
SUMMARY:Sunday Night Fellowship
DESCRIPTION:
URL:https://christcovcincy.org/event/sunday-night-fellowship-9/
LOCATION:Christ Covenant picnic and office complex\, 2192 Springdale Rd.\, Cincinnati\, OH\, 45231\, United States
CATEGORIES:fellowships,summer gatherings
END:VEVENT
BEGIN:VEVENT
DTSTART;TZID=UTC:20260730T173000
DTEND;TZID=UTC:20260730T183000
DTSTAMP:20260423T151207
CREATED:20220714T195703Z
LAST-MODIFIED:20250828T182812Z
UID:10006272-1785432600-1785436200@christcovcincy.org
SUMMARY:Weekly Prayer Group
DESCRIPTION:WEEKLY PRAYER GROUP: This ongoing prayer group that meets via Zoom every Thursday evening from 5:30-6:30 p.m. Contact Ruth Cload for the Zoom link.
URL:https://christcovcincy.org/event/weekly-prayer-group/2026-07-30/
ATTACH;FMTTYPE=image/jpeg:https://christcovcincy.org/wp-content/uploads/2023/03/ZoomPrayerMeeting.jpg
END:VEVENT
BEGIN:VEVENT
DTSTART;TZID=America/New_York:20260730T183000
DTEND;TZID=America/New_York:20260730T200000
DTSTAMP:20260423T151207
CREATED:20260409T190525Z
LAST-MODIFIED:20260409T190525Z
UID:10007602-1785436200-1785441600@christcovcincy.org
SUMMARY:Volleyball
DESCRIPTION:Adults and youth\, ages 13 and older\, are invited to enjoy an evening of volleyball together\, 6:30 p.m. till dusk!
URL:https://christcovcincy.org/event/volleyball-3/2026-07-30/
LOCATION:Christ Covenant picnic and office complex\, 2192 Springdale Rd.\, Cincinnati\, OH\, 45231\, United States
ATTACH;FMTTYPE=image/jpeg:https://christcovcincy.org/wp-content/uploads/2026/04/Volleyball-2024-web.jpg
END:VEVENT
END:VCALENDAR