BEGIN:VCALENDAR
VERSION:2.0
PRODID:-//Christ Covenant Church - ECPv6.15.20//NONSGML v1.0//EN
CALSCALE:GREGORIAN
METHOD:PUBLISH
X-ORIGINAL-URL:https://christcovcincy.org
X-WR-CALDESC:Events for Christ Covenant Church
REFRESH-INTERVAL;VALUE=DURATION:PT1H
X-Robots-Tag:noindex
X-PUBLISHED-TTL:PT1H
BEGIN:VTIMEZONE
TZID:America/Halifax
BEGIN:DAYLIGHT
TZOFFSETFROM:-0400
TZOFFSETTO:-0300
TZNAME:ADT
DTSTART:20250309T060000
END:DAYLIGHT
BEGIN:STANDARD
TZOFFSETFROM:-0300
TZOFFSETTO:-0400
TZNAME:AST
DTSTART:20251102T050000
END:STANDARD
BEGIN:DAYLIGHT
TZOFFSETFROM:-0400
TZOFFSETTO:-0300
TZNAME:ADT
DTSTART:20260308T060000
END:DAYLIGHT
BEGIN:STANDARD
TZOFFSETFROM:-0300
TZOFFSETTO:-0400
TZNAME:AST
DTSTART:20261101T050000
END:STANDARD
BEGIN:DAYLIGHT
TZOFFSETFROM:-0400
TZOFFSETTO:-0300
TZNAME:ADT
DTSTART:20270314T060000
END:DAYLIGHT
BEGIN:STANDARD
TZOFFSETFROM:-0300
TZOFFSETTO:-0400
TZNAME:AST
DTSTART:20271107T050000
END:STANDARD
END:VTIMEZONE
BEGIN:VTIMEZONE
TZID:America/New_York
BEGIN:DAYLIGHT
TZOFFSETFROM:-0500
TZOFFSETTO:-0400
TZNAME:EDT
DTSTART:20250309T070000
END:DAYLIGHT
BEGIN:STANDARD
TZOFFSETFROM:-0400
TZOFFSETTO:-0500
TZNAME:EST
DTSTART:20251102T060000
END:STANDARD
BEGIN:DAYLIGHT
TZOFFSETFROM:-0500
TZOFFSETTO:-0400
TZNAME:EDT
DTSTART:20260308T070000
END:DAYLIGHT
BEGIN:STANDARD
TZOFFSETFROM:-0400
TZOFFSETTO:-0500
TZNAME:EST
DTSTART:20261101T060000
END:STANDARD
BEGIN:DAYLIGHT
TZOFFSETFROM:-0500
TZOFFSETTO:-0400
TZNAME:EDT
DTSTART:20270314T070000
END:DAYLIGHT
BEGIN:STANDARD
TZOFFSETFROM:-0400
TZOFFSETTO:-0500
TZNAME:EST
DTSTART:20271107T060000
END:STANDARD
END:VTIMEZONE
BEGIN:VTIMEZONE
TZID:UTC
BEGIN:STANDARD
TZOFFSETFROM:+0000
TZOFFSETTO:+0000
TZNAME:UTC
DTSTART:20250101T000000
END:STANDARD
END:VTIMEZONE
BEGIN:VEVENT
DTSTART;TZID=America/Halifax:20260801T073000
DTEND;TZID=America/Halifax:20260801T090000
DTSTAMP:20260423T162859
CREATED:20241024T163346Z
LAST-MODIFIED:20260122T201225Z
UID:10007193-1785569400-1785574800@christcovcincy.org
SUMMARY:Men's Bible Study
DESCRIPTION:Join the Men of Christ Covenant as they continue their study through the book of I Samuel.
URL:https://christcovcincy.org/event/mens-bible-study-3-2025-02-01/2026-08-01/
LOCATION:Chapel @ Christ Covenant Church Office\, 2192 Springdale Rd\, Cincinnati\, OH\, 45231
CATEGORIES:Men's Discipleship
ATTACH;FMTTYPE=image/jpeg:https://christcovcincy.org/wp-content/uploads/2023/02/MensBibleStudy-copy.jpg
END:VEVENT
BEGIN:VEVENT
DTSTART;TZID=America/New_York:20260801T130000
DTEND;TZID=America/New_York:20260807T100000
DTSTAMP:20260423T162859
CREATED:20260108T191554Z
LAST-MODIFIED:20260108T191554Z
UID:10007426-1785589200-1786096800@christcovcincy.org
SUMMARY:Family Camp @ Cedar Bay\, MI
DESCRIPTION:
URL:https://christcovcincy.org/event/family-camp-cedar-bay-mi-4/
ATTACH;FMTTYPE=image/jpeg:https://christcovcincy.org/wp-content/uploads/2023/03/Cedar-Bay-sign-1.jpg
END:VEVENT
BEGIN:VEVENT
DTSTART;TZID=UTC:20260802T103000
DTEND;TZID=UTC:20260802T233000
DTSTAMP:20260423T162859
CREATED:20220714T235224Z
LAST-MODIFIED:20260327T170225Z
UID:10006493-1785666600-1785713400@christcovcincy.org
SUMMARY:Sunday Service @ 10:30am
DESCRIPTION:Join us for Worship! 10:30 am
URL:https://christcovcincy.org/event/sunday-service-1030am/2026-08-02/
LOCATION:Christ Covenant Church\, 2191 Struble Rd\, Cincinnati\, 45231\, United States
ATTACH;FMTTYPE=image/jpeg:https://christcovcincy.org/wp-content/uploads/2023/02/SundayService.jpg
END:VEVENT
BEGIN:VEVENT
DTSTART;TZID=UTC:20260806T173000
DTEND;TZID=UTC:20260806T183000
DTSTAMP:20260423T162859
CREATED:20220714T195703Z
LAST-MODIFIED:20250828T182812Z
UID:10006273-1786037400-1786041000@christcovcincy.org
SUMMARY:Weekly Prayer Group
DESCRIPTION:WEEKLY PRAYER GROUP: This ongoing prayer group that meets via Zoom every Thursday evening from 5:30-6:30 p.m. Contact Ruth Cload for the Zoom link.
URL:https://christcovcincy.org/event/weekly-prayer-group/2026-08-06/
ATTACH;FMTTYPE=image/jpeg:https://christcovcincy.org/wp-content/uploads/2023/03/ZoomPrayerMeeting.jpg
END:VEVENT
BEGIN:VEVENT
DTSTART;TZID=UTC:20260809T103000
DTEND;TZID=UTC:20260809T233000
DTSTAMP:20260423T162859
CREATED:20220714T235224Z
LAST-MODIFIED:20260327T170225Z
UID:10006494-1786271400-1786318200@christcovcincy.org
SUMMARY:Sunday Service @ 10:30am
DESCRIPTION:Join us for Worship! 10:30 am
URL:https://christcovcincy.org/event/sunday-service-1030am/2026-08-09/
LOCATION:Christ Covenant Church\, 2191 Struble Rd\, Cincinnati\, 45231\, United States
ATTACH;FMTTYPE=image/jpeg:https://christcovcincy.org/wp-content/uploads/2023/02/SundayService.jpg
END:VEVENT
BEGIN:VEVENT
DTSTART;TZID=UTC:20260810T190000
DTEND;TZID=UTC:20260810T210000
DTSTAMP:20260423T162859
CREATED:20221122T221642Z
LAST-MODIFIED:20250521T182505Z
UID:10006699-1786388400-1786395600@christcovcincy.org
SUMMARY:Session Meeting
DESCRIPTION:
URL:https://christcovcincy.org/event/session-meeting-2/2026-08-10/
LOCATION:Chapel @ Christ Covenant Church Office\, 2192 Springdale Rd\, Cincinnati\, OH\, 45231
ATTACH;FMTTYPE=image/png:https://christcovcincy.org/wp-content/uploads/2022/07/Board-Meeting.png
END:VEVENT
BEGIN:VEVENT
DTSTART;TZID=America/New_York:20260812T111500
DTEND;TZID=America/New_York:20260812T130000
DTSTAMP:20260423T162859
CREATED:20251105T185543Z
LAST-MODIFIED:20260326T204327Z
UID:10007579-1786533300-1786539600@christcovcincy.org
SUMMARY:Staff Meeting
DESCRIPTION:Staff typically meets on the 1st and 3rd Wednesday between 11:15am and 1:00pm in the chapel. \nDevotional Assignments: \nRich — Jan 7\, April 8\, May 6 \nIan — Feb 4\, April 22 \nTina — Feb 18 \nDavid — March 18 \nColleen — March 4\, May 20 \nJoyce — Jan 21
URL:https://christcovcincy.org/event/staff-meeting-5/2026-08-12/
LOCATION:Chapel @ Christ Covenant Church Office\, 2192 Springdale Rd\, Cincinnati\, OH\, 45231
ATTACH;FMTTYPE=image/jpeg:https://christcovcincy.org/wp-content/uploads/2023/01/staffmeeting.jpg
END:VEVENT
BEGIN:VEVENT
DTSTART;TZID=UTC:20260813T173000
DTEND;TZID=UTC:20260813T183000
DTSTAMP:20260423T162859
CREATED:20220714T195703Z
LAST-MODIFIED:20250828T182812Z
UID:10006274-1786642200-1786645800@christcovcincy.org
SUMMARY:Weekly Prayer Group
DESCRIPTION:WEEKLY PRAYER GROUP: This ongoing prayer group that meets via Zoom every Thursday evening from 5:30-6:30 p.m. Contact Ruth Cload for the Zoom link.
URL:https://christcovcincy.org/event/weekly-prayer-group/2026-08-13/
ATTACH;FMTTYPE=image/jpeg:https://christcovcincy.org/wp-content/uploads/2023/03/ZoomPrayerMeeting.jpg
END:VEVENT
BEGIN:VEVENT
DTSTART;TZID=America/New_York:20260813T183000
DTEND;TZID=America/New_York:20260813T200000
DTSTAMP:20260423T162859
CREATED:20260409T190525Z
LAST-MODIFIED:20260409T190525Z
UID:10007603-1786645800-1786651200@christcovcincy.org
SUMMARY:Volleyball
DESCRIPTION:Adults and youth\, ages 13 and older\, are invited to enjoy an evening of volleyball together\, 6:30 p.m. till dusk!
URL:https://christcovcincy.org/event/volleyball-3/2026-08-13/
LOCATION:Christ Covenant picnic and office complex\, 2192 Springdale Rd.\, Cincinnati\, OH\, 45231\, United States
ATTACH;FMTTYPE=image/jpeg:https://christcovcincy.org/wp-content/uploads/2026/04/Volleyball-2024-web.jpg
END:VEVENT
BEGIN:VEVENT
DTSTART;TZID=UTC:20260816T103000
DTEND;TZID=UTC:20260816T233000
DTSTAMP:20260423T162859
CREATED:20220714T235224Z
LAST-MODIFIED:20260327T170225Z
UID:10006495-1786876200-1786923000@christcovcincy.org
SUMMARY:Sunday Service @ 10:30am
DESCRIPTION:Join us for Worship! 10:30 am
URL:https://christcovcincy.org/event/sunday-service-1030am/2026-08-16/
LOCATION:Christ Covenant Church\, 2191 Struble Rd\, Cincinnati\, 45231\, United States
ATTACH;FMTTYPE=image/jpeg:https://christcovcincy.org/wp-content/uploads/2023/02/SundayService.jpg
END:VEVENT
BEGIN:VEVENT
DTSTART;TZID=America/New_York:20260816T170000
DTEND;TZID=America/New_York:20260816T200000
DTSTAMP:20260423T162859
CREATED:20260304T182532Z
LAST-MODIFIED:20260304T182532Z
UID:10007508-1786899600-1786910400@christcovcincy.org
SUMMARY:Sunday Night Fellowship
DESCRIPTION:
URL:https://christcovcincy.org/event/sunday-night-fellowship-10/
LOCATION:Christ Covenant picnic and office complex\, 2192 Springdale Rd.\, Cincinnati\, OH\, 45231\, United States
CATEGORIES:fellowships,summer gatherings
END:VEVENT
BEGIN:VEVENT
DTSTART;TZID=UTC:20260817T190000
DTEND;TZID=UTC:20260817T210000
DTSTAMP:20260423T162859
CREATED:20221122T221840Z
LAST-MODIFIED:20251001T185731Z
UID:10007252-1786993200-1787000400@christcovcincy.org
SUMMARY:Trustee Meeting
DESCRIPTION:
URL:https://christcovcincy.org/event/trustees-meeting/2026-08-17/
LOCATION:Chapel @ Christ Covenant Church Office\, 2192 Springdale Rd\, Cincinnati\, OH\, 45231
ATTACH;FMTTYPE=image/png:https://christcovcincy.org/wp-content/uploads/2022/07/Board-Meeting.png
END:VEVENT
BEGIN:VEVENT
DTSTART;TZID=America/Halifax:20260817T190000
DTEND;TZID=America/Halifax:20260817T210000
DTSTAMP:20260423T162859
CREATED:20250115T202508Z
LAST-MODIFIED:20251001T134226Z
UID:10005845-1786993200-1787000400@christcovcincy.org
SUMMARY:Deacon Meeting
DESCRIPTION:
URL:https://christcovcincy.org/event/deacon-meeting-4/2026-08-17/
LOCATION:Library @ Christ Covenant Church Office
ATTACH;FMTTYPE=image/png:https://christcovcincy.org/wp-content/uploads/2022/07/Board-Meeting.png
END:VEVENT
BEGIN:VEVENT
DTSTART;TZID=UTC:20260820T173000
DTEND;TZID=UTC:20260820T183000
DTSTAMP:20260423T162859
CREATED:20220714T195703Z
LAST-MODIFIED:20250828T182812Z
UID:10006275-1787247000-1787250600@christcovcincy.org
SUMMARY:Weekly Prayer Group
DESCRIPTION:WEEKLY PRAYER GROUP: This ongoing prayer group that meets via Zoom every Thursday evening from 5:30-6:30 p.m. Contact Ruth Cload for the Zoom link.
URL:https://christcovcincy.org/event/weekly-prayer-group/2026-08-20/
ATTACH;FMTTYPE=image/jpeg:https://christcovcincy.org/wp-content/uploads/2023/03/ZoomPrayerMeeting.jpg
END:VEVENT
BEGIN:VEVENT
DTSTART;TZID=America/New_York:20260820T183000
DTEND;TZID=America/New_York:20260820T200000
DTSTAMP:20260423T162859
CREATED:20260409T190525Z
LAST-MODIFIED:20260409T190525Z
UID:10007604-1787250600-1787256000@christcovcincy.org
SUMMARY:Volleyball
DESCRIPTION:Adults and youth\, ages 13 and older\, are invited to enjoy an evening of volleyball together\, 6:30 p.m. till dusk!
URL:https://christcovcincy.org/event/volleyball-3/2026-08-20/
LOCATION:Christ Covenant picnic and office complex\, 2192 Springdale Rd.\, Cincinnati\, OH\, 45231\, United States
ATTACH;FMTTYPE=image/jpeg:https://christcovcincy.org/wp-content/uploads/2026/04/Volleyball-2024-web.jpg
END:VEVENT
BEGIN:VEVENT
DTSTART;TZID=UTC:20260823T103000
DTEND;TZID=UTC:20260823T233000
DTSTAMP:20260423T162859
CREATED:20220714T235224Z
LAST-MODIFIED:20260327T170225Z
UID:10006496-1787481000-1787527800@christcovcincy.org
SUMMARY:Sunday Service @ 10:30am
DESCRIPTION:Join us for Worship! 10:30 am
URL:https://christcovcincy.org/event/sunday-service-1030am/2026-08-23/
LOCATION:Christ Covenant Church\, 2191 Struble Rd\, Cincinnati\, 45231\, United States
ATTACH;FMTTYPE=image/jpeg:https://christcovcincy.org/wp-content/uploads/2023/02/SundayService.jpg
END:VEVENT
BEGIN:VEVENT
DTSTART;TZID=UTC:20260827T173000
DTEND;TZID=UTC:20260827T183000
DTSTAMP:20260423T162859
CREATED:20220714T195703Z
LAST-MODIFIED:20250828T182812Z
UID:10006276-1787851800-1787855400@christcovcincy.org
SUMMARY:Weekly Prayer Group
DESCRIPTION:WEEKLY PRAYER GROUP: This ongoing prayer group that meets via Zoom every Thursday evening from 5:30-6:30 p.m. Contact Ruth Cload for the Zoom link.
URL:https://christcovcincy.org/event/weekly-prayer-group/2026-08-27/
ATTACH;FMTTYPE=image/jpeg:https://christcovcincy.org/wp-content/uploads/2023/03/ZoomPrayerMeeting.jpg
END:VEVENT
BEGIN:VEVENT
DTSTART;TZID=America/New_York:20260827T183000
DTEND;TZID=America/New_York:20260827T200000
DTSTAMP:20260423T162859
CREATED:20260409T190525Z
LAST-MODIFIED:20260409T190525Z
UID:10007605-1787855400-1787860800@christcovcincy.org
SUMMARY:Volleyball
DESCRIPTION:Adults and youth\, ages 13 and older\, are invited to enjoy an evening of volleyball together\, 6:30 p.m. till dusk!
URL:https://christcovcincy.org/event/volleyball-3/2026-08-27/
LOCATION:Christ Covenant picnic and office complex\, 2192 Springdale Rd.\, Cincinnati\, OH\, 45231\, United States
ATTACH;FMTTYPE=image/jpeg:https://christcovcincy.org/wp-content/uploads/2026/04/Volleyball-2024-web.jpg
END:VEVENT
BEGIN:VEVENT
DTSTART;TZID=UTC:20260830T103000
DTEND;TZID=UTC:20260830T233000
DTSTAMP:20260423T162859
CREATED:20220714T235224Z
LAST-MODIFIED:20260327T170225Z
UID:10006497-1788085800-1788132600@christcovcincy.org
SUMMARY:Sunday Service @ 10:30am
DESCRIPTION:Join us for Worship! 10:30 am
URL:https://christcovcincy.org/event/sunday-service-1030am/2026-08-30/
LOCATION:Christ Covenant Church\, 2191 Struble Rd\, Cincinnati\, 45231\, United States
ATTACH;FMTTYPE=image/jpeg:https://christcovcincy.org/wp-content/uploads/2023/02/SundayService.jpg
END:VEVENT
END:VCALENDAR