BEGIN:VCALENDAR
VERSION:2.0
PRODID:-//Christ Covenant Church - ECPv6.15.20//NONSGML v1.0//EN
CALSCALE:GREGORIAN
METHOD:PUBLISH
X-WR-CALNAME:Christ Covenant Church
X-ORIGINAL-URL:https://christcovcincy.org
X-WR-CALDESC:Events for Christ Covenant Church
REFRESH-INTERVAL;VALUE=DURATION:PT1H
X-Robots-Tag:noindex
X-PUBLISHED-TTL:PT1H
BEGIN:VTIMEZONE
TZID:UTC
BEGIN:STANDARD
TZOFFSETFROM:+0000
TZOFFSETTO:+0000
TZNAME:UTC
DTSTART:20250101T000000
END:STANDARD
END:VTIMEZONE
BEGIN:VTIMEZONE
TZID:America/Halifax
BEGIN:DAYLIGHT
TZOFFSETFROM:-0400
TZOFFSETTO:-0300
TZNAME:ADT
DTSTART:20250309T060000
END:DAYLIGHT
BEGIN:STANDARD
TZOFFSETFROM:-0300
TZOFFSETTO:-0400
TZNAME:AST
DTSTART:20251102T050000
END:STANDARD
BEGIN:DAYLIGHT
TZOFFSETFROM:-0400
TZOFFSETTO:-0300
TZNAME:ADT
DTSTART:20260308T060000
END:DAYLIGHT
BEGIN:STANDARD
TZOFFSETFROM:-0300
TZOFFSETTO:-0400
TZNAME:AST
DTSTART:20261101T050000
END:STANDARD
BEGIN:DAYLIGHT
TZOFFSETFROM:-0400
TZOFFSETTO:-0300
TZNAME:ADT
DTSTART:20270314T060000
END:DAYLIGHT
BEGIN:STANDARD
TZOFFSETFROM:-0300
TZOFFSETTO:-0400
TZNAME:AST
DTSTART:20271107T050000
END:STANDARD
END:VTIMEZONE
BEGIN:VTIMEZONE
TZID:America/New_York
BEGIN:DAYLIGHT
TZOFFSETFROM:-0500
TZOFFSETTO:-0400
TZNAME:EDT
DTSTART:20250309T070000
END:DAYLIGHT
BEGIN:STANDARD
TZOFFSETFROM:-0400
TZOFFSETTO:-0500
TZNAME:EST
DTSTART:20251102T060000
END:STANDARD
BEGIN:DAYLIGHT
TZOFFSETFROM:-0500
TZOFFSETTO:-0400
TZNAME:EDT
DTSTART:20260308T070000
END:DAYLIGHT
BEGIN:STANDARD
TZOFFSETFROM:-0400
TZOFFSETTO:-0500
TZNAME:EST
DTSTART:20261101T060000
END:STANDARD
BEGIN:DAYLIGHT
TZOFFSETFROM:-0500
TZOFFSETTO:-0400
TZNAME:EDT
DTSTART:20270314T070000
END:DAYLIGHT
BEGIN:STANDARD
TZOFFSETFROM:-0400
TZOFFSETTO:-0500
TZNAME:EST
DTSTART:20271107T060000
END:STANDARD
END:VTIMEZONE
BEGIN:VEVENT
DTSTART;TZID=UTC:20261101T103000
DTEND;TZID=UTC:20261101T233000
DTSTAMP:20260423T224123
CREATED:20220714T235224Z
LAST-MODIFIED:20260327T170225Z
UID:10006506-1793529000-1793575800@christcovcincy.org
SUMMARY:Sunday Service @ 10:30am
DESCRIPTION:Join us for Worship! 10:30 am
URL:https://christcovcincy.org/event/sunday-service-1030am/2026-11-01/
LOCATION:Christ Covenant Church\, 2191 Struble Rd\, Cincinnati\, 45231\, United States
ATTACH;FMTTYPE=image/jpeg:https://christcovcincy.org/wp-content/uploads/2023/02/SundayService.jpg
END:VEVENT
BEGIN:VEVENT
DTSTART;TZID=UTC:20261105T173000
DTEND;TZID=UTC:20261105T183000
DTSTAMP:20260423T224123
CREATED:20220714T195703Z
LAST-MODIFIED:20250828T182812Z
UID:10006286-1793899800-1793903400@christcovcincy.org
SUMMARY:Weekly Prayer Group
DESCRIPTION:WEEKLY PRAYER GROUP: This ongoing prayer group that meets via Zoom every Thursday evening from 5:30-6:30 p.m. Contact Ruth Cload for the Zoom link.
URL:https://christcovcincy.org/event/weekly-prayer-group/2026-11-05/
ATTACH;FMTTYPE=image/jpeg:https://christcovcincy.org/wp-content/uploads/2023/03/ZoomPrayerMeeting.jpg
END:VEVENT
BEGIN:VEVENT
DTSTART;TZID=America/Halifax:20261107T073000
DTEND;TZID=America/Halifax:20261107T090000
DTSTAMP:20260423T224123
CREATED:20241024T163346Z
LAST-MODIFIED:20260122T201225Z
UID:10007196-1794036600-1794042000@christcovcincy.org
SUMMARY:Men's Bible Study
DESCRIPTION:Join the Men of Christ Covenant as they continue their study through the book of I Samuel.
URL:https://christcovcincy.org/event/mens-bible-study-3-2025-02-01/2026-11-07/
LOCATION:Chapel @ Christ Covenant Church Office\, 2192 Springdale Rd\, Cincinnati\, OH\, 45231
CATEGORIES:Men's Discipleship
ATTACH;FMTTYPE=image/jpeg:https://christcovcincy.org/wp-content/uploads/2023/02/MensBibleStudy-copy.jpg
END:VEVENT
BEGIN:VEVENT
DTSTART;TZID=UTC:20261108T103000
DTEND;TZID=UTC:20261108T233000
DTSTAMP:20260423T224123
CREATED:20220714T235224Z
LAST-MODIFIED:20260327T170225Z
UID:10006507-1794133800-1794180600@christcovcincy.org
SUMMARY:Sunday Service @ 10:30am
DESCRIPTION:Join us for Worship! 10:30 am
URL:https://christcovcincy.org/event/sunday-service-1030am/2026-11-08/
LOCATION:Christ Covenant Church\, 2191 Struble Rd\, Cincinnati\, 45231\, United States
ATTACH;FMTTYPE=image/jpeg:https://christcovcincy.org/wp-content/uploads/2023/02/SundayService.jpg
END:VEVENT
BEGIN:VEVENT
DTSTART;TZID=UTC:20261109T190000
DTEND;TZID=UTC:20261109T210000
DTSTAMP:20260423T224123
CREATED:20221122T221642Z
LAST-MODIFIED:20250521T182505Z
UID:10006702-1794250800-1794258000@christcovcincy.org
SUMMARY:Session Meeting
DESCRIPTION:
URL:https://christcovcincy.org/event/session-meeting-2/2026-11-09/
LOCATION:Chapel @ Christ Covenant Church Office\, 2192 Springdale Rd\, Cincinnati\, OH\, 45231
ATTACH;FMTTYPE=image/png:https://christcovcincy.org/wp-content/uploads/2022/07/Board-Meeting.png
END:VEVENT
BEGIN:VEVENT
DTSTART;TZID=UTC:20261112T173000
DTEND;TZID=UTC:20261112T183000
DTSTAMP:20260423T224123
CREATED:20220714T195703Z
LAST-MODIFIED:20250828T182812Z
UID:10006287-1794504600-1794508200@christcovcincy.org
SUMMARY:Weekly Prayer Group
DESCRIPTION:WEEKLY PRAYER GROUP: This ongoing prayer group that meets via Zoom every Thursday evening from 5:30-6:30 p.m. Contact Ruth Cload for the Zoom link.
URL:https://christcovcincy.org/event/weekly-prayer-group/2026-11-12/
ATTACH;FMTTYPE=image/jpeg:https://christcovcincy.org/wp-content/uploads/2023/03/ZoomPrayerMeeting.jpg
END:VEVENT
BEGIN:VEVENT
DTSTART;TZID=America/New_York:20261113T100000
DTEND;TZID=America/New_York:20261113T123000
DTSTAMP:20260423T224123
CREATED:20250903T132409Z
LAST-MODIFIED:20260121T202559Z
UID:10007399-1794564000-1794573000@christcovcincy.org
SUMMARY:Silver Heirs
DESCRIPTION:Join our senior saints for a light meal and program. See Church Life for details on the monthly program and to RSVP and order your boxed lunch.
URL:https://christcovcincy.org/event/silver-heirs-5/2026-11-13/
LOCATION:Church Fellowship Hall
CATEGORIES:fellowships
ATTACH;FMTTYPE=image/jpeg:https://christcovcincy.org/wp-content/uploads/2023/01/SilverHeirs-1.jpg
END:VEVENT
BEGIN:VEVENT
DTSTART;TZID=UTC:20261115T103000
DTEND;TZID=UTC:20261115T233000
DTSTAMP:20260423T224123
CREATED:20220714T235224Z
LAST-MODIFIED:20260327T170225Z
UID:10006508-1794738600-1794785400@christcovcincy.org
SUMMARY:Sunday Service @ 10:30am
DESCRIPTION:Join us for Worship! 10:30 am
URL:https://christcovcincy.org/event/sunday-service-1030am/2026-11-15/
LOCATION:Christ Covenant Church\, 2191 Struble Rd\, Cincinnati\, 45231\, United States
ATTACH;FMTTYPE=image/jpeg:https://christcovcincy.org/wp-content/uploads/2023/02/SundayService.jpg
END:VEVENT
BEGIN:VEVENT
DTSTART;TZID=UTC:20261116T190000
DTEND;TZID=UTC:20261116T210000
DTSTAMP:20260423T224123
CREATED:20221122T221840Z
LAST-MODIFIED:20251001T185731Z
UID:10007255-1794855600-1794862800@christcovcincy.org
SUMMARY:Trustee Meeting
DESCRIPTION:
URL:https://christcovcincy.org/event/trustees-meeting/2026-11-16/
LOCATION:Chapel @ Christ Covenant Church Office\, 2192 Springdale Rd\, Cincinnati\, OH\, 45231
ATTACH;FMTTYPE=image/png:https://christcovcincy.org/wp-content/uploads/2022/07/Board-Meeting.png
END:VEVENT
BEGIN:VEVENT
DTSTART;TZID=America/Halifax:20261116T190000
DTEND;TZID=America/Halifax:20261116T210000
DTSTAMP:20260423T224123
CREATED:20250115T202508Z
LAST-MODIFIED:20251001T134226Z
UID:10005848-1794855600-1794862800@christcovcincy.org
SUMMARY:Deacon Meeting
DESCRIPTION:
URL:https://christcovcincy.org/event/deacon-meeting-4/2026-11-16/
LOCATION:Library @ Christ Covenant Church Office
ATTACH;FMTTYPE=image/png:https://christcovcincy.org/wp-content/uploads/2022/07/Board-Meeting.png
END:VEVENT
BEGIN:VEVENT
DTSTART;TZID=UTC:20261119T173000
DTEND;TZID=UTC:20261119T183000
DTSTAMP:20260423T224123
CREATED:20220714T195703Z
LAST-MODIFIED:20250828T182812Z
UID:10006288-1795109400-1795113000@christcovcincy.org
SUMMARY:Weekly Prayer Group
DESCRIPTION:WEEKLY PRAYER GROUP: This ongoing prayer group that meets via Zoom every Thursday evening from 5:30-6:30 p.m. Contact Ruth Cload for the Zoom link.
URL:https://christcovcincy.org/event/weekly-prayer-group/2026-11-19/
ATTACH;FMTTYPE=image/jpeg:https://christcovcincy.org/wp-content/uploads/2023/03/ZoomPrayerMeeting.jpg
END:VEVENT
BEGIN:VEVENT
DTSTART;TZID=UTC:20261122T103000
DTEND;TZID=UTC:20261122T233000
DTSTAMP:20260423T224123
CREATED:20220714T235224Z
LAST-MODIFIED:20260327T170225Z
UID:10006509-1795343400-1795390200@christcovcincy.org
SUMMARY:Sunday Service @ 10:30am
DESCRIPTION:Join us for Worship! 10:30 am
URL:https://christcovcincy.org/event/sunday-service-1030am/2026-11-22/
LOCATION:Christ Covenant Church\, 2191 Struble Rd\, Cincinnati\, 45231\, United States
ATTACH;FMTTYPE=image/jpeg:https://christcovcincy.org/wp-content/uploads/2023/02/SundayService.jpg
END:VEVENT
BEGIN:VEVENT
DTSTART;TZID=UTC:20261126T173000
DTEND;TZID=UTC:20261126T183000
DTSTAMP:20260423T224123
CREATED:20220714T195703Z
LAST-MODIFIED:20250828T182812Z
UID:10006289-1795714200-1795717800@christcovcincy.org
SUMMARY:Weekly Prayer Group
DESCRIPTION:WEEKLY PRAYER GROUP: This ongoing prayer group that meets via Zoom every Thursday evening from 5:30-6:30 p.m. Contact Ruth Cload for the Zoom link.
URL:https://christcovcincy.org/event/weekly-prayer-group/2026-11-26/
ATTACH;FMTTYPE=image/jpeg:https://christcovcincy.org/wp-content/uploads/2023/03/ZoomPrayerMeeting.jpg
END:VEVENT
BEGIN:VEVENT
DTSTART;TZID=UTC:20261129T103000
DTEND;TZID=UTC:20261129T233000
DTSTAMP:20260423T224123
CREATED:20220714T235224Z
LAST-MODIFIED:20260327T170225Z
UID:10006510-1795948200-1795995000@christcovcincy.org
SUMMARY:Sunday Service @ 10:30am
DESCRIPTION:Join us for Worship! 10:30 am
URL:https://christcovcincy.org/event/sunday-service-1030am/2026-11-29/
LOCATION:Christ Covenant Church\, 2191 Struble Rd\, Cincinnati\, 45231\, United States
ATTACH;FMTTYPE=image/jpeg:https://christcovcincy.org/wp-content/uploads/2023/02/SundayService.jpg
END:VEVENT
END:VCALENDAR