BEGIN:VCALENDAR
VERSION:2.0
PRODID:-//Christ Covenant Church - ECPv6.15.20//NONSGML v1.0//EN
CALSCALE:GREGORIAN
METHOD:PUBLISH
X-WR-CALNAME:Christ Covenant Church
X-ORIGINAL-URL:https://christcovcincy.org
X-WR-CALDESC:Events for Christ Covenant Church
REFRESH-INTERVAL;VALUE=DURATION:PT1H
X-Robots-Tag:noindex
X-PUBLISHED-TTL:PT1H
BEGIN:VTIMEZONE
TZID:UTC
BEGIN:STANDARD
TZOFFSETFROM:+0000
TZOFFSETTO:+0000
TZNAME:UTC
DTSTART:20250101T000000
END:STANDARD
END:VTIMEZONE
BEGIN:VEVENT
DTSTART;TZID=UTC:20260426T103000
DTEND;TZID=UTC:20260426T233000
DTSTAMP:20260423T123533
CREATED:20220714T235224Z
LAST-MODIFIED:20260327T170225Z
UID:10006479-1777199400-1777246200@christcovcincy.org
SUMMARY:Sunday Service @ 10:30am
DESCRIPTION:Join us for Worship! 10:30 am
URL:https://christcovcincy.org/event/sunday-service-1030am/2026-04-26/
LOCATION:Christ Covenant Church\, 2191 Struble Rd\, Cincinnati\, 45231\, United States
ATTACH;FMTTYPE=image/jpeg:https://christcovcincy.org/wp-content/uploads/2023/02/SundayService.jpg
END:VEVENT
BEGIN:VEVENT
DTSTART;TZID=UTC:20260503T103000
DTEND;TZID=UTC:20260503T233000
DTSTAMP:20260423T123533
CREATED:20220714T235224Z
LAST-MODIFIED:20260327T170225Z
UID:10006480-1777804200-1777851000@christcovcincy.org
SUMMARY:Sunday Service @ 10:30am
DESCRIPTION:Join us for Worship! 10:30 am
URL:https://christcovcincy.org/event/sunday-service-1030am/2026-05-03/
LOCATION:Christ Covenant Church\, 2191 Struble Rd\, Cincinnati\, 45231\, United States
ATTACH;FMTTYPE=image/jpeg:https://christcovcincy.org/wp-content/uploads/2023/02/SundayService.jpg
END:VEVENT
BEGIN:VEVENT
DTSTART;TZID=UTC:20260510T103000
DTEND;TZID=UTC:20260510T233000
DTSTAMP:20260423T123533
CREATED:20220714T235224Z
LAST-MODIFIED:20260327T170225Z
UID:10006481-1778409000-1778455800@christcovcincy.org
SUMMARY:Sunday Service @ 10:30am
DESCRIPTION:Join us for Worship! 10:30 am
URL:https://christcovcincy.org/event/sunday-service-1030am/2026-05-10/
LOCATION:Christ Covenant Church\, 2191 Struble Rd\, Cincinnati\, 45231\, United States
ATTACH;FMTTYPE=image/jpeg:https://christcovcincy.org/wp-content/uploads/2023/02/SundayService.jpg
END:VEVENT
BEGIN:VEVENT
DTSTART;TZID=UTC:20260517T103000
DTEND;TZID=UTC:20260517T233000
DTSTAMP:20260423T123533
CREATED:20220714T235224Z
LAST-MODIFIED:20260327T170225Z
UID:10006482-1779013800-1779060600@christcovcincy.org
SUMMARY:Sunday Service @ 10:30am
DESCRIPTION:Join us for Worship! 10:30 am
URL:https://christcovcincy.org/event/sunday-service-1030am/2026-05-17/
LOCATION:Christ Covenant Church\, 2191 Struble Rd\, Cincinnati\, 45231\, United States
ATTACH;FMTTYPE=image/jpeg:https://christcovcincy.org/wp-content/uploads/2023/02/SundayService.jpg
END:VEVENT
BEGIN:VEVENT
DTSTART;TZID=UTC:20260524T103000
DTEND;TZID=UTC:20260524T233000
DTSTAMP:20260423T123533
CREATED:20220714T235224Z
LAST-MODIFIED:20260327T170225Z
UID:10006483-1779618600-1779665400@christcovcincy.org
SUMMARY:Sunday Service @ 10:30am
DESCRIPTION:Join us for Worship! 10:30 am
URL:https://christcovcincy.org/event/sunday-service-1030am/2026-05-24/
LOCATION:Christ Covenant Church\, 2191 Struble Rd\, Cincinnati\, 45231\, United States
ATTACH;FMTTYPE=image/jpeg:https://christcovcincy.org/wp-content/uploads/2023/02/SundayService.jpg
END:VEVENT
BEGIN:VEVENT
DTSTART;TZID=UTC:20260531T103000
DTEND;TZID=UTC:20260531T233000
DTSTAMP:20260423T123533
CREATED:20220714T235224Z
LAST-MODIFIED:20260327T170225Z
UID:10006484-1780223400-1780270200@christcovcincy.org
SUMMARY:Sunday Service @ 10:30am
DESCRIPTION:Join us for Worship! 10:30 am
URL:https://christcovcincy.org/event/sunday-service-1030am/2026-05-31/
LOCATION:Christ Covenant Church\, 2191 Struble Rd\, Cincinnati\, 45231\, United States
ATTACH;FMTTYPE=image/jpeg:https://christcovcincy.org/wp-content/uploads/2023/02/SundayService.jpg
END:VEVENT
BEGIN:VEVENT
DTSTART;TZID=UTC:20260607T103000
DTEND;TZID=UTC:20260607T233000
DTSTAMP:20260423T123533
CREATED:20220714T235224Z
LAST-MODIFIED:20260327T170225Z
UID:10006485-1780828200-1780875000@christcovcincy.org
SUMMARY:Sunday Service @ 10:30am
DESCRIPTION:Join us for Worship! 10:30 am
URL:https://christcovcincy.org/event/sunday-service-1030am/2026-06-07/
LOCATION:Christ Covenant Church\, 2191 Struble Rd\, Cincinnati\, 45231\, United States
ATTACH;FMTTYPE=image/jpeg:https://christcovcincy.org/wp-content/uploads/2023/02/SundayService.jpg
END:VEVENT
BEGIN:VEVENT
DTSTART;TZID=UTC:20260614T103000
DTEND;TZID=UTC:20260614T233000
DTSTAMP:20260423T123533
CREATED:20220714T235224Z
LAST-MODIFIED:20260327T170225Z
UID:10006486-1781433000-1781479800@christcovcincy.org
SUMMARY:Sunday Service @ 10:30am
DESCRIPTION:Join us for Worship! 10:30 am
URL:https://christcovcincy.org/event/sunday-service-1030am/2026-06-14/
LOCATION:Christ Covenant Church\, 2191 Struble Rd\, Cincinnati\, 45231\, United States
ATTACH;FMTTYPE=image/jpeg:https://christcovcincy.org/wp-content/uploads/2023/02/SundayService.jpg
END:VEVENT
BEGIN:VEVENT
DTSTART;TZID=UTC:20260621T103000
DTEND;TZID=UTC:20260621T233000
DTSTAMP:20260423T123533
CREATED:20220714T235224Z
LAST-MODIFIED:20260327T170225Z
UID:10006487-1782037800-1782084600@christcovcincy.org
SUMMARY:Sunday Service @ 10:30am
DESCRIPTION:Join us for Worship! 10:30 am
URL:https://christcovcincy.org/event/sunday-service-1030am/2026-06-21/
LOCATION:Christ Covenant Church\, 2191 Struble Rd\, Cincinnati\, 45231\, United States
ATTACH;FMTTYPE=image/jpeg:https://christcovcincy.org/wp-content/uploads/2023/02/SundayService.jpg
END:VEVENT
BEGIN:VEVENT
DTSTART;TZID=UTC:20260628T103000
DTEND;TZID=UTC:20260628T233000
DTSTAMP:20260423T123533
CREATED:20220714T235224Z
LAST-MODIFIED:20260327T170225Z
UID:10006488-1782642600-1782689400@christcovcincy.org
SUMMARY:Sunday Service @ 10:30am
DESCRIPTION:Join us for Worship! 10:30 am
URL:https://christcovcincy.org/event/sunday-service-1030am/2026-06-28/
LOCATION:Christ Covenant Church\, 2191 Struble Rd\, Cincinnati\, 45231\, United States
ATTACH;FMTTYPE=image/jpeg:https://christcovcincy.org/wp-content/uploads/2023/02/SundayService.jpg
END:VEVENT
BEGIN:VEVENT
DTSTART;TZID=UTC:20260705T103000
DTEND;TZID=UTC:20260705T233000
DTSTAMP:20260423T123533
CREATED:20220714T235224Z
LAST-MODIFIED:20260327T170225Z
UID:10006489-1783247400-1783294200@christcovcincy.org
SUMMARY:Sunday Service @ 10:30am
DESCRIPTION:Join us for Worship! 10:30 am
URL:https://christcovcincy.org/event/sunday-service-1030am/2026-07-05/
LOCATION:Christ Covenant Church\, 2191 Struble Rd\, Cincinnati\, 45231\, United States
ATTACH;FMTTYPE=image/jpeg:https://christcovcincy.org/wp-content/uploads/2023/02/SundayService.jpg
END:VEVENT
BEGIN:VEVENT
DTSTART;TZID=UTC:20260712T103000
DTEND;TZID=UTC:20260712T233000
DTSTAMP:20260423T123533
CREATED:20220714T235224Z
LAST-MODIFIED:20260327T170225Z
UID:10006490-1783852200-1783899000@christcovcincy.org
SUMMARY:Sunday Service @ 10:30am
DESCRIPTION:Join us for Worship! 10:30 am
URL:https://christcovcincy.org/event/sunday-service-1030am/2026-07-12/
LOCATION:Christ Covenant Church\, 2191 Struble Rd\, Cincinnati\, 45231\, United States
ATTACH;FMTTYPE=image/jpeg:https://christcovcincy.org/wp-content/uploads/2023/02/SundayService.jpg
END:VEVENT
BEGIN:VEVENT
DTSTART;TZID=UTC:20260719T103000
DTEND;TZID=UTC:20260719T233000
DTSTAMP:20260423T123533
CREATED:20220714T235224Z
LAST-MODIFIED:20260327T170225Z
UID:10006491-1784457000-1784503800@christcovcincy.org
SUMMARY:Sunday Service @ 10:30am
DESCRIPTION:Join us for Worship! 10:30 am
URL:https://christcovcincy.org/event/sunday-service-1030am/2026-07-19/
LOCATION:Christ Covenant Church\, 2191 Struble Rd\, Cincinnati\, 45231\, United States
ATTACH;FMTTYPE=image/jpeg:https://christcovcincy.org/wp-content/uploads/2023/02/SundayService.jpg
END:VEVENT
BEGIN:VEVENT
DTSTART;TZID=UTC:20260726T103000
DTEND;TZID=UTC:20260726T233000
DTSTAMP:20260423T123533
CREATED:20220714T235224Z
LAST-MODIFIED:20260327T170225Z
UID:10006492-1785061800-1785108600@christcovcincy.org
SUMMARY:Sunday Service @ 10:30am
DESCRIPTION:Join us for Worship! 10:30 am
URL:https://christcovcincy.org/event/sunday-service-1030am/2026-07-26/
LOCATION:Christ Covenant Church\, 2191 Struble Rd\, Cincinnati\, 45231\, United States
ATTACH;FMTTYPE=image/jpeg:https://christcovcincy.org/wp-content/uploads/2023/02/SundayService.jpg
END:VEVENT
BEGIN:VEVENT
DTSTART;TZID=UTC:20260802T103000
DTEND;TZID=UTC:20260802T233000
DTSTAMP:20260423T123533
CREATED:20220714T235224Z
LAST-MODIFIED:20260327T170225Z
UID:10006493-1785666600-1785713400@christcovcincy.org
SUMMARY:Sunday Service @ 10:30am
DESCRIPTION:Join us for Worship! 10:30 am
URL:https://christcovcincy.org/event/sunday-service-1030am/2026-08-02/
LOCATION:Christ Covenant Church\, 2191 Struble Rd\, Cincinnati\, 45231\, United States
ATTACH;FMTTYPE=image/jpeg:https://christcovcincy.org/wp-content/uploads/2023/02/SundayService.jpg
END:VEVENT
BEGIN:VEVENT
DTSTART;TZID=UTC:20260809T103000
DTEND;TZID=UTC:20260809T233000
DTSTAMP:20260423T123533
CREATED:20220714T235224Z
LAST-MODIFIED:20260327T170225Z
UID:10006494-1786271400-1786318200@christcovcincy.org
SUMMARY:Sunday Service @ 10:30am
DESCRIPTION:Join us for Worship! 10:30 am
URL:https://christcovcincy.org/event/sunday-service-1030am/2026-08-09/
LOCATION:Christ Covenant Church\, 2191 Struble Rd\, Cincinnati\, 45231\, United States
ATTACH;FMTTYPE=image/jpeg:https://christcovcincy.org/wp-content/uploads/2023/02/SundayService.jpg
END:VEVENT
BEGIN:VEVENT
DTSTART;TZID=UTC:20260816T103000
DTEND;TZID=UTC:20260816T233000
DTSTAMP:20260423T123533
CREATED:20220714T235224Z
LAST-MODIFIED:20260327T170225Z
UID:10006495-1786876200-1786923000@christcovcincy.org
SUMMARY:Sunday Service @ 10:30am
DESCRIPTION:Join us for Worship! 10:30 am
URL:https://christcovcincy.org/event/sunday-service-1030am/2026-08-16/
LOCATION:Christ Covenant Church\, 2191 Struble Rd\, Cincinnati\, 45231\, United States
ATTACH;FMTTYPE=image/jpeg:https://christcovcincy.org/wp-content/uploads/2023/02/SundayService.jpg
END:VEVENT
BEGIN:VEVENT
DTSTART;TZID=UTC:20260823T103000
DTEND;TZID=UTC:20260823T233000
DTSTAMP:20260423T123533
CREATED:20220714T235224Z
LAST-MODIFIED:20260327T170225Z
UID:10006496-1787481000-1787527800@christcovcincy.org
SUMMARY:Sunday Service @ 10:30am
DESCRIPTION:Join us for Worship! 10:30 am
URL:https://christcovcincy.org/event/sunday-service-1030am/2026-08-23/
LOCATION:Christ Covenant Church\, 2191 Struble Rd\, Cincinnati\, 45231\, United States
ATTACH;FMTTYPE=image/jpeg:https://christcovcincy.org/wp-content/uploads/2023/02/SundayService.jpg
END:VEVENT
BEGIN:VEVENT
DTSTART;TZID=UTC:20260830T103000
DTEND;TZID=UTC:20260830T233000
DTSTAMP:20260423T123533
CREATED:20220714T235224Z
LAST-MODIFIED:20260327T170225Z
UID:10006497-1788085800-1788132600@christcovcincy.org
SUMMARY:Sunday Service @ 10:30am
DESCRIPTION:Join us for Worship! 10:30 am
URL:https://christcovcincy.org/event/sunday-service-1030am/2026-08-30/
LOCATION:Christ Covenant Church\, 2191 Struble Rd\, Cincinnati\, 45231\, United States
ATTACH;FMTTYPE=image/jpeg:https://christcovcincy.org/wp-content/uploads/2023/02/SundayService.jpg
END:VEVENT
BEGIN:VEVENT
DTSTART;TZID=UTC:20260906T103000
DTEND;TZID=UTC:20260906T233000
DTSTAMP:20260423T123533
CREATED:20220714T235224Z
LAST-MODIFIED:20260327T170225Z
UID:10006498-1788690600-1788737400@christcovcincy.org
SUMMARY:Sunday Service @ 10:30am
DESCRIPTION:Join us for Worship! 10:30 am
URL:https://christcovcincy.org/event/sunday-service-1030am/2026-09-06/
LOCATION:Christ Covenant Church\, 2191 Struble Rd\, Cincinnati\, 45231\, United States
ATTACH;FMTTYPE=image/jpeg:https://christcovcincy.org/wp-content/uploads/2023/02/SundayService.jpg
END:VEVENT
BEGIN:VEVENT
DTSTART;TZID=UTC:20260913T103000
DTEND;TZID=UTC:20260913T233000
DTSTAMP:20260423T123533
CREATED:20220714T235224Z
LAST-MODIFIED:20260327T170225Z
UID:10006499-1789295400-1789342200@christcovcincy.org
SUMMARY:Sunday Service @ 10:30am
DESCRIPTION:Join us for Worship! 10:30 am
URL:https://christcovcincy.org/event/sunday-service-1030am/2026-09-13/
LOCATION:Christ Covenant Church\, 2191 Struble Rd\, Cincinnati\, 45231\, United States
ATTACH;FMTTYPE=image/jpeg:https://christcovcincy.org/wp-content/uploads/2023/02/SundayService.jpg
END:VEVENT
BEGIN:VEVENT
DTSTART;TZID=UTC:20260920T103000
DTEND;TZID=UTC:20260920T233000
DTSTAMP:20260423T123533
CREATED:20220714T235224Z
LAST-MODIFIED:20260327T170225Z
UID:10006500-1789900200-1789947000@christcovcincy.org
SUMMARY:Sunday Service @ 10:30am
DESCRIPTION:Join us for Worship! 10:30 am
URL:https://christcovcincy.org/event/sunday-service-1030am/2026-09-20/
LOCATION:Christ Covenant Church\, 2191 Struble Rd\, Cincinnati\, 45231\, United States
ATTACH;FMTTYPE=image/jpeg:https://christcovcincy.org/wp-content/uploads/2023/02/SundayService.jpg
END:VEVENT
BEGIN:VEVENT
DTSTART;TZID=UTC:20260927T103000
DTEND;TZID=UTC:20260927T233000
DTSTAMP:20260423T123533
CREATED:20220714T235224Z
LAST-MODIFIED:20260327T170225Z
UID:10006501-1790505000-1790551800@christcovcincy.org
SUMMARY:Sunday Service @ 10:30am
DESCRIPTION:Join us for Worship! 10:30 am
URL:https://christcovcincy.org/event/sunday-service-1030am/2026-09-27/
LOCATION:Christ Covenant Church\, 2191 Struble Rd\, Cincinnati\, 45231\, United States
ATTACH;FMTTYPE=image/jpeg:https://christcovcincy.org/wp-content/uploads/2023/02/SundayService.jpg
END:VEVENT
BEGIN:VEVENT
DTSTART;TZID=UTC:20261004T103000
DTEND;TZID=UTC:20261004T233000
DTSTAMP:20260423T123533
CREATED:20220714T235224Z
LAST-MODIFIED:20260327T170225Z
UID:10006502-1791109800-1791156600@christcovcincy.org
SUMMARY:Sunday Service @ 10:30am
DESCRIPTION:Join us for Worship! 10:30 am
URL:https://christcovcincy.org/event/sunday-service-1030am/2026-10-04/
LOCATION:Christ Covenant Church\, 2191 Struble Rd\, Cincinnati\, 45231\, United States
ATTACH;FMTTYPE=image/jpeg:https://christcovcincy.org/wp-content/uploads/2023/02/SundayService.jpg
END:VEVENT
BEGIN:VEVENT
DTSTART;TZID=UTC:20261011T103000
DTEND;TZID=UTC:20261011T233000
DTSTAMP:20260423T123533
CREATED:20220714T235224Z
LAST-MODIFIED:20260327T170225Z
UID:10006503-1791714600-1791761400@christcovcincy.org
SUMMARY:Sunday Service @ 10:30am
DESCRIPTION:Join us for Worship! 10:30 am
URL:https://christcovcincy.org/event/sunday-service-1030am/2026-10-11/
LOCATION:Christ Covenant Church\, 2191 Struble Rd\, Cincinnati\, 45231\, United States
ATTACH;FMTTYPE=image/jpeg:https://christcovcincy.org/wp-content/uploads/2023/02/SundayService.jpg
END:VEVENT
BEGIN:VEVENT
DTSTART;TZID=UTC:20261018T103000
DTEND;TZID=UTC:20261018T233000
DTSTAMP:20260423T123533
CREATED:20220714T235224Z
LAST-MODIFIED:20260327T170225Z
UID:10006504-1792319400-1792366200@christcovcincy.org
SUMMARY:Sunday Service @ 10:30am
DESCRIPTION:Join us for Worship! 10:30 am
URL:https://christcovcincy.org/event/sunday-service-1030am/2026-10-18/
LOCATION:Christ Covenant Church\, 2191 Struble Rd\, Cincinnati\, 45231\, United States
ATTACH;FMTTYPE=image/jpeg:https://christcovcincy.org/wp-content/uploads/2023/02/SundayService.jpg
END:VEVENT
BEGIN:VEVENT
DTSTART;TZID=UTC:20261025T103000
DTEND;TZID=UTC:20261025T233000
DTSTAMP:20260423T123533
CREATED:20220714T235224Z
LAST-MODIFIED:20260327T170225Z
UID:10006505-1792924200-1792971000@christcovcincy.org
SUMMARY:Sunday Service @ 10:30am
DESCRIPTION:Join us for Worship! 10:30 am
URL:https://christcovcincy.org/event/sunday-service-1030am/2026-10-25/
LOCATION:Christ Covenant Church\, 2191 Struble Rd\, Cincinnati\, 45231\, United States
ATTACH;FMTTYPE=image/jpeg:https://christcovcincy.org/wp-content/uploads/2023/02/SundayService.jpg
END:VEVENT
BEGIN:VEVENT
DTSTART;TZID=UTC:20261101T103000
DTEND;TZID=UTC:20261101T233000
DTSTAMP:20260423T123533
CREATED:20220714T235224Z
LAST-MODIFIED:20260327T170225Z
UID:10006506-1793529000-1793575800@christcovcincy.org
SUMMARY:Sunday Service @ 10:30am
DESCRIPTION:Join us for Worship! 10:30 am
URL:https://christcovcincy.org/event/sunday-service-1030am/2026-11-01/
LOCATION:Christ Covenant Church\, 2191 Struble Rd\, Cincinnati\, 45231\, United States
ATTACH;FMTTYPE=image/jpeg:https://christcovcincy.org/wp-content/uploads/2023/02/SundayService.jpg
END:VEVENT
BEGIN:VEVENT
DTSTART;TZID=UTC:20261108T103000
DTEND;TZID=UTC:20261108T233000
DTSTAMP:20260423T123533
CREATED:20220714T235224Z
LAST-MODIFIED:20260327T170225Z
UID:10006507-1794133800-1794180600@christcovcincy.org
SUMMARY:Sunday Service @ 10:30am
DESCRIPTION:Join us for Worship! 10:30 am
URL:https://christcovcincy.org/event/sunday-service-1030am/2026-11-08/
LOCATION:Christ Covenant Church\, 2191 Struble Rd\, Cincinnati\, 45231\, United States
ATTACH;FMTTYPE=image/jpeg:https://christcovcincy.org/wp-content/uploads/2023/02/SundayService.jpg
END:VEVENT
BEGIN:VEVENT
DTSTART;TZID=UTC:20261115T103000
DTEND;TZID=UTC:20261115T233000
DTSTAMP:20260423T123533
CREATED:20220714T235224Z
LAST-MODIFIED:20260327T170225Z
UID:10006508-1794738600-1794785400@christcovcincy.org
SUMMARY:Sunday Service @ 10:30am
DESCRIPTION:Join us for Worship! 10:30 am
URL:https://christcovcincy.org/event/sunday-service-1030am/2026-11-15/
LOCATION:Christ Covenant Church\, 2191 Struble Rd\, Cincinnati\, 45231\, United States
ATTACH;FMTTYPE=image/jpeg:https://christcovcincy.org/wp-content/uploads/2023/02/SundayService.jpg
END:VEVENT
END:VCALENDAR