BEGIN:VCALENDAR
VERSION:2.0
PRODID:-//Christ Covenant Church - ECPv6.15.20//NONSGML v1.0//EN
CALSCALE:GREGORIAN
METHOD:PUBLISH
X-WR-CALNAME:Christ Covenant Church
X-ORIGINAL-URL:https://christcovcincy.org
X-WR-CALDESC:Events for Christ Covenant Church
REFRESH-INTERVAL;VALUE=DURATION:PT1H
X-Robots-Tag:noindex
X-PUBLISHED-TTL:PT1H
BEGIN:VTIMEZONE
TZID:America/New_York
BEGIN:DAYLIGHT
TZOFFSETFROM:-0500
TZOFFSETTO:-0400
TZNAME:EDT
DTSTART:20240310T070000
END:DAYLIGHT
BEGIN:STANDARD
TZOFFSETFROM:-0400
TZOFFSETTO:-0500
TZNAME:EST
DTSTART:20241103T060000
END:STANDARD
BEGIN:DAYLIGHT
TZOFFSETFROM:-0500
TZOFFSETTO:-0400
TZNAME:EDT
DTSTART:20250309T070000
END:DAYLIGHT
BEGIN:STANDARD
TZOFFSETFROM:-0400
TZOFFSETTO:-0500
TZNAME:EST
DTSTART:20251102T060000
END:STANDARD
BEGIN:DAYLIGHT
TZOFFSETFROM:-0500
TZOFFSETTO:-0400
TZNAME:EDT
DTSTART:20260308T070000
END:DAYLIGHT
BEGIN:STANDARD
TZOFFSETFROM:-0400
TZOFFSETTO:-0500
TZNAME:EST
DTSTART:20261101T060000
END:STANDARD
END:VTIMEZONE
BEGIN:VTIMEZONE
TZID:America/Halifax
BEGIN:DAYLIGHT
TZOFFSETFROM:-0400
TZOFFSETTO:-0300
TZNAME:ADT
DTSTART:20230312T060000
END:DAYLIGHT
BEGIN:STANDARD
TZOFFSETFROM:-0300
TZOFFSETTO:-0400
TZNAME:AST
DTSTART:20231105T050000
END:STANDARD
BEGIN:DAYLIGHT
TZOFFSETFROM:-0400
TZOFFSETTO:-0300
TZNAME:ADT
DTSTART:20240310T060000
END:DAYLIGHT
BEGIN:STANDARD
TZOFFSETFROM:-0300
TZOFFSETTO:-0400
TZNAME:AST
DTSTART:20241103T050000
END:STANDARD
BEGIN:DAYLIGHT
TZOFFSETFROM:-0400
TZOFFSETTO:-0300
TZNAME:ADT
DTSTART:20250309T060000
END:DAYLIGHT
BEGIN:STANDARD
TZOFFSETFROM:-0300
TZOFFSETTO:-0400
TZNAME:AST
DTSTART:20251102T050000
END:STANDARD
BEGIN:DAYLIGHT
TZOFFSETFROM:-0400
TZOFFSETTO:-0300
TZNAME:ADT
DTSTART:20260308T060000
END:DAYLIGHT
BEGIN:STANDARD
TZOFFSETFROM:-0300
TZOFFSETTO:-0400
TZNAME:AST
DTSTART:20261101T050000
END:STANDARD
END:VTIMEZONE
BEGIN:VEVENT
DTSTART;TZID=America/New_York:20250923T114500
DTEND;TZID=America/New_York:20250923T170000
DTSTAMP:20260423T193129
CREATED:20250416T153209Z
LAST-MODIFIED:20250723T132052Z
UID:10006844-1758627900-1758646800@christcovcincy.org
SUMMARY:Private Event
DESCRIPTION:Speech and Debate Club
URL:https://christcovcincy.org/event/private-event-96/2025-09-23/
LOCATION:Christ Covenant Church\, 2191 Struble Rd\, Cincinnati\, 45231\, United States
CATEGORIES:private event
ATTACH;FMTTYPE=image/jpeg:https://christcovcincy.org/wp-content/uploads/2023/06/privateeventcalendar.jpg
END:VEVENT
BEGIN:VEVENT
DTSTART;TZID=America/New_York:20250916T114500
DTEND;TZID=America/New_York:20250916T170000
DTSTAMP:20260423T193129
CREATED:20250416T153209Z
LAST-MODIFIED:20250723T132052Z
UID:10006843-1758023100-1758042000@christcovcincy.org
SUMMARY:Private Event
DESCRIPTION:Speech and Debate Club
URL:https://christcovcincy.org/event/private-event-96/2025-09-16/
LOCATION:Christ Covenant Church\, 2191 Struble Rd\, Cincinnati\, 45231\, United States
CATEGORIES:private event
ATTACH;FMTTYPE=image/jpeg:https://christcovcincy.org/wp-content/uploads/2023/06/privateeventcalendar.jpg
END:VEVENT
BEGIN:VEVENT
DTSTART;TZID=America/New_York:20250909T114500
DTEND;TZID=America/New_York:20250909T170000
DTSTAMP:20260423T193129
CREATED:20250416T153209Z
LAST-MODIFIED:20250723T132052Z
UID:10006842-1757418300-1757437200@christcovcincy.org
SUMMARY:Private Event
DESCRIPTION:Speech and Debate Club
URL:https://christcovcincy.org/event/private-event-96/2025-09-09/
LOCATION:Christ Covenant Church\, 2191 Struble Rd\, Cincinnati\, 45231\, United States
CATEGORIES:private event
ATTACH;FMTTYPE=image/jpeg:https://christcovcincy.org/wp-content/uploads/2023/06/privateeventcalendar.jpg
END:VEVENT
BEGIN:VEVENT
DTSTART;TZID=America/Halifax:20250429T120000
DTEND;TZID=America/Halifax:20250429T163000
DTSTAMP:20260423T193129
CREATED:20240425T155603Z
LAST-MODIFIED:20250529T144313Z
UID:10005322-1745928000-1745944200@christcovcincy.org
SUMMARY:Private Event
DESCRIPTION:B Boerner/A Langdon Homeschool Speech & Debate
URL:https://christcovcincy.org/event/private-event-56/2025-04-29/
LOCATION:Christ Covenant Church\, 2191 Struble Rd\, Cincinnati\, 45231\, United States
CATEGORIES:private event
ATTACH;FMTTYPE=image/jpeg:https://christcovcincy.org/wp-content/uploads/2023/06/privateeventcalendar.jpg
END:VEVENT
BEGIN:VEVENT
DTSTART;TZID=America/Halifax:20250422T120000
DTEND;TZID=America/Halifax:20250422T163000
DTSTAMP:20260423T193129
CREATED:20240425T155603Z
LAST-MODIFIED:20250529T144313Z
UID:10005321-1745323200-1745339400@christcovcincy.org
SUMMARY:Private Event
DESCRIPTION:B Boerner/A Langdon Homeschool Speech & Debate
URL:https://christcovcincy.org/event/private-event-56/2025-04-22/
LOCATION:Christ Covenant Church\, 2191 Struble Rd\, Cincinnati\, 45231\, United States
CATEGORIES:private event
ATTACH;FMTTYPE=image/jpeg:https://christcovcincy.org/wp-content/uploads/2023/06/privateeventcalendar.jpg
END:VEVENT
BEGIN:VEVENT
DTSTART;TZID=America/Halifax:20250415T120000
DTEND;TZID=America/Halifax:20250415T163000
DTSTAMP:20260423T193129
CREATED:20240425T155603Z
LAST-MODIFIED:20250529T144313Z
UID:10005320-1744718400-1744734600@christcovcincy.org
SUMMARY:Private Event
DESCRIPTION:B Boerner/A Langdon Homeschool Speech & Debate
URL:https://christcovcincy.org/event/private-event-56/2025-04-15/
LOCATION:Christ Covenant Church\, 2191 Struble Rd\, Cincinnati\, 45231\, United States
CATEGORIES:private event
ATTACH;FMTTYPE=image/jpeg:https://christcovcincy.org/wp-content/uploads/2023/06/privateeventcalendar.jpg
END:VEVENT
BEGIN:VEVENT
DTSTART;TZID=America/Halifax:20250408T120000
DTEND;TZID=America/Halifax:20250408T163000
DTSTAMP:20260423T193129
CREATED:20240425T155603Z
LAST-MODIFIED:20250529T144313Z
UID:10005319-1744113600-1744129800@christcovcincy.org
SUMMARY:Private Event
DESCRIPTION:B Boerner/A Langdon Homeschool Speech & Debate
URL:https://christcovcincy.org/event/private-event-56/2025-04-08/
LOCATION:Christ Covenant Church\, 2191 Struble Rd\, Cincinnati\, 45231\, United States
CATEGORIES:private event
ATTACH;FMTTYPE=image/jpeg:https://christcovcincy.org/wp-content/uploads/2023/06/privateeventcalendar.jpg
END:VEVENT
BEGIN:VEVENT
DTSTART;TZID=America/Halifax:20250401T120000
DTEND;TZID=America/Halifax:20250401T163000
DTSTAMP:20260423T193129
CREATED:20240425T155603Z
LAST-MODIFIED:20250529T144313Z
UID:10005318-1743508800-1743525000@christcovcincy.org
SUMMARY:Private Event
DESCRIPTION:B Boerner/A Langdon Homeschool Speech & Debate
URL:https://christcovcincy.org/event/private-event-56/2025-04-01/
LOCATION:Christ Covenant Church\, 2191 Struble Rd\, Cincinnati\, 45231\, United States
CATEGORIES:private event
ATTACH;FMTTYPE=image/jpeg:https://christcovcincy.org/wp-content/uploads/2023/06/privateeventcalendar.jpg
END:VEVENT
BEGIN:VEVENT
DTSTART;TZID=America/Halifax:20250325T120000
DTEND;TZID=America/Halifax:20250325T163000
DTSTAMP:20260423T193129
CREATED:20240425T155603Z
LAST-MODIFIED:20250529T144313Z
UID:10005317-1742904000-1742920200@christcovcincy.org
SUMMARY:Private Event
DESCRIPTION:B Boerner/A Langdon Homeschool Speech & Debate
URL:https://christcovcincy.org/event/private-event-56/2025-03-25/
LOCATION:Christ Covenant Church\, 2191 Struble Rd\, Cincinnati\, 45231\, United States
CATEGORIES:private event
ATTACH;FMTTYPE=image/jpeg:https://christcovcincy.org/wp-content/uploads/2023/06/privateeventcalendar.jpg
END:VEVENT
BEGIN:VEVENT
DTSTART;TZID=America/Halifax:20250318T120000
DTEND;TZID=America/Halifax:20250318T163000
DTSTAMP:20260423T193129
CREATED:20240425T155603Z
LAST-MODIFIED:20250529T144313Z
UID:10005316-1742299200-1742315400@christcovcincy.org
SUMMARY:Private Event
DESCRIPTION:B Boerner/A Langdon Homeschool Speech & Debate
URL:https://christcovcincy.org/event/private-event-56/2025-03-18/
LOCATION:Christ Covenant Church\, 2191 Struble Rd\, Cincinnati\, 45231\, United States
CATEGORIES:private event
ATTACH;FMTTYPE=image/jpeg:https://christcovcincy.org/wp-content/uploads/2023/06/privateeventcalendar.jpg
END:VEVENT
BEGIN:VEVENT
DTSTART;TZID=America/Halifax:20250311T120000
DTEND;TZID=America/Halifax:20250311T163000
DTSTAMP:20260423T193129
CREATED:20240425T155603Z
LAST-MODIFIED:20250529T144313Z
UID:10005315-1741694400-1741710600@christcovcincy.org
SUMMARY:Private Event
DESCRIPTION:B Boerner/A Langdon Homeschool Speech & Debate
URL:https://christcovcincy.org/event/private-event-56/2025-03-11/
LOCATION:Christ Covenant Church\, 2191 Struble Rd\, Cincinnati\, 45231\, United States
CATEGORIES:private event
ATTACH;FMTTYPE=image/jpeg:https://christcovcincy.org/wp-content/uploads/2023/06/privateeventcalendar.jpg
END:VEVENT
BEGIN:VEVENT
DTSTART;TZID=America/Halifax:20250304T120000
DTEND;TZID=America/Halifax:20250304T163000
DTSTAMP:20260423T193129
CREATED:20240425T155603Z
LAST-MODIFIED:20250529T144313Z
UID:10005314-1741089600-1741105800@christcovcincy.org
SUMMARY:Private Event
DESCRIPTION:B Boerner/A Langdon Homeschool Speech & Debate
URL:https://christcovcincy.org/event/private-event-56/2025-03-04/
LOCATION:Christ Covenant Church\, 2191 Struble Rd\, Cincinnati\, 45231\, United States
CATEGORIES:private event
ATTACH;FMTTYPE=image/jpeg:https://christcovcincy.org/wp-content/uploads/2023/06/privateeventcalendar.jpg
END:VEVENT
BEGIN:VEVENT
DTSTART;TZID=America/Halifax:20250225T120000
DTEND;TZID=America/Halifax:20250225T163000
DTSTAMP:20260423T193129
CREATED:20240425T155603Z
LAST-MODIFIED:20250529T144313Z
UID:10005313-1740484800-1740501000@christcovcincy.org
SUMMARY:Private Event
DESCRIPTION:B Boerner/A Langdon Homeschool Speech & Debate
URL:https://christcovcincy.org/event/private-event-56/2025-02-25/
LOCATION:Christ Covenant Church\, 2191 Struble Rd\, Cincinnati\, 45231\, United States
CATEGORIES:private event
ATTACH;FMTTYPE=image/jpeg:https://christcovcincy.org/wp-content/uploads/2023/06/privateeventcalendar.jpg
END:VEVENT
BEGIN:VEVENT
DTSTART;TZID=America/Halifax:20250218T120000
DTEND;TZID=America/Halifax:20250218T163000
DTSTAMP:20260423T193129
CREATED:20240425T155603Z
LAST-MODIFIED:20250529T144313Z
UID:10005312-1739880000-1739896200@christcovcincy.org
SUMMARY:Private Event
DESCRIPTION:B Boerner/A Langdon Homeschool Speech & Debate
URL:https://christcovcincy.org/event/private-event-56/2025-02-18/
LOCATION:Christ Covenant Church\, 2191 Struble Rd\, Cincinnati\, 45231\, United States
CATEGORIES:private event
ATTACH;FMTTYPE=image/jpeg:https://christcovcincy.org/wp-content/uploads/2023/06/privateeventcalendar.jpg
END:VEVENT
BEGIN:VEVENT
DTSTART;TZID=America/Halifax:20250211T120000
DTEND;TZID=America/Halifax:20250211T163000
DTSTAMP:20260423T193129
CREATED:20240425T155603Z
LAST-MODIFIED:20250529T144313Z
UID:10005311-1739275200-1739291400@christcovcincy.org
SUMMARY:Private Event
DESCRIPTION:B Boerner/A Langdon Homeschool Speech & Debate
URL:https://christcovcincy.org/event/private-event-56/2025-02-11/
LOCATION:Christ Covenant Church\, 2191 Struble Rd\, Cincinnati\, 45231\, United States
CATEGORIES:private event
ATTACH;FMTTYPE=image/jpeg:https://christcovcincy.org/wp-content/uploads/2023/06/privateeventcalendar.jpg
END:VEVENT
BEGIN:VEVENT
DTSTART;TZID=America/Halifax:20250204T120000
DTEND;TZID=America/Halifax:20250204T163000
DTSTAMP:20260423T193129
CREATED:20240425T155603Z
LAST-MODIFIED:20250529T144313Z
UID:10005310-1738670400-1738686600@christcovcincy.org
SUMMARY:Private Event
DESCRIPTION:B Boerner/A Langdon Homeschool Speech & Debate
URL:https://christcovcincy.org/event/private-event-56/2025-02-04/
LOCATION:Christ Covenant Church\, 2191 Struble Rd\, Cincinnati\, 45231\, United States
CATEGORIES:private event
ATTACH;FMTTYPE=image/jpeg:https://christcovcincy.org/wp-content/uploads/2023/06/privateeventcalendar.jpg
END:VEVENT
BEGIN:VEVENT
DTSTART;TZID=America/Halifax:20250128T120000
DTEND;TZID=America/Halifax:20250128T163000
DTSTAMP:20260423T193129
CREATED:20240425T155603Z
LAST-MODIFIED:20250529T144313Z
UID:10005309-1738065600-1738081800@christcovcincy.org
SUMMARY:Private Event
DESCRIPTION:B Boerner/A Langdon Homeschool Speech & Debate
URL:https://christcovcincy.org/event/private-event-56/2025-01-28/
LOCATION:Christ Covenant Church\, 2191 Struble Rd\, Cincinnati\, 45231\, United States
CATEGORIES:private event
ATTACH;FMTTYPE=image/jpeg:https://christcovcincy.org/wp-content/uploads/2023/06/privateeventcalendar.jpg
END:VEVENT
BEGIN:VEVENT
DTSTART;TZID=America/Halifax:20250121T120000
DTEND;TZID=America/Halifax:20250121T163000
DTSTAMP:20260423T193129
CREATED:20240425T155603Z
LAST-MODIFIED:20250529T144313Z
UID:10005308-1737460800-1737477000@christcovcincy.org
SUMMARY:Private Event
DESCRIPTION:B Boerner/A Langdon Homeschool Speech & Debate
URL:https://christcovcincy.org/event/private-event-56/2025-01-21/
LOCATION:Christ Covenant Church\, 2191 Struble Rd\, Cincinnati\, 45231\, United States
CATEGORIES:private event
ATTACH;FMTTYPE=image/jpeg:https://christcovcincy.org/wp-content/uploads/2023/06/privateeventcalendar.jpg
END:VEVENT
BEGIN:VEVENT
DTSTART;TZID=America/Halifax:20250114T120000
DTEND;TZID=America/Halifax:20250114T163000
DTSTAMP:20260423T193129
CREATED:20240425T155603Z
LAST-MODIFIED:20250529T144313Z
UID:10005307-1736856000-1736872200@christcovcincy.org
SUMMARY:Private Event
DESCRIPTION:B Boerner/A Langdon Homeschool Speech & Debate
URL:https://christcovcincy.org/event/private-event-56/2025-01-14/
LOCATION:Christ Covenant Church\, 2191 Struble Rd\, Cincinnati\, 45231\, United States
CATEGORIES:private event
ATTACH;FMTTYPE=image/jpeg:https://christcovcincy.org/wp-content/uploads/2023/06/privateeventcalendar.jpg
END:VEVENT
BEGIN:VEVENT
DTSTART;TZID=America/Halifax:20250107T120000
DTEND;TZID=America/Halifax:20250107T163000
DTSTAMP:20260423T193129
CREATED:20240425T155603Z
LAST-MODIFIED:20250529T144313Z
UID:10005306-1736251200-1736267400@christcovcincy.org
SUMMARY:Private Event
DESCRIPTION:B Boerner/A Langdon Homeschool Speech & Debate
URL:https://christcovcincy.org/event/private-event-56/2025-01-07/
LOCATION:Christ Covenant Church\, 2191 Struble Rd\, Cincinnati\, 45231\, United States
CATEGORIES:private event
ATTACH;FMTTYPE=image/jpeg:https://christcovcincy.org/wp-content/uploads/2023/06/privateeventcalendar.jpg
END:VEVENT
BEGIN:VEVENT
DTSTART;TZID=America/Halifax:20241210T120000
DTEND;TZID=America/Halifax:20241210T163000
DTSTAMP:20260423T193129
CREATED:20240425T155603Z
LAST-MODIFIED:20250529T144313Z
UID:10005305-1733832000-1733848200@christcovcincy.org
SUMMARY:Private Event
DESCRIPTION:B Boerner/A Langdon Homeschool Speech & Debate
URL:https://christcovcincy.org/event/private-event-56/2024-12-10/
LOCATION:Christ Covenant Church\, 2191 Struble Rd\, Cincinnati\, 45231\, United States
CATEGORIES:private event
ATTACH;FMTTYPE=image/jpeg:https://christcovcincy.org/wp-content/uploads/2023/06/privateeventcalendar.jpg
END:VEVENT
BEGIN:VEVENT
DTSTART;TZID=America/Halifax:20241203T120000
DTEND;TZID=America/Halifax:20241203T163000
DTSTAMP:20260423T193129
CREATED:20240425T155603Z
LAST-MODIFIED:20250529T144313Z
UID:10005304-1733227200-1733243400@christcovcincy.org
SUMMARY:Private Event
DESCRIPTION:B Boerner/A Langdon Homeschool Speech & Debate
URL:https://christcovcincy.org/event/private-event-56/2024-12-03/
LOCATION:Christ Covenant Church\, 2191 Struble Rd\, Cincinnati\, 45231\, United States
CATEGORIES:private event
ATTACH;FMTTYPE=image/jpeg:https://christcovcincy.org/wp-content/uploads/2023/06/privateeventcalendar.jpg
END:VEVENT
BEGIN:VEVENT
DTSTART;TZID=America/Halifax:20241119T120000
DTEND;TZID=America/Halifax:20241119T163000
DTSTAMP:20260423T193129
CREATED:20240425T155603Z
LAST-MODIFIED:20250529T144313Z
UID:10005303-1732017600-1732033800@christcovcincy.org
SUMMARY:Private Event
DESCRIPTION:B Boerner/A Langdon Homeschool Speech & Debate
URL:https://christcovcincy.org/event/private-event-56/2024-11-19/
LOCATION:Christ Covenant Church\, 2191 Struble Rd\, Cincinnati\, 45231\, United States
CATEGORIES:private event
ATTACH;FMTTYPE=image/jpeg:https://christcovcincy.org/wp-content/uploads/2023/06/privateeventcalendar.jpg
END:VEVENT
BEGIN:VEVENT
DTSTART;TZID=America/Halifax:20241112T120000
DTEND;TZID=America/Halifax:20241112T163000
DTSTAMP:20260423T193129
CREATED:20240425T155603Z
LAST-MODIFIED:20250529T144313Z
UID:10005302-1731412800-1731429000@christcovcincy.org
SUMMARY:Private Event
DESCRIPTION:B Boerner/A Langdon Homeschool Speech & Debate
URL:https://christcovcincy.org/event/private-event-56/2024-11-12/
LOCATION:Christ Covenant Church\, 2191 Struble Rd\, Cincinnati\, 45231\, United States
CATEGORIES:private event
ATTACH;FMTTYPE=image/jpeg:https://christcovcincy.org/wp-content/uploads/2023/06/privateeventcalendar.jpg
END:VEVENT
BEGIN:VEVENT
DTSTART;TZID=America/Halifax:20241029T120000
DTEND;TZID=America/Halifax:20241029T163000
DTSTAMP:20260423T193129
CREATED:20240425T155603Z
LAST-MODIFIED:20250529T144313Z
UID:10005301-1730203200-1730219400@christcovcincy.org
SUMMARY:Private Event
DESCRIPTION:B Boerner/A Langdon Homeschool Speech & Debate
URL:https://christcovcincy.org/event/private-event-56/2024-10-29/
LOCATION:Christ Covenant Church\, 2191 Struble Rd\, Cincinnati\, 45231\, United States
CATEGORIES:private event
ATTACH;FMTTYPE=image/jpeg:https://christcovcincy.org/wp-content/uploads/2023/06/privateeventcalendar.jpg
END:VEVENT
BEGIN:VEVENT
DTSTART;TZID=America/Halifax:20241022T120000
DTEND;TZID=America/Halifax:20241022T163000
DTSTAMP:20260423T193129
CREATED:20240425T155603Z
LAST-MODIFIED:20250529T144313Z
UID:10005300-1729598400-1729614600@christcovcincy.org
SUMMARY:Private Event
DESCRIPTION:B Boerner/A Langdon Homeschool Speech & Debate
URL:https://christcovcincy.org/event/private-event-56/2024-10-22/
LOCATION:Christ Covenant Church\, 2191 Struble Rd\, Cincinnati\, 45231\, United States
CATEGORIES:private event
ATTACH;FMTTYPE=image/jpeg:https://christcovcincy.org/wp-content/uploads/2023/06/privateeventcalendar.jpg
END:VEVENT
BEGIN:VEVENT
DTSTART;TZID=America/Halifax:20241015T120000
DTEND;TZID=America/Halifax:20241015T163000
DTSTAMP:20260423T193129
CREATED:20240425T155603Z
LAST-MODIFIED:20250529T144313Z
UID:10005299-1728993600-1729009800@christcovcincy.org
SUMMARY:Private Event
DESCRIPTION:B Boerner/A Langdon Homeschool Speech & Debate
URL:https://christcovcincy.org/event/private-event-56/2024-10-15/
LOCATION:Christ Covenant Church\, 2191 Struble Rd\, Cincinnati\, 45231\, United States
CATEGORIES:private event
ATTACH;FMTTYPE=image/jpeg:https://christcovcincy.org/wp-content/uploads/2023/06/privateeventcalendar.jpg
END:VEVENT
BEGIN:VEVENT
DTSTART;TZID=America/Halifax:20241008T120000
DTEND;TZID=America/Halifax:20241008T163000
DTSTAMP:20260423T193129
CREATED:20240425T155603Z
LAST-MODIFIED:20250529T144313Z
UID:10005298-1728388800-1728405000@christcovcincy.org
SUMMARY:Private Event
DESCRIPTION:B Boerner/A Langdon Homeschool Speech & Debate
URL:https://christcovcincy.org/event/private-event-56/2024-10-08/
LOCATION:Christ Covenant Church\, 2191 Struble Rd\, Cincinnati\, 45231\, United States
CATEGORIES:private event
ATTACH;FMTTYPE=image/jpeg:https://christcovcincy.org/wp-content/uploads/2023/06/privateeventcalendar.jpg
END:VEVENT
BEGIN:VEVENT
DTSTART;TZID=America/Halifax:20241001T120000
DTEND;TZID=America/Halifax:20241001T163000
DTSTAMP:20260423T193129
CREATED:20240425T155603Z
LAST-MODIFIED:20250529T144313Z
UID:10005297-1727784000-1727800200@christcovcincy.org
SUMMARY:Private Event
DESCRIPTION:B Boerner/A Langdon Homeschool Speech & Debate
URL:https://christcovcincy.org/event/private-event-56/2024-10-01/
LOCATION:Christ Covenant Church\, 2191 Struble Rd\, Cincinnati\, 45231\, United States
CATEGORIES:private event
ATTACH;FMTTYPE=image/jpeg:https://christcovcincy.org/wp-content/uploads/2023/06/privateeventcalendar.jpg
END:VEVENT
BEGIN:VEVENT
DTSTART;TZID=America/Halifax:20240924T120000
DTEND;TZID=America/Halifax:20240924T163000
DTSTAMP:20260423T193129
CREATED:20240425T155603Z
LAST-MODIFIED:20250529T144313Z
UID:10005296-1727179200-1727195400@christcovcincy.org
SUMMARY:Private Event
DESCRIPTION:B Boerner/A Langdon Homeschool Speech & Debate
URL:https://christcovcincy.org/event/private-event-56/2024-09-24/
LOCATION:Christ Covenant Church\, 2191 Struble Rd\, Cincinnati\, 45231\, United States
CATEGORIES:private event
ATTACH;FMTTYPE=image/jpeg:https://christcovcincy.org/wp-content/uploads/2023/06/privateeventcalendar.jpg
END:VEVENT
END:VCALENDAR