BEGIN:VCALENDAR
VERSION:2.0
PRODID:-//Christ Covenant Church - ECPv6.15.20//NONSGML v1.0//EN
CALSCALE:GREGORIAN
METHOD:PUBLISH
X-ORIGINAL-URL:https://christcovcincy.org
X-WR-CALDESC:Events for Christ Covenant Church
REFRESH-INTERVAL;VALUE=DURATION:PT1H
X-Robots-Tag:noindex
X-PUBLISHED-TTL:PT1H
BEGIN:VTIMEZONE
TZID:America/New_York
BEGIN:DAYLIGHT
TZOFFSETFROM:-0500
TZOFFSETTO:-0400
TZNAME:EDT
DTSTART:20240310T070000
END:DAYLIGHT
BEGIN:STANDARD
TZOFFSETFROM:-0400
TZOFFSETTO:-0500
TZNAME:EST
DTSTART:20241103T060000
END:STANDARD
BEGIN:DAYLIGHT
TZOFFSETFROM:-0500
TZOFFSETTO:-0400
TZNAME:EDT
DTSTART:20250309T070000
END:DAYLIGHT
BEGIN:STANDARD
TZOFFSETFROM:-0400
TZOFFSETTO:-0500
TZNAME:EST
DTSTART:20251102T060000
END:STANDARD
BEGIN:DAYLIGHT
TZOFFSETFROM:-0500
TZOFFSETTO:-0400
TZNAME:EDT
DTSTART:20260308T070000
END:DAYLIGHT
BEGIN:STANDARD
TZOFFSETFROM:-0400
TZOFFSETTO:-0500
TZNAME:EST
DTSTART:20261101T060000
END:STANDARD
END:VTIMEZONE
BEGIN:VTIMEZONE
TZID:UTC
BEGIN:STANDARD
TZOFFSETFROM:+0000
TZOFFSETTO:+0000
TZNAME:UTC
DTSTART:20220101T000000
END:STANDARD
END:VTIMEZONE
BEGIN:VEVENT
DTSTART;TZID=America/New_York:20251016T110000
DTEND;TZID=America/New_York:20251016T140000
DTSTAMP:20260423T200246
CREATED:20250701T142905Z
LAST-MODIFIED:20251016T192129Z
UID:10006840-1760612400-1760623200@christcovcincy.org
SUMMARY:Mt. Healthy Garden Club
DESCRIPTION:
URL:https://christcovcincy.org/event/mt-healthy-garden-club/2025-10-16/
LOCATION:Church Fellowship Hall
ATTACH;FMTTYPE=image/jpeg:https://christcovcincy.org/wp-content/uploads/2025/07/Garden-Club.jpg
END:VEVENT
BEGIN:VEVENT
DTSTART;TZID=America/New_York:20250717T110000
DTEND;TZID=America/New_York:20250717T140000
DTSTAMP:20260423T200246
CREATED:20250701T142905Z
LAST-MODIFIED:20251016T192129Z
UID:10006837-1752750000-1752760800@christcovcincy.org
SUMMARY:Mt. Healthy Garden Club
DESCRIPTION:
URL:https://christcovcincy.org/event/mt-healthy-garden-club/2025-07-17/
LOCATION:Church Fellowship Hall
ATTACH;FMTTYPE=image/jpeg:https://christcovcincy.org/wp-content/uploads/2025/07/Garden-Club.jpg
END:VEVENT
BEGIN:VEVENT
DTSTART;TZID=America/New_York:20250619T110000
DTEND;TZID=America/New_York:20250619T140000
DTSTAMP:20260423T200246
CREATED:20250423T182733Z
LAST-MODIFIED:20250612T194741Z
UID:10006807-1750330800-1750341600@christcovcincy.org
SUMMARY:Private Event
DESCRIPTION:Mt. Healthy Garden Club
URL:https://christcovcincy.org/event/private-event-98/2025-06-19/
LOCATION:Church Fellowship Hall
CATEGORIES:private event
ATTACH;FMTTYPE=image/jpeg:https://christcovcincy.org/wp-content/uploads/2023/06/privateeventcalendar.jpg
END:VEVENT
BEGIN:VEVENT
DTSTART;TZID=America/New_York:20250514T110000
DTEND;TZID=America/New_York:20250514T140000
DTSTAMP:20260423T200246
CREATED:20250423T182733Z
LAST-MODIFIED:20250612T194741Z
UID:10006001-1747220400-1747231200@christcovcincy.org
SUMMARY:Private Event
DESCRIPTION:Mt. Healthy Garden Club
URL:https://christcovcincy.org/event/private-event-98/2025-05-14/
LOCATION:Church Fellowship Hall
CATEGORIES:private event
ATTACH;FMTTYPE=image/jpeg:https://christcovcincy.org/wp-content/uploads/2023/06/privateeventcalendar.jpg
END:VEVENT
BEGIN:VEVENT
DTSTART;TZID=UTC:20231116T094500
DTEND;TZID=UTC:20231116T134500
DTSTAMP:20260423T200246
CREATED:20230209T220923Z
LAST-MODIFIED:20230209T221440Z
UID:10004761-1700127900-1700142300@christcovcincy.org
SUMMARY:Private Event
DESCRIPTION:Mt. Healthy Garden Club – Contact: Becky Powell
URL:https://christcovcincy.org/event/private-event-25/2023-11-16/
LOCATION:Christ Covenant Church\, 2191 Struble Rd\, Cincinnati\, 45231\, United States
ATTACH;FMTTYPE=image/png:https://christcovcincy.org/wp-content/uploads/2022/07/Private-Event.png
END:VEVENT
BEGIN:VEVENT
DTSTART;TZID=UTC:20231026T094500
DTEND;TZID=UTC:20231026T134500
DTSTAMP:20260423T200246
CREATED:20230209T220923Z
LAST-MODIFIED:20230209T221440Z
UID:10004760-1698313500-1698327900@christcovcincy.org
SUMMARY:Private Event
DESCRIPTION:Mt. Healthy Garden Club – Contact: Becky Powell
URL:https://christcovcincy.org/event/private-event-25/2023-10-26/
LOCATION:Christ Covenant Church\, 2191 Struble Rd\, Cincinnati\, 45231\, United States
ATTACH;FMTTYPE=image/png:https://christcovcincy.org/wp-content/uploads/2022/07/Private-Event.png
END:VEVENT
BEGIN:VEVENT
DTSTART;TZID=UTC:20230727T094500
DTEND;TZID=UTC:20230727T134500
DTSTAMP:20260423T200246
CREATED:20230209T220923Z
LAST-MODIFIED:20230209T221440Z
UID:10004759-1690451100-1690465500@christcovcincy.org
SUMMARY:Private Event
DESCRIPTION:Mt. Healthy Garden Club – Contact: Becky Powell
URL:https://christcovcincy.org/event/private-event-25/2023-07-27/
LOCATION:Christ Covenant Church\, 2191 Struble Rd\, Cincinnati\, 45231\, United States
ATTACH;FMTTYPE=image/png:https://christcovcincy.org/wp-content/uploads/2022/07/Private-Event.png
END:VEVENT
BEGIN:VEVENT
DTSTART;TZID=UTC:20230622T094500
DTEND;TZID=UTC:20230622T134500
DTSTAMP:20260423T200246
CREATED:20230209T220923Z
LAST-MODIFIED:20230209T221440Z
UID:10004758-1687427100-1687441500@christcovcincy.org
SUMMARY:Private Event
DESCRIPTION:Mt. Healthy Garden Club – Contact: Becky Powell
URL:https://christcovcincy.org/event/private-event-25/2023-06-22/
LOCATION:Christ Covenant Church\, 2191 Struble Rd\, Cincinnati\, 45231\, United States
ATTACH;FMTTYPE=image/png:https://christcovcincy.org/wp-content/uploads/2022/07/Private-Event.png
END:VEVENT
BEGIN:VEVENT
DTSTART;TZID=UTC:20230427T094500
DTEND;TZID=UTC:20230427T134500
DTSTAMP:20260423T200246
CREATED:20230209T220923Z
LAST-MODIFIED:20230209T221440Z
UID:10004757-1682588700-1682603100@christcovcincy.org
SUMMARY:Private Event
DESCRIPTION:Mt. Healthy Garden Club – Contact: Becky Powell
URL:https://christcovcincy.org/event/private-event-25/2023-04-27/
LOCATION:Christ Covenant Church\, 2191 Struble Rd\, Cincinnati\, 45231\, United States
ATTACH;FMTTYPE=image/png:https://christcovcincy.org/wp-content/uploads/2022/07/Private-Event.png
END:VEVENT
BEGIN:VEVENT
DTSTART;TZID=UTC:20230323T094500
DTEND;TZID=UTC:20230323T134500
DTSTAMP:20260423T200246
CREATED:20230209T220923Z
LAST-MODIFIED:20230209T221440Z
UID:10004756-1679564700-1679579100@christcovcincy.org
SUMMARY:Private Event
DESCRIPTION:Mt. Healthy Garden Club – Contact: Becky Powell
URL:https://christcovcincy.org/event/private-event-25/2023-03-23/
LOCATION:Christ Covenant Church\, 2191 Struble Rd\, Cincinnati\, 45231\, United States
ATTACH;FMTTYPE=image/png:https://christcovcincy.org/wp-content/uploads/2022/07/Private-Event.png
END:VEVENT
END:VCALENDAR