BEGIN:VCALENDAR
VERSION:2.0
PRODID:-//Christ Covenant Church - ECPv6.15.20//NONSGML v1.0//EN
CALSCALE:GREGORIAN
METHOD:PUBLISH
X-WR-CALNAME:Christ Covenant Church
X-ORIGINAL-URL:https://christcovcincy.org
X-WR-CALDESC:Events for Christ Covenant Church
REFRESH-INTERVAL;VALUE=DURATION:PT1H
X-Robots-Tag:noindex
X-PUBLISHED-TTL:PT1H
BEGIN:VTIMEZONE
TZID:America/Halifax
BEGIN:DAYLIGHT
TZOFFSETFROM:-0400
TZOFFSETTO:-0300
TZNAME:ADT
DTSTART:20240310T060000
END:DAYLIGHT
BEGIN:STANDARD
TZOFFSETFROM:-0300
TZOFFSETTO:-0400
TZNAME:AST
DTSTART:20241103T050000
END:STANDARD
BEGIN:DAYLIGHT
TZOFFSETFROM:-0400
TZOFFSETTO:-0300
TZNAME:ADT
DTSTART:20250309T060000
END:DAYLIGHT
BEGIN:STANDARD
TZOFFSETFROM:-0300
TZOFFSETTO:-0400
TZNAME:AST
DTSTART:20251102T050000
END:STANDARD
BEGIN:DAYLIGHT
TZOFFSETFROM:-0400
TZOFFSETTO:-0300
TZNAME:ADT
DTSTART:20260308T060000
END:DAYLIGHT
BEGIN:STANDARD
TZOFFSETFROM:-0300
TZOFFSETTO:-0400
TZNAME:AST
DTSTART:20261101T050000
END:STANDARD
END:VTIMEZONE
BEGIN:VEVENT
DTSTART;TZID=America/Halifax:20250330T114500
DTEND;TZID=America/Halifax:20250330T124500
DTSTAMP:20260423T225735
CREATED:20250306T192641Z
LAST-MODIFIED:20250306T192807Z
UID:10005787-1743335100-1743338700@christcovcincy.org
SUMMARY:Information Meeting re SGO Gifts
DESCRIPTION:Meet in 104 immediately following worship for more information on Ohio tax credit opportunity for gifts to Scholarship Granting Organizations (SGOs) supporting Christian education.
URL:https://christcovcincy.org/event/informational-meeting-re-sgo-gifts/2025-03-30/
LOCATION:Christ Covenant Church\, 2191 Struble Rd\, Cincinnati\, 45231\, United States
END:VEVENT
BEGIN:VEVENT
DTSTART;TZID=America/Halifax:20250316T114500
DTEND;TZID=America/Halifax:20250316T124500
DTSTAMP:20260423T225735
CREATED:20250306T192641Z
LAST-MODIFIED:20250306T192807Z
UID:10005786-1742125500-1742129100@christcovcincy.org
SUMMARY:Information Meeting re SGO Gifts
DESCRIPTION:Meet in 104 immediately following worship for more information on Ohio tax credit opportunity for gifts to Scholarship Granting Organizations (SGOs) supporting Christian education.
URL:https://christcovcincy.org/event/informational-meeting-re-sgo-gifts/2025-03-16/
LOCATION:Christ Covenant Church\, 2191 Struble Rd\, Cincinnati\, 45231\, United States
END:VEVENT
END:VCALENDAR