BEGIN:VCALENDAR
VERSION:2.0
PRODID:-//Christ Covenant Church - ECPv6.15.20//NONSGML v1.0//EN
CALSCALE:GREGORIAN
METHOD:PUBLISH
X-ORIGINAL-URL:https://christcovcincy.org
X-WR-CALDESC:Events for Christ Covenant Church
REFRESH-INTERVAL;VALUE=DURATION:PT1H
X-Robots-Tag:noindex
X-PUBLISHED-TTL:PT1H
BEGIN:VTIMEZONE
TZID:UTC
BEGIN:STANDARD
TZOFFSETFROM:+0000
TZOFFSETTO:+0000
TZNAME:UTC
DTSTART:20220101T000000
END:STANDARD
END:VTIMEZONE
BEGIN:VEVENT
DTSTART;TZID=UTC:20231209T073000
DTEND;TZID=UTC:20231209T090000
DTSTAMP:20260423T175248
CREATED:20230216T230543Z
LAST-MODIFIED:20241023T184107Z
UID:10004786-1702107000-1702112400@christcovcincy.org
SUMMARY:Men's Bible Study
DESCRIPTION:Join the Men of Christ Covenant as they continue their study through the book of Romans.
URL:https://christcovcincy.org/event/mens-bible-study-2/2023-12-09/
LOCATION:Christ Covenant Church Office\, 2192 Springdale Road\, Cincinnati\, OH\, 45231
CATEGORIES:Men's Discipleship
ATTACH;FMTTYPE=image/jpeg:https://christcovcincy.org/wp-content/uploads/2023/02/MensBibleStudy-copy.jpg
END:VEVENT
BEGIN:VEVENT
DTSTART;TZID=UTC:20231111T073000
DTEND;TZID=UTC:20231111T090000
DTSTAMP:20260423T175248
CREATED:20230216T230543Z
LAST-MODIFIED:20241023T184107Z
UID:10004785-1699687800-1699693200@christcovcincy.org
SUMMARY:Men's Bible Study
DESCRIPTION:Join the Men of Christ Covenant as they continue their study through the book of Romans.
URL:https://christcovcincy.org/event/mens-bible-study-2/2023-11-11/
LOCATION:Christ Covenant Church Office\, 2192 Springdale Road\, Cincinnati\, OH\, 45231
CATEGORIES:Men's Discipleship
ATTACH;FMTTYPE=image/jpeg:https://christcovcincy.org/wp-content/uploads/2023/02/MensBibleStudy-copy.jpg
END:VEVENT
BEGIN:VEVENT
DTSTART;TZID=UTC:20231007T073000
DTEND;TZID=UTC:20231007T090000
DTSTAMP:20260423T175248
CREATED:20230216T230543Z
LAST-MODIFIED:20241023T184107Z
UID:10004784-1696663800-1696669200@christcovcincy.org
SUMMARY:Men's Bible Study
DESCRIPTION:Join the Men of Christ Covenant as they continue their study through the book of Romans.
URL:https://christcovcincy.org/event/mens-bible-study-2/2023-10-07/
LOCATION:Christ Covenant Church Office\, 2192 Springdale Road\, Cincinnati\, OH\, 45231
CATEGORIES:Men's Discipleship
ATTACH;FMTTYPE=image/jpeg:https://christcovcincy.org/wp-content/uploads/2023/02/MensBibleStudy-copy.jpg
END:VEVENT
BEGIN:VEVENT
DTSTART;TZID=UTC:20230909T073000
DTEND;TZID=UTC:20230909T090000
DTSTAMP:20260423T175248
CREATED:20230216T230543Z
LAST-MODIFIED:20241023T184107Z
UID:10004783-1694244600-1694250000@christcovcincy.org
SUMMARY:Men's Bible Study
DESCRIPTION:Join the Men of Christ Covenant as they continue their study through the book of Romans.
URL:https://christcovcincy.org/event/mens-bible-study-2/2023-09-09/
LOCATION:Christ Covenant Church Office\, 2192 Springdale Road\, Cincinnati\, OH\, 45231
CATEGORIES:Men's Discipleship
ATTACH;FMTTYPE=image/jpeg:https://christcovcincy.org/wp-content/uploads/2023/02/MensBibleStudy-copy.jpg
END:VEVENT
BEGIN:VEVENT
DTSTART;TZID=UTC:20230812T073000
DTEND;TZID=UTC:20230812T090000
DTSTAMP:20260423T175248
CREATED:20230216T230543Z
LAST-MODIFIED:20241023T184107Z
UID:10004782-1691825400-1691830800@christcovcincy.org
SUMMARY:Men's Bible Study
DESCRIPTION:Join the Men of Christ Covenant as they continue their study through the book of Romans.
URL:https://christcovcincy.org/event/mens-bible-study-2/2023-08-12/
LOCATION:Christ Covenant Church Office\, 2192 Springdale Road\, Cincinnati\, OH\, 45231
CATEGORIES:Men's Discipleship
ATTACH;FMTTYPE=image/jpeg:https://christcovcincy.org/wp-content/uploads/2023/02/MensBibleStudy-copy.jpg
END:VEVENT
BEGIN:VEVENT
DTSTART;TZID=UTC:20230708T073000
DTEND;TZID=UTC:20230708T090000
DTSTAMP:20260423T175248
CREATED:20230216T230543Z
LAST-MODIFIED:20241023T184107Z
UID:10004781-1688801400-1688806800@christcovcincy.org
SUMMARY:Men's Bible Study
DESCRIPTION:Join the Men of Christ Covenant as they continue their study through the book of Romans.
URL:https://christcovcincy.org/event/mens-bible-study-2/2023-07-08/
LOCATION:Christ Covenant Church Office\, 2192 Springdale Road\, Cincinnati\, OH\, 45231
CATEGORIES:Men's Discipleship
ATTACH;FMTTYPE=image/jpeg:https://christcovcincy.org/wp-content/uploads/2023/02/MensBibleStudy-copy.jpg
END:VEVENT
BEGIN:VEVENT
DTSTART;TZID=UTC:20230610T073000
DTEND;TZID=UTC:20230610T090000
DTSTAMP:20260423T175248
CREATED:20230216T230543Z
LAST-MODIFIED:20241023T184107Z
UID:10004780-1686382200-1686387600@christcovcincy.org
SUMMARY:Men's Bible Study
DESCRIPTION:Join the Men of Christ Covenant as they continue their study through the book of Romans.
URL:https://christcovcincy.org/event/mens-bible-study-2/2023-06-10/
LOCATION:Christ Covenant Church Office\, 2192 Springdale Road\, Cincinnati\, OH\, 45231
CATEGORIES:Men's Discipleship
ATTACH;FMTTYPE=image/jpeg:https://christcovcincy.org/wp-content/uploads/2023/02/MensBibleStudy-copy.jpg
END:VEVENT
BEGIN:VEVENT
DTSTART;TZID=UTC:20230513T073000
DTEND;TZID=UTC:20230513T090000
DTSTAMP:20260423T175248
CREATED:20230216T230543Z
LAST-MODIFIED:20241023T184107Z
UID:10004779-1683963000-1683968400@christcovcincy.org
SUMMARY:Men's Bible Study
DESCRIPTION:Join the Men of Christ Covenant as they continue their study through the book of Romans.
URL:https://christcovcincy.org/event/mens-bible-study-2/2023-05-13/
LOCATION:Christ Covenant Church Office\, 2192 Springdale Road\, Cincinnati\, OH\, 45231
CATEGORIES:Men's Discipleship
ATTACH;FMTTYPE=image/jpeg:https://christcovcincy.org/wp-content/uploads/2023/02/MensBibleStudy-copy.jpg
END:VEVENT
BEGIN:VEVENT
DTSTART;TZID=UTC:20230408T073000
DTEND;TZID=UTC:20230408T090000
DTSTAMP:20260423T175248
CREATED:20230216T230543Z
LAST-MODIFIED:20241023T184107Z
UID:10004778-1680939000-1680944400@christcovcincy.org
SUMMARY:Men's Bible Study
DESCRIPTION:Join the Men of Christ Covenant as they continue their study through the book of Romans.
URL:https://christcovcincy.org/event/mens-bible-study-2/2023-04-08/
LOCATION:Christ Covenant Church Office\, 2192 Springdale Road\, Cincinnati\, OH\, 45231
CATEGORIES:Men's Discipleship
ATTACH;FMTTYPE=image/jpeg:https://christcovcincy.org/wp-content/uploads/2023/02/MensBibleStudy-copy.jpg
END:VEVENT
BEGIN:VEVENT
DTSTART;TZID=UTC:20230311T073000
DTEND;TZID=UTC:20230311T090000
DTSTAMP:20260423T175248
CREATED:20230216T230543Z
LAST-MODIFIED:20241023T184107Z
UID:10004777-1678519800-1678525200@christcovcincy.org
SUMMARY:Men's Bible Study
DESCRIPTION:Join the Men of Christ Covenant as they continue their study through the book of Romans.
URL:https://christcovcincy.org/event/mens-bible-study-2/2023-03-11/
LOCATION:Christ Covenant Church Office\, 2192 Springdale Road\, Cincinnati\, OH\, 45231
CATEGORIES:Men's Discipleship
ATTACH;FMTTYPE=image/jpeg:https://christcovcincy.org/wp-content/uploads/2023/02/MensBibleStudy-copy.jpg
END:VEVENT
END:VCALENDAR