BEGIN:VCALENDAR
VERSION:2.0
PRODID:-//Christ Covenant Church - ECPv6.15.20//NONSGML v1.0//EN
CALSCALE:GREGORIAN
METHOD:PUBLISH
X-WR-CALNAME:Christ Covenant Church
X-ORIGINAL-URL:https://christcovcincy.org
X-WR-CALDESC:Events for Christ Covenant Church
REFRESH-INTERVAL;VALUE=DURATION:PT1H
X-Robots-Tag:noindex
X-PUBLISHED-TTL:PT1H
BEGIN:VTIMEZONE
TZID:America/Halifax
BEGIN:DAYLIGHT
TZOFFSETFROM:-0400
TZOFFSETTO:-0300
TZNAME:ADT
DTSTART:20290311T060000
END:DAYLIGHT
BEGIN:STANDARD
TZOFFSETFROM:-0300
TZOFFSETTO:-0400
TZNAME:AST
DTSTART:20291104T050000
END:STANDARD
BEGIN:DAYLIGHT
TZOFFSETFROM:-0400
TZOFFSETTO:-0300
TZNAME:ADT
DTSTART:20300310T060000
END:DAYLIGHT
BEGIN:STANDARD
TZOFFSETFROM:-0300
TZOFFSETTO:-0400
TZNAME:AST
DTSTART:20301103T050000
END:STANDARD
BEGIN:DAYLIGHT
TZOFFSETFROM:-0400
TZOFFSETTO:-0300
TZNAME:ADT
DTSTART:20310309T060000
END:DAYLIGHT
BEGIN:STANDARD
TZOFFSETFROM:-0300
TZOFFSETTO:-0400
TZNAME:AST
DTSTART:20311102T050000
END:STANDARD
BEGIN:DAYLIGHT
TZOFFSETFROM:-0400
TZOFFSETTO:-0300
TZNAME:ADT
DTSTART:20320314T060000
END:DAYLIGHT
BEGIN:STANDARD
TZOFFSETFROM:-0300
TZOFFSETTO:-0400
TZNAME:AST
DTSTART:20321107T050000
END:STANDARD
END:VTIMEZONE
BEGIN:VEVENT
DTSTART;TZID=America/Halifax:20300504T073000
DTEND;TZID=America/Halifax:20300504T090000
DTSTAMP:20260423T190356
CREATED:20241024T163346Z
LAST-MODIFIED:20260122T201225Z
UID:10007238-1904110200-1904115600@christcovcincy.org
SUMMARY:Men's Bible Study
DESCRIPTION:Join the Men of Christ Covenant as they continue their study through the book of I Samuel.
URL:https://christcovcincy.org/event/mens-bible-study-3-2025-02-01/2030-05-04/
LOCATION:Chapel @ Christ Covenant Church Office\, 2192 Springdale Rd\, Cincinnati\, OH\, 45231
CATEGORIES:Men's Discipleship
ATTACH;FMTTYPE=image/jpeg:https://christcovcincy.org/wp-content/uploads/2023/02/MensBibleStudy-copy.jpg
END:VEVENT
BEGIN:VEVENT
DTSTART;TZID=America/Halifax:20300601T073000
DTEND;TZID=America/Halifax:20300601T090000
DTSTAMP:20260423T190356
CREATED:20241024T163346Z
LAST-MODIFIED:20260122T201225Z
UID:10007239-1906529400-1906534800@christcovcincy.org
SUMMARY:Men's Bible Study
DESCRIPTION:Join the Men of Christ Covenant as they continue their study through the book of I Samuel.
URL:https://christcovcincy.org/event/mens-bible-study-3-2025-02-01/2030-06-01/
LOCATION:Chapel @ Christ Covenant Church Office\, 2192 Springdale Rd\, Cincinnati\, OH\, 45231
CATEGORIES:Men's Discipleship
ATTACH;FMTTYPE=image/jpeg:https://christcovcincy.org/wp-content/uploads/2023/02/MensBibleStudy-copy.jpg
END:VEVENT
BEGIN:VEVENT
DTSTART;TZID=America/Halifax:20300706T073000
DTEND;TZID=America/Halifax:20300706T090000
DTSTAMP:20260423T190356
CREATED:20241024T163346Z
LAST-MODIFIED:20260122T201225Z
UID:10007240-1909553400-1909558800@christcovcincy.org
SUMMARY:Men's Bible Study
DESCRIPTION:Join the Men of Christ Covenant as they continue their study through the book of I Samuel.
URL:https://christcovcincy.org/event/mens-bible-study-3-2025-02-01/2030-07-06/
LOCATION:Chapel @ Christ Covenant Church Office\, 2192 Springdale Rd\, Cincinnati\, OH\, 45231
CATEGORIES:Men's Discipleship
ATTACH;FMTTYPE=image/jpeg:https://christcovcincy.org/wp-content/uploads/2023/02/MensBibleStudy-copy.jpg
END:VEVENT
BEGIN:VEVENT
DTSTART;TZID=America/Halifax:20300803T073000
DTEND;TZID=America/Halifax:20300803T090000
DTSTAMP:20260423T190356
CREATED:20241024T163346Z
LAST-MODIFIED:20260122T201225Z
UID:10007241-1911972600-1911978000@christcovcincy.org
SUMMARY:Men's Bible Study
DESCRIPTION:Join the Men of Christ Covenant as they continue their study through the book of I Samuel.
URL:https://christcovcincy.org/event/mens-bible-study-3-2025-02-01/2030-08-03/
LOCATION:Chapel @ Christ Covenant Church Office\, 2192 Springdale Rd\, Cincinnati\, OH\, 45231
CATEGORIES:Men's Discipleship
ATTACH;FMTTYPE=image/jpeg:https://christcovcincy.org/wp-content/uploads/2023/02/MensBibleStudy-copy.jpg
END:VEVENT
BEGIN:VEVENT
DTSTART;TZID=America/Halifax:20300907T073000
DTEND;TZID=America/Halifax:20300907T090000
DTSTAMP:20260423T190356
CREATED:20241024T163346Z
LAST-MODIFIED:20260122T201225Z
UID:10007242-1914996600-1915002000@christcovcincy.org
SUMMARY:Men's Bible Study
DESCRIPTION:Join the Men of Christ Covenant as they continue their study through the book of I Samuel.
URL:https://christcovcincy.org/event/mens-bible-study-3-2025-02-01/2030-09-07/
LOCATION:Chapel @ Christ Covenant Church Office\, 2192 Springdale Rd\, Cincinnati\, OH\, 45231
CATEGORIES:Men's Discipleship
ATTACH;FMTTYPE=image/jpeg:https://christcovcincy.org/wp-content/uploads/2023/02/MensBibleStudy-copy.jpg
END:VEVENT
BEGIN:VEVENT
DTSTART;TZID=America/Halifax:20301005T073000
DTEND;TZID=America/Halifax:20301005T090000
DTSTAMP:20260423T190356
CREATED:20241024T163346Z
LAST-MODIFIED:20260122T201225Z
UID:10007430-1917415800-1917421200@christcovcincy.org
SUMMARY:Men's Bible Study
DESCRIPTION:Join the Men of Christ Covenant as they continue their study through the book of I Samuel.
URL:https://christcovcincy.org/event/mens-bible-study-3-2025-02-01/2030-10-05/
LOCATION:Chapel @ Christ Covenant Church Office\, 2192 Springdale Rd\, Cincinnati\, OH\, 45231
CATEGORIES:Men's Discipleship
ATTACH;FMTTYPE=image/jpeg:https://christcovcincy.org/wp-content/uploads/2023/02/MensBibleStudy-copy.jpg
END:VEVENT
BEGIN:VEVENT
DTSTART;TZID=America/Halifax:20301102T073000
DTEND;TZID=America/Halifax:20301102T090000
DTSTAMP:20260423T190356
CREATED:20241024T163346Z
LAST-MODIFIED:20260122T201225Z
UID:10007431-1919835000-1919840400@christcovcincy.org
SUMMARY:Men's Bible Study
DESCRIPTION:Join the Men of Christ Covenant as they continue their study through the book of I Samuel.
URL:https://christcovcincy.org/event/mens-bible-study-3-2025-02-01/2030-11-02/
LOCATION:Chapel @ Christ Covenant Church Office\, 2192 Springdale Rd\, Cincinnati\, OH\, 45231
CATEGORIES:Men's Discipleship
ATTACH;FMTTYPE=image/jpeg:https://christcovcincy.org/wp-content/uploads/2023/02/MensBibleStudy-copy.jpg
END:VEVENT
BEGIN:VEVENT
DTSTART;TZID=America/Halifax:20301207T073000
DTEND;TZID=America/Halifax:20301207T090000
DTSTAMP:20260423T190356
CREATED:20241024T163346Z
LAST-MODIFIED:20260122T201225Z
UID:10007432-1922859000-1922864400@christcovcincy.org
SUMMARY:Men's Bible Study
DESCRIPTION:Join the Men of Christ Covenant as they continue their study through the book of I Samuel.
URL:https://christcovcincy.org/event/mens-bible-study-3-2025-02-01/2030-12-07/
LOCATION:Chapel @ Christ Covenant Church Office\, 2192 Springdale Rd\, Cincinnati\, OH\, 45231
CATEGORIES:Men's Discipleship
ATTACH;FMTTYPE=image/jpeg:https://christcovcincy.org/wp-content/uploads/2023/02/MensBibleStudy-copy.jpg
END:VEVENT
BEGIN:VEVENT
DTSTART;TZID=America/Halifax:20310104T073000
DTEND;TZID=America/Halifax:20310104T090000
DTSTAMP:20260423T190356
CREATED:20241024T163346Z
LAST-MODIFIED:20260122T201225Z
UID:10007433-1925278200-1925283600@christcovcincy.org
SUMMARY:Men's Bible Study
DESCRIPTION:Join the Men of Christ Covenant as they continue their study through the book of I Samuel.
URL:https://christcovcincy.org/event/mens-bible-study-3-2025-02-01/2031-01-04/
LOCATION:Chapel @ Christ Covenant Church Office\, 2192 Springdale Rd\, Cincinnati\, OH\, 45231
CATEGORIES:Men's Discipleship
ATTACH;FMTTYPE=image/jpeg:https://christcovcincy.org/wp-content/uploads/2023/02/MensBibleStudy-copy.jpg
END:VEVENT
END:VCALENDAR