BEGIN:VCALENDAR
VERSION:2.0
PRODID:-//Christ Covenant Church - ECPv6.15.20//NONSGML v1.0//EN
CALSCALE:GREGORIAN
METHOD:PUBLISH
X-WR-CALNAME:Christ Covenant Church
X-ORIGINAL-URL:https://christcovcincy.org
X-WR-CALDESC:Events for Christ Covenant Church
REFRESH-INTERVAL;VALUE=DURATION:PT1H
X-Robots-Tag:noindex
X-PUBLISHED-TTL:PT1H
BEGIN:VTIMEZONE
TZID:America/New_York
BEGIN:DAYLIGHT
TZOFFSETFROM:-0500
TZOFFSETTO:-0400
TZNAME:EDT
DTSTART:20240310T070000
END:DAYLIGHT
BEGIN:STANDARD
TZOFFSETFROM:-0400
TZOFFSETTO:-0500
TZNAME:EST
DTSTART:20241103T060000
END:STANDARD
BEGIN:DAYLIGHT
TZOFFSETFROM:-0500
TZOFFSETTO:-0400
TZNAME:EDT
DTSTART:20250309T070000
END:DAYLIGHT
BEGIN:STANDARD
TZOFFSETFROM:-0400
TZOFFSETTO:-0500
TZNAME:EST
DTSTART:20251102T060000
END:STANDARD
BEGIN:DAYLIGHT
TZOFFSETFROM:-0500
TZOFFSETTO:-0400
TZNAME:EDT
DTSTART:20260308T070000
END:DAYLIGHT
BEGIN:STANDARD
TZOFFSETFROM:-0400
TZOFFSETTO:-0500
TZNAME:EST
DTSTART:20261101T060000
END:STANDARD
END:VTIMEZONE
BEGIN:VTIMEZONE
TZID:America/Halifax
BEGIN:DAYLIGHT
TZOFFSETFROM:-0400
TZOFFSETTO:-0300
TZNAME:ADT
DTSTART:20230312T060000
END:DAYLIGHT
BEGIN:STANDARD
TZOFFSETFROM:-0300
TZOFFSETTO:-0400
TZNAME:AST
DTSTART:20231105T050000
END:STANDARD
BEGIN:DAYLIGHT
TZOFFSETFROM:-0400
TZOFFSETTO:-0300
TZNAME:ADT
DTSTART:20240310T060000
END:DAYLIGHT
BEGIN:STANDARD
TZOFFSETFROM:-0300
TZOFFSETTO:-0400
TZNAME:AST
DTSTART:20241103T050000
END:STANDARD
BEGIN:DAYLIGHT
TZOFFSETFROM:-0400
TZOFFSETTO:-0300
TZNAME:ADT
DTSTART:20250309T060000
END:DAYLIGHT
BEGIN:STANDARD
TZOFFSETFROM:-0300
TZOFFSETTO:-0400
TZNAME:AST
DTSTART:20251102T050000
END:STANDARD
BEGIN:DAYLIGHT
TZOFFSETFROM:-0400
TZOFFSETTO:-0300
TZNAME:ADT
DTSTART:20260308T060000
END:DAYLIGHT
BEGIN:STANDARD
TZOFFSETFROM:-0300
TZOFFSETTO:-0400
TZNAME:AST
DTSTART:20261101T050000
END:STANDARD
END:VTIMEZONE
BEGIN:VEVENT
DTSTART;TZID=America/New_York:20250824T170000
DTEND;TZID=America/New_York:20250824T200000
DTSTAMP:20260423T175156
CREATED:20250410T151414Z
LAST-MODIFIED:20250410T152415Z
UID:10005823-1756054800-1756065600@christcovcincy.org
SUMMARY:Youth Group
DESCRIPTION:
URL:https://christcovcincy.org/event/youth-group-11/2025-08-24/
LOCATION:Christ Covenant picnic and office complex\, 2192 Springdale Rd.\, Cincinnati\, OH\, 45231\, United States
CATEGORIES:Youth Ministry
ATTACH;FMTTYPE=image/jpeg:https://christcovcincy.org/wp-content/uploads/2023/05/YouthGroup.jpg
END:VEVENT
BEGIN:VEVENT
DTSTART;TZID=America/New_York:20250813T124500
DTEND;TZID=America/New_York:20250813T144500
DTSTAMP:20260423T175156
CREATED:20250410T152254Z
LAST-MODIFIED:20250806T164647Z
UID:10005835-1755089100-1755096300@christcovcincy.org
SUMMARY:Youth Swim Time
DESCRIPTION:
URL:https://christcovcincy.org/event/youth-swim-time-2/2025-08-13/
LOCATION:Swimming Pool
CATEGORIES:Youth Ministry
ATTACH;FMTTYPE=image/jpeg:https://christcovcincy.org/wp-content/uploads/2025/04/Youth-Swim-Time.jpg
END:VEVENT
BEGIN:VEVENT
DTSTART;TZID=America/New_York:20250810T170000
DTEND;TZID=America/New_York:20250810T200000
DTSTAMP:20260423T175156
CREATED:20250410T151414Z
LAST-MODIFIED:20250410T152415Z
UID:10005822-1754845200-1754856000@christcovcincy.org
SUMMARY:Youth Group
DESCRIPTION:
URL:https://christcovcincy.org/event/youth-group-11/2025-08-10/
LOCATION:Christ Covenant picnic and office complex\, 2192 Springdale Rd.\, Cincinnati\, OH\, 45231\, United States
CATEGORIES:Youth Ministry
ATTACH;FMTTYPE=image/jpeg:https://christcovcincy.org/wp-content/uploads/2023/05/YouthGroup.jpg
END:VEVENT
BEGIN:VEVENT
DTSTART;TZID=America/New_York:20250730T124500
DTEND;TZID=America/New_York:20250730T144500
DTSTAMP:20260423T175156
CREATED:20250410T152254Z
LAST-MODIFIED:20250806T164647Z
UID:10005833-1753879500-1753886700@christcovcincy.org
SUMMARY:Youth Swim Time
DESCRIPTION:
URL:https://christcovcincy.org/event/youth-swim-time-2/2025-07-30/
LOCATION:Swimming Pool
CATEGORIES:Youth Ministry
ATTACH;FMTTYPE=image/jpeg:https://christcovcincy.org/wp-content/uploads/2025/04/Youth-Swim-Time.jpg
END:VEVENT
BEGIN:VEVENT
DTSTART;TZID=America/New_York:20250723T124500
DTEND;TZID=America/New_York:20250723T144500
DTSTAMP:20260423T175156
CREATED:20250410T152254Z
LAST-MODIFIED:20250806T164647Z
UID:10005832-1753274700-1753281900@christcovcincy.org
SUMMARY:Youth Swim Time
DESCRIPTION:
URL:https://christcovcincy.org/event/youth-swim-time-2/2025-07-23/
LOCATION:Swimming Pool
CATEGORIES:Youth Ministry
ATTACH;FMTTYPE=image/jpeg:https://christcovcincy.org/wp-content/uploads/2025/04/Youth-Swim-Time.jpg
END:VEVENT
BEGIN:VEVENT
DTSTART;TZID=America/New_York:20250720T170000
DTEND;TZID=America/New_York:20250720T200000
DTSTAMP:20260423T175156
CREATED:20250410T151414Z
LAST-MODIFIED:20250410T152415Z
UID:10005821-1753030800-1753041600@christcovcincy.org
SUMMARY:Youth Group
DESCRIPTION:
URL:https://christcovcincy.org/event/youth-group-11/2025-07-20/
LOCATION:Christ Covenant picnic and office complex\, 2192 Springdale Rd.\, Cincinnati\, OH\, 45231\, United States
CATEGORIES:Youth Ministry
ATTACH;FMTTYPE=image/jpeg:https://christcovcincy.org/wp-content/uploads/2023/05/YouthGroup.jpg
END:VEVENT
BEGIN:VEVENT
DTSTART;TZID=America/New_York:20250716T124500
DTEND;TZID=America/New_York:20250716T144500
DTSTAMP:20260423T175156
CREATED:20250410T152254Z
LAST-MODIFIED:20250806T164647Z
UID:10005831-1752669900-1752677100@christcovcincy.org
SUMMARY:Youth Swim Time
DESCRIPTION:
URL:https://christcovcincy.org/event/youth-swim-time-2/2025-07-16/
LOCATION:Swimming Pool
CATEGORIES:Youth Ministry
ATTACH;FMTTYPE=image/jpeg:https://christcovcincy.org/wp-content/uploads/2025/04/Youth-Swim-Time.jpg
END:VEVENT
BEGIN:VEVENT
DTSTART;TZID=America/New_York:20250709T124500
DTEND;TZID=America/New_York:20250709T144500
DTSTAMP:20260423T175156
CREATED:20250410T152254Z
LAST-MODIFIED:20250806T164647Z
UID:10005830-1752065100-1752072300@christcovcincy.org
SUMMARY:Youth Swim Time
DESCRIPTION:
URL:https://christcovcincy.org/event/youth-swim-time-2/2025-07-09/
LOCATION:Swimming Pool
CATEGORIES:Youth Ministry
ATTACH;FMTTYPE=image/jpeg:https://christcovcincy.org/wp-content/uploads/2025/04/Youth-Swim-Time.jpg
END:VEVENT
BEGIN:VEVENT
DTSTART;TZID=America/New_York:20250706T170000
DTEND;TZID=America/New_York:20250706T200000
DTSTAMP:20260423T175156
CREATED:20250410T151414Z
LAST-MODIFIED:20250410T152415Z
UID:10005820-1751821200-1751832000@christcovcincy.org
SUMMARY:Youth Group
DESCRIPTION:
URL:https://christcovcincy.org/event/youth-group-11/2025-07-06/
LOCATION:Christ Covenant picnic and office complex\, 2192 Springdale Rd.\, Cincinnati\, OH\, 45231\, United States
CATEGORIES:Youth Ministry
ATTACH;FMTTYPE=image/jpeg:https://christcovcincy.org/wp-content/uploads/2023/05/YouthGroup.jpg
END:VEVENT
BEGIN:VEVENT
DTSTART;TZID=America/New_York:20250702T124500
DTEND;TZID=America/New_York:20250702T144500
DTSTAMP:20260423T175156
CREATED:20250410T152254Z
LAST-MODIFIED:20250806T164647Z
UID:10005829-1751460300-1751467500@christcovcincy.org
SUMMARY:Youth Swim Time
DESCRIPTION:
URL:https://christcovcincy.org/event/youth-swim-time-2/2025-07-02/
LOCATION:Swimming Pool
CATEGORIES:Youth Ministry
ATTACH;FMTTYPE=image/jpeg:https://christcovcincy.org/wp-content/uploads/2025/04/Youth-Swim-Time.jpg
END:VEVENT
BEGIN:VEVENT
DTSTART;TZID=America/New_York:20250629T170000
DTEND;TZID=America/New_York:20250629T200000
DTSTAMP:20260423T175156
CREATED:20250410T151414Z
LAST-MODIFIED:20250410T152415Z
UID:10005819-1751216400-1751227200@christcovcincy.org
SUMMARY:Youth Group
DESCRIPTION:
URL:https://christcovcincy.org/event/youth-group-11/2025-06-29/
LOCATION:Christ Covenant picnic and office complex\, 2192 Springdale Rd.\, Cincinnati\, OH\, 45231\, United States
CATEGORIES:Youth Ministry
ATTACH;FMTTYPE=image/jpeg:https://christcovcincy.org/wp-content/uploads/2023/05/YouthGroup.jpg
END:VEVENT
BEGIN:VEVENT
DTSTART;TZID=America/New_York:20250625T124500
DTEND;TZID=America/New_York:20250625T144500
DTSTAMP:20260423T175156
CREATED:20250410T152254Z
LAST-MODIFIED:20250806T164647Z
UID:10005828-1750855500-1750862700@christcovcincy.org
SUMMARY:Youth Swim Time
DESCRIPTION:
URL:https://christcovcincy.org/event/youth-swim-time-2/2025-06-25/
LOCATION:Swimming Pool
CATEGORIES:Youth Ministry
ATTACH;FMTTYPE=image/jpeg:https://christcovcincy.org/wp-content/uploads/2025/04/Youth-Swim-Time.jpg
END:VEVENT
BEGIN:VEVENT
DTSTART;TZID=America/New_York:20250618T124500
DTEND;TZID=America/New_York:20250618T144500
DTSTAMP:20260423T175156
CREATED:20250410T152254Z
LAST-MODIFIED:20250806T164647Z
UID:10005827-1750250700-1750257900@christcovcincy.org
SUMMARY:Youth Swim Time
DESCRIPTION:
URL:https://christcovcincy.org/event/youth-swim-time-2/2025-06-18/
LOCATION:Swimming Pool
CATEGORIES:Youth Ministry
ATTACH;FMTTYPE=image/jpeg:https://christcovcincy.org/wp-content/uploads/2025/04/Youth-Swim-Time.jpg
END:VEVENT
BEGIN:VEVENT
DTSTART;TZID=America/New_York:20250611T124500
DTEND;TZID=America/New_York:20250611T144500
DTSTAMP:20260423T175156
CREATED:20250410T152254Z
LAST-MODIFIED:20250806T164647Z
UID:10005826-1749645900-1749653100@christcovcincy.org
SUMMARY:Youth Swim Time
DESCRIPTION:
URL:https://christcovcincy.org/event/youth-swim-time-2/2025-06-11/
LOCATION:Swimming Pool
CATEGORIES:Youth Ministry
ATTACH;FMTTYPE=image/jpeg:https://christcovcincy.org/wp-content/uploads/2025/04/Youth-Swim-Time.jpg
END:VEVENT
BEGIN:VEVENT
DTSTART;TZID=America/New_York:20250604T124500
DTEND;TZID=America/New_York:20250604T144500
DTSTAMP:20260423T175156
CREATED:20250410T152254Z
LAST-MODIFIED:20250806T164647Z
UID:10005825-1749041100-1749048300@christcovcincy.org
SUMMARY:Youth Swim Time
DESCRIPTION:
URL:https://christcovcincy.org/event/youth-swim-time-2/2025-06-04/
LOCATION:Swimming Pool
CATEGORIES:Youth Ministry
ATTACH;FMTTYPE=image/jpeg:https://christcovcincy.org/wp-content/uploads/2025/04/Youth-Swim-Time.jpg
END:VEVENT
BEGIN:VEVENT
DTSTART;TZID=America/New_York:20250601T170000
DTEND;TZID=America/New_York:20250601T200000
DTSTAMP:20260423T175156
CREATED:20250410T151414Z
LAST-MODIFIED:20250410T152415Z
UID:10005818-1748797200-1748808000@christcovcincy.org
SUMMARY:Youth Group
DESCRIPTION:
URL:https://christcovcincy.org/event/youth-group-11/2025-06-01/
LOCATION:Christ Covenant picnic and office complex\, 2192 Springdale Rd.\, Cincinnati\, OH\, 45231\, United States
CATEGORIES:Youth Ministry
ATTACH;FMTTYPE=image/jpeg:https://christcovcincy.org/wp-content/uploads/2023/05/YouthGroup.jpg
END:VEVENT
BEGIN:VEVENT
DTSTART;TZID=America/New_York:20250511T103000
DTEND;TZID=America/New_York:20250511T114500
DTSTAMP:20260423T175156
CREATED:20250410T152620Z
LAST-MODIFIED:20250410T152620Z
UID:10005836-1746959400-1746963900@christcovcincy.org
SUMMARY:Recognition of HS Seniors
DESCRIPTION:Recognition of graduating HS Seniors during worship service
URL:https://christcovcincy.org/event/recognition-of-hs-seniors/
LOCATION:Christ Covenant Church\, 2191 Struble Rd\, Cincinnati\, 45231\, United States
CATEGORIES:Youth Ministry
END:VEVENT
BEGIN:VEVENT
DTSTART;TZID=America/Halifax:20250413T180000
DTEND;TZID=America/Halifax:20250413T200000
DTSTAMP:20260423T175156
CREATED:20250402T170057Z
LAST-MODIFIED:20250402T185250Z
UID:10005809-1744567200-1744574400@christcovcincy.org
SUMMARY:Youth Group
DESCRIPTION:
URL:https://christcovcincy.org/event/youth-group-10/2025-04-13/
LOCATION:Church Fellowship Hall
CATEGORIES:Youth Ministry
ATTACH;FMTTYPE=image/jpeg:https://christcovcincy.org/wp-content/uploads/2023/05/YouthGroup.jpg
END:VEVENT
BEGIN:VEVENT
DTSTART;TZID=America/Halifax:20250406T180000
DTEND;TZID=America/Halifax:20250406T200000
DTSTAMP:20260423T175156
CREATED:20250402T170057Z
LAST-MODIFIED:20250402T185250Z
UID:10005808-1743962400-1743969600@christcovcincy.org
SUMMARY:Youth Group
DESCRIPTION:
URL:https://christcovcincy.org/event/youth-group-10/2025-04-06/
LOCATION:Church Fellowship Hall
CATEGORIES:Youth Ministry
ATTACH;FMTTYPE=image/jpeg:https://christcovcincy.org/wp-content/uploads/2023/05/YouthGroup.jpg
END:VEVENT
BEGIN:VEVENT
DTSTART;TZID=America/Halifax:20250330T180000
DTEND;TZID=America/Halifax:20250330T200000
DTSTAMP:20260423T175156
CREATED:20250115T213758Z
LAST-MODIFIED:20250115T214705Z
UID:10005760-1743357600-1743364800@christcovcincy.org
SUMMARY:Youth Group
DESCRIPTION:Nerf Wars
URL:https://christcovcincy.org/event/youth-group-8-2025-03-30/
LOCATION:Church Fellowship Hall
CATEGORIES:Youth Ministry
ATTACH;FMTTYPE=image/jpeg:https://christcovcincy.org/wp-content/uploads/2022/12/CCC-Youth-Group-web-calendar.jpg
END:VEVENT
BEGIN:VEVENT
DTSTART;TZID=America/Halifax:20250309T180000
DTEND;TZID=America/Halifax:20250309T200000
DTSTAMP:20260423T175156
CREATED:20250115T213758Z
LAST-MODIFIED:20250115T214629Z
UID:10005759-1741543200-1741550400@christcovcincy.org
SUMMARY:Youth Group
DESCRIPTION:Hocker
URL:https://christcovcincy.org/event/youth-group-8-2025-03-09/
LOCATION:Church Fellowship Hall
CATEGORIES:Youth Ministry
ATTACH;FMTTYPE=image/jpeg:https://christcovcincy.org/wp-content/uploads/2022/12/CCC-Youth-Group-web-calendar.jpg
END:VEVENT
BEGIN:VEVENT
DTSTART;TZID=America/Halifax:20250302T180000
DTEND;TZID=America/Halifax:20250302T200000
DTSTAMP:20260423T175156
CREATED:20250115T213758Z
LAST-MODIFIED:20250115T214442Z
UID:10005758-1740938400-1740945600@christcovcincy.org
SUMMARY:Youth Group
DESCRIPTION:
URL:https://christcovcincy.org/event/youth-group-8-2025-03-02/2025-03-02/
LOCATION:Church Fellowship Hall
CATEGORIES:Youth Ministry
ATTACH;FMTTYPE=image/jpeg:https://christcovcincy.org/wp-content/uploads/2022/12/CCC-Youth-Group-web-calendar.jpg
END:VEVENT
BEGIN:VEVENT
DTSTART;TZID=America/Halifax:20250228T180000
DTEND;TZID=America/Halifax:20250302T103000
DTSTAMP:20260423T175156
CREATED:20250226T215450Z
LAST-MODIFIED:20250226T215450Z
UID:10005769-1740765600-1740911400@christcovcincy.org
SUMMARY:Youth Retreat
DESCRIPTION:Youth Retreat at Camp Lebanon Youth Retreat Center
URL:https://christcovcincy.org/event/youth-retreat-2/
CATEGORIES:Youth Ministry
END:VEVENT
BEGIN:VEVENT
DTSTART;TZID=America/Halifax:20250223T180000
DTEND;TZID=America/Halifax:20250223T200000
DTSTAMP:20260423T175156
CREATED:20250115T213758Z
LAST-MODIFIED:20250115T214500Z
UID:10005757-1740333600-1740340800@christcovcincy.org
SUMMARY:Youth Group
DESCRIPTION:Pickleball and other games
URL:https://christcovcincy.org/event/youth-group-8-2025-02-23/
LOCATION:Church Fellowship Hall
CATEGORIES:Youth Ministry
ATTACH;FMTTYPE=image/jpeg:https://christcovcincy.org/wp-content/uploads/2022/12/CCC-Youth-Group-web-calendar.jpg
END:VEVENT
BEGIN:VEVENT
DTSTART;TZID=America/Halifax:20250209T180000
DTEND;TZID=America/Halifax:20250209T220000
DTSTAMP:20260423T175156
CREATED:20250115T213758Z
LAST-MODIFIED:20250115T214412Z
UID:10005756-1739124000-1739138400@christcovcincy.org
SUMMARY:Youth Group
DESCRIPTION:Superb Owl Party to watch a football game
URL:https://christcovcincy.org/event/youth-group-8-2025-02-09/
LOCATION:Church Fellowship Hall
CATEGORIES:Youth Ministry
ATTACH;FMTTYPE=image/jpeg:https://christcovcincy.org/wp-content/uploads/2022/12/CCC-Youth-Group-web-calendar.jpg
END:VEVENT
BEGIN:VEVENT
DTSTART;TZID=America/Halifax:20250202T180000
DTEND;TZID=America/Halifax:20250202T200000
DTSTAMP:20260423T175156
CREATED:20250115T213758Z
LAST-MODIFIED:20250115T214213Z
UID:10005755-1738519200-1738526400@christcovcincy.org
SUMMARY:Youth Group
DESCRIPTION:Nerf Wars
URL:https://christcovcincy.org/event/youth-group-8-2025-02-02/
LOCATION:Church Fellowship Hall
CATEGORIES:Youth Ministry
ATTACH;FMTTYPE=image/jpeg:https://christcovcincy.org/wp-content/uploads/2022/12/CCC-Youth-Group-web-calendar.jpg
END:VEVENT
BEGIN:VEVENT
DTSTART;TZID=America/Halifax:20250126T180000
DTEND;TZID=America/Halifax:20250126T200000
DTSTAMP:20260423T175156
CREATED:20250115T213758Z
LAST-MODIFIED:20250115T214748Z
UID:10005754-1737914400-1737921600@christcovcincy.org
SUMMARY:Youth Group
DESCRIPTION:Dodgeball
URL:https://christcovcincy.org/event/youth-group-8-2025-01-26/
LOCATION:Church Fellowship Hall
CATEGORIES:Youth Ministry
ATTACH;FMTTYPE=image/jpeg:https://christcovcincy.org/wp-content/uploads/2022/12/CCC-Youth-Group-web-calendar.jpg
END:VEVENT
BEGIN:VEVENT
DTSTART;TZID=America/Halifax:20250112T180000
DTEND;TZID=America/Halifax:20250112T200000
DTSTAMP:20260423T175156
CREATED:20250115T213758Z
LAST-MODIFIED:20250115T214821Z
UID:10005753-1736704800-1736712000@christcovcincy.org
SUMMARY:Youth Group
DESCRIPTION:Hockey
URL:https://christcovcincy.org/event/youth-group-8-2025-01-12/
LOCATION:Church Fellowship Hall
CATEGORIES:Youth Ministry
ATTACH;FMTTYPE=image/jpeg:https://christcovcincy.org/wp-content/uploads/2022/12/CCC-Youth-Group-web-calendar.jpg
END:VEVENT
BEGIN:VEVENT
DTSTART;TZID=America/Halifax:20250105T180000
DTEND;TZID=America/Halifax:20250105T200000
DTSTAMP:20260423T175156
CREATED:20250115T213758Z
LAST-MODIFIED:20250115T214847Z
UID:10005752-1736100000-1736107200@christcovcincy.org
SUMMARY:Youth Group SNOWED OUT!
DESCRIPTION:
URL:https://christcovcincy.org/event/youth-group-8/
LOCATION:Church Fellowship Hall
CATEGORIES:Youth Ministry
ATTACH;FMTTYPE=image/jpeg:https://christcovcincy.org/wp-content/uploads/2022/12/CCC-Youth-Group-web-calendar.jpg
END:VEVENT
BEGIN:VEVENT
DTSTART;TZID=America/Halifax:20240915T180000
DTEND;TZID=America/Halifax:20240915T200000
DTSTAMP:20260423T175156
CREATED:20240925T155502Z
LAST-MODIFIED:20240925T155525Z
UID:10005608-1726423200-1726430400@christcovcincy.org
SUMMARY:Youth Group
DESCRIPTION:Photo Scavenger Hunt
URL:https://christcovcincy.org/event/youth-group-7/
LOCATION:Christ Covenant picnic and office complex\, 2192 Springdale Rd.\, Cincinnati\, OH\, 45231\, United States
CATEGORIES:Youth Ministry
ATTACH;FMTTYPE=image/jpeg:https://christcovcincy.org/wp-content/uploads/2023/05/YouthGroup.jpg
END:VEVENT
END:VCALENDAR