BEGIN:VCALENDAR
VERSION:2.0
PRODID:-//Christ Covenant Church - ECPv6.15.20//NONSGML v1.0//EN
CALSCALE:GREGORIAN
METHOD:PUBLISH
X-ORIGINAL-URL:https://christcovcincy.org
X-WR-CALDESC:Events for Christ Covenant Church
REFRESH-INTERVAL;VALUE=DURATION:PT1H
X-Robots-Tag:noindex
X-PUBLISHED-TTL:PT1H
BEGIN:VTIMEZONE
TZID:America/Halifax
BEGIN:DAYLIGHT
TZOFFSETFROM:-0400
TZOFFSETTO:-0300
TZNAME:ADT
DTSTART:20220313T060000
END:DAYLIGHT
BEGIN:STANDARD
TZOFFSETFROM:-0300
TZOFFSETTO:-0400
TZNAME:AST
DTSTART:20221106T050000
END:STANDARD
BEGIN:DAYLIGHT
TZOFFSETFROM:-0400
TZOFFSETTO:-0300
TZNAME:ADT
DTSTART:20230312T060000
END:DAYLIGHT
BEGIN:STANDARD
TZOFFSETFROM:-0300
TZOFFSETTO:-0400
TZNAME:AST
DTSTART:20231105T050000
END:STANDARD
BEGIN:DAYLIGHT
TZOFFSETFROM:-0400
TZOFFSETTO:-0300
TZNAME:ADT
DTSTART:20240310T060000
END:DAYLIGHT
BEGIN:STANDARD
TZOFFSETFROM:-0300
TZOFFSETTO:-0400
TZNAME:AST
DTSTART:20241103T050000
END:STANDARD
BEGIN:DAYLIGHT
TZOFFSETFROM:-0400
TZOFFSETTO:-0300
TZNAME:ADT
DTSTART:20250309T060000
END:DAYLIGHT
BEGIN:STANDARD
TZOFFSETFROM:-0300
TZOFFSETTO:-0400
TZNAME:AST
DTSTART:20251102T050000
END:STANDARD
BEGIN:DAYLIGHT
TZOFFSETFROM:-0400
TZOFFSETTO:-0300
TZNAME:ADT
DTSTART:20260308T060000
END:DAYLIGHT
BEGIN:STANDARD
TZOFFSETFROM:-0300
TZOFFSETTO:-0400
TZNAME:AST
DTSTART:20261101T050000
END:STANDARD
END:VTIMEZONE
BEGIN:VEVENT
DTSTART;TZID=America/Halifax:20250209T180000
DTEND;TZID=America/Halifax:20250209T220000
DTSTAMP:20260423T211401
CREATED:20250115T213758Z
LAST-MODIFIED:20250115T214412Z
UID:10005756-1739124000-1739138400@christcovcincy.org
SUMMARY:Youth Group
DESCRIPTION:Superb Owl Party to watch a football game
URL:https://christcovcincy.org/event/youth-group-8-2025-02-09/
LOCATION:Church Fellowship Hall
CATEGORIES:Youth Ministry
ATTACH;FMTTYPE=image/jpeg:https://christcovcincy.org/wp-content/uploads/2022/12/CCC-Youth-Group-web-calendar.jpg
END:VEVENT
BEGIN:VEVENT
DTSTART;TZID=America/Halifax:20250202T180000
DTEND;TZID=America/Halifax:20250202T200000
DTSTAMP:20260423T211401
CREATED:20250115T213758Z
LAST-MODIFIED:20250115T214213Z
UID:10005755-1738519200-1738526400@christcovcincy.org
SUMMARY:Youth Group
DESCRIPTION:Nerf Wars
URL:https://christcovcincy.org/event/youth-group-8-2025-02-02/
LOCATION:Church Fellowship Hall
CATEGORIES:Youth Ministry
ATTACH;FMTTYPE=image/jpeg:https://christcovcincy.org/wp-content/uploads/2022/12/CCC-Youth-Group-web-calendar.jpg
END:VEVENT
BEGIN:VEVENT
DTSTART;TZID=America/Halifax:20250126T180000
DTEND;TZID=America/Halifax:20250126T200000
DTSTAMP:20260423T211401
CREATED:20250115T213758Z
LAST-MODIFIED:20250115T214748Z
UID:10005754-1737914400-1737921600@christcovcincy.org
SUMMARY:Youth Group
DESCRIPTION:Dodgeball
URL:https://christcovcincy.org/event/youth-group-8-2025-01-26/
LOCATION:Church Fellowship Hall
CATEGORIES:Youth Ministry
ATTACH;FMTTYPE=image/jpeg:https://christcovcincy.org/wp-content/uploads/2022/12/CCC-Youth-Group-web-calendar.jpg
END:VEVENT
BEGIN:VEVENT
DTSTART;TZID=America/Halifax:20250112T180000
DTEND;TZID=America/Halifax:20250112T200000
DTSTAMP:20260423T211401
CREATED:20250115T213758Z
LAST-MODIFIED:20250115T214821Z
UID:10005753-1736704800-1736712000@christcovcincy.org
SUMMARY:Youth Group
DESCRIPTION:Hockey
URL:https://christcovcincy.org/event/youth-group-8-2025-01-12/
LOCATION:Church Fellowship Hall
CATEGORIES:Youth Ministry
ATTACH;FMTTYPE=image/jpeg:https://christcovcincy.org/wp-content/uploads/2022/12/CCC-Youth-Group-web-calendar.jpg
END:VEVENT
BEGIN:VEVENT
DTSTART;TZID=America/Halifax:20250105T180000
DTEND;TZID=America/Halifax:20250105T200000
DTSTAMP:20260423T211401
CREATED:20250115T213758Z
LAST-MODIFIED:20250115T214847Z
UID:10005752-1736100000-1736107200@christcovcincy.org
SUMMARY:Youth Group SNOWED OUT!
DESCRIPTION:
URL:https://christcovcincy.org/event/youth-group-8/
LOCATION:Church Fellowship Hall
CATEGORIES:Youth Ministry
ATTACH;FMTTYPE=image/jpeg:https://christcovcincy.org/wp-content/uploads/2022/12/CCC-Youth-Group-web-calendar.jpg
END:VEVENT
BEGIN:VEVENT
DTSTART;TZID=America/Halifax:20240915T180000
DTEND;TZID=America/Halifax:20240915T200000
DTSTAMP:20260423T211401
CREATED:20240925T155502Z
LAST-MODIFIED:20240925T155525Z
UID:10005608-1726423200-1726430400@christcovcincy.org
SUMMARY:Youth Group
DESCRIPTION:Photo Scavenger Hunt
URL:https://christcovcincy.org/event/youth-group-7/
LOCATION:Christ Covenant picnic and office complex\, 2192 Springdale Rd.\, Cincinnati\, OH\, 45231\, United States
CATEGORIES:Youth Ministry
ATTACH;FMTTYPE=image/jpeg:https://christcovcincy.org/wp-content/uploads/2023/05/YouthGroup.jpg
END:VEVENT
BEGIN:VEVENT
DTSTART;TZID=America/Halifax:20240731T130000
DTEND;TZID=America/Halifax:20240731T150000
DTSTAMP:20260423T211401
CREATED:20240306T202902Z
LAST-MODIFIED:20240306T202902Z
UID:10004987-1722430800-1722438000@christcovcincy.org
SUMMARY:Youth Swim Time
DESCRIPTION:
URL:https://christcovcincy.org/event/youth-swim-time/2024-07-31/
LOCATION:Christ Covenant Church Office\, 2192 Springdale Road\, Cincinnati\, OH\, 45231
ATTACH;FMTTYPE=image/jpeg:https://christcovcincy.org/wp-content/uploads/2023/05/youth-swim.jpg
END:VEVENT
BEGIN:VEVENT
DTSTART;TZID=America/Halifax:20240724T130000
DTEND;TZID=America/Halifax:20240724T150000
DTSTAMP:20260423T211401
CREATED:20240306T202902Z
LAST-MODIFIED:20240306T202902Z
UID:10004986-1721826000-1721833200@christcovcincy.org
SUMMARY:Youth Swim Time
DESCRIPTION:
URL:https://christcovcincy.org/event/youth-swim-time/2024-07-24/
LOCATION:Christ Covenant Church Office\, 2192 Springdale Road\, Cincinnati\, OH\, 45231
ATTACH;FMTTYPE=image/jpeg:https://christcovcincy.org/wp-content/uploads/2023/05/youth-swim.jpg
END:VEVENT
BEGIN:VEVENT
DTSTART;TZID=America/Halifax:20240717T130000
DTEND;TZID=America/Halifax:20240717T150000
DTSTAMP:20260423T211401
CREATED:20240306T202902Z
LAST-MODIFIED:20240306T202902Z
UID:10004985-1721221200-1721228400@christcovcincy.org
SUMMARY:Youth Swim Time
DESCRIPTION:
URL:https://christcovcincy.org/event/youth-swim-time/2024-07-17/
LOCATION:Christ Covenant Church Office\, 2192 Springdale Road\, Cincinnati\, OH\, 45231
ATTACH;FMTTYPE=image/jpeg:https://christcovcincy.org/wp-content/uploads/2023/05/youth-swim.jpg
END:VEVENT
BEGIN:VEVENT
DTSTART;TZID=America/Halifax:20240710T130000
DTEND;TZID=America/Halifax:20240710T150000
DTSTAMP:20260423T211401
CREATED:20240306T202902Z
LAST-MODIFIED:20240306T202902Z
UID:10004984-1720616400-1720623600@christcovcincy.org
SUMMARY:Youth Swim Time
DESCRIPTION:
URL:https://christcovcincy.org/event/youth-swim-time/2024-07-10/
LOCATION:Christ Covenant Church Office\, 2192 Springdale Road\, Cincinnati\, OH\, 45231
ATTACH;FMTTYPE=image/jpeg:https://christcovcincy.org/wp-content/uploads/2023/05/youth-swim.jpg
END:VEVENT
BEGIN:VEVENT
DTSTART;TZID=America/Halifax:20240703T130000
DTEND;TZID=America/Halifax:20240703T150000
DTSTAMP:20260423T211401
CREATED:20240306T202902Z
LAST-MODIFIED:20240306T202902Z
UID:10004983-1720011600-1720018800@christcovcincy.org
SUMMARY:Youth Swim Time
DESCRIPTION:
URL:https://christcovcincy.org/event/youth-swim-time/2024-07-03/
LOCATION:Christ Covenant Church Office\, 2192 Springdale Road\, Cincinnati\, OH\, 45231
ATTACH;FMTTYPE=image/jpeg:https://christcovcincy.org/wp-content/uploads/2023/05/youth-swim.jpg
END:VEVENT
BEGIN:VEVENT
DTSTART;TZID=America/Halifax:20240630T120000
DTEND;TZID=America/Halifax:20240705T235900
DTSTAMP:20260423T211401
CREATED:20240306T201246Z
LAST-MODIFIED:20240306T201246Z
UID:10004961-1719748800-1720223940@christcovcincy.org
SUMMARY:RYM Summer Conference
DESCRIPTION:Reformed Youth Ministries Summer Conference for high school students \nLaguna Beach Christian Retreat Center\, Panama City Beach\, FL \n 
URL:https://christcovcincy.org/event/rym-summer-conference/
CATEGORIES:Youth Ministry
END:VEVENT
BEGIN:VEVENT
DTSTART;TZID=America/Halifax:20240626T130000
DTEND;TZID=America/Halifax:20240626T150000
DTSTAMP:20260423T211401
CREATED:20240306T202902Z
LAST-MODIFIED:20240306T202902Z
UID:10004982-1719406800-1719414000@christcovcincy.org
SUMMARY:Youth Swim Time
DESCRIPTION:
URL:https://christcovcincy.org/event/youth-swim-time/2024-06-26/
LOCATION:Christ Covenant Church Office\, 2192 Springdale Road\, Cincinnati\, OH\, 45231
ATTACH;FMTTYPE=image/jpeg:https://christcovcincy.org/wp-content/uploads/2023/05/youth-swim.jpg
END:VEVENT
BEGIN:VEVENT
DTSTART;TZID=America/Halifax:20240619T130000
DTEND;TZID=America/Halifax:20240619T150000
DTSTAMP:20260423T211401
CREATED:20240306T202902Z
LAST-MODIFIED:20240306T202902Z
UID:10004981-1718802000-1718809200@christcovcincy.org
SUMMARY:Youth Swim Time
DESCRIPTION:
URL:https://christcovcincy.org/event/youth-swim-time/2024-06-19/
LOCATION:Christ Covenant Church Office\, 2192 Springdale Road\, Cincinnati\, OH\, 45231
ATTACH;FMTTYPE=image/jpeg:https://christcovcincy.org/wp-content/uploads/2023/05/youth-swim.jpg
END:VEVENT
BEGIN:VEVENT
DTSTART;TZID=America/Halifax:20240612T130000
DTEND;TZID=America/Halifax:20240612T150000
DTSTAMP:20260423T211401
CREATED:20240306T202902Z
LAST-MODIFIED:20240306T202902Z
UID:10004980-1718197200-1718204400@christcovcincy.org
SUMMARY:Youth Swim Time
DESCRIPTION:
URL:https://christcovcincy.org/event/youth-swim-time/2024-06-12/
LOCATION:Christ Covenant Church Office\, 2192 Springdale Road\, Cincinnati\, OH\, 45231
ATTACH;FMTTYPE=image/jpeg:https://christcovcincy.org/wp-content/uploads/2023/05/youth-swim.jpg
END:VEVENT
BEGIN:VEVENT
DTSTART;TZID=America/Halifax:20240605T130000
DTEND;TZID=America/Halifax:20240605T150000
DTSTAMP:20260423T211401
CREATED:20240306T202902Z
LAST-MODIFIED:20240306T202902Z
UID:10004979-1717592400-1717599600@christcovcincy.org
SUMMARY:Youth Swim Time
DESCRIPTION:
URL:https://christcovcincy.org/event/youth-swim-time/2024-06-05/
LOCATION:Christ Covenant Church Office\, 2192 Springdale Road\, Cincinnati\, OH\, 45231
ATTACH;FMTTYPE=image/jpeg:https://christcovcincy.org/wp-content/uploads/2023/05/youth-swim.jpg
END:VEVENT
BEGIN:VEVENT
DTSTART;TZID=America/Halifax:20240512T091500
DTEND;TZID=America/Halifax:20240512T101500
DTSTAMP:20260423T211401
CREATED:20240321T184231Z
LAST-MODIFIED:20240418T023600Z
UID:10005273-1715505300-1715508900@christcovcincy.org
SUMMARY:Gospel Centered Parenting class
DESCRIPTION:A Sunday School class for parents of children from birth to young adult to equip you to talk to your kids about today’s cultural issues from a gospel point of view. Join us in the modular during Sunday School beginning April 7. This six-week class is designed to facilitate discussion based on the book and videos published by Lifeway called Christ-Centered Parenting – Gospel Conversations on Complex Cultural Issues. See David Rudolph or Tina Miller for information and to receive a copy of the book.
URL:https://christcovcincy.org/event/gospel-centered-parenting-class/2024-05-12/
CATEGORIES:Children's Ministry,Men's Discipleship,Women's Discipleship,Youth Ministry
ATTACH;FMTTYPE=image/jpeg:https://christcovcincy.org/wp-content/uploads/2024/04/Christcenteredparenting.jpg
END:VEVENT
BEGIN:VEVENT
DTSTART;TZID=America/Halifax:20240505T091500
DTEND;TZID=America/Halifax:20240505T101500
DTSTAMP:20260423T211401
CREATED:20240321T184231Z
LAST-MODIFIED:20240418T023600Z
UID:10005272-1714900500-1714904100@christcovcincy.org
SUMMARY:Gospel Centered Parenting class
DESCRIPTION:A Sunday School class for parents of children from birth to young adult to equip you to talk to your kids about today’s cultural issues from a gospel point of view. Join us in the modular during Sunday School beginning April 7. This six-week class is designed to facilitate discussion based on the book and videos published by Lifeway called Christ-Centered Parenting – Gospel Conversations on Complex Cultural Issues. See David Rudolph or Tina Miller for information and to receive a copy of the book.
URL:https://christcovcincy.org/event/gospel-centered-parenting-class/2024-05-05/
CATEGORIES:Children's Ministry,Men's Discipleship,Women's Discipleship,Youth Ministry
ATTACH;FMTTYPE=image/jpeg:https://christcovcincy.org/wp-content/uploads/2024/04/Christcenteredparenting.jpg
END:VEVENT
BEGIN:VEVENT
DTSTART;TZID=America/Halifax:20240428T091500
DTEND;TZID=America/Halifax:20240428T101500
DTSTAMP:20260423T211401
CREATED:20240321T184231Z
LAST-MODIFIED:20240418T023600Z
UID:10005271-1714295700-1714299300@christcovcincy.org
SUMMARY:Gospel Centered Parenting class
DESCRIPTION:A Sunday School class for parents of children from birth to young adult to equip you to talk to your kids about today’s cultural issues from a gospel point of view. Join us in the modular during Sunday School beginning April 7. This six-week class is designed to facilitate discussion based on the book and videos published by Lifeway called Christ-Centered Parenting – Gospel Conversations on Complex Cultural Issues. See David Rudolph or Tina Miller for information and to receive a copy of the book.
URL:https://christcovcincy.org/event/gospel-centered-parenting-class/2024-04-28/
CATEGORIES:Children's Ministry,Men's Discipleship,Women's Discipleship,Youth Ministry
ATTACH;FMTTYPE=image/jpeg:https://christcovcincy.org/wp-content/uploads/2024/04/Christcenteredparenting.jpg
END:VEVENT
BEGIN:VEVENT
DTSTART;TZID=America/Halifax:20240421T091500
DTEND;TZID=America/Halifax:20240421T101500
DTSTAMP:20260423T211401
CREATED:20240321T184231Z
LAST-MODIFIED:20240418T023600Z
UID:10005270-1713690900-1713694500@christcovcincy.org
SUMMARY:Gospel Centered Parenting class
DESCRIPTION:A Sunday School class for parents of children from birth to young adult to equip you to talk to your kids about today’s cultural issues from a gospel point of view. Join us in the modular during Sunday School beginning April 7. This six-week class is designed to facilitate discussion based on the book and videos published by Lifeway called Christ-Centered Parenting – Gospel Conversations on Complex Cultural Issues. See David Rudolph or Tina Miller for information and to receive a copy of the book.
URL:https://christcovcincy.org/event/gospel-centered-parenting-class/2024-04-21/
CATEGORIES:Children's Ministry,Men's Discipleship,Women's Discipleship,Youth Ministry
ATTACH;FMTTYPE=image/jpeg:https://christcovcincy.org/wp-content/uploads/2024/04/Christcenteredparenting.jpg
END:VEVENT
BEGIN:VEVENT
DTSTART;TZID=America/Halifax:20240414T091500
DTEND;TZID=America/Halifax:20240414T101500
DTSTAMP:20260423T211401
CREATED:20240321T184231Z
LAST-MODIFIED:20240418T023600Z
UID:10005269-1713086100-1713089700@christcovcincy.org
SUMMARY:Gospel Centered Parenting class
DESCRIPTION:A Sunday School class for parents of children from birth to young adult to equip you to talk to your kids about today’s cultural issues from a gospel point of view. Join us in the modular during Sunday School beginning April 7. This six-week class is designed to facilitate discussion based on the book and videos published by Lifeway called Christ-Centered Parenting – Gospel Conversations on Complex Cultural Issues. See David Rudolph or Tina Miller for information and to receive a copy of the book.
URL:https://christcovcincy.org/event/gospel-centered-parenting-class/2024-04-14/
CATEGORIES:Children's Ministry,Men's Discipleship,Women's Discipleship,Youth Ministry
ATTACH;FMTTYPE=image/jpeg:https://christcovcincy.org/wp-content/uploads/2024/04/Christcenteredparenting.jpg
END:VEVENT
BEGIN:VEVENT
DTSTART;TZID=America/Halifax:20240407T091500
DTEND;TZID=America/Halifax:20240407T101500
DTSTAMP:20260423T211401
CREATED:20240321T184231Z
LAST-MODIFIED:20240418T023600Z
UID:10005268-1712481300-1712484900@christcovcincy.org
SUMMARY:Gospel Centered Parenting class
DESCRIPTION:A Sunday School class for parents of children from birth to young adult to equip you to talk to your kids about today’s cultural issues from a gospel point of view. Join us in the modular during Sunday School beginning April 7. This six-week class is designed to facilitate discussion based on the book and videos published by Lifeway called Christ-Centered Parenting – Gospel Conversations on Complex Cultural Issues. See David Rudolph or Tina Miller for information and to receive a copy of the book.
URL:https://christcovcincy.org/event/gospel-centered-parenting-class/2024-04-07/
CATEGORIES:Children's Ministry,Men's Discipleship,Women's Discipleship,Youth Ministry
ATTACH;FMTTYPE=image/jpeg:https://christcovcincy.org/wp-content/uploads/2024/04/Christcenteredparenting.jpg
END:VEVENT
BEGIN:VEVENT
DTSTART;TZID=America/Halifax:20240107T180000
DTEND;TZID=America/Halifax:20240107T200000
DTSTAMP:20260423T211401
CREATED:20240117T203609Z
LAST-MODIFIED:20240117T203609Z
UID:10005194-1704650400-1704657600@christcovcincy.org
SUMMARY:Youth Group
DESCRIPTION:
URL:https://christcovcincy.org/event/youth-group-5/
LOCATION:Christ Covenant Church\, 2191 Struble Rd\, Cincinnati\, 45231\, United States
CATEGORIES:Youth Ministry
ATTACH;FMTTYPE=image/jpeg:https://christcovcincy.org/wp-content/uploads/2023/05/YouthGroup.jpg
END:VEVENT
BEGIN:VEVENT
DTSTART;TZID=America/Halifax:20231118T090000
DTEND;TZID=America/Halifax:20231118T140000
DTSTAMP:20260423T211401
CREATED:20230831T140629Z
LAST-MODIFIED:20230831T140629Z
UID:10004837-1700298000-1700316000@christcovcincy.org
SUMMARY:Leaf Raking Service Project
DESCRIPTION:Meet at the church office at 9am. Bring your rake\, tarp\, and leaf blower if you own one. All ages are encouraged to serve together. Contact David Rudolph (513)739-4980 with any questions.
URL:https://christcovcincy.org/event/leaf-raking-service-project-2/
CATEGORIES:Youth Ministry
ATTACH;FMTTYPE=image/jpeg:https://christcovcincy.org/wp-content/uploads/2022/10/2021-leaf-raking.jpg
END:VEVENT
BEGIN:VEVENT
DTSTART;TZID=America/Halifax:20231028T090000
DTEND;TZID=America/Halifax:20231028T140000
DTSTAMP:20260423T211401
CREATED:20230831T140108Z
LAST-MODIFIED:20230831T140108Z
UID:10004834-1698483600-1698501600@christcovcincy.org
SUMMARY:Fall Church Property Service Day
DESCRIPTION:COME JOIN the YOUTH & TRUSTEES to complete indoor and outdoor projects to clean\, beautify\, and maintain our church property and buildings. Specific project signups will be available that morning. No particular skills required. Many types of jobs are available. Work in a team or alone. Leave when your specific tasks are completed. Meet people from our church community. Contribute your time and energy. Gather in the foyer at 9 a.m.
URL:https://christcovcincy.org/event/fall-church-property-service-day/
LOCATION:Christ Covenant Church\, 2191 Struble Rd\, Cincinnati\, 45231\, United States
ATTACH;FMTTYPE=image/jpeg:https://christcovcincy.org/wp-content/uploads/2023/04/churchworkday.jpg
END:VEVENT
BEGIN:VEVENT
DTSTART;TZID=America/Halifax:20230813T170000
DTEND;TZID=America/Halifax:20230813T200000
DTSTAMP:20260423T211401
CREATED:20230530T194934Z
LAST-MODIFIED:20230913T172657Z
UID:10004917-1691946000-1691956800@christcovcincy.org
SUMMARY:Youth Group
DESCRIPTION:
URL:https://christcovcincy.org/event/youth-group-3/2023-08-13/
CATEGORIES:Youth Ministry
ATTACH;FMTTYPE=image/jpeg:https://christcovcincy.org/wp-content/uploads/2023/05/YouthGroup.jpg
END:VEVENT
BEGIN:VEVENT
DTSTART;TZID=America/Halifax:20230723T170000
DTEND;TZID=America/Halifax:20230723T200000
DTSTAMP:20260423T211401
CREATED:20230530T194934Z
LAST-MODIFIED:20230913T172657Z
UID:10004916-1690131600-1690142400@christcovcincy.org
SUMMARY:Youth Group
DESCRIPTION:
URL:https://christcovcincy.org/event/youth-group-3/2023-07-23/
CATEGORIES:Youth Ministry
ATTACH;FMTTYPE=image/jpeg:https://christcovcincy.org/wp-content/uploads/2023/05/YouthGroup.jpg
END:VEVENT
BEGIN:VEVENT
DTSTART;TZID=America/Halifax:20230716T170000
DTEND;TZID=America/Halifax:20230716T200000
DTSTAMP:20260423T211401
CREATED:20230530T194934Z
LAST-MODIFIED:20230913T172657Z
UID:10004915-1689526800-1689537600@christcovcincy.org
SUMMARY:Youth Group
DESCRIPTION:
URL:https://christcovcincy.org/event/youth-group-3/2023-07-16/
CATEGORIES:Youth Ministry
ATTACH;FMTTYPE=image/jpeg:https://christcovcincy.org/wp-content/uploads/2023/05/YouthGroup.jpg
END:VEVENT
BEGIN:VEVENT
DTSTART;TZID=America/Halifax:20230702T170000
DTEND;TZID=America/Halifax:20230702T200000
DTSTAMP:20260423T211401
CREATED:20230530T194934Z
LAST-MODIFIED:20230913T172657Z
UID:10004914-1688317200-1688328000@christcovcincy.org
SUMMARY:Youth Group
DESCRIPTION:
URL:https://christcovcincy.org/event/youth-group-3/2023-07-02/
CATEGORIES:Youth Ministry
ATTACH;FMTTYPE=image/jpeg:https://christcovcincy.org/wp-content/uploads/2023/05/YouthGroup.jpg
END:VEVENT
BEGIN:VEVENT
DTSTART;TZID=America/Halifax:20230604T170000
DTEND;TZID=America/Halifax:20230604T200000
DTSTAMP:20260423T211401
CREATED:20230530T194934Z
LAST-MODIFIED:20230913T172657Z
UID:10004913-1685898000-1685908800@christcovcincy.org
SUMMARY:Youth Group
DESCRIPTION:
URL:https://christcovcincy.org/event/youth-group-3/2023-06-04/
CATEGORIES:Youth Ministry
ATTACH;FMTTYPE=image/jpeg:https://christcovcincy.org/wp-content/uploads/2023/05/YouthGroup.jpg
END:VEVENT
END:VCALENDAR