BEGIN:VCALENDAR
VERSION:2.0
PRODID:-//Christ Covenant Church - ECPv6.15.20//NONSGML v1.0//EN
CALSCALE:GREGORIAN
METHOD:PUBLISH
X-WR-CALNAME:Christ Covenant Church
X-ORIGINAL-URL:https://christcovcincy.org
X-WR-CALDESC:Events for Christ Covenant Church
REFRESH-INTERVAL;VALUE=DURATION:PT1H
X-Robots-Tag:noindex
X-PUBLISHED-TTL:PT1H
BEGIN:VTIMEZONE
TZID:America/Halifax
BEGIN:DAYLIGHT
TZOFFSETFROM:-0400
TZOFFSETTO:-0300
TZNAME:ADT
DTSTART:20230312T060000
END:DAYLIGHT
BEGIN:STANDARD
TZOFFSETFROM:-0300
TZOFFSETTO:-0400
TZNAME:AST
DTSTART:20231105T050000
END:STANDARD
BEGIN:DAYLIGHT
TZOFFSETFROM:-0400
TZOFFSETTO:-0300
TZNAME:ADT
DTSTART:20240310T060000
END:DAYLIGHT
BEGIN:STANDARD
TZOFFSETFROM:-0300
TZOFFSETTO:-0400
TZNAME:AST
DTSTART:20241103T050000
END:STANDARD
BEGIN:DAYLIGHT
TZOFFSETFROM:-0400
TZOFFSETTO:-0300
TZNAME:ADT
DTSTART:20250309T060000
END:DAYLIGHT
BEGIN:STANDARD
TZOFFSETFROM:-0300
TZOFFSETTO:-0400
TZNAME:AST
DTSTART:20251102T050000
END:STANDARD
BEGIN:DAYLIGHT
TZOFFSETFROM:-0400
TZOFFSETTO:-0300
TZNAME:ADT
DTSTART:20260308T060000
END:DAYLIGHT
BEGIN:STANDARD
TZOFFSETFROM:-0300
TZOFFSETTO:-0400
TZNAME:AST
DTSTART:20261101T050000
END:STANDARD
BEGIN:DAYLIGHT
TZOFFSETFROM:-0400
TZOFFSETTO:-0300
TZNAME:ADT
DTSTART:20270314T060000
END:DAYLIGHT
BEGIN:STANDARD
TZOFFSETFROM:-0300
TZOFFSETTO:-0400
TZNAME:AST
DTSTART:20271107T050000
END:STANDARD
END:VTIMEZONE
BEGIN:VTIMEZONE
TZID:America/New_York
BEGIN:DAYLIGHT
TZOFFSETFROM:-0500
TZOFFSETTO:-0400
TZNAME:EDT
DTSTART:20240310T070000
END:DAYLIGHT
BEGIN:STANDARD
TZOFFSETFROM:-0400
TZOFFSETTO:-0500
TZNAME:EST
DTSTART:20241103T060000
END:STANDARD
BEGIN:DAYLIGHT
TZOFFSETFROM:-0500
TZOFFSETTO:-0400
TZNAME:EDT
DTSTART:20250309T070000
END:DAYLIGHT
BEGIN:STANDARD
TZOFFSETFROM:-0400
TZOFFSETTO:-0500
TZNAME:EST
DTSTART:20251102T060000
END:STANDARD
BEGIN:DAYLIGHT
TZOFFSETFROM:-0500
TZOFFSETTO:-0400
TZNAME:EDT
DTSTART:20260308T070000
END:DAYLIGHT
BEGIN:STANDARD
TZOFFSETFROM:-0400
TZOFFSETTO:-0500
TZNAME:EST
DTSTART:20261101T060000
END:STANDARD
END:VTIMEZONE
BEGIN:VEVENT
DTSTART;TZID=America/Halifax:20260420T190000
DTEND;TZID=America/Halifax:20260420T210000
DTSTAMP:20260423T151400
CREATED:20250115T202508Z
LAST-MODIFIED:20251001T134226Z
UID:10005841-1776711600-1776718800@christcovcincy.org
SUMMARY:Deacon Meeting
DESCRIPTION:
URL:https://christcovcincy.org/event/deacon-meeting-4/2026-04-20/
LOCATION:Library @ Christ Covenant Church Office
ATTACH;FMTTYPE=image/png:https://christcovcincy.org/wp-content/uploads/2022/07/Board-Meeting.png
END:VEVENT
BEGIN:VEVENT
DTSTART;TZID=America/Halifax:20260316T190000
DTEND;TZID=America/Halifax:20260316T210000
DTSTAMP:20260423T151400
CREATED:20250115T202508Z
LAST-MODIFIED:20251001T134226Z
UID:10005706-1773687600-1773694800@christcovcincy.org
SUMMARY:Deacon Meeting
DESCRIPTION:
URL:https://christcovcincy.org/event/deacon-meeting-4/2026-03-16/
LOCATION:Library @ Christ Covenant Church Office
ATTACH;FMTTYPE=image/png:https://christcovcincy.org/wp-content/uploads/2022/07/Board-Meeting.png
END:VEVENT
BEGIN:VEVENT
DTSTART;TZID=America/Halifax:20260216T190000
DTEND;TZID=America/Halifax:20260216T210000
DTSTAMP:20260423T151400
CREATED:20250115T202508Z
LAST-MODIFIED:20251001T134226Z
UID:10005705-1771268400-1771275600@christcovcincy.org
SUMMARY:Deacon Meeting
DESCRIPTION:
URL:https://christcovcincy.org/event/deacon-meeting-4/2026-02-16/
LOCATION:Library @ Christ Covenant Church Office
ATTACH;FMTTYPE=image/png:https://christcovcincy.org/wp-content/uploads/2022/07/Board-Meeting.png
END:VEVENT
BEGIN:VEVENT
DTSTART;TZID=America/Halifax:20260119T190000
DTEND;TZID=America/Halifax:20260119T210000
DTSTAMP:20260423T151400
CREATED:20250115T202508Z
LAST-MODIFIED:20251001T134226Z
UID:10005704-1768849200-1768856400@christcovcincy.org
SUMMARY:Deacon Meeting
DESCRIPTION:
URL:https://christcovcincy.org/event/deacon-meeting-4/2026-01-19/
LOCATION:Library @ Christ Covenant Church Office
ATTACH;FMTTYPE=image/png:https://christcovcincy.org/wp-content/uploads/2022/07/Board-Meeting.png
END:VEVENT
BEGIN:VEVENT
DTSTART;TZID=America/New_York:20251208T180000
DTEND;TZID=America/New_York:20251208T200000
DTSTAMP:20260423T151400
CREATED:20251001T134049Z
LAST-MODIFIED:20251001T134049Z
UID:10007244-1765216800-1765224000@christcovcincy.org
SUMMARY:Deacon Dinner Meeting
DESCRIPTION:Enjoy a bit of business followed by our annual Christmas dinner at Harley & Holly’s home
URL:https://christcovcincy.org/event/deacon-dinner-meeting-2/
LOCATION:Harley & Holly Grim’s home
ATTACH;FMTTYPE=image/png:https://christcovcincy.org/wp-content/uploads/2022/07/Board-Meeting.png
END:VEVENT
BEGIN:VEVENT
DTSTART;TZID=America/Halifax:20251117T190000
DTEND;TZID=America/Halifax:20251117T210000
DTSTAMP:20260423T151400
CREATED:20250115T202508Z
LAST-MODIFIED:20251001T134226Z
UID:10005702-1763406000-1763413200@christcovcincy.org
SUMMARY:Deacon Meeting
DESCRIPTION:
URL:https://christcovcincy.org/event/deacon-meeting-4/2025-11-17/
LOCATION:Library @ Christ Covenant Church Office
ATTACH;FMTTYPE=image/png:https://christcovcincy.org/wp-content/uploads/2022/07/Board-Meeting.png
END:VEVENT
BEGIN:VEVENT
DTSTART;TZID=America/New_York:20251026T090000
DTEND;TZID=America/New_York:20251026T140000
DTSTAMP:20260423T151400
CREATED:20250508T184027Z
LAST-MODIFIED:20250508T184027Z
UID:10006469-1761469200-1761487200@christcovcincy.org
SUMMARY:40 Days of Hope Luncheon
DESCRIPTION:Join the Deacon’s immediately following the worship service for a luncheon celebration of our 40 Days of Hope.  Theme: “Rounding Third and Heading for Home.”
URL:https://christcovcincy.org/event/40-days-of-hope-luncheon/
LOCATION:Church Fellowship Hall
CATEGORIES:fellowships
ATTACH;FMTTYPE=image/png:https://christcovcincy.org/wp-content/uploads/2025/05/40-days-of-hope.png
END:VEVENT
BEGIN:VEVENT
DTSTART;TZID=America/Halifax:20251020T190000
DTEND;TZID=America/Halifax:20251020T210000
DTSTAMP:20260423T151400
CREATED:20250115T202508Z
LAST-MODIFIED:20251001T134226Z
UID:10005701-1760986800-1760994000@christcovcincy.org
SUMMARY:Deacon Meeting
DESCRIPTION:
URL:https://christcovcincy.org/event/deacon-meeting-4/2025-10-20/
LOCATION:Library @ Christ Covenant Church Office
ATTACH;FMTTYPE=image/png:https://christcovcincy.org/wp-content/uploads/2022/07/Board-Meeting.png
END:VEVENT
BEGIN:VEVENT
DTSTART;TZID=America/Halifax:20250915T190000
DTEND;TZID=America/Halifax:20250915T210000
DTSTAMP:20260423T151400
CREATED:20250115T202508Z
LAST-MODIFIED:20251001T134226Z
UID:10005700-1757962800-1757970000@christcovcincy.org
SUMMARY:Deacon Meeting
DESCRIPTION:
URL:https://christcovcincy.org/event/deacon-meeting-4/2025-09-15/
LOCATION:Library @ Christ Covenant Church Office
ATTACH;FMTTYPE=image/png:https://christcovcincy.org/wp-content/uploads/2022/07/Board-Meeting.png
END:VEVENT
BEGIN:VEVENT
DTSTART;TZID=America/New_York:20250913T090000
DTEND;TZID=America/New_York:20250913T110000
DTSTAMP:20260423T151400
CREATED:20250827T150935Z
LAST-MODIFIED:20250827T150935Z
UID:10007022-1757754000-1757761200@christcovcincy.org
SUMMARY:Deacon Love Meal Prep
DESCRIPTION:
URL:https://christcovcincy.org/event/deacon-love-meal-prep/
LOCATION:Church Kitchen
END:VEVENT
BEGIN:VEVENT
DTSTART;TZID=America/Halifax:20250811T190000
DTEND;TZID=America/Halifax:20250811T210000
DTSTAMP:20260423T151400
CREATED:20250115T202508Z
LAST-MODIFIED:20251001T134226Z
UID:10006968-1754938800-1754946000@christcovcincy.org
SUMMARY:Deacon Meeting
DESCRIPTION:
URL:https://christcovcincy.org/event/deacon-meeting-4/2025-08-11/
LOCATION:Library @ Christ Covenant Church Office
ATTACH;FMTTYPE=image/png:https://christcovcincy.org/wp-content/uploads/2022/07/Board-Meeting.png
END:VEVENT
BEGIN:VEVENT
DTSTART;TZID=America/Halifax:20250616T163000
DTEND;TZID=America/Halifax:20250616T180000
DTSTAMP:20260423T151400
CREATED:20250508T184757Z
LAST-MODIFIED:20250611T145139Z
UID:10005697-1750091400-1750096800@christcovcincy.org
SUMMARY:Deacon Meeting
DESCRIPTION:
URL:https://christcovcincy.org/event/deacon-meeting-4-2/
LOCATION:Library @ Christ Covenant Church Office
ATTACH;FMTTYPE=image/png:https://christcovcincy.org/wp-content/uploads/2022/07/Board-Meeting.png
END:VEVENT
BEGIN:VEVENT
DTSTART;TZID=America/New_York:20250519T163000
DTEND;TZID=America/New_York:20250519T180000
DTSTAMP:20260423T151400
CREATED:20250508T185005Z
LAST-MODIFIED:20250508T185005Z
UID:10006471-1747672200-1747677600@christcovcincy.org
SUMMARY:Deacon Meeting
DESCRIPTION:
URL:https://christcovcincy.org/event/deacon-meeting-6/
LOCATION:Library @ Christ Covenant Church Office
ATTACH;FMTTYPE=image/png:https://christcovcincy.org/wp-content/uploads/2022/07/Board-Meeting.png
END:VEVENT
BEGIN:VEVENT
DTSTART;TZID=America/New_York:20250421T163000
DTEND;TZID=America/New_York:20250421T180000
DTSTAMP:20260423T151400
CREATED:20250410T184033Z
LAST-MODIFIED:20250410T184033Z
UID:10005889-1745253000-1745258400@christcovcincy.org
SUMMARY:Deacon Meeting
DESCRIPTION:
URL:https://christcovcincy.org/event/deacon-meeting-5/
LOCATION:Library @ Christ Covenant Church Office
ATTACH;FMTTYPE=image/png:https://christcovcincy.org/wp-content/uploads/2022/07/Board-Meeting.png
END:VEVENT
BEGIN:VEVENT
DTSTART;TZID=America/Halifax:20250317T190000
DTEND;TZID=America/Halifax:20250317T210000
DTSTAMP:20260423T151400
CREATED:20250115T202508Z
LAST-MODIFIED:20251001T134226Z
UID:10005694-1742238000-1742245200@christcovcincy.org
SUMMARY:Deacon Meeting
DESCRIPTION:
URL:https://christcovcincy.org/event/deacon-meeting-4/2025-03-17/
LOCATION:Library @ Christ Covenant Church Office
ATTACH;FMTTYPE=image/png:https://christcovcincy.org/wp-content/uploads/2022/07/Board-Meeting.png
END:VEVENT
BEGIN:VEVENT
DTSTART;TZID=America/Halifax:20250217T190000
DTEND;TZID=America/Halifax:20250217T210000
DTSTAMP:20260423T151400
CREATED:20250115T202508Z
LAST-MODIFIED:20251001T134226Z
UID:10005693-1739818800-1739826000@christcovcincy.org
SUMMARY:Deacon Meeting
DESCRIPTION:
URL:https://christcovcincy.org/event/deacon-meeting-4/2025-02-17/
LOCATION:Library @ Christ Covenant Church Office
ATTACH;FMTTYPE=image/png:https://christcovcincy.org/wp-content/uploads/2022/07/Board-Meeting.png
END:VEVENT
BEGIN:VEVENT
DTSTART;TZID=America/Halifax:20250120T163000
DTEND;TZID=America/Halifax:20250120T180000
DTSTAMP:20260423T151400
CREATED:20250115T201922Z
LAST-MODIFIED:20250115T201922Z
UID:10005692-1737390600-1737396000@christcovcincy.org
SUMMARY:Deacon Meeting
DESCRIPTION:
URL:https://christcovcincy.org/event/deacon-meeting-3/
LOCATION:Chapel @ Christ Covenant Church Office\, 2192 Springdale Rd\, Cincinnati\, OH\, 45231
ATTACH;FMTTYPE=image/png:https://christcovcincy.org/wp-content/uploads/2022/07/Board-Meeting.png
END:VEVENT
BEGIN:VEVENT
DTSTART;TZID=America/Halifax:20241027T090000
DTEND;TZID=America/Halifax:20241027T133000
DTSTAMP:20260423T151400
CREATED:20240821T200244Z
LAST-MODIFIED:20240821T200244Z
UID:10005512-1730019600-1730035800@christcovcincy.org
SUMMARY:40 Days of Faith Luncheon
DESCRIPTION:
URL:https://christcovcincy.org/event/40-days-of-faith-luncheon/
LOCATION:Church Fellowship Hall
CATEGORIES:fellowships
END:VEVENT
BEGIN:VEVENT
DTSTART;TZID=America/Halifax:20241025T100000
DTEND;TZID=America/Halifax:20241025T120000
DTSTAMP:20260423T151400
CREATED:20240821T200042Z
LAST-MODIFIED:20240821T200042Z
UID:10005511-1729850400-1729857600@christcovcincy.org
SUMMARY:Luncheon Setup
DESCRIPTION:
URL:https://christcovcincy.org/event/luncheon-setup/
LOCATION:Church Fellowship Hall
END:VEVENT
END:VCALENDAR