BEGIN:VCALENDAR
VERSION:2.0
PRODID:-//Christ Covenant Church - ECPv6.15.20//NONSGML v1.0//EN
CALSCALE:GREGORIAN
METHOD:PUBLISH
X-WR-CALNAME:Christ Covenant Church
X-ORIGINAL-URL:https://christcovcincy.org
X-WR-CALDESC:Events for Christ Covenant Church
REFRESH-INTERVAL;VALUE=DURATION:PT1H
X-Robots-Tag:noindex
X-PUBLISHED-TTL:PT1H
BEGIN:VTIMEZONE
TZID:America/Halifax
BEGIN:DAYLIGHT
TZOFFSETFROM:-0400
TZOFFSETTO:-0300
TZNAME:ADT
DTSTART:20260308T060000
END:DAYLIGHT
BEGIN:STANDARD
TZOFFSETFROM:-0300
TZOFFSETTO:-0400
TZNAME:AST
DTSTART:20261101T050000
END:STANDARD
BEGIN:DAYLIGHT
TZOFFSETFROM:-0400
TZOFFSETTO:-0300
TZNAME:ADT
DTSTART:20270314T060000
END:DAYLIGHT
BEGIN:STANDARD
TZOFFSETFROM:-0300
TZOFFSETTO:-0400
TZNAME:AST
DTSTART:20271107T050000
END:STANDARD
BEGIN:DAYLIGHT
TZOFFSETFROM:-0400
TZOFFSETTO:-0300
TZNAME:ADT
DTSTART:20280312T060000
END:DAYLIGHT
BEGIN:STANDARD
TZOFFSETFROM:-0300
TZOFFSETTO:-0400
TZNAME:AST
DTSTART:20281105T050000
END:STANDARD
BEGIN:DAYLIGHT
TZOFFSETFROM:-0400
TZOFFSETTO:-0300
TZNAME:ADT
DTSTART:20290311T060000
END:DAYLIGHT
BEGIN:STANDARD
TZOFFSETFROM:-0300
TZOFFSETTO:-0400
TZNAME:AST
DTSTART:20291104T050000
END:STANDARD
BEGIN:DAYLIGHT
TZOFFSETFROM:-0400
TZOFFSETTO:-0300
TZNAME:ADT
DTSTART:20300310T060000
END:DAYLIGHT
BEGIN:STANDARD
TZOFFSETFROM:-0300
TZOFFSETTO:-0400
TZNAME:AST
DTSTART:20301103T050000
END:STANDARD
END:VTIMEZONE
BEGIN:VEVENT
DTSTART;TZID=America/Halifax:20270517T190000
DTEND;TZID=America/Halifax:20270517T210000
DTSTAMP:20260423T162901
CREATED:20250115T202508Z
LAST-MODIFIED:20251001T134226Z
UID:10005854-1810580400-1810587600@christcovcincy.org
SUMMARY:Deacon Meeting
DESCRIPTION:
URL:https://christcovcincy.org/event/deacon-meeting-4/2027-05-17/
LOCATION:Library @ Christ Covenant Church Office
ATTACH;FMTTYPE=image/png:https://christcovcincy.org/wp-content/uploads/2022/07/Board-Meeting.png
END:VEVENT
BEGIN:VEVENT
DTSTART;TZID=America/Halifax:20270621T190000
DTEND;TZID=America/Halifax:20270621T210000
DTSTAMP:20260423T162901
CREATED:20250115T202508Z
LAST-MODIFIED:20251001T134226Z
UID:10005855-1813604400-1813611600@christcovcincy.org
SUMMARY:Deacon Meeting
DESCRIPTION:
URL:https://christcovcincy.org/event/deacon-meeting-4/2027-06-21/
LOCATION:Library @ Christ Covenant Church Office
ATTACH;FMTTYPE=image/png:https://christcovcincy.org/wp-content/uploads/2022/07/Board-Meeting.png
END:VEVENT
BEGIN:VEVENT
DTSTART;TZID=America/Halifax:20270719T190000
DTEND;TZID=America/Halifax:20270719T210000
DTSTAMP:20260423T162901
CREATED:20250115T202508Z
LAST-MODIFIED:20251001T134226Z
UID:10005856-1816023600-1816030800@christcovcincy.org
SUMMARY:Deacon Meeting
DESCRIPTION:
URL:https://christcovcincy.org/event/deacon-meeting-4/2027-07-19/
LOCATION:Library @ Christ Covenant Church Office
ATTACH;FMTTYPE=image/png:https://christcovcincy.org/wp-content/uploads/2022/07/Board-Meeting.png
END:VEVENT
BEGIN:VEVENT
DTSTART;TZID=America/Halifax:20270816T190000
DTEND;TZID=America/Halifax:20270816T210000
DTSTAMP:20260423T162901
CREATED:20250115T202508Z
LAST-MODIFIED:20251001T134226Z
UID:10005857-1818442800-1818450000@christcovcincy.org
SUMMARY:Deacon Meeting
DESCRIPTION:
URL:https://christcovcincy.org/event/deacon-meeting-4/2027-08-16/
LOCATION:Library @ Christ Covenant Church Office
ATTACH;FMTTYPE=image/png:https://christcovcincy.org/wp-content/uploads/2022/07/Board-Meeting.png
END:VEVENT
BEGIN:VEVENT
DTSTART;TZID=America/Halifax:20270920T190000
DTEND;TZID=America/Halifax:20270920T210000
DTSTAMP:20260423T162901
CREATED:20250115T202508Z
LAST-MODIFIED:20251001T134226Z
UID:10005858-1821466800-1821474000@christcovcincy.org
SUMMARY:Deacon Meeting
DESCRIPTION:
URL:https://christcovcincy.org/event/deacon-meeting-4/2027-09-20/
LOCATION:Library @ Christ Covenant Church Office
ATTACH;FMTTYPE=image/png:https://christcovcincy.org/wp-content/uploads/2022/07/Board-Meeting.png
END:VEVENT
BEGIN:VEVENT
DTSTART;TZID=America/Halifax:20271018T190000
DTEND;TZID=America/Halifax:20271018T210000
DTSTAMP:20260423T162901
CREATED:20250115T202508Z
LAST-MODIFIED:20251001T134226Z
UID:10005859-1823886000-1823893200@christcovcincy.org
SUMMARY:Deacon Meeting
DESCRIPTION:
URL:https://christcovcincy.org/event/deacon-meeting-4/2027-10-18/
LOCATION:Library @ Christ Covenant Church Office
ATTACH;FMTTYPE=image/png:https://christcovcincy.org/wp-content/uploads/2022/07/Board-Meeting.png
END:VEVENT
BEGIN:VEVENT
DTSTART;TZID=America/Halifax:20271115T190000
DTEND;TZID=America/Halifax:20271115T210000
DTSTAMP:20260423T162901
CREATED:20250115T202508Z
LAST-MODIFIED:20251001T134226Z
UID:10005860-1826305200-1826312400@christcovcincy.org
SUMMARY:Deacon Meeting
DESCRIPTION:
URL:https://christcovcincy.org/event/deacon-meeting-4/2027-11-15/
LOCATION:Library @ Christ Covenant Church Office
ATTACH;FMTTYPE=image/png:https://christcovcincy.org/wp-content/uploads/2022/07/Board-Meeting.png
END:VEVENT
BEGIN:VEVENT
DTSTART;TZID=America/Halifax:20271220T190000
DTEND;TZID=America/Halifax:20271220T210000
DTSTAMP:20260423T162901
CREATED:20250115T202508Z
LAST-MODIFIED:20251001T134226Z
UID:10005861-1829329200-1829336400@christcovcincy.org
SUMMARY:Deacon Meeting
DESCRIPTION:
URL:https://christcovcincy.org/event/deacon-meeting-4/2027-12-20/
LOCATION:Library @ Christ Covenant Church Office
ATTACH;FMTTYPE=image/png:https://christcovcincy.org/wp-content/uploads/2022/07/Board-Meeting.png
END:VEVENT
BEGIN:VEVENT
DTSTART;TZID=America/Halifax:20280117T190000
DTEND;TZID=America/Halifax:20280117T210000
DTSTAMP:20260423T162901
CREATED:20250115T202508Z
LAST-MODIFIED:20251001T134226Z
UID:10005862-1831748400-1831755600@christcovcincy.org
SUMMARY:Deacon Meeting
DESCRIPTION:
URL:https://christcovcincy.org/event/deacon-meeting-4/2028-01-17/
LOCATION:Library @ Christ Covenant Church Office
ATTACH;FMTTYPE=image/png:https://christcovcincy.org/wp-content/uploads/2022/07/Board-Meeting.png
END:VEVENT
BEGIN:VEVENT
DTSTART;TZID=America/Halifax:20280221T190000
DTEND;TZID=America/Halifax:20280221T210000
DTSTAMP:20260423T162901
CREATED:20250115T202508Z
LAST-MODIFIED:20251001T134226Z
UID:10005863-1834772400-1834779600@christcovcincy.org
SUMMARY:Deacon Meeting
DESCRIPTION:
URL:https://christcovcincy.org/event/deacon-meeting-4/2028-02-21/
LOCATION:Library @ Christ Covenant Church Office
ATTACH;FMTTYPE=image/png:https://christcovcincy.org/wp-content/uploads/2022/07/Board-Meeting.png
END:VEVENT
BEGIN:VEVENT
DTSTART;TZID=America/Halifax:20280320T190000
DTEND;TZID=America/Halifax:20280320T210000
DTSTAMP:20260423T162901
CREATED:20250115T202508Z
LAST-MODIFIED:20251001T134226Z
UID:10005864-1837191600-1837198800@christcovcincy.org
SUMMARY:Deacon Meeting
DESCRIPTION:
URL:https://christcovcincy.org/event/deacon-meeting-4/2028-03-20/
LOCATION:Library @ Christ Covenant Church Office
ATTACH;FMTTYPE=image/png:https://christcovcincy.org/wp-content/uploads/2022/07/Board-Meeting.png
END:VEVENT
BEGIN:VEVENT
DTSTART;TZID=America/Halifax:20280417T190000
DTEND;TZID=America/Halifax:20280417T210000
DTSTAMP:20260423T162901
CREATED:20250115T202508Z
LAST-MODIFIED:20251001T134226Z
UID:10005865-1839610800-1839618000@christcovcincy.org
SUMMARY:Deacon Meeting
DESCRIPTION:
URL:https://christcovcincy.org/event/deacon-meeting-4/2028-04-17/
LOCATION:Library @ Christ Covenant Church Office
ATTACH;FMTTYPE=image/png:https://christcovcincy.org/wp-content/uploads/2022/07/Board-Meeting.png
END:VEVENT
BEGIN:VEVENT
DTSTART;TZID=America/Halifax:20280515T190000
DTEND;TZID=America/Halifax:20280515T210000
DTSTAMP:20260423T162902
CREATED:20250115T202508Z
LAST-MODIFIED:20251001T134226Z
UID:10005866-1842030000-1842037200@christcovcincy.org
SUMMARY:Deacon Meeting
DESCRIPTION:
URL:https://christcovcincy.org/event/deacon-meeting-4/2028-05-15/
LOCATION:Library @ Christ Covenant Church Office
ATTACH;FMTTYPE=image/png:https://christcovcincy.org/wp-content/uploads/2022/07/Board-Meeting.png
END:VEVENT
BEGIN:VEVENT
DTSTART;TZID=America/Halifax:20280619T190000
DTEND;TZID=America/Halifax:20280619T210000
DTSTAMP:20260423T162902
CREATED:20250115T202508Z
LAST-MODIFIED:20251001T134226Z
UID:10005867-1845054000-1845061200@christcovcincy.org
SUMMARY:Deacon Meeting
DESCRIPTION:
URL:https://christcovcincy.org/event/deacon-meeting-4/2028-06-19/
LOCATION:Library @ Christ Covenant Church Office
ATTACH;FMTTYPE=image/png:https://christcovcincy.org/wp-content/uploads/2022/07/Board-Meeting.png
END:VEVENT
BEGIN:VEVENT
DTSTART;TZID=America/Halifax:20280717T190000
DTEND;TZID=America/Halifax:20280717T210000
DTSTAMP:20260423T162902
CREATED:20250115T202508Z
LAST-MODIFIED:20251001T134226Z
UID:10005868-1847473200-1847480400@christcovcincy.org
SUMMARY:Deacon Meeting
DESCRIPTION:
URL:https://christcovcincy.org/event/deacon-meeting-4/2028-07-17/
LOCATION:Library @ Christ Covenant Church Office
ATTACH;FMTTYPE=image/png:https://christcovcincy.org/wp-content/uploads/2022/07/Board-Meeting.png
END:VEVENT
BEGIN:VEVENT
DTSTART;TZID=America/Halifax:20280821T190000
DTEND;TZID=America/Halifax:20280821T210000
DTSTAMP:20260423T162902
CREATED:20250115T202508Z
LAST-MODIFIED:20251001T134226Z
UID:10005869-1850497200-1850504400@christcovcincy.org
SUMMARY:Deacon Meeting
DESCRIPTION:
URL:https://christcovcincy.org/event/deacon-meeting-4/2028-08-21/
LOCATION:Library @ Christ Covenant Church Office
ATTACH;FMTTYPE=image/png:https://christcovcincy.org/wp-content/uploads/2022/07/Board-Meeting.png
END:VEVENT
BEGIN:VEVENT
DTSTART;TZID=America/Halifax:20280918T190000
DTEND;TZID=America/Halifax:20280918T210000
DTSTAMP:20260423T162902
CREATED:20250115T202508Z
LAST-MODIFIED:20251001T134226Z
UID:10005870-1852916400-1852923600@christcovcincy.org
SUMMARY:Deacon Meeting
DESCRIPTION:
URL:https://christcovcincy.org/event/deacon-meeting-4/2028-09-18/
LOCATION:Library @ Christ Covenant Church Office
ATTACH;FMTTYPE=image/png:https://christcovcincy.org/wp-content/uploads/2022/07/Board-Meeting.png
END:VEVENT
BEGIN:VEVENT
DTSTART;TZID=America/Halifax:20281016T190000
DTEND;TZID=America/Halifax:20281016T210000
DTSTAMP:20260423T162902
CREATED:20250115T202508Z
LAST-MODIFIED:20251001T134226Z
UID:10005871-1855335600-1855342800@christcovcincy.org
SUMMARY:Deacon Meeting
DESCRIPTION:
URL:https://christcovcincy.org/event/deacon-meeting-4/2028-10-16/
LOCATION:Library @ Christ Covenant Church Office
ATTACH;FMTTYPE=image/png:https://christcovcincy.org/wp-content/uploads/2022/07/Board-Meeting.png
END:VEVENT
BEGIN:VEVENT
DTSTART;TZID=America/Halifax:20281120T190000
DTEND;TZID=America/Halifax:20281120T210000
DTSTAMP:20260423T162902
CREATED:20250115T202508Z
LAST-MODIFIED:20251001T134226Z
UID:10005872-1858359600-1858366800@christcovcincy.org
SUMMARY:Deacon Meeting
DESCRIPTION:
URL:https://christcovcincy.org/event/deacon-meeting-4/2028-11-20/
LOCATION:Library @ Christ Covenant Church Office
ATTACH;FMTTYPE=image/png:https://christcovcincy.org/wp-content/uploads/2022/07/Board-Meeting.png
END:VEVENT
BEGIN:VEVENT
DTSTART;TZID=America/Halifax:20281218T190000
DTEND;TZID=America/Halifax:20281218T210000
DTSTAMP:20260423T162902
CREATED:20250115T202508Z
LAST-MODIFIED:20251001T134226Z
UID:10005873-1860778800-1860786000@christcovcincy.org
SUMMARY:Deacon Meeting
DESCRIPTION:
URL:https://christcovcincy.org/event/deacon-meeting-4/2028-12-18/
LOCATION:Library @ Christ Covenant Church Office
ATTACH;FMTTYPE=image/png:https://christcovcincy.org/wp-content/uploads/2022/07/Board-Meeting.png
END:VEVENT
BEGIN:VEVENT
DTSTART;TZID=America/Halifax:20290115T190000
DTEND;TZID=America/Halifax:20290115T210000
DTSTAMP:20260423T162902
CREATED:20250115T202508Z
LAST-MODIFIED:20251001T134226Z
UID:10005874-1863198000-1863205200@christcovcincy.org
SUMMARY:Deacon Meeting
DESCRIPTION:
URL:https://christcovcincy.org/event/deacon-meeting-4/2029-01-15/
LOCATION:Library @ Christ Covenant Church Office
ATTACH;FMTTYPE=image/png:https://christcovcincy.org/wp-content/uploads/2022/07/Board-Meeting.png
END:VEVENT
BEGIN:VEVENT
DTSTART;TZID=America/Halifax:20290219T190000
DTEND;TZID=America/Halifax:20290219T210000
DTSTAMP:20260423T162902
CREATED:20250115T202508Z
LAST-MODIFIED:20251001T134226Z
UID:10005875-1866222000-1866229200@christcovcincy.org
SUMMARY:Deacon Meeting
DESCRIPTION:
URL:https://christcovcincy.org/event/deacon-meeting-4/2029-02-19/
LOCATION:Library @ Christ Covenant Church Office
ATTACH;FMTTYPE=image/png:https://christcovcincy.org/wp-content/uploads/2022/07/Board-Meeting.png
END:VEVENT
BEGIN:VEVENT
DTSTART;TZID=America/Halifax:20290319T190000
DTEND;TZID=America/Halifax:20290319T210000
DTSTAMP:20260423T162902
CREATED:20250115T202508Z
LAST-MODIFIED:20251001T134226Z
UID:10005876-1868641200-1868648400@christcovcincy.org
SUMMARY:Deacon Meeting
DESCRIPTION:
URL:https://christcovcincy.org/event/deacon-meeting-4/2029-03-19/
LOCATION:Library @ Christ Covenant Church Office
ATTACH;FMTTYPE=image/png:https://christcovcincy.org/wp-content/uploads/2022/07/Board-Meeting.png
END:VEVENT
BEGIN:VEVENT
DTSTART;TZID=America/Halifax:20290416T190000
DTEND;TZID=America/Halifax:20290416T210000
DTSTAMP:20260423T162902
CREATED:20250115T202508Z
LAST-MODIFIED:20251001T134226Z
UID:10005877-1871060400-1871067600@christcovcincy.org
SUMMARY:Deacon Meeting
DESCRIPTION:
URL:https://christcovcincy.org/event/deacon-meeting-4/2029-04-16/
LOCATION:Library @ Christ Covenant Church Office
ATTACH;FMTTYPE=image/png:https://christcovcincy.org/wp-content/uploads/2022/07/Board-Meeting.png
END:VEVENT
BEGIN:VEVENT
DTSTART;TZID=America/Halifax:20290521T190000
DTEND;TZID=America/Halifax:20290521T210000
DTSTAMP:20260423T162902
CREATED:20250115T202508Z
LAST-MODIFIED:20251001T134226Z
UID:10005878-1874084400-1874091600@christcovcincy.org
SUMMARY:Deacon Meeting
DESCRIPTION:
URL:https://christcovcincy.org/event/deacon-meeting-4/2029-05-21/
LOCATION:Library @ Christ Covenant Church Office
ATTACH;FMTTYPE=image/png:https://christcovcincy.org/wp-content/uploads/2022/07/Board-Meeting.png
END:VEVENT
BEGIN:VEVENT
DTSTART;TZID=America/Halifax:20290618T190000
DTEND;TZID=America/Halifax:20290618T210000
DTSTAMP:20260423T162902
CREATED:20250115T202508Z
LAST-MODIFIED:20251001T134226Z
UID:10005879-1876503600-1876510800@christcovcincy.org
SUMMARY:Deacon Meeting
DESCRIPTION:
URL:https://christcovcincy.org/event/deacon-meeting-4/2029-06-18/
LOCATION:Library @ Christ Covenant Church Office
ATTACH;FMTTYPE=image/png:https://christcovcincy.org/wp-content/uploads/2022/07/Board-Meeting.png
END:VEVENT
BEGIN:VEVENT
DTSTART;TZID=America/Halifax:20290716T190000
DTEND;TZID=America/Halifax:20290716T210000
DTSTAMP:20260423T162902
CREATED:20250115T202508Z
LAST-MODIFIED:20251001T134226Z
UID:10005880-1878922800-1878930000@christcovcincy.org
SUMMARY:Deacon Meeting
DESCRIPTION:
URL:https://christcovcincy.org/event/deacon-meeting-4/2029-07-16/
LOCATION:Library @ Christ Covenant Church Office
ATTACH;FMTTYPE=image/png:https://christcovcincy.org/wp-content/uploads/2022/07/Board-Meeting.png
END:VEVENT
BEGIN:VEVENT
DTSTART;TZID=America/Halifax:20290820T190000
DTEND;TZID=America/Halifax:20290820T210000
DTSTAMP:20260423T162902
CREATED:20250115T202508Z
LAST-MODIFIED:20251001T134226Z
UID:10005881-1881946800-1881954000@christcovcincy.org
SUMMARY:Deacon Meeting
DESCRIPTION:
URL:https://christcovcincy.org/event/deacon-meeting-4/2029-08-20/
LOCATION:Library @ Christ Covenant Church Office
ATTACH;FMTTYPE=image/png:https://christcovcincy.org/wp-content/uploads/2022/07/Board-Meeting.png
END:VEVENT
BEGIN:VEVENT
DTSTART;TZID=America/Halifax:20290917T190000
DTEND;TZID=America/Halifax:20290917T210000
DTSTAMP:20260423T162902
CREATED:20250115T202508Z
LAST-MODIFIED:20251001T134226Z
UID:10005882-1884366000-1884373200@christcovcincy.org
SUMMARY:Deacon Meeting
DESCRIPTION:
URL:https://christcovcincy.org/event/deacon-meeting-4/2029-09-17/
LOCATION:Library @ Christ Covenant Church Office
ATTACH;FMTTYPE=image/png:https://christcovcincy.org/wp-content/uploads/2022/07/Board-Meeting.png
END:VEVENT
BEGIN:VEVENT
DTSTART;TZID=America/Halifax:20291015T190000
DTEND;TZID=America/Halifax:20291015T210000
DTSTAMP:20260423T162902
CREATED:20250115T202508Z
LAST-MODIFIED:20251001T134226Z
UID:10005883-1886785200-1886792400@christcovcincy.org
SUMMARY:Deacon Meeting
DESCRIPTION:
URL:https://christcovcincy.org/event/deacon-meeting-4/2029-10-15/
LOCATION:Library @ Christ Covenant Church Office
ATTACH;FMTTYPE=image/png:https://christcovcincy.org/wp-content/uploads/2022/07/Board-Meeting.png
END:VEVENT
END:VCALENDAR