BEGIN:VCALENDAR
VERSION:2.0
PRODID:-//Christ Covenant Church - ECPv6.15.20//NONSGML v1.0//EN
CALSCALE:GREGORIAN
METHOD:PUBLISH
X-WR-CALNAME:Christ Covenant Church
X-ORIGINAL-URL:https://christcovcincy.org
X-WR-CALDESC:Events for Christ Covenant Church
REFRESH-INTERVAL;VALUE=DURATION:PT1H
X-Robots-Tag:noindex
X-PUBLISHED-TTL:PT1H
BEGIN:VTIMEZONE
TZID:America/Halifax
BEGIN:DAYLIGHT
TZOFFSETFROM:-0400
TZOFFSETTO:-0300
TZNAME:ADT
DTSTART:20230312T060000
END:DAYLIGHT
BEGIN:STANDARD
TZOFFSETFROM:-0300
TZOFFSETTO:-0400
TZNAME:AST
DTSTART:20231105T050000
END:STANDARD
BEGIN:DAYLIGHT
TZOFFSETFROM:-0400
TZOFFSETTO:-0300
TZNAME:ADT
DTSTART:20240310T060000
END:DAYLIGHT
BEGIN:STANDARD
TZOFFSETFROM:-0300
TZOFFSETTO:-0400
TZNAME:AST
DTSTART:20241103T050000
END:STANDARD
BEGIN:DAYLIGHT
TZOFFSETFROM:-0400
TZOFFSETTO:-0300
TZNAME:ADT
DTSTART:20250309T060000
END:DAYLIGHT
BEGIN:STANDARD
TZOFFSETFROM:-0300
TZOFFSETTO:-0400
TZNAME:AST
DTSTART:20251102T050000
END:STANDARD
END:VTIMEZONE
BEGIN:VEVENT
DTSTART;TZID=America/Halifax:20241208T113000
DTEND;TZID=America/Halifax:20241208T140000
DTSTAMP:20260423T173018
CREATED:20250407T170428Z
LAST-MODIFIED:20250407T170428Z
UID:10005680-1733657400-1733666400@christcovcincy.org
SUMMARY:Ferguson Community Group
DESCRIPTION:
URL:https://christcovcincy.org/event/ferguson-community-group/2024-12-08/
LOCATION:Christ Covenant Church Office\, 2192 Springdale Road\, Cincinnati\, OH\, 45231
CATEGORIES:fellowships
ATTACH;FMTTYPE=image/png:https://christcovcincy.org/wp-content/uploads/2022/07/Community-Group.png
END:VEVENT
BEGIN:VEVENT
DTSTART;TZID=America/Halifax:20241124T113000
DTEND;TZID=America/Halifax:20241124T140000
DTSTAMP:20260423T173018
CREATED:20241126T220249Z
LAST-MODIFIED:20250205T170208Z
UID:10005673-1732447800-1732456800@christcovcincy.org
SUMMARY:Ferguson Community Group
DESCRIPTION:
URL:https://christcovcincy.org/event/ferguson-community-group/2024-11-24/
LOCATION:Christ Covenant Church Office\, 2192 Springdale Road\, Cincinnati\, OH\, 45231
CATEGORIES:fellowships
ATTACH;FMTTYPE=image/png:https://christcovcincy.org/wp-content/uploads/2022/07/Community-Group.png
END:VEVENT
BEGIN:VEVENT
DTSTART;TZID=America/Halifax:20241110T113000
DTEND;TZID=America/Halifax:20241110T140000
DTSTAMP:20260423T173018
CREATED:20250407T170428Z
LAST-MODIFIED:20250407T170428Z
UID:10005679-1731238200-1731247200@christcovcincy.org
SUMMARY:Ferguson Community Group
DESCRIPTION:
URL:https://christcovcincy.org/event/ferguson-community-group/2024-11-10/
LOCATION:Christ Covenant Church Office\, 2192 Springdale Road\, Cincinnati\, OH\, 45231
CATEGORIES:fellowships
ATTACH;FMTTYPE=image/png:https://christcovcincy.org/wp-content/uploads/2022/07/Community-Group.png
END:VEVENT
BEGIN:VEVENT
DTSTART;TZID=America/Halifax:20241027T113000
DTEND;TZID=America/Halifax:20241027T140000
DTSTAMP:20260423T173018
CREATED:20241126T220249Z
LAST-MODIFIED:20250205T170208Z
UID:10005672-1730028600-1730037600@christcovcincy.org
SUMMARY:Ferguson Community Group
DESCRIPTION:
URL:https://christcovcincy.org/event/ferguson-community-group/2024-10-27/
LOCATION:Christ Covenant Church Office\, 2192 Springdale Road\, Cincinnati\, OH\, 45231
CATEGORIES:fellowships
ATTACH;FMTTYPE=image/png:https://christcovcincy.org/wp-content/uploads/2022/07/Community-Group.png
END:VEVENT
BEGIN:VEVENT
DTSTART;TZID=America/Halifax:20241013T113000
DTEND;TZID=America/Halifax:20241013T140000
DTSTAMP:20260423T173018
CREATED:20250407T170428Z
LAST-MODIFIED:20250407T170428Z
UID:10005678-1728819000-1728828000@christcovcincy.org
SUMMARY:Ferguson Community Group
DESCRIPTION:
URL:https://christcovcincy.org/event/ferguson-community-group/2024-10-13/
LOCATION:Christ Covenant Church Office\, 2192 Springdale Road\, Cincinnati\, OH\, 45231
CATEGORIES:fellowships
ATTACH;FMTTYPE=image/png:https://christcovcincy.org/wp-content/uploads/2022/07/Community-Group.png
END:VEVENT
BEGIN:VEVENT
DTSTART;TZID=America/Halifax:20240922T113000
DTEND;TZID=America/Halifax:20240922T140000
DTSTAMP:20260423T173018
CREATED:20241126T220249Z
LAST-MODIFIED:20250205T170208Z
UID:10005671-1727004600-1727013600@christcovcincy.org
SUMMARY:Ferguson Community Group
DESCRIPTION:
URL:https://christcovcincy.org/event/ferguson-community-group/2024-09-22/
LOCATION:Christ Covenant Church Office\, 2192 Springdale Road\, Cincinnati\, OH\, 45231
CATEGORIES:fellowships
ATTACH;FMTTYPE=image/png:https://christcovcincy.org/wp-content/uploads/2022/07/Community-Group.png
END:VEVENT
END:VCALENDAR