BEGIN:VCALENDAR
VERSION:2.0
PRODID:-//Christ Covenant Church - ECPv6.15.20//NONSGML v1.0//EN
CALSCALE:GREGORIAN
METHOD:PUBLISH
X-ORIGINAL-URL:https://christcovcincy.org
X-WR-CALDESC:Events for Christ Covenant Church
REFRESH-INTERVAL;VALUE=DURATION:PT1H
X-Robots-Tag:noindex
X-PUBLISHED-TTL:PT1H
BEGIN:VTIMEZONE
TZID:America/New_York
BEGIN:DAYLIGHT
TZOFFSETFROM:-0500
TZOFFSETTO:-0400
TZNAME:EDT
DTSTART:20240310T070000
END:DAYLIGHT
BEGIN:STANDARD
TZOFFSETFROM:-0400
TZOFFSETTO:-0500
TZNAME:EST
DTSTART:20241103T060000
END:STANDARD
BEGIN:DAYLIGHT
TZOFFSETFROM:-0500
TZOFFSETTO:-0400
TZNAME:EDT
DTSTART:20250309T070000
END:DAYLIGHT
BEGIN:STANDARD
TZOFFSETFROM:-0400
TZOFFSETTO:-0500
TZNAME:EST
DTSTART:20251102T060000
END:STANDARD
BEGIN:DAYLIGHT
TZOFFSETFROM:-0500
TZOFFSETTO:-0400
TZNAME:EDT
DTSTART:20260308T070000
END:DAYLIGHT
BEGIN:STANDARD
TZOFFSETFROM:-0400
TZOFFSETTO:-0500
TZNAME:EST
DTSTART:20261101T060000
END:STANDARD
BEGIN:DAYLIGHT
TZOFFSETFROM:-0500
TZOFFSETTO:-0400
TZNAME:EDT
DTSTART:20270314T070000
END:DAYLIGHT
BEGIN:STANDARD
TZOFFSETFROM:-0400
TZOFFSETTO:-0500
TZNAME:EST
DTSTART:20271107T060000
END:STANDARD
END:VTIMEZONE
BEGIN:VTIMEZONE
TZID:America/Halifax
BEGIN:DAYLIGHT
TZOFFSETFROM:-0400
TZOFFSETTO:-0300
TZNAME:ADT
DTSTART:20240310T060000
END:DAYLIGHT
BEGIN:STANDARD
TZOFFSETFROM:-0300
TZOFFSETTO:-0400
TZNAME:AST
DTSTART:20241103T050000
END:STANDARD
BEGIN:DAYLIGHT
TZOFFSETFROM:-0400
TZOFFSETTO:-0300
TZNAME:ADT
DTSTART:20250309T060000
END:DAYLIGHT
BEGIN:STANDARD
TZOFFSETFROM:-0300
TZOFFSETTO:-0400
TZNAME:AST
DTSTART:20251102T050000
END:STANDARD
BEGIN:DAYLIGHT
TZOFFSETFROM:-0400
TZOFFSETTO:-0300
TZNAME:ADT
DTSTART:20260308T060000
END:DAYLIGHT
BEGIN:STANDARD
TZOFFSETFROM:-0300
TZOFFSETTO:-0400
TZNAME:AST
DTSTART:20261101T050000
END:STANDARD
END:VTIMEZONE
BEGIN:VEVENT
DTSTART;TZID=America/New_York:20260329T114500
DTEND;TZID=America/New_York:20260329T131500
DTSTAMP:20260425T110544
CREATED:20260211T171810Z
LAST-MODIFIED:20260211T171810Z
UID:10007486-1774784700-1774790100@christcovcincy.org
SUMMARY:Covenant Ringers
DESCRIPTION:Covenant Ringers will rehearse in Room 106 immediately following the worship service
URL:https://christcovcincy.org/event/covenant-ringers/2026-03-29/
LOCATION:Christ Covenant Church\, 2191 Struble Rd\, Cincinnati\, 45231\, United States
ATTACH;FMTTYPE=image/png:https://christcovcincy.org/wp-content/uploads/2026/02/handbells2.png
END:VEVENT
BEGIN:VEVENT
DTSTART;TZID=America/New_York:20260322T114500
DTEND;TZID=America/New_York:20260322T131500
DTSTAMP:20260425T110544
CREATED:20260211T171810Z
LAST-MODIFIED:20260211T171810Z
UID:10007485-1774179900-1774185300@christcovcincy.org
SUMMARY:Covenant Ringers
DESCRIPTION:Covenant Ringers will rehearse in Room 106 immediately following the worship service
URL:https://christcovcincy.org/event/covenant-ringers/2026-03-22/
LOCATION:Christ Covenant Church\, 2191 Struble Rd\, Cincinnati\, 45231\, United States
ATTACH;FMTTYPE=image/png:https://christcovcincy.org/wp-content/uploads/2026/02/handbells2.png
END:VEVENT
BEGIN:VEVENT
DTSTART;TZID=America/New_York:20260315T114500
DTEND;TZID=America/New_York:20260315T131500
DTSTAMP:20260425T110544
CREATED:20260211T171810Z
LAST-MODIFIED:20260211T171810Z
UID:10007484-1773575100-1773580500@christcovcincy.org
SUMMARY:Covenant Ringers
DESCRIPTION:Covenant Ringers will rehearse in Room 106 immediately following the worship service
URL:https://christcovcincy.org/event/covenant-ringers/2026-03-15/
LOCATION:Christ Covenant Church\, 2191 Struble Rd\, Cincinnati\, 45231\, United States
ATTACH;FMTTYPE=image/png:https://christcovcincy.org/wp-content/uploads/2026/02/handbells2.png
END:VEVENT
BEGIN:VEVENT
DTSTART;TZID=America/New_York:20260308T114500
DTEND;TZID=America/New_York:20260308T131500
DTSTAMP:20260425T110544
CREATED:20260211T171810Z
LAST-MODIFIED:20260211T171810Z
UID:10007483-1772970300-1772975700@christcovcincy.org
SUMMARY:Covenant Ringers
DESCRIPTION:Covenant Ringers will rehearse in Room 106 immediately following the worship service
URL:https://christcovcincy.org/event/covenant-ringers/2026-03-08/
LOCATION:Christ Covenant Church\, 2191 Struble Rd\, Cincinnati\, 45231\, United States
ATTACH;FMTTYPE=image/png:https://christcovcincy.org/wp-content/uploads/2026/02/handbells2.png
END:VEVENT
BEGIN:VEVENT
DTSTART;TZID=America/New_York:20260301T114500
DTEND;TZID=America/New_York:20260301T131500
DTSTAMP:20260425T110544
CREATED:20260211T171810Z
LAST-MODIFIED:20260211T171810Z
UID:10007482-1772365500-1772370900@christcovcincy.org
SUMMARY:Covenant Ringers
DESCRIPTION:Covenant Ringers will rehearse in Room 106 immediately following the worship service
URL:https://christcovcincy.org/event/covenant-ringers/2026-03-01/
LOCATION:Christ Covenant Church\, 2191 Struble Rd\, Cincinnati\, 45231\, United States
ATTACH;FMTTYPE=image/png:https://christcovcincy.org/wp-content/uploads/2026/02/handbells2.png
END:VEVENT
BEGIN:VEVENT
DTSTART;TZID=America/New_York:20260222T114500
DTEND;TZID=America/New_York:20260222T131500
DTSTAMP:20260425T110544
CREATED:20260211T171810Z
LAST-MODIFIED:20260211T171810Z
UID:10007481-1771760700-1771766100@christcovcincy.org
SUMMARY:Covenant Ringers
DESCRIPTION:Covenant Ringers will rehearse in Room 106 immediately following the worship service
URL:https://christcovcincy.org/event/covenant-ringers/2026-02-22/
LOCATION:Christ Covenant Church\, 2191 Struble Rd\, Cincinnati\, 45231\, United States
ATTACH;FMTTYPE=image/png:https://christcovcincy.org/wp-content/uploads/2026/02/handbells2.png
END:VEVENT
BEGIN:VEVENT
DTSTART;TZID=America/New_York:20260215T114500
DTEND;TZID=America/New_York:20260215T131500
DTSTAMP:20260425T110544
CREATED:20260211T171810Z
LAST-MODIFIED:20260211T171810Z
UID:10007480-1771155900-1771161300@christcovcincy.org
SUMMARY:Covenant Ringers
DESCRIPTION:Covenant Ringers will rehearse in Room 106 immediately following the worship service
URL:https://christcovcincy.org/event/covenant-ringers/2026-02-15/
LOCATION:Christ Covenant Church\, 2191 Struble Rd\, Cincinnati\, 45231\, United States
ATTACH;FMTTYPE=image/png:https://christcovcincy.org/wp-content/uploads/2026/02/handbells2.png
END:VEVENT
BEGIN:VEVENT
DTSTART;TZID=America/New_York:20260111T114500
DTEND;TZID=America/New_York:20260111T130000
DTSTAMP:20260425T110544
CREATED:20251231T185005Z
LAST-MODIFIED:20251231T185005Z
UID:10007413-1768131900-1768136400@christcovcincy.org
SUMMARY:Handbell Introductory Workshop
DESCRIPTION:Interested persons with the ability to read music are invited to stop by Room 106 following the worship service to check out our new handbells. The Covenant Ringers need additional players. See Church Life for more information.
URL:https://christcovcincy.org/event/handbell-introductory-workshop/
LOCATION:Christ Covenant Church\, 2191 Struble Rd\, Cincinnati\, 45231\, United States
END:VEVENT
BEGIN:VEVENT
DTSTART;TZID=America/New_York:20251221T113000
DTEND;TZID=America/New_York:20251221T131500
DTSTAMP:20260425T110544
CREATED:20250918T161916Z
LAST-MODIFIED:20250918T161916Z
UID:10007183-1766316600-1766322900@christcovcincy.org
SUMMARY:Covenant Chimes
DESCRIPTION:Covenant Chimes will rehearse in Room 106 immediately following the worship service
URL:https://christcovcincy.org/event/covenant-chimes/2025-12-21/
LOCATION:Christ Covenant Church\, 2191 Struble Rd\, Cincinnati\, 45231\, United States
ATTACH;FMTTYPE=image/jpeg:https://christcovcincy.org/wp-content/uploads/2023/10/download.jpg
END:VEVENT
BEGIN:VEVENT
DTSTART;TZID=America/New_York:20251220T114500
DTEND;TZID=America/New_York:20251220T130000
DTSTAMP:20260425T110544
CREATED:20251218T165703Z
LAST-MODIFIED:20251218T165703Z
UID:10007392-1766231100-1766235600@christcovcincy.org
SUMMARY:Covenant Chimes
DESCRIPTION:Rehearse Cantata piece in Room 106
URL:https://christcovcincy.org/event/covenant-chimes-3/
LOCATION:Christ Covenant Church\, 2191 Struble Rd\, Cincinnati\, 45231\, United States
ATTACH;FMTTYPE=image/jpeg:https://christcovcincy.org/wp-content/uploads/2023/10/download.jpg
END:VEVENT
BEGIN:VEVENT
DTSTART;TZID=America/New_York:20251214T113000
DTEND;TZID=America/New_York:20251214T131500
DTSTAMP:20260425T110544
CREATED:20250918T161916Z
LAST-MODIFIED:20250918T161916Z
UID:10007182-1765711800-1765718100@christcovcincy.org
SUMMARY:Covenant Chimes
DESCRIPTION:Covenant Chimes will rehearse in Room 106 immediately following the worship service
URL:https://christcovcincy.org/event/covenant-chimes/2025-12-14/
LOCATION:Christ Covenant Church\, 2191 Struble Rd\, Cincinnati\, 45231\, United States
ATTACH;FMTTYPE=image/jpeg:https://christcovcincy.org/wp-content/uploads/2023/10/download.jpg
END:VEVENT
BEGIN:VEVENT
DTSTART;TZID=America/New_York:20251207T113000
DTEND;TZID=America/New_York:20251207T131500
DTSTAMP:20260425T110544
CREATED:20250918T161916Z
LAST-MODIFIED:20250918T161916Z
UID:10007181-1765107000-1765113300@christcovcincy.org
SUMMARY:Covenant Chimes
DESCRIPTION:Covenant Chimes will rehearse in Room 106 immediately following the worship service
URL:https://christcovcincy.org/event/covenant-chimes/2025-12-07/
LOCATION:Christ Covenant Church\, 2191 Struble Rd\, Cincinnati\, 45231\, United States
ATTACH;FMTTYPE=image/jpeg:https://christcovcincy.org/wp-content/uploads/2023/10/download.jpg
END:VEVENT
BEGIN:VEVENT
DTSTART;TZID=America/New_York:20251130T113000
DTEND;TZID=America/New_York:20251130T131500
DTSTAMP:20260425T110544
CREATED:20250918T161916Z
LAST-MODIFIED:20250918T161916Z
UID:10007180-1764502200-1764508500@christcovcincy.org
SUMMARY:Covenant Chimes
DESCRIPTION:Covenant Chimes will rehearse in Room 106 immediately following the worship service
URL:https://christcovcincy.org/event/covenant-chimes/2025-11-30/
LOCATION:Christ Covenant Church\, 2191 Struble Rd\, Cincinnati\, 45231\, United States
ATTACH;FMTTYPE=image/jpeg:https://christcovcincy.org/wp-content/uploads/2023/10/download.jpg
END:VEVENT
BEGIN:VEVENT
DTSTART;TZID=America/New_York:20251123T113000
DTEND;TZID=America/New_York:20251123T131500
DTSTAMP:20260425T110544
CREATED:20250918T161916Z
LAST-MODIFIED:20250918T161916Z
UID:10007179-1763897400-1763903700@christcovcincy.org
SUMMARY:Covenant Chimes
DESCRIPTION:Covenant Chimes will rehearse in Room 106 immediately following the worship service
URL:https://christcovcincy.org/event/covenant-chimes/2025-11-23/
LOCATION:Christ Covenant Church\, 2191 Struble Rd\, Cincinnati\, 45231\, United States
ATTACH;FMTTYPE=image/jpeg:https://christcovcincy.org/wp-content/uploads/2023/10/download.jpg
END:VEVENT
BEGIN:VEVENT
DTSTART;TZID=America/New_York:20251122T093000
DTEND;TZID=America/New_York:20251122T120000
DTSTAMP:20260425T110544
CREATED:20251113T191756Z
LAST-MODIFIED:20251113T191756Z
UID:10007352-1763803800-1763812800@christcovcincy.org
SUMMARY:Covenant Chimes
DESCRIPTION:Set up in the sanctuary\, then rehearse Thanksgiving piece for Sunday\, Nov 23.
URL:https://christcovcincy.org/event/covenant-chimes-2/
LOCATION:Christ Covenant Church\, 2191 Struble Rd\, Cincinnati\, 45231\, United States
ATTACH;FMTTYPE=image/jpeg:https://christcovcincy.org/wp-content/uploads/2023/10/download.jpg
END:VEVENT
BEGIN:VEVENT
DTSTART;TZID=America/New_York:20251116T113000
DTEND;TZID=America/New_York:20251116T131500
DTSTAMP:20260425T110544
CREATED:20250918T161916Z
LAST-MODIFIED:20250918T161916Z
UID:10007178-1763292600-1763298900@christcovcincy.org
SUMMARY:Covenant Chimes
DESCRIPTION:Covenant Chimes will rehearse in Room 106 immediately following the worship service
URL:https://christcovcincy.org/event/covenant-chimes/2025-11-16/
LOCATION:Christ Covenant Church\, 2191 Struble Rd\, Cincinnati\, 45231\, United States
ATTACH;FMTTYPE=image/jpeg:https://christcovcincy.org/wp-content/uploads/2023/10/download.jpg
END:VEVENT
BEGIN:VEVENT
DTSTART;TZID=America/New_York:20251109T113000
DTEND;TZID=America/New_York:20251109T131500
DTSTAMP:20260425T110544
CREATED:20250918T161916Z
LAST-MODIFIED:20250918T161916Z
UID:10007177-1762687800-1762694100@christcovcincy.org
SUMMARY:Covenant Chimes
DESCRIPTION:Covenant Chimes will rehearse in Room 106 immediately following the worship service
URL:https://christcovcincy.org/event/covenant-chimes/2025-11-09/
LOCATION:Christ Covenant Church\, 2191 Struble Rd\, Cincinnati\, 45231\, United States
ATTACH;FMTTYPE=image/jpeg:https://christcovcincy.org/wp-content/uploads/2023/10/download.jpg
END:VEVENT
BEGIN:VEVENT
DTSTART;TZID=America/New_York:20251102T113000
DTEND;TZID=America/New_York:20251102T131500
DTSTAMP:20260425T110544
CREATED:20250918T161916Z
LAST-MODIFIED:20250918T161916Z
UID:10007176-1762083000-1762089300@christcovcincy.org
SUMMARY:Covenant Chimes
DESCRIPTION:Covenant Chimes will rehearse in Room 106 immediately following the worship service
URL:https://christcovcincy.org/event/covenant-chimes/2025-11-02/
LOCATION:Christ Covenant Church\, 2191 Struble Rd\, Cincinnati\, 45231\, United States
ATTACH;FMTTYPE=image/jpeg:https://christcovcincy.org/wp-content/uploads/2023/10/download.jpg
END:VEVENT
BEGIN:VEVENT
DTSTART;TZID=America/New_York:20251026T113000
DTEND;TZID=America/New_York:20251026T131500
DTSTAMP:20260425T110544
CREATED:20250918T161916Z
LAST-MODIFIED:20250918T161916Z
UID:10007175-1761478200-1761484500@christcovcincy.org
SUMMARY:Covenant Chimes
DESCRIPTION:Covenant Chimes will rehearse in Room 106 immediately following the worship service
URL:https://christcovcincy.org/event/covenant-chimes/2025-10-26/
LOCATION:Christ Covenant Church\, 2191 Struble Rd\, Cincinnati\, 45231\, United States
ATTACH;FMTTYPE=image/jpeg:https://christcovcincy.org/wp-content/uploads/2023/10/download.jpg
END:VEVENT
BEGIN:VEVENT
DTSTART;TZID=America/New_York:20251019T113000
DTEND;TZID=America/New_York:20251019T131500
DTSTAMP:20260425T110544
CREATED:20250918T161916Z
LAST-MODIFIED:20250918T161916Z
UID:10007174-1760873400-1760879700@christcovcincy.org
SUMMARY:Covenant Chimes
DESCRIPTION:Covenant Chimes will rehearse in Room 106 immediately following the worship service
URL:https://christcovcincy.org/event/covenant-chimes/2025-10-19/
LOCATION:Christ Covenant Church\, 2191 Struble Rd\, Cincinnati\, 45231\, United States
ATTACH;FMTTYPE=image/jpeg:https://christcovcincy.org/wp-content/uploads/2023/10/download.jpg
END:VEVENT
BEGIN:VEVENT
DTSTART;TZID=America/New_York:20251012T113000
DTEND;TZID=America/New_York:20251012T131500
DTSTAMP:20260425T110544
CREATED:20250918T161916Z
LAST-MODIFIED:20250918T161916Z
UID:10007173-1760268600-1760274900@christcovcincy.org
SUMMARY:Covenant Chimes
DESCRIPTION:Covenant Chimes will rehearse in Room 106 immediately following the worship service
URL:https://christcovcincy.org/event/covenant-chimes/2025-10-12/
LOCATION:Christ Covenant Church\, 2191 Struble Rd\, Cincinnati\, 45231\, United States
ATTACH;FMTTYPE=image/jpeg:https://christcovcincy.org/wp-content/uploads/2023/10/download.jpg
END:VEVENT
BEGIN:VEVENT
DTSTART;TZID=America/New_York:20251005T113000
DTEND;TZID=America/New_York:20251005T131500
DTSTAMP:20260425T110544
CREATED:20250918T161916Z
LAST-MODIFIED:20250918T161916Z
UID:10007172-1759663800-1759670100@christcovcincy.org
SUMMARY:Covenant Chimes
DESCRIPTION:Covenant Chimes will rehearse in Room 106 immediately following the worship service
URL:https://christcovcincy.org/event/covenant-chimes/2025-10-05/
LOCATION:Christ Covenant Church\, 2191 Struble Rd\, Cincinnati\, 45231\, United States
ATTACH;FMTTYPE=image/jpeg:https://christcovcincy.org/wp-content/uploads/2023/10/download.jpg
END:VEVENT
BEGIN:VEVENT
DTSTART;TZID=America/New_York:20250928T113000
DTEND;TZID=America/New_York:20250928T131500
DTSTAMP:20260425T110544
CREATED:20250918T161916Z
LAST-MODIFIED:20250918T161916Z
UID:10007171-1759059000-1759065300@christcovcincy.org
SUMMARY:Covenant Chimes
DESCRIPTION:Covenant Chimes will rehearse in Room 106 immediately following the worship service
URL:https://christcovcincy.org/event/covenant-chimes/2025-09-28/
LOCATION:Christ Covenant Church\, 2191 Struble Rd\, Cincinnati\, 45231\, United States
ATTACH;FMTTYPE=image/jpeg:https://christcovcincy.org/wp-content/uploads/2023/10/download.jpg
END:VEVENT
BEGIN:VEVENT
DTSTART;TZID=America/New_York:20250921T113000
DTEND;TZID=America/New_York:20250921T131500
DTSTAMP:20260425T110544
CREATED:20250918T161916Z
LAST-MODIFIED:20250918T161916Z
UID:10007170-1758454200-1758460500@christcovcincy.org
SUMMARY:Covenant Chimes
DESCRIPTION:Covenant Chimes will rehearse in Room 106 immediately following the worship service
URL:https://christcovcincy.org/event/covenant-chimes/2025-09-21/
LOCATION:Christ Covenant Church\, 2191 Struble Rd\, Cincinnati\, 45231\, United States
ATTACH;FMTTYPE=image/jpeg:https://christcovcincy.org/wp-content/uploads/2023/10/download.jpg
END:VEVENT
BEGIN:VEVENT
DTSTART;TZID=America/New_York:20250831T110000
DTEND;TZID=America/New_York:20250831T160000
DTSTAMP:20260425T110544
CREATED:20250409T182329Z
LAST-MODIFIED:20250409T182329Z
UID:10005812-1756638000-1756656000@christcovcincy.org
SUMMARY:SURPRISE Birthday Luncheon
DESCRIPTION:Adele is turning 100 years old today! But PLEASE DON’T TELL HER we will celebrate with a luncheon following worship.
URL:https://christcovcincy.org/event/surprise-birthday-luncheon/
LOCATION:Church Fellowship Hall
END:VEVENT
BEGIN:VEVENT
DTSTART;TZID=America/New_York:20250830T100000
DTEND;TZID=America/New_York:20250830T120000
DTSTAMP:20260425T110544
CREATED:20250724T155335Z
LAST-MODIFIED:20250724T172659Z
UID:10006923-1756548000-1756555200@christcovcincy.org
SUMMARY:Luncheon Setup
DESCRIPTION:
URL:https://christcovcincy.org/event/luncheon-setup-2/
LOCATION:Church Fellowship Hall
END:VEVENT
BEGIN:VEVENT
DTSTART;TZID=America/New_York:20250418T170000
DTEND;TZID=America/New_York:20250418T173000
DTSTAMP:20260425T110544
CREATED:20250409T184108Z
LAST-MODIFIED:20251222T165224Z
UID:10005815-1744995600-1744997400@christcovcincy.org
SUMMARY:Chimes Rehearsal
DESCRIPTION:Room 106 or in the sanctuary
URL:https://christcovcincy.org/event/chimes-rehearsal-4/2025-04-18/
LOCATION:Christ Covenant Church\, 2191 Struble Rd\, Cincinnati\, 45231\, United States
ATTACH;FMTTYPE=image/jpeg:https://christcovcincy.org/wp-content/uploads/2023/10/download.jpg
END:VEVENT
BEGIN:VEVENT
DTSTART;TZID=America/Halifax:20250413T114500
DTEND;TZID=America/Halifax:20250413T133000
DTSTAMP:20260425T110544
CREATED:20250227T153741Z
LAST-MODIFIED:20250227T153741Z
UID:10005777-1744544700-1744551000@christcovcincy.org
SUMMARY:Chimes Rehearsal
DESCRIPTION:Room 106 immediately following the Worship Service
URL:https://christcovcincy.org/event/chimes-rehearsal-3/2025-04-13/
LOCATION:Christ Covenant Church\, 2191 Struble Rd\, Cincinnati\, 45231\, United States
ATTACH;FMTTYPE=image/jpeg:https://christcovcincy.org/wp-content/uploads/2023/10/download.jpg
END:VEVENT
BEGIN:VEVENT
DTSTART;TZID=America/New_York:20250412T111500
DTEND;TZID=America/New_York:20250412T123000
DTSTAMP:20260425T110544
CREATED:20250409T184108Z
LAST-MODIFIED:20251222T165224Z
UID:10005814-1744456500-1744461000@christcovcincy.org
SUMMARY:Chimes Rehearsal
DESCRIPTION:Room 106 or in the sanctuary
URL:https://christcovcincy.org/event/chimes-rehearsal-4/2025-04-12/
LOCATION:Christ Covenant Church\, 2191 Struble Rd\, Cincinnati\, 45231\, United States
ATTACH;FMTTYPE=image/jpeg:https://christcovcincy.org/wp-content/uploads/2023/10/download.jpg
END:VEVENT
BEGIN:VEVENT
DTSTART;TZID=America/Halifax:20250406T114500
DTEND;TZID=America/Halifax:20250406T133000
DTSTAMP:20260425T110544
CREATED:20250227T153741Z
LAST-MODIFIED:20250227T153741Z
UID:10005776-1743939900-1743946200@christcovcincy.org
SUMMARY:Chimes Rehearsal
DESCRIPTION:Room 106 immediately following the Worship Service
URL:https://christcovcincy.org/event/chimes-rehearsal-3/2025-04-06/
LOCATION:Christ Covenant Church\, 2191 Struble Rd\, Cincinnati\, 45231\, United States
ATTACH;FMTTYPE=image/jpeg:https://christcovcincy.org/wp-content/uploads/2023/10/download.jpg
END:VEVENT
END:VCALENDAR