BEGIN:VCALENDAR
VERSION:2.0
PRODID:-//Christ Covenant Church - ECPv6.15.20//NONSGML v1.0//EN
CALSCALE:GREGORIAN
METHOD:PUBLISH
X-ORIGINAL-URL:https://christcovcincy.org
X-WR-CALDESC:Events for Christ Covenant Church
REFRESH-INTERVAL;VALUE=DURATION:PT1H
X-Robots-Tag:noindex
X-PUBLISHED-TTL:PT1H
BEGIN:VTIMEZONE
TZID:America/New_York
BEGIN:DAYLIGHT
TZOFFSETFROM:-0500
TZOFFSETTO:-0400
TZNAME:EDT
DTSTART:20240310T070000
END:DAYLIGHT
BEGIN:STANDARD
TZOFFSETFROM:-0400
TZOFFSETTO:-0500
TZNAME:EST
DTSTART:20241103T060000
END:STANDARD
BEGIN:DAYLIGHT
TZOFFSETFROM:-0500
TZOFFSETTO:-0400
TZNAME:EDT
DTSTART:20250309T070000
END:DAYLIGHT
BEGIN:STANDARD
TZOFFSETFROM:-0400
TZOFFSETTO:-0500
TZNAME:EST
DTSTART:20251102T060000
END:STANDARD
BEGIN:DAYLIGHT
TZOFFSETFROM:-0500
TZOFFSETTO:-0400
TZNAME:EDT
DTSTART:20260308T070000
END:DAYLIGHT
BEGIN:STANDARD
TZOFFSETFROM:-0400
TZOFFSETTO:-0500
TZNAME:EST
DTSTART:20261101T060000
END:STANDARD
END:VTIMEZONE
BEGIN:VTIMEZONE
TZID:America/Halifax
BEGIN:DAYLIGHT
TZOFFSETFROM:-0400
TZOFFSETTO:-0300
TZNAME:ADT
DTSTART:20230312T060000
END:DAYLIGHT
BEGIN:STANDARD
TZOFFSETFROM:-0300
TZOFFSETTO:-0400
TZNAME:AST
DTSTART:20231105T050000
END:STANDARD
BEGIN:DAYLIGHT
TZOFFSETFROM:-0400
TZOFFSETTO:-0300
TZNAME:ADT
DTSTART:20240310T060000
END:DAYLIGHT
BEGIN:STANDARD
TZOFFSETFROM:-0300
TZOFFSETTO:-0400
TZNAME:AST
DTSTART:20241103T050000
END:STANDARD
BEGIN:DAYLIGHT
TZOFFSETFROM:-0400
TZOFFSETTO:-0300
TZNAME:ADT
DTSTART:20250309T060000
END:DAYLIGHT
BEGIN:STANDARD
TZOFFSETFROM:-0300
TZOFFSETTO:-0400
TZNAME:AST
DTSTART:20251102T050000
END:STANDARD
BEGIN:DAYLIGHT
TZOFFSETFROM:-0400
TZOFFSETTO:-0300
TZNAME:ADT
DTSTART:20260308T060000
END:DAYLIGHT
BEGIN:STANDARD
TZOFFSETFROM:-0300
TZOFFSETTO:-0400
TZNAME:AST
DTSTART:20261101T050000
END:STANDARD
END:VTIMEZONE
BEGIN:VEVENT
DTSTART;TZID=America/New_York:20250831T110000
DTEND;TZID=America/New_York:20250831T160000
DTSTAMP:20260425T152530
CREATED:20250409T182329Z
LAST-MODIFIED:20250409T182329Z
UID:10005812-1756638000-1756656000@christcovcincy.org
SUMMARY:SURPRISE Birthday Luncheon
DESCRIPTION:Adele is turning 100 years old today! But PLEASE DON’T TELL HER we will celebrate with a luncheon following worship.
URL:https://christcovcincy.org/event/surprise-birthday-luncheon/
LOCATION:Church Fellowship Hall
END:VEVENT
BEGIN:VEVENT
DTSTART;TZID=America/New_York:20250830T100000
DTEND;TZID=America/New_York:20250830T120000
DTSTAMP:20260425T152530
CREATED:20250724T155335Z
LAST-MODIFIED:20250724T172659Z
UID:10006923-1756548000-1756555200@christcovcincy.org
SUMMARY:Luncheon Setup
DESCRIPTION:
URL:https://christcovcincy.org/event/luncheon-setup-2/
LOCATION:Church Fellowship Hall
END:VEVENT
BEGIN:VEVENT
DTSTART;TZID=America/New_York:20250418T170000
DTEND;TZID=America/New_York:20250418T173000
DTSTAMP:20260425T152530
CREATED:20250409T184108Z
LAST-MODIFIED:20251222T165224Z
UID:10005815-1744995600-1744997400@christcovcincy.org
SUMMARY:Chimes Rehearsal
DESCRIPTION:Room 106 or in the sanctuary
URL:https://christcovcincy.org/event/chimes-rehearsal-4/2025-04-18/
LOCATION:Christ Covenant Church\, 2191 Struble Rd\, Cincinnati\, 45231\, United States
ATTACH;FMTTYPE=image/jpeg:https://christcovcincy.org/wp-content/uploads/2023/10/download.jpg
END:VEVENT
BEGIN:VEVENT
DTSTART;TZID=America/Halifax:20250413T114500
DTEND;TZID=America/Halifax:20250413T133000
DTSTAMP:20260425T152530
CREATED:20250227T153741Z
LAST-MODIFIED:20250227T153741Z
UID:10005777-1744544700-1744551000@christcovcincy.org
SUMMARY:Chimes Rehearsal
DESCRIPTION:Room 106 immediately following the Worship Service
URL:https://christcovcincy.org/event/chimes-rehearsal-3/2025-04-13/
LOCATION:Christ Covenant Church\, 2191 Struble Rd\, Cincinnati\, 45231\, United States
ATTACH;FMTTYPE=image/jpeg:https://christcovcincy.org/wp-content/uploads/2023/10/download.jpg
END:VEVENT
BEGIN:VEVENT
DTSTART;TZID=America/New_York:20250412T111500
DTEND;TZID=America/New_York:20250412T123000
DTSTAMP:20260425T152530
CREATED:20250409T184108Z
LAST-MODIFIED:20251222T165224Z
UID:10005814-1744456500-1744461000@christcovcincy.org
SUMMARY:Chimes Rehearsal
DESCRIPTION:Room 106 or in the sanctuary
URL:https://christcovcincy.org/event/chimes-rehearsal-4/2025-04-12/
LOCATION:Christ Covenant Church\, 2191 Struble Rd\, Cincinnati\, 45231\, United States
ATTACH;FMTTYPE=image/jpeg:https://christcovcincy.org/wp-content/uploads/2023/10/download.jpg
END:VEVENT
BEGIN:VEVENT
DTSTART;TZID=America/Halifax:20250406T114500
DTEND;TZID=America/Halifax:20250406T133000
DTSTAMP:20260425T152530
CREATED:20250227T153741Z
LAST-MODIFIED:20250227T153741Z
UID:10005776-1743939900-1743946200@christcovcincy.org
SUMMARY:Chimes Rehearsal
DESCRIPTION:Room 106 immediately following the Worship Service
URL:https://christcovcincy.org/event/chimes-rehearsal-3/2025-04-06/
LOCATION:Christ Covenant Church\, 2191 Struble Rd\, Cincinnati\, 45231\, United States
ATTACH;FMTTYPE=image/jpeg:https://christcovcincy.org/wp-content/uploads/2023/10/download.jpg
END:VEVENT
BEGIN:VEVENT
DTSTART;TZID=America/Halifax:20250330T114500
DTEND;TZID=America/Halifax:20250330T133000
DTSTAMP:20260425T152530
CREATED:20250227T153741Z
LAST-MODIFIED:20250227T153741Z
UID:10005775-1743335100-1743341400@christcovcincy.org
SUMMARY:Chimes Rehearsal
DESCRIPTION:Room 106 immediately following the Worship Service
URL:https://christcovcincy.org/event/chimes-rehearsal-3/2025-03-30/
LOCATION:Christ Covenant Church\, 2191 Struble Rd\, Cincinnati\, 45231\, United States
ATTACH;FMTTYPE=image/jpeg:https://christcovcincy.org/wp-content/uploads/2023/10/download.jpg
END:VEVENT
BEGIN:VEVENT
DTSTART;TZID=America/Halifax:20250323T114500
DTEND;TZID=America/Halifax:20250323T133000
DTSTAMP:20260425T152530
CREATED:20250227T153741Z
LAST-MODIFIED:20250227T153741Z
UID:10005774-1742730300-1742736600@christcovcincy.org
SUMMARY:Chimes Rehearsal
DESCRIPTION:Room 106 immediately following the Worship Service
URL:https://christcovcincy.org/event/chimes-rehearsal-3/2025-03-23/
LOCATION:Christ Covenant Church\, 2191 Struble Rd\, Cincinnati\, 45231\, United States
ATTACH;FMTTYPE=image/jpeg:https://christcovcincy.org/wp-content/uploads/2023/10/download.jpg
END:VEVENT
BEGIN:VEVENT
DTSTART;TZID=America/Halifax:20250316T114500
DTEND;TZID=America/Halifax:20250316T133000
DTSTAMP:20260425T152530
CREATED:20250227T153741Z
LAST-MODIFIED:20250227T153741Z
UID:10005773-1742125500-1742131800@christcovcincy.org
SUMMARY:Chimes Rehearsal
DESCRIPTION:Room 106 immediately following the Worship Service
URL:https://christcovcincy.org/event/chimes-rehearsal-3/2025-03-16/
LOCATION:Christ Covenant Church\, 2191 Struble Rd\, Cincinnati\, 45231\, United States
ATTACH;FMTTYPE=image/jpeg:https://christcovcincy.org/wp-content/uploads/2023/10/download.jpg
END:VEVENT
BEGIN:VEVENT
DTSTART;TZID=America/Halifax:20250309T114500
DTEND;TZID=America/Halifax:20250309T133000
DTSTAMP:20260425T152530
CREATED:20250227T153741Z
LAST-MODIFIED:20250227T153741Z
UID:10005772-1741520700-1741527000@christcovcincy.org
SUMMARY:Chimes Rehearsal
DESCRIPTION:Room 106 immediately following the Worship Service
URL:https://christcovcincy.org/event/chimes-rehearsal-3/2025-03-09/
LOCATION:Christ Covenant Church\, 2191 Struble Rd\, Cincinnati\, 45231\, United States
ATTACH;FMTTYPE=image/jpeg:https://christcovcincy.org/wp-content/uploads/2023/10/download.jpg
END:VEVENT
BEGIN:VEVENT
DTSTART;TZID=America/Halifax:20250302T114500
DTEND;TZID=America/Halifax:20250302T133000
DTSTAMP:20260425T152530
CREATED:20250227T153741Z
LAST-MODIFIED:20250227T153741Z
UID:10005771-1740915900-1740922200@christcovcincy.org
SUMMARY:Chimes Rehearsal
DESCRIPTION:Room 106 immediately following the Worship Service
URL:https://christcovcincy.org/event/chimes-rehearsal-3/2025-03-02/
LOCATION:Christ Covenant Church\, 2191 Struble Rd\, Cincinnati\, 45231\, United States
ATTACH;FMTTYPE=image/jpeg:https://christcovcincy.org/wp-content/uploads/2023/10/download.jpg
END:VEVENT
BEGIN:VEVENT
DTSTART;TZID=America/Halifax:20250223T114500
DTEND;TZID=America/Halifax:20250223T133000
DTSTAMP:20260425T152530
CREATED:20250227T153741Z
LAST-MODIFIED:20250227T153741Z
UID:10005770-1740311100-1740317400@christcovcincy.org
SUMMARY:Chimes Rehearsal
DESCRIPTION:Room 106 immediately following the Worship Service
URL:https://christcovcincy.org/event/chimes-rehearsal-3/2025-02-23/
LOCATION:Christ Covenant Church\, 2191 Struble Rd\, Cincinnati\, 45231\, United States
ATTACH;FMTTYPE=image/jpeg:https://christcovcincy.org/wp-content/uploads/2023/10/download.jpg
END:VEVENT
BEGIN:VEVENT
DTSTART;TZID=America/Halifax:20250105T113000
DTEND;TZID=America/Halifax:20250105T133000
DTSTAMP:20260425T152530
CREATED:20240821T194436Z
LAST-MODIFIED:20241231T194247Z
UID:10005510-1736076600-1736083800@christcovcincy.org
SUMMARY:Covenant Chimes
DESCRIPTION:Covenant Chimes will rehearse in Room 106 immediately following the worship service
URL:https://christcovcincy.org/event/chimes-rehearsal-2/2025-01-05/
LOCATION:Christ Covenant Church\, 2191 Struble Rd\, Cincinnati\, 45231\, United States
ATTACH;FMTTYPE=image/jpeg:https://christcovcincy.org/wp-content/uploads/2023/10/download.jpg
END:VEVENT
BEGIN:VEVENT
DTSTART;TZID=America/Halifax:20241222T113000
DTEND;TZID=America/Halifax:20241222T133000
DTSTAMP:20260425T152530
CREATED:20240821T194436Z
LAST-MODIFIED:20241231T194247Z
UID:10005509-1734867000-1734874200@christcovcincy.org
SUMMARY:Covenant Chimes
DESCRIPTION:Covenant Chimes will rehearse in Room 106 immediately following the worship service
URL:https://christcovcincy.org/event/chimes-rehearsal-2/2024-12-22/
LOCATION:Christ Covenant Church\, 2191 Struble Rd\, Cincinnati\, 45231\, United States
ATTACH;FMTTYPE=image/jpeg:https://christcovcincy.org/wp-content/uploads/2023/10/download.jpg
END:VEVENT
BEGIN:VEVENT
DTSTART;TZID=America/Halifax:20241215T113000
DTEND;TZID=America/Halifax:20241215T133000
DTSTAMP:20260425T152530
CREATED:20240821T194436Z
LAST-MODIFIED:20241231T194247Z
UID:10005508-1734262200-1734269400@christcovcincy.org
SUMMARY:Covenant Chimes
DESCRIPTION:Covenant Chimes will rehearse in Room 106 immediately following the worship service
URL:https://christcovcincy.org/event/chimes-rehearsal-2/2024-12-15/
LOCATION:Christ Covenant Church\, 2191 Struble Rd\, Cincinnati\, 45231\, United States
ATTACH;FMTTYPE=image/jpeg:https://christcovcincy.org/wp-content/uploads/2023/10/download.jpg
END:VEVENT
BEGIN:VEVENT
DTSTART;TZID=America/Halifax:20241208T113000
DTEND;TZID=America/Halifax:20241208T133000
DTSTAMP:20260425T152530
CREATED:20240821T194436Z
LAST-MODIFIED:20241231T194247Z
UID:10005507-1733657400-1733664600@christcovcincy.org
SUMMARY:Covenant Chimes
DESCRIPTION:Covenant Chimes will rehearse in Room 106 immediately following the worship service
URL:https://christcovcincy.org/event/chimes-rehearsal-2/2024-12-08/
LOCATION:Christ Covenant Church\, 2191 Struble Rd\, Cincinnati\, 45231\, United States
ATTACH;FMTTYPE=image/jpeg:https://christcovcincy.org/wp-content/uploads/2023/10/download.jpg
END:VEVENT
BEGIN:VEVENT
DTSTART;TZID=America/Halifax:20241201T113000
DTEND;TZID=America/Halifax:20241201T133000
DTSTAMP:20260425T152530
CREATED:20240821T194436Z
LAST-MODIFIED:20241231T194247Z
UID:10005506-1733052600-1733059800@christcovcincy.org
SUMMARY:Covenant Chimes
DESCRIPTION:Covenant Chimes will rehearse in Room 106 immediately following the worship service
URL:https://christcovcincy.org/event/chimes-rehearsal-2/2024-12-01/
LOCATION:Christ Covenant Church\, 2191 Struble Rd\, Cincinnati\, 45231\, United States
ATTACH;FMTTYPE=image/jpeg:https://christcovcincy.org/wp-content/uploads/2023/10/download.jpg
END:VEVENT
BEGIN:VEVENT
DTSTART;TZID=America/Halifax:20241124T113000
DTEND;TZID=America/Halifax:20241124T133000
DTSTAMP:20260425T152530
CREATED:20240821T194436Z
LAST-MODIFIED:20241231T194247Z
UID:10005505-1732447800-1732455000@christcovcincy.org
SUMMARY:Covenant Chimes
DESCRIPTION:Covenant Chimes will rehearse in Room 106 immediately following the worship service
URL:https://christcovcincy.org/event/chimes-rehearsal-2/2024-11-24/
LOCATION:Christ Covenant Church\, 2191 Struble Rd\, Cincinnati\, 45231\, United States
ATTACH;FMTTYPE=image/jpeg:https://christcovcincy.org/wp-content/uploads/2023/10/download.jpg
END:VEVENT
BEGIN:VEVENT
DTSTART;TZID=America/Halifax:20241117T113000
DTEND;TZID=America/Halifax:20241117T133000
DTSTAMP:20260425T152530
CREATED:20240821T194436Z
LAST-MODIFIED:20241231T194247Z
UID:10005504-1731843000-1731850200@christcovcincy.org
SUMMARY:Covenant Chimes
DESCRIPTION:Covenant Chimes will rehearse in Room 106 immediately following the worship service
URL:https://christcovcincy.org/event/chimes-rehearsal-2/2024-11-17/
LOCATION:Christ Covenant Church\, 2191 Struble Rd\, Cincinnati\, 45231\, United States
ATTACH;FMTTYPE=image/jpeg:https://christcovcincy.org/wp-content/uploads/2023/10/download.jpg
END:VEVENT
BEGIN:VEVENT
DTSTART;TZID=America/Halifax:20241110T113000
DTEND;TZID=America/Halifax:20241110T133000
DTSTAMP:20260425T152530
CREATED:20240821T194436Z
LAST-MODIFIED:20241231T194247Z
UID:10005503-1731238200-1731245400@christcovcincy.org
SUMMARY:Covenant Chimes
DESCRIPTION:Covenant Chimes will rehearse in Room 106 immediately following the worship service
URL:https://christcovcincy.org/event/chimes-rehearsal-2/2024-11-10/
LOCATION:Christ Covenant Church\, 2191 Struble Rd\, Cincinnati\, 45231\, United States
ATTACH;FMTTYPE=image/jpeg:https://christcovcincy.org/wp-content/uploads/2023/10/download.jpg
END:VEVENT
BEGIN:VEVENT
DTSTART;TZID=America/Halifax:20241103T113000
DTEND;TZID=America/Halifax:20241103T133000
DTSTAMP:20260425T152530
CREATED:20240821T194436Z
LAST-MODIFIED:20241231T194247Z
UID:10005502-1730633400-1730640600@christcovcincy.org
SUMMARY:Covenant Chimes
DESCRIPTION:Covenant Chimes will rehearse in Room 106 immediately following the worship service
URL:https://christcovcincy.org/event/chimes-rehearsal-2/2024-11-03/
LOCATION:Christ Covenant Church\, 2191 Struble Rd\, Cincinnati\, 45231\, United States
ATTACH;FMTTYPE=image/jpeg:https://christcovcincy.org/wp-content/uploads/2023/10/download.jpg
END:VEVENT
BEGIN:VEVENT
DTSTART;TZID=America/Halifax:20241020T113000
DTEND;TZID=America/Halifax:20241020T133000
DTSTAMP:20260425T152530
CREATED:20240821T194436Z
LAST-MODIFIED:20241231T194247Z
UID:10005501-1729423800-1729431000@christcovcincy.org
SUMMARY:Covenant Chimes
DESCRIPTION:Covenant Chimes will rehearse in Room 106 immediately following the worship service
URL:https://christcovcincy.org/event/chimes-rehearsal-2/2024-10-20/
LOCATION:Christ Covenant Church\, 2191 Struble Rd\, Cincinnati\, 45231\, United States
ATTACH;FMTTYPE=image/jpeg:https://christcovcincy.org/wp-content/uploads/2023/10/download.jpg
END:VEVENT
BEGIN:VEVENT
DTSTART;TZID=America/Halifax:20241013T113000
DTEND;TZID=America/Halifax:20241013T133000
DTSTAMP:20260425T152530
CREATED:20240821T194436Z
LAST-MODIFIED:20241231T194247Z
UID:10005500-1728819000-1728826200@christcovcincy.org
SUMMARY:Covenant Chimes
DESCRIPTION:Covenant Chimes will rehearse in Room 106 immediately following the worship service
URL:https://christcovcincy.org/event/chimes-rehearsal-2/2024-10-13/
LOCATION:Christ Covenant Church\, 2191 Struble Rd\, Cincinnati\, 45231\, United States
ATTACH;FMTTYPE=image/jpeg:https://christcovcincy.org/wp-content/uploads/2023/10/download.jpg
END:VEVENT
BEGIN:VEVENT
DTSTART;TZID=America/Halifax:20241006T113000
DTEND;TZID=America/Halifax:20241006T133000
DTSTAMP:20260425T152530
CREATED:20240821T194436Z
LAST-MODIFIED:20241231T194247Z
UID:10005499-1728214200-1728221400@christcovcincy.org
SUMMARY:Covenant Chimes
DESCRIPTION:Covenant Chimes will rehearse in Room 106 immediately following the worship service
URL:https://christcovcincy.org/event/chimes-rehearsal-2/2024-10-06/
LOCATION:Christ Covenant Church\, 2191 Struble Rd\, Cincinnati\, 45231\, United States
ATTACH;FMTTYPE=image/jpeg:https://christcovcincy.org/wp-content/uploads/2023/10/download.jpg
END:VEVENT
BEGIN:VEVENT
DTSTART;TZID=America/Halifax:20240929T113000
DTEND;TZID=America/Halifax:20240929T133000
DTSTAMP:20260425T152530
CREATED:20240821T194436Z
LAST-MODIFIED:20241231T194247Z
UID:10005498-1727609400-1727616600@christcovcincy.org
SUMMARY:Covenant Chimes
DESCRIPTION:Covenant Chimes will rehearse in Room 106 immediately following the worship service
URL:https://christcovcincy.org/event/chimes-rehearsal-2/2024-09-29/
LOCATION:Christ Covenant Church\, 2191 Struble Rd\, Cincinnati\, 45231\, United States
ATTACH;FMTTYPE=image/jpeg:https://christcovcincy.org/wp-content/uploads/2023/10/download.jpg
END:VEVENT
BEGIN:VEVENT
DTSTART;TZID=America/Halifax:20240922T113000
DTEND;TZID=America/Halifax:20240922T133000
DTSTAMP:20260425T152530
CREATED:20240821T194436Z
LAST-MODIFIED:20241231T194247Z
UID:10005497-1727004600-1727011800@christcovcincy.org
SUMMARY:Covenant Chimes
DESCRIPTION:Covenant Chimes will rehearse in Room 106 immediately following the worship service
URL:https://christcovcincy.org/event/chimes-rehearsal-2/2024-09-22/
LOCATION:Christ Covenant Church\, 2191 Struble Rd\, Cincinnati\, 45231\, United States
ATTACH;FMTTYPE=image/jpeg:https://christcovcincy.org/wp-content/uploads/2023/10/download.jpg
END:VEVENT
BEGIN:VEVENT
DTSTART;TZID=America/Halifax:20240915T113000
DTEND;TZID=America/Halifax:20240915T133000
DTSTAMP:20260425T152530
CREATED:20240821T194436Z
LAST-MODIFIED:20241231T194247Z
UID:10005496-1726399800-1726407000@christcovcincy.org
SUMMARY:Covenant Chimes
DESCRIPTION:Covenant Chimes will rehearse in Room 106 immediately following the worship service
URL:https://christcovcincy.org/event/chimes-rehearsal-2/2024-09-15/
LOCATION:Christ Covenant Church\, 2191 Struble Rd\, Cincinnati\, 45231\, United States
ATTACH;FMTTYPE=image/jpeg:https://christcovcincy.org/wp-content/uploads/2023/10/download.jpg
END:VEVENT
END:VCALENDAR