BEGIN:VCALENDAR
VERSION:2.0
PRODID:-//Christ Covenant Church - ECPv6.15.20//NONSGML v1.0//EN
CALSCALE:GREGORIAN
METHOD:PUBLISH
X-WR-CALNAME:Christ Covenant Church
X-ORIGINAL-URL:https://christcovcincy.org
X-WR-CALDESC:Events for Christ Covenant Church
REFRESH-INTERVAL;VALUE=DURATION:PT1H
X-Robots-Tag:noindex
X-PUBLISHED-TTL:PT1H
BEGIN:VTIMEZONE
TZID:America/New_York
BEGIN:DAYLIGHT
TZOFFSETFROM:-0500
TZOFFSETTO:-0400
TZNAME:EDT
DTSTART:20250309T070000
END:DAYLIGHT
BEGIN:STANDARD
TZOFFSETFROM:-0400
TZOFFSETTO:-0500
TZNAME:EST
DTSTART:20251102T060000
END:STANDARD
BEGIN:DAYLIGHT
TZOFFSETFROM:-0500
TZOFFSETTO:-0400
TZNAME:EDT
DTSTART:20260308T070000
END:DAYLIGHT
BEGIN:STANDARD
TZOFFSETFROM:-0400
TZOFFSETTO:-0500
TZNAME:EST
DTSTART:20261101T060000
END:STANDARD
BEGIN:DAYLIGHT
TZOFFSETFROM:-0500
TZOFFSETTO:-0400
TZNAME:EDT
DTSTART:20270314T070000
END:DAYLIGHT
BEGIN:STANDARD
TZOFFSETFROM:-0400
TZOFFSETTO:-0500
TZNAME:EST
DTSTART:20271107T060000
END:STANDARD
END:VTIMEZONE
BEGIN:VTIMEZONE
TZID:America/Halifax
BEGIN:DAYLIGHT
TZOFFSETFROM:-0400
TZOFFSETTO:-0300
TZNAME:ADT
DTSTART:20230312T060000
END:DAYLIGHT
BEGIN:STANDARD
TZOFFSETFROM:-0300
TZOFFSETTO:-0400
TZNAME:AST
DTSTART:20231105T050000
END:STANDARD
BEGIN:DAYLIGHT
TZOFFSETFROM:-0400
TZOFFSETTO:-0300
TZNAME:ADT
DTSTART:20240310T060000
END:DAYLIGHT
BEGIN:STANDARD
TZOFFSETFROM:-0300
TZOFFSETTO:-0400
TZNAME:AST
DTSTART:20241103T050000
END:STANDARD
BEGIN:DAYLIGHT
TZOFFSETFROM:-0400
TZOFFSETTO:-0300
TZNAME:ADT
DTSTART:20250309T060000
END:DAYLIGHT
BEGIN:STANDARD
TZOFFSETFROM:-0300
TZOFFSETTO:-0400
TZNAME:AST
DTSTART:20251102T050000
END:STANDARD
END:VTIMEZONE
BEGIN:VEVENT
DTSTART;TZID=America/New_York:20260322T183000
DTEND;TZID=America/New_York:20260322T210000
DTSTAMP:20260423T162859
CREATED:20251008T200436Z
LAST-MODIFIED:20251008T200436Z
UID:10007322-1774204200-1774213200@christcovcincy.org
SUMMARY:Dinners for Eight
DESCRIPTION:Mark your calendar to join others from Christ Covenant Church in a Dinner for Eight this spring\, March 20-22.
URL:https://christcovcincy.org/event/dinners-for-eight-6/2026-03-22/
CATEGORIES:fellowships
ATTACH;FMTTYPE=image/jpeg:https://christcovcincy.org/wp-content/uploads/2024/04/DinnersofEight.jpg
END:VEVENT
BEGIN:VEVENT
DTSTART;TZID=America/New_York:20260321T183000
DTEND;TZID=America/New_York:20260321T210000
DTSTAMP:20260423T162859
CREATED:20251008T200436Z
LAST-MODIFIED:20251008T200436Z
UID:10007321-1774117800-1774126800@christcovcincy.org
SUMMARY:Dinners for Eight
DESCRIPTION:Mark your calendar to join others from Christ Covenant Church in a Dinner for Eight this spring\, March 20-22.
URL:https://christcovcincy.org/event/dinners-for-eight-6/2026-03-21/2/
CATEGORIES:fellowships
ATTACH;FMTTYPE=image/jpeg:https://christcovcincy.org/wp-content/uploads/2024/04/DinnersofEight.jpg
END:VEVENT
BEGIN:VEVENT
DTSTART;TZID=America/New_York:20260321T123000
DTEND;TZID=America/New_York:20260321T150000
DTSTAMP:20260423T162859
CREATED:20251008T200436Z
LAST-MODIFIED:20251008T200436Z
UID:10007320-1774096200-1774105200@christcovcincy.org
SUMMARY:Dinners for Eight
DESCRIPTION:Mark your calendar to join others from Christ Covenant Church in a Dinner for Eight this spring\, March 20-22.
URL:https://christcovcincy.org/event/dinners-for-eight-6/2026-03-21/1/
CATEGORIES:fellowships
ATTACH;FMTTYPE=image/jpeg:https://christcovcincy.org/wp-content/uploads/2024/04/DinnersofEight.jpg
END:VEVENT
BEGIN:VEVENT
DTSTART;TZID=America/New_York:20260320T183000
DTEND;TZID=America/New_York:20260320T210000
DTSTAMP:20260423T162859
CREATED:20251008T200436Z
LAST-MODIFIED:20251008T200436Z
UID:10007319-1774031400-1774040400@christcovcincy.org
SUMMARY:Dinners for Eight
DESCRIPTION:Mark your calendar to join others from Christ Covenant Church in a Dinner for Eight this spring\, March 20-22.
URL:https://christcovcincy.org/event/dinners-for-eight-6/2026-03-20/
CATEGORIES:fellowships
ATTACH;FMTTYPE=image/jpeg:https://christcovcincy.org/wp-content/uploads/2024/04/DinnersofEight.jpg
END:VEVENT
BEGIN:VEVENT
DTSTART;TZID=America/Halifax:20240724T050000
DTEND;TZID=America/Halifax:20240724T190000
DTSTAMP:20260423T162859
CREATED:20240612T150858Z
LAST-MODIFIED:20240612T155318Z
UID:10005128-1721797200-1721847600@christcovcincy.org
SUMMARY:Lighting Project
DESCRIPTION:Project involves the sanctuary\, SW area of the foyer\, W hallway\, and W prep room. Chair storage in fellowship hall\, possibly classrooms.  Chancel items to be stored in E prep room or fellowship hall.  All chairs will be removed from the sanctuary.  A large articulating lift will be onsite.
URL:https://christcovcincy.org/event/lighting-project/2024-07-24/
LOCATION:Christ Covenant Church\, 2191 Struble Rd\, Cincinnati\, 45231\, United States
END:VEVENT
BEGIN:VEVENT
DTSTART;TZID=America/Halifax:20240723T050000
DTEND;TZID=America/Halifax:20240723T190000
DTSTAMP:20260423T162859
CREATED:20240612T150858Z
LAST-MODIFIED:20240612T155318Z
UID:10005127-1721710800-1721761200@christcovcincy.org
SUMMARY:Lighting Project
DESCRIPTION:Project involves the sanctuary\, SW area of the foyer\, W hallway\, and W prep room. Chair storage in fellowship hall\, possibly classrooms.  Chancel items to be stored in E prep room or fellowship hall.  All chairs will be removed from the sanctuary.  A large articulating lift will be onsite.
URL:https://christcovcincy.org/event/lighting-project/2024-07-23/
LOCATION:Christ Covenant Church\, 2191 Struble Rd\, Cincinnati\, 45231\, United States
END:VEVENT
BEGIN:VEVENT
DTSTART;TZID=America/Halifax:20240722T050000
DTEND;TZID=America/Halifax:20240722T190000
DTSTAMP:20260423T162859
CREATED:20240612T150858Z
LAST-MODIFIED:20240612T155318Z
UID:10005126-1721624400-1721674800@christcovcincy.org
SUMMARY:Lighting Project
DESCRIPTION:Project involves the sanctuary\, SW area of the foyer\, W hallway\, and W prep room. Chair storage in fellowship hall\, possibly classrooms.  Chancel items to be stored in E prep room or fellowship hall.  All chairs will be removed from the sanctuary.  A large articulating lift will be onsite.
URL:https://christcovcincy.org/event/lighting-project/2024-07-22/
LOCATION:Christ Covenant Church\, 2191 Struble Rd\, Cincinnati\, 45231\, United States
END:VEVENT
BEGIN:VEVENT
DTSTART;TZID=America/Halifax:20240717T050000
DTEND;TZID=America/Halifax:20240717T190000
DTSTAMP:20260423T162859
CREATED:20240612T150858Z
LAST-MODIFIED:20240612T155318Z
UID:10005125-1721192400-1721242800@christcovcincy.org
SUMMARY:Lighting Project
DESCRIPTION:Project involves the sanctuary\, SW area of the foyer\, W hallway\, and W prep room. Chair storage in fellowship hall\, possibly classrooms.  Chancel items to be stored in E prep room or fellowship hall.  All chairs will be removed from the sanctuary.  A large articulating lift will be onsite.
URL:https://christcovcincy.org/event/lighting-project/2024-07-17/
LOCATION:Christ Covenant Church\, 2191 Struble Rd\, Cincinnati\, 45231\, United States
END:VEVENT
BEGIN:VEVENT
DTSTART;TZID=America/Halifax:20240716T050000
DTEND;TZID=America/Halifax:20240716T190000
DTSTAMP:20260423T162900
CREATED:20240612T150858Z
LAST-MODIFIED:20240612T155318Z
UID:10005124-1721106000-1721156400@christcovcincy.org
SUMMARY:Lighting Project
DESCRIPTION:Project involves the sanctuary\, SW area of the foyer\, W hallway\, and W prep room. Chair storage in fellowship hall\, possibly classrooms.  Chancel items to be stored in E prep room or fellowship hall.  All chairs will be removed from the sanctuary.  A large articulating lift will be onsite.
URL:https://christcovcincy.org/event/lighting-project/2024-07-16/
LOCATION:Christ Covenant Church\, 2191 Struble Rd\, Cincinnati\, 45231\, United States
END:VEVENT
BEGIN:VEVENT
DTSTART;TZID=America/Halifax:20240715T050000
DTEND;TZID=America/Halifax:20240715T190000
DTSTAMP:20260423T162900
CREATED:20240612T150858Z
LAST-MODIFIED:20240612T155318Z
UID:10005123-1721019600-1721070000@christcovcincy.org
SUMMARY:Lighting Project
DESCRIPTION:Project involves the sanctuary\, SW area of the foyer\, W hallway\, and W prep room. Chair storage in fellowship hall\, possibly classrooms.  Chancel items to be stored in E prep room or fellowship hall.  All chairs will be removed from the sanctuary.  A large articulating lift will be onsite.
URL:https://christcovcincy.org/event/lighting-project/2024-07-15/
LOCATION:Christ Covenant Church\, 2191 Struble Rd\, Cincinnati\, 45231\, United States
END:VEVENT
BEGIN:VEVENT
DTSTART;TZID=America/Halifax:20240710T050000
DTEND;TZID=America/Halifax:20240710T190000
DTSTAMP:20260423T162900
CREATED:20240612T150858Z
LAST-MODIFIED:20240612T155318Z
UID:10005122-1720587600-1720638000@christcovcincy.org
SUMMARY:Lighting Project
DESCRIPTION:Project involves the sanctuary\, SW area of the foyer\, W hallway\, and W prep room. Chair storage in fellowship hall\, possibly classrooms.  Chancel items to be stored in E prep room or fellowship hall.  All chairs will be removed from the sanctuary.  A large articulating lift will be onsite.
URL:https://christcovcincy.org/event/lighting-project/2024-07-10/
LOCATION:Christ Covenant Church\, 2191 Struble Rd\, Cincinnati\, 45231\, United States
END:VEVENT
BEGIN:VEVENT
DTSTART;TZID=America/Halifax:20240709T050000
DTEND;TZID=America/Halifax:20240709T190000
DTSTAMP:20260423T162900
CREATED:20240612T150858Z
LAST-MODIFIED:20240612T155318Z
UID:10005121-1720501200-1720551600@christcovcincy.org
SUMMARY:Lighting Project
DESCRIPTION:Project involves the sanctuary\, SW area of the foyer\, W hallway\, and W prep room. Chair storage in fellowship hall\, possibly classrooms.  Chancel items to be stored in E prep room or fellowship hall.  All chairs will be removed from the sanctuary.  A large articulating lift will be onsite.
URL:https://christcovcincy.org/event/lighting-project/2024-07-09/
LOCATION:Christ Covenant Church\, 2191 Struble Rd\, Cincinnati\, 45231\, United States
END:VEVENT
BEGIN:VEVENT
DTSTART;TZID=America/Halifax:20240708T050000
DTEND;TZID=America/Halifax:20240708T190000
DTSTAMP:20260423T162900
CREATED:20240612T150858Z
LAST-MODIFIED:20240612T155318Z
UID:10005120-1720414800-1720465200@christcovcincy.org
SUMMARY:Lighting Project
DESCRIPTION:Project involves the sanctuary\, SW area of the foyer\, W hallway\, and W prep room. Chair storage in fellowship hall\, possibly classrooms.  Chancel items to be stored in E prep room or fellowship hall.  All chairs will be removed from the sanctuary.  A large articulating lift will be onsite.
URL:https://christcovcincy.org/event/lighting-project/2024-07-08/
LOCATION:Christ Covenant Church\, 2191 Struble Rd\, Cincinnati\, 45231\, United States
END:VEVENT
END:VCALENDAR