BEGIN:VCALENDAR
VERSION:2.0
PRODID:-//Christ Covenant Church - ECPv6.15.20//NONSGML v1.0//EN
CALSCALE:GREGORIAN
METHOD:PUBLISH
X-ORIGINAL-URL:https://christcovcincy.org
X-WR-CALDESC:Events for Christ Covenant Church
REFRESH-INTERVAL;VALUE=DURATION:PT1H
X-Robots-Tag:noindex
X-PUBLISHED-TTL:PT1H
BEGIN:VTIMEZONE
TZID:UTC
BEGIN:STANDARD
TZOFFSETFROM:+0000
TZOFFSETTO:+0000
TZNAME:UTC
DTSTART:20220101T000000
END:STANDARD
END:VTIMEZONE
BEGIN:VEVENT
DTSTART;TZID=UTC:20230226T120000
DTEND;TZID=UTC:20230226T140000
DTSTAMP:20260423T172340
CREATED:20230216T010838Z
LAST-MODIFIED:20230216T011122Z
UID:10004776-1677412800-1677420000@christcovcincy.org
SUMMARY:South Sudan Report
DESCRIPTION:Everyone is invited to join members of the missions committee for a brown bag lunch immediately following the service as Faith Marsh shares about her recent trip to South Sudan.
URL:https://christcovcincy.org/event/south-sudan-report/
LOCATION:Church Fellowship Hall
ATTACH;FMTTYPE=image/jpeg:https://christcovcincy.org/wp-content/uploads/2023/02/images.jpg
END:VEVENT
END:VCALENDAR