BEGIN:VCALENDAR
VERSION:2.0
PRODID:-//Christ Covenant Church - ECPv6.15.20//NONSGML v1.0//EN
CALSCALE:GREGORIAN
METHOD:PUBLISH
X-WR-CALNAME:Christ Covenant Church
X-ORIGINAL-URL:https://christcovcincy.org
X-WR-CALDESC:Events for Christ Covenant Church
REFRESH-INTERVAL;VALUE=DURATION:PT1H
X-Robots-Tag:noindex
X-PUBLISHED-TTL:PT1H
BEGIN:VTIMEZONE
TZID:America/New_York
BEGIN:DAYLIGHT
TZOFFSETFROM:-0500
TZOFFSETTO:-0400
TZNAME:EDT
DTSTART:20240310T070000
END:DAYLIGHT
BEGIN:STANDARD
TZOFFSETFROM:-0400
TZOFFSETTO:-0500
TZNAME:EST
DTSTART:20241103T060000
END:STANDARD
BEGIN:DAYLIGHT
TZOFFSETFROM:-0500
TZOFFSETTO:-0400
TZNAME:EDT
DTSTART:20250309T070000
END:DAYLIGHT
BEGIN:STANDARD
TZOFFSETFROM:-0400
TZOFFSETTO:-0500
TZNAME:EST
DTSTART:20251102T060000
END:STANDARD
BEGIN:DAYLIGHT
TZOFFSETFROM:-0500
TZOFFSETTO:-0400
TZNAME:EDT
DTSTART:20260308T070000
END:DAYLIGHT
BEGIN:STANDARD
TZOFFSETFROM:-0400
TZOFFSETTO:-0500
TZNAME:EST
DTSTART:20261101T060000
END:STANDARD
BEGIN:DAYLIGHT
TZOFFSETFROM:-0500
TZOFFSETTO:-0400
TZNAME:EDT
DTSTART:20270314T070000
END:DAYLIGHT
BEGIN:STANDARD
TZOFFSETFROM:-0400
TZOFFSETTO:-0500
TZNAME:EST
DTSTART:20271107T060000
END:STANDARD
END:VTIMEZONE
BEGIN:VTIMEZONE
TZID:America/Halifax
BEGIN:DAYLIGHT
TZOFFSETFROM:-0400
TZOFFSETTO:-0300
TZNAME:ADT
DTSTART:20230312T060000
END:DAYLIGHT
BEGIN:STANDARD
TZOFFSETFROM:-0300
TZOFFSETTO:-0400
TZNAME:AST
DTSTART:20231105T050000
END:STANDARD
BEGIN:DAYLIGHT
TZOFFSETFROM:-0400
TZOFFSETTO:-0300
TZNAME:ADT
DTSTART:20240310T060000
END:DAYLIGHT
BEGIN:STANDARD
TZOFFSETFROM:-0300
TZOFFSETTO:-0400
TZNAME:AST
DTSTART:20241103T050000
END:STANDARD
BEGIN:DAYLIGHT
TZOFFSETFROM:-0400
TZOFFSETTO:-0300
TZNAME:ADT
DTSTART:20250309T060000
END:DAYLIGHT
BEGIN:STANDARD
TZOFFSETFROM:-0300
TZOFFSETTO:-0400
TZNAME:AST
DTSTART:20251102T050000
END:STANDARD
BEGIN:DAYLIGHT
TZOFFSETFROM:-0400
TZOFFSETTO:-0300
TZNAME:ADT
DTSTART:20260308T060000
END:DAYLIGHT
BEGIN:STANDARD
TZOFFSETFROM:-0300
TZOFFSETTO:-0400
TZNAME:AST
DTSTART:20261101T050000
END:STANDARD
END:VTIMEZONE
BEGIN:VEVENT
DTSTART;TZID=America/New_York:20260206T103000
DTEND;TZID=America/New_York:20260207T120000
DTSTAMP:20260423T190936
CREATED:20250409T183749Z
LAST-MODIFIED:20250409T183749Z
UID:10005813-1770373800-1770465600@christcovcincy.org
SUMMARY:Midwest Presbytery Meeting
DESCRIPTION:Our church is hosting the Midwest Presbytery Meeting! \nFriday – 10:30 setup\, 10:30 early arrivals/committee meetings; 11:30-12:45 registration; 1:00 meeting begins; 5:30 dinner\, followed by worship \nSaturday – 7:30 snacks\, juice\, coffee; 8:30 worship; 9:00 meeting (ending around noon)
URL:https://christcovcincy.org/event/midwest-presbytery-meeting/
LOCATION:Christ Covenant Church\, 2191 Struble Rd\, Cincinnati\, 45231\, United States
END:VEVENT
BEGIN:VEVENT
DTSTART;TZID=America/New_York:20260131T110000
DTEND;TZID=America/New_York:20260131T150000
DTSTAMP:20260423T190936
CREATED:20260114T155946Z
LAST-MODIFIED:20260114T161006Z
UID:10007427-1769857200-1769871600@christcovcincy.org
SUMMARY:M Detroy Visitation\, Memorial Service and Luncheon
DESCRIPTION:11:00am – Visitation in the sanctuary;\nnoon – Memorial Service in the sanctuary;\nLuncheon following service in fellowship hall
URL:https://christcovcincy.org/event/m-detroy-visitation-memorial-service-and-luncheon/
LOCATION:Christ Covenant Church\, 2191 Struble Rd\, Cincinnati\, 45231\, United States
ATTACH;FMTTYPE=image/jpeg:https://christcovcincy.org/wp-content/uploads/2023/10/funeralbulletinwebsite.jpg
END:VEVENT
BEGIN:VEVENT
DTSTART;TZID=America/New_York:20260115T130000
DTEND;TZID=America/New_York:20260115T153000
DTSTAMP:20260423T190936
CREATED:20260108T173816Z
LAST-MODIFIED:20260108T173911Z
UID:10007425-1768482000-1768491000@christcovcincy.org
SUMMARY:B Wainscott Memorial Service & Luncheon
DESCRIPTION:1:00pm – Memorial Service in the sanctuary;\n2:00pm – Luncheon in fellowship hall
URL:https://christcovcincy.org/event/b-wainscott-memorial-service-luncheon/
LOCATION:Christ Covenant Church\, 2191 Struble Rd\, Cincinnati\, 45231\, United States
ATTACH;FMTTYPE=image/jpeg:https://christcovcincy.org/wp-content/uploads/2023/10/funeralbulletinwebsite.jpg
END:VEVENT
BEGIN:VEVENT
DTSTART;TZID=America/New_York:20251119T120000
DTEND;TZID=America/New_York:20251119T133000
DTSTAMP:20260423T190936
CREATED:20250626T150302Z
LAST-MODIFIED:20250626T152818Z
UID:10006832-1763553600-1763559000@christcovcincy.org
SUMMARY:Office Volunteers Luncheon
DESCRIPTION:
URL:https://christcovcincy.org/event/office-volunteers-luncheon/
LOCATION:Chapel @ Christ Covenant Church Office\, 2192 Springdale Rd\, Cincinnati\, OH\, 45231
ATTACH;FMTTYPE=image/jpeg:https://christcovcincy.org/wp-content/uploads/2025/06/ThanksVolunteers.jpg
END:VEVENT
BEGIN:VEVENT
DTSTART;TZID=America/New_York:20251102T113000
DTEND;TZID=America/New_York:20251102T140000
DTSTAMP:20260423T190936
CREATED:20251008T151637Z
LAST-MODIFIED:20251008T153619Z
UID:10007317-1762083000-1762092000@christcovcincy.org
SUMMARY:Presbytery Planning Meeting & Luncheon
DESCRIPTION:
URL:https://christcovcincy.org/event/presbytery-planning-meeting-luncheon/
LOCATION:Church Fellowship Hall
END:VEVENT
BEGIN:VEVENT
DTSTART;TZID=America/New_York:20251101T110000
DTEND;TZID=America/New_York:20251101T143000
DTSTAMP:20260423T190936
CREATED:20251015T141044Z
LAST-MODIFIED:20251015T141044Z
UID:10007325-1761994800-1762007400@christcovcincy.org
SUMMARY:Memorial Service
DESCRIPTION:Service for Toni B. at 11am\, followed by a luncheon in Fellowship Hall
URL:https://christcovcincy.org/event/memorial-service-2/
LOCATION:Christ Covenant Church\, 2191 Struble Rd\, Cincinnati\, 45231\, United States
ATTACH;FMTTYPE=image/jpeg:https://christcovcincy.org/wp-content/uploads/2023/10/funeralbulletinwebsite.jpg
END:VEVENT
BEGIN:VEVENT
DTSTART;TZID=America/New_York:20250429T080000
DTEND;TZID=America/New_York:20250429T170000
DTSTAMP:20260423T190936
CREATED:20250416T145717Z
LAST-MODIFIED:20250416T145717Z
UID:10005893-1745913600-1745946000@christcovcincy.org
SUMMARY:Church Financial Audit
DESCRIPTION:
URL:https://christcovcincy.org/event/church-financial-audit/2025-04-29/
LOCATION:Library @ Christ Covenant Church Office
END:VEVENT
BEGIN:VEVENT
DTSTART;TZID=America/New_York:20250428T090000
DTEND;TZID=America/New_York:20250428T160000
DTSTAMP:20260423T190936
CREATED:20250416T145717Z
LAST-MODIFIED:20250416T145717Z
UID:10005892-1745830800-1745856000@christcovcincy.org
SUMMARY:Church Financial Audit
DESCRIPTION:
URL:https://christcovcincy.org/event/church-financial-audit/2025-04-28/
LOCATION:Library @ Christ Covenant Church Office
END:VEVENT
BEGIN:VEVENT
DTSTART;TZID=America/Halifax:20250130T154500
DTEND;TZID=America/Halifax:20250130T174500
DTSTAMP:20260423T190936
CREATED:20250129T182724Z
LAST-MODIFIED:20250129T183025Z
UID:10005762-1738251900-1738259100@christcovcincy.org
SUMMARY:Admin Team
DESCRIPTION:
URL:https://christcovcincy.org/event/admin-team-meeting/
LOCATION:Library @ Christ Covenant Church Office
ATTACH;FMTTYPE=image/png:https://christcovcincy.org/wp-content/uploads/2022/07/Board-Meeting.png
END:VEVENT
BEGIN:VEVENT
DTSTART;TZID=America/Halifax:20241204T120000
DTEND;TZID=America/Halifax:20241204T133000
DTSTAMP:20260423T190936
CREATED:20240724T194421Z
LAST-MODIFIED:20240724T194421Z
UID:10005445-1733313600-1733319000@christcovcincy.org
SUMMARY:Volunteer Luncheon
DESCRIPTION:
URL:https://christcovcincy.org/event/volunteer-luncheon-2/
LOCATION:Chapel @ Christ Covenant Church Office\, 2192 Springdale Rd\, Cincinnati\, OH\, 45231
ATTACH;FMTTYPE=image/jpeg:https://christcovcincy.org/wp-content/uploads/2023/10/volunteerluncheon.jpg
END:VEVENT
BEGIN:VEVENT
DTSTART;TZID=America/Halifax:20241026T140000
DTEND;TZID=America/Halifax:20241026T170000
DTSTAMP:20260423T190936
CREATED:20231228T162524Z
LAST-MODIFIED:20240425T200521Z
UID:10005181-1729951200-1729962000@christcovcincy.org
SUMMARY:Private Event
DESCRIPTION:H Wagner wedding
URL:https://christcovcincy.org/event/private-event-50/
LOCATION:Christ Covenant Church\, 2191 Struble Rd\, Cincinnati\, 45231\, United States
CATEGORIES:private event
ATTACH;FMTTYPE=image/jpeg:https://christcovcincy.org/wp-content/uploads/2023/06/privateeventcalendar.jpg
END:VEVENT
BEGIN:VEVENT
DTSTART;TZID=America/Halifax:20241025T170000
DTEND;TZID=America/Halifax:20241025T190000
DTSTAMP:20260423T190936
CREATED:20240104T203736Z
LAST-MODIFIED:20240425T200322Z
UID:10005188-1729875600-1729882800@christcovcincy.org
SUMMARY:Private Event
DESCRIPTION:Reserving sanctuary to decorate for Oct 26 event
URL:https://christcovcincy.org/event/private-event-51/
LOCATION:Christ Covenant Church\, 2191 Struble Rd\, Cincinnati\, 45231\, United States
ATTACH;FMTTYPE=image/jpeg:https://christcovcincy.org/wp-content/uploads/2023/06/privateeventcalendar.jpg
END:VEVENT
BEGIN:VEVENT
DTSTART;TZID=America/Halifax:20240905T110000
DTEND;TZID=America/Halifax:20240905T123000
DTSTAMP:20260423T190936
CREATED:20240821T192854Z
LAST-MODIFIED:20240821T192854Z
UID:10005463-1725534000-1725539400@christcovcincy.org
SUMMARY:Budget Committee
DESCRIPTION:
URL:https://christcovcincy.org/event/budget-committee-3/2024-09-05/
LOCATION:Chapel @ Christ Covenant Church Office\, 2192 Springdale Rd\, Cincinnati\, OH\, 45231
ATTACH;FMTTYPE=image/png:https://christcovcincy.org/wp-content/uploads/2022/07/Board-Meeting.png
END:VEVENT
BEGIN:VEVENT
DTSTART;TZID=America/Halifax:20240829T110000
DTEND;TZID=America/Halifax:20240829T123000
DTSTAMP:20260423T190936
CREATED:20240821T192854Z
LAST-MODIFIED:20240821T192854Z
UID:10005462-1724929200-1724934600@christcovcincy.org
SUMMARY:Budget Committee
DESCRIPTION:
URL:https://christcovcincy.org/event/budget-committee-3/2024-08-29/
LOCATION:Chapel @ Christ Covenant Church Office\, 2192 Springdale Rd\, Cincinnati\, OH\, 45231
ATTACH;FMTTYPE=image/png:https://christcovcincy.org/wp-content/uploads/2022/07/Board-Meeting.png
END:VEVENT
BEGIN:VEVENT
DTSTART;TZID=America/Halifax:20240519T120000
DTEND;TZID=America/Halifax:20240519T140000
DTSTAMP:20260423T190936
CREATED:20240425T162626Z
LAST-MODIFIED:20240425T162626Z
UID:10005326-1716120000-1716127200@christcovcincy.org
SUMMARY:Welcome Luncheon for Ferguson Family
DESCRIPTION:Join us to welcome our new Pastor\, Ian Ferguson\, and his family!
URL:https://christcovcincy.org/event/welcome-luncheon-for-ferguson-family/
LOCATION:Church Fellowship Hall
CATEGORIES:fellowships
ATTACH;FMTTYPE=image/png:https://christcovcincy.org/wp-content/uploads/2022/12/luncheon.png
END:VEVENT
END:VCALENDAR