BEGIN:VCALENDAR
VERSION:2.0
PRODID:-//Christ Covenant Church - ECPv6.15.20//NONSGML v1.0//EN
CALSCALE:GREGORIAN
METHOD:PUBLISH
X-WR-CALNAME:Christ Covenant Church
X-ORIGINAL-URL:https://christcovcincy.org
X-WR-CALDESC:Events for Christ Covenant Church
REFRESH-INTERVAL;VALUE=DURATION:PT1H
X-Robots-Tag:noindex
X-PUBLISHED-TTL:PT1H
BEGIN:VTIMEZONE
TZID:America/New_York
BEGIN:DAYLIGHT
TZOFFSETFROM:-0500
TZOFFSETTO:-0400
TZNAME:EDT
DTSTART:20250309T070000
END:DAYLIGHT
BEGIN:STANDARD
TZOFFSETFROM:-0400
TZOFFSETTO:-0500
TZNAME:EST
DTSTART:20251102T060000
END:STANDARD
BEGIN:DAYLIGHT
TZOFFSETFROM:-0500
TZOFFSETTO:-0400
TZNAME:EDT
DTSTART:20260308T070000
END:DAYLIGHT
BEGIN:STANDARD
TZOFFSETFROM:-0400
TZOFFSETTO:-0500
TZNAME:EST
DTSTART:20261101T060000
END:STANDARD
BEGIN:DAYLIGHT
TZOFFSETFROM:-0500
TZOFFSETTO:-0400
TZNAME:EDT
DTSTART:20270314T070000
END:DAYLIGHT
BEGIN:STANDARD
TZOFFSETFROM:-0400
TZOFFSETTO:-0500
TZNAME:EST
DTSTART:20271107T060000
END:STANDARD
END:VTIMEZONE
BEGIN:VEVENT
DTSTART;TZID=America/New_York:20260429T083000
DTEND;TZID=America/New_York:20260429T170000
DTSTAMP:20260425T104513
CREATED:20250723T174657Z
LAST-MODIFIED:20250723T174657Z
UID:10006903-1777451400-1777482000@christcovcincy.org
SUMMARY:CAFE Coop
DESCRIPTION:
URL:https://christcovcincy.org/event/cafe-coop-4/2026-04-29/
LOCATION:Christ Covenant Church\, 2191 Struble Rd\, Cincinnati\, 45231\, United States
ATTACH;FMTTYPE=image/jpeg:https://christcovcincy.org/wp-content/uploads/2024/09/CafeCoop.jpg
END:VEVENT
BEGIN:VEVENT
DTSTART;TZID=America/New_York:20260501T160000
DTEND;TZID=America/New_York:20260501T220000
DTSTAMP:20260425T104513
CREATED:20260326T202309Z
LAST-MODIFIED:20260326T202309Z
UID:10007570-1777651200-1777672800@christcovcincy.org
SUMMARY:CAFE Fine Arts Night
DESCRIPTION:
URL:https://christcovcincy.org/event/cafe-fine-arts-night/
LOCATION:Christ Covenant Church\, 2191 Struble Rd\, Cincinnati\, 45231\, United States
ATTACH;FMTTYPE=image/jpeg:https://christcovcincy.org/wp-content/uploads/2024/09/CafeCoop.jpg
END:VEVENT
BEGIN:VEVENT
DTSTART;TZID=America/New_York:20260506T083000
DTEND;TZID=America/New_York:20260506T170000
DTSTAMP:20260425T104513
CREATED:20250723T174657Z
LAST-MODIFIED:20250723T174657Z
UID:10006904-1778056200-1778086800@christcovcincy.org
SUMMARY:CAFE Coop
DESCRIPTION:
URL:https://christcovcincy.org/event/cafe-coop-4/2026-05-06/
LOCATION:Christ Covenant Church\, 2191 Struble Rd\, Cincinnati\, 45231\, United States
ATTACH;FMTTYPE=image/jpeg:https://christcovcincy.org/wp-content/uploads/2024/09/CafeCoop.jpg
END:VEVENT
BEGIN:VEVENT
DTSTART;TZID=America/New_York:20260523T170000
DTEND;TZID=America/New_York:20260523T200000
DTSTAMP:20260425T104513
CREATED:20260326T202025Z
LAST-MODIFIED:20260326T202025Z
UID:10007569-1779555600-1779566400@christcovcincy.org
SUMMARY:Private Event
DESCRIPTION:Set up for A. Marsh bridal shower
URL:https://christcovcincy.org/event/private-event-120/
LOCATION:Christ Covenant Church Office\, 2192 Springdale Road\, Cincinnati\, OH\, 45231
CATEGORIES:private event
ATTACH;FMTTYPE=image/jpeg:https://christcovcincy.org/wp-content/uploads/2023/06/privateeventcalendar.jpg
END:VEVENT
BEGIN:VEVENT
DTSTART;TZID=America/New_York:20260524T150000
DTEND;TZID=America/New_York:20260524T170000
DTSTAMP:20260425T104513
CREATED:20260326T201914Z
LAST-MODIFIED:20260326T201914Z
UID:10007568-1779634800-1779642000@christcovcincy.org
SUMMARY:Private Event
DESCRIPTION:Bridal Shower for A. Marsh family
URL:https://christcovcincy.org/event/private-event-91/
LOCATION:Christ Covenant Church Office\, 2192 Springdale Road\, Cincinnati\, OH\, 45231
CATEGORIES:private event
ATTACH;FMTTYPE=image/jpeg:https://christcovcincy.org/wp-content/uploads/2023/06/privateeventcalendar.jpg
END:VEVENT
END:VCALENDAR