BEGIN:VCALENDAR
VERSION:2.0
PRODID:-//Christ Covenant Church - ECPv6.15.20//NONSGML v1.0//EN
CALSCALE:GREGORIAN
METHOD:PUBLISH
X-WR-CALNAME:Christ Covenant Church
X-ORIGINAL-URL:https://christcovcincy.org
X-WR-CALDESC:Events for Christ Covenant Church
REFRESH-INTERVAL;VALUE=DURATION:PT1H
X-Robots-Tag:noindex
X-PUBLISHED-TTL:PT1H
BEGIN:VTIMEZONE
TZID:America/Halifax
BEGIN:DAYLIGHT
TZOFFSETFROM:-0400
TZOFFSETTO:-0300
TZNAME:ADT
DTSTART:20230312T060000
END:DAYLIGHT
BEGIN:STANDARD
TZOFFSETFROM:-0300
TZOFFSETTO:-0400
TZNAME:AST
DTSTART:20231105T050000
END:STANDARD
BEGIN:DAYLIGHT
TZOFFSETFROM:-0400
TZOFFSETTO:-0300
TZNAME:ADT
DTSTART:20240310T060000
END:DAYLIGHT
BEGIN:STANDARD
TZOFFSETFROM:-0300
TZOFFSETTO:-0400
TZNAME:AST
DTSTART:20241103T050000
END:STANDARD
BEGIN:DAYLIGHT
TZOFFSETFROM:-0400
TZOFFSETTO:-0300
TZNAME:ADT
DTSTART:20250309T060000
END:DAYLIGHT
BEGIN:STANDARD
TZOFFSETFROM:-0300
TZOFFSETTO:-0400
TZNAME:AST
DTSTART:20251102T050000
END:STANDARD
BEGIN:DAYLIGHT
TZOFFSETFROM:-0400
TZOFFSETTO:-0300
TZNAME:ADT
DTSTART:20260308T060000
END:DAYLIGHT
BEGIN:STANDARD
TZOFFSETFROM:-0300
TZOFFSETTO:-0400
TZNAME:AST
DTSTART:20261101T050000
END:STANDARD
END:VTIMEZONE
BEGIN:VEVENT
DTSTART;TZID=America/Halifax:20250416T083000
DTEND;TZID=America/Halifax:20250416T180000
DTSTAMP:20260425T181639
CREATED:20240821T193756Z
LAST-MODIFIED:20240918T191711Z
UID:10005493-1744792200-1744826400@christcovcincy.org
SUMMARY:CAFE Coop
DESCRIPTION:
URL:https://christcovcincy.org/event/cafe-coop-3/2025-04-16/
LOCATION:Christ Covenant Church\, 2191 Struble Rd\, Cincinnati\, 45231\, United States
ATTACH;FMTTYPE=image/jpeg:https://christcovcincy.org/wp-content/uploads/2024/09/CafeCoop.jpg
END:VEVENT
BEGIN:VEVENT
DTSTART;TZID=America/Halifax:20250409T083000
DTEND;TZID=America/Halifax:20250409T180000
DTSTAMP:20260425T181639
CREATED:20240821T193756Z
LAST-MODIFIED:20240918T191711Z
UID:10005492-1744187400-1744221600@christcovcincy.org
SUMMARY:CAFE Coop
DESCRIPTION:
URL:https://christcovcincy.org/event/cafe-coop-3/2025-04-09/
LOCATION:Christ Covenant Church\, 2191 Struble Rd\, Cincinnati\, 45231\, United States
ATTACH;FMTTYPE=image/jpeg:https://christcovcincy.org/wp-content/uploads/2024/09/CafeCoop.jpg
END:VEVENT
BEGIN:VEVENT
DTSTART;TZID=America/Halifax:20250402T083000
DTEND;TZID=America/Halifax:20250402T180000
DTSTAMP:20260425T181639
CREATED:20240821T193756Z
LAST-MODIFIED:20240918T191711Z
UID:10005491-1743582600-1743616800@christcovcincy.org
SUMMARY:CAFE Coop
DESCRIPTION:
URL:https://christcovcincy.org/event/cafe-coop-3/2025-04-02/
LOCATION:Christ Covenant Church\, 2191 Struble Rd\, Cincinnati\, 45231\, United States
ATTACH;FMTTYPE=image/jpeg:https://christcovcincy.org/wp-content/uploads/2024/09/CafeCoop.jpg
END:VEVENT
BEGIN:VEVENT
DTSTART;TZID=America/Halifax:20250326T083000
DTEND;TZID=America/Halifax:20250326T180000
DTSTAMP:20260425T181639
CREATED:20240821T193756Z
LAST-MODIFIED:20240918T191711Z
UID:10005490-1742977800-1743012000@christcovcincy.org
SUMMARY:CAFE Coop
DESCRIPTION:
URL:https://christcovcincy.org/event/cafe-coop-3/2025-03-26/
LOCATION:Christ Covenant Church\, 2191 Struble Rd\, Cincinnati\, 45231\, United States
ATTACH;FMTTYPE=image/jpeg:https://christcovcincy.org/wp-content/uploads/2024/09/CafeCoop.jpg
END:VEVENT
BEGIN:VEVENT
DTSTART;TZID=America/Halifax:20250312T083000
DTEND;TZID=America/Halifax:20250312T180000
DTSTAMP:20260425T181639
CREATED:20240821T193756Z
LAST-MODIFIED:20240918T191711Z
UID:10005489-1741768200-1741802400@christcovcincy.org
SUMMARY:CAFE Coop
DESCRIPTION:
URL:https://christcovcincy.org/event/cafe-coop-3/2025-03-12/
LOCATION:Christ Covenant Church\, 2191 Struble Rd\, Cincinnati\, 45231\, United States
ATTACH;FMTTYPE=image/jpeg:https://christcovcincy.org/wp-content/uploads/2024/09/CafeCoop.jpg
END:VEVENT
BEGIN:VEVENT
DTSTART;TZID=America/Halifax:20250305T083000
DTEND;TZID=America/Halifax:20250305T180000
DTSTAMP:20260425T181639
CREATED:20240821T193756Z
LAST-MODIFIED:20240918T191711Z
UID:10005488-1741163400-1741197600@christcovcincy.org
SUMMARY:CAFE Coop
DESCRIPTION:
URL:https://christcovcincy.org/event/cafe-coop-3/2025-03-05/
LOCATION:Christ Covenant Church\, 2191 Struble Rd\, Cincinnati\, 45231\, United States
ATTACH;FMTTYPE=image/jpeg:https://christcovcincy.org/wp-content/uploads/2024/09/CafeCoop.jpg
END:VEVENT
BEGIN:VEVENT
DTSTART;TZID=America/Halifax:20250226T083000
DTEND;TZID=America/Halifax:20250226T180000
DTSTAMP:20260425T181639
CREATED:20240821T193756Z
LAST-MODIFIED:20240918T191711Z
UID:10005487-1740558600-1740592800@christcovcincy.org
SUMMARY:CAFE Coop
DESCRIPTION:
URL:https://christcovcincy.org/event/cafe-coop-3/2025-02-26/
LOCATION:Christ Covenant Church\, 2191 Struble Rd\, Cincinnati\, 45231\, United States
ATTACH;FMTTYPE=image/jpeg:https://christcovcincy.org/wp-content/uploads/2024/09/CafeCoop.jpg
END:VEVENT
BEGIN:VEVENT
DTSTART;TZID=America/Halifax:20250219T083000
DTEND;TZID=America/Halifax:20250219T180000
DTSTAMP:20260425T181639
CREATED:20240821T193756Z
LAST-MODIFIED:20240918T191711Z
UID:10005486-1739953800-1739988000@christcovcincy.org
SUMMARY:CAFE Coop
DESCRIPTION:
URL:https://christcovcincy.org/event/cafe-coop-3/2025-02-19/
LOCATION:Christ Covenant Church\, 2191 Struble Rd\, Cincinnati\, 45231\, United States
ATTACH;FMTTYPE=image/jpeg:https://christcovcincy.org/wp-content/uploads/2024/09/CafeCoop.jpg
END:VEVENT
BEGIN:VEVENT
DTSTART;TZID=America/Halifax:20250212T083000
DTEND;TZID=America/Halifax:20250212T180000
DTSTAMP:20260425T181639
CREATED:20240821T193756Z
LAST-MODIFIED:20240918T191711Z
UID:10005485-1739349000-1739383200@christcovcincy.org
SUMMARY:CAFE Coop
DESCRIPTION:
URL:https://christcovcincy.org/event/cafe-coop-3/2025-02-12/
LOCATION:Christ Covenant Church\, 2191 Struble Rd\, Cincinnati\, 45231\, United States
ATTACH;FMTTYPE=image/jpeg:https://christcovcincy.org/wp-content/uploads/2024/09/CafeCoop.jpg
END:VEVENT
BEGIN:VEVENT
DTSTART;TZID=America/Halifax:20250205T083000
DTEND;TZID=America/Halifax:20250205T180000
DTSTAMP:20260425T181639
CREATED:20240821T193756Z
LAST-MODIFIED:20240918T191711Z
UID:10005484-1738744200-1738778400@christcovcincy.org
SUMMARY:CAFE Coop
DESCRIPTION:
URL:https://christcovcincy.org/event/cafe-coop-3/2025-02-05/
LOCATION:Christ Covenant Church\, 2191 Struble Rd\, Cincinnati\, 45231\, United States
ATTACH;FMTTYPE=image/jpeg:https://christcovcincy.org/wp-content/uploads/2024/09/CafeCoop.jpg
END:VEVENT
BEGIN:VEVENT
DTSTART;TZID=America/Halifax:20250129T083000
DTEND;TZID=America/Halifax:20250129T180000
DTSTAMP:20260425T181639
CREATED:20240821T193756Z
LAST-MODIFIED:20240918T191711Z
UID:10005483-1738139400-1738173600@christcovcincy.org
SUMMARY:CAFE Coop
DESCRIPTION:
URL:https://christcovcincy.org/event/cafe-coop-3/2025-01-29/
LOCATION:Christ Covenant Church\, 2191 Struble Rd\, Cincinnati\, 45231\, United States
ATTACH;FMTTYPE=image/jpeg:https://christcovcincy.org/wp-content/uploads/2024/09/CafeCoop.jpg
END:VEVENT
BEGIN:VEVENT
DTSTART;TZID=America/Halifax:20250122T083000
DTEND;TZID=America/Halifax:20250122T180000
DTSTAMP:20260425T181639
CREATED:20240821T193756Z
LAST-MODIFIED:20240918T191711Z
UID:10005482-1737534600-1737568800@christcovcincy.org
SUMMARY:CAFE Coop
DESCRIPTION:
URL:https://christcovcincy.org/event/cafe-coop-3/2025-01-22/
LOCATION:Christ Covenant Church\, 2191 Struble Rd\, Cincinnati\, 45231\, United States
ATTACH;FMTTYPE=image/jpeg:https://christcovcincy.org/wp-content/uploads/2024/09/CafeCoop.jpg
END:VEVENT
BEGIN:VEVENT
DTSTART;TZID=America/Halifax:20250115T083000
DTEND;TZID=America/Halifax:20250115T180000
DTSTAMP:20260425T181639
CREATED:20240821T193756Z
LAST-MODIFIED:20240918T191711Z
UID:10005481-1736929800-1736964000@christcovcincy.org
SUMMARY:CAFE Coop
DESCRIPTION:
URL:https://christcovcincy.org/event/cafe-coop-3/2025-01-15/
LOCATION:Christ Covenant Church\, 2191 Struble Rd\, Cincinnati\, 45231\, United States
ATTACH;FMTTYPE=image/jpeg:https://christcovcincy.org/wp-content/uploads/2024/09/CafeCoop.jpg
END:VEVENT
BEGIN:VEVENT
DTSTART;TZID=America/Halifax:20250108T083000
DTEND;TZID=America/Halifax:20250108T180000
DTSTAMP:20260425T181639
CREATED:20240821T193756Z
LAST-MODIFIED:20240918T191711Z
UID:10005480-1736325000-1736359200@christcovcincy.org
SUMMARY:CAFE Coop
DESCRIPTION:
URL:https://christcovcincy.org/event/cafe-coop-3/2025-01-08/
LOCATION:Christ Covenant Church\, 2191 Struble Rd\, Cincinnati\, 45231\, United States
ATTACH;FMTTYPE=image/jpeg:https://christcovcincy.org/wp-content/uploads/2024/09/CafeCoop.jpg
END:VEVENT
BEGIN:VEVENT
DTSTART;TZID=America/Halifax:20241211T083000
DTEND;TZID=America/Halifax:20241211T180000
DTSTAMP:20260425T181639
CREATED:20240821T193756Z
LAST-MODIFIED:20240918T191711Z
UID:10005479-1733905800-1733940000@christcovcincy.org
SUMMARY:CAFE Coop
DESCRIPTION:
URL:https://christcovcincy.org/event/cafe-coop-3/2024-12-11/
LOCATION:Christ Covenant Church\, 2191 Struble Rd\, Cincinnati\, 45231\, United States
ATTACH;FMTTYPE=image/jpeg:https://christcovcincy.org/wp-content/uploads/2024/09/CafeCoop.jpg
END:VEVENT
BEGIN:VEVENT
DTSTART;TZID=America/Halifax:20241204T083000
DTEND;TZID=America/Halifax:20241204T180000
DTSTAMP:20260425T181639
CREATED:20240821T193756Z
LAST-MODIFIED:20240918T191711Z
UID:10005478-1733301000-1733335200@christcovcincy.org
SUMMARY:CAFE Coop
DESCRIPTION:
URL:https://christcovcincy.org/event/cafe-coop-3/2024-12-04/
LOCATION:Christ Covenant Church\, 2191 Struble Rd\, Cincinnati\, 45231\, United States
ATTACH;FMTTYPE=image/jpeg:https://christcovcincy.org/wp-content/uploads/2024/09/CafeCoop.jpg
END:VEVENT
BEGIN:VEVENT
DTSTART;TZID=America/Halifax:20241120T083000
DTEND;TZID=America/Halifax:20241120T180000
DTSTAMP:20260425T181639
CREATED:20240821T193756Z
LAST-MODIFIED:20240918T191711Z
UID:10005477-1732091400-1732125600@christcovcincy.org
SUMMARY:CAFE Coop
DESCRIPTION:
URL:https://christcovcincy.org/event/cafe-coop-3/2024-11-20/
LOCATION:Christ Covenant Church\, 2191 Struble Rd\, Cincinnati\, 45231\, United States
ATTACH;FMTTYPE=image/jpeg:https://christcovcincy.org/wp-content/uploads/2024/09/CafeCoop.jpg
END:VEVENT
BEGIN:VEVENT
DTSTART;TZID=America/Halifax:20241113T083000
DTEND;TZID=America/Halifax:20241113T180000
DTSTAMP:20260425T181639
CREATED:20240821T193756Z
LAST-MODIFIED:20240918T191711Z
UID:10005476-1731486600-1731520800@christcovcincy.org
SUMMARY:CAFE Coop
DESCRIPTION:
URL:https://christcovcincy.org/event/cafe-coop-3/2024-11-13/
LOCATION:Christ Covenant Church\, 2191 Struble Rd\, Cincinnati\, 45231\, United States
ATTACH;FMTTYPE=image/jpeg:https://christcovcincy.org/wp-content/uploads/2024/09/CafeCoop.jpg
END:VEVENT
BEGIN:VEVENT
DTSTART;TZID=America/Halifax:20241106T083000
DTEND;TZID=America/Halifax:20241106T180000
DTSTAMP:20260425T181639
CREATED:20240821T193756Z
LAST-MODIFIED:20240918T191711Z
UID:10005475-1730881800-1730916000@christcovcincy.org
SUMMARY:CAFE Coop
DESCRIPTION:
URL:https://christcovcincy.org/event/cafe-coop-3/2024-11-06/
LOCATION:Christ Covenant Church\, 2191 Struble Rd\, Cincinnati\, 45231\, United States
ATTACH;FMTTYPE=image/jpeg:https://christcovcincy.org/wp-content/uploads/2024/09/CafeCoop.jpg
END:VEVENT
BEGIN:VEVENT
DTSTART;TZID=America/Halifax:20241030T083000
DTEND;TZID=America/Halifax:20241030T180000
DTSTAMP:20260425T181639
CREATED:20240821T193756Z
LAST-MODIFIED:20240918T191711Z
UID:10005474-1730277000-1730311200@christcovcincy.org
SUMMARY:CAFE Coop
DESCRIPTION:
URL:https://christcovcincy.org/event/cafe-coop-3/2024-10-30/
LOCATION:Christ Covenant Church\, 2191 Struble Rd\, Cincinnati\, 45231\, United States
ATTACH;FMTTYPE=image/jpeg:https://christcovcincy.org/wp-content/uploads/2024/09/CafeCoop.jpg
END:VEVENT
BEGIN:VEVENT
DTSTART;TZID=America/Halifax:20241023T083000
DTEND;TZID=America/Halifax:20241023T180000
DTSTAMP:20260425T181639
CREATED:20240821T193756Z
LAST-MODIFIED:20240918T191711Z
UID:10005473-1729672200-1729706400@christcovcincy.org
SUMMARY:CAFE Coop
DESCRIPTION:
URL:https://christcovcincy.org/event/cafe-coop-3/2024-10-23/
LOCATION:Christ Covenant Church\, 2191 Struble Rd\, Cincinnati\, 45231\, United States
ATTACH;FMTTYPE=image/jpeg:https://christcovcincy.org/wp-content/uploads/2024/09/CafeCoop.jpg
END:VEVENT
BEGIN:VEVENT
DTSTART;TZID=America/Halifax:20241016T083000
DTEND;TZID=America/Halifax:20241016T180000
DTSTAMP:20260425T181639
CREATED:20240821T193756Z
LAST-MODIFIED:20240918T191711Z
UID:10005472-1729067400-1729101600@christcovcincy.org
SUMMARY:CAFE Coop
DESCRIPTION:
URL:https://christcovcincy.org/event/cafe-coop-3/2024-10-16/
LOCATION:Christ Covenant Church\, 2191 Struble Rd\, Cincinnati\, 45231\, United States
ATTACH;FMTTYPE=image/jpeg:https://christcovcincy.org/wp-content/uploads/2024/09/CafeCoop.jpg
END:VEVENT
BEGIN:VEVENT
DTSTART;TZID=America/Halifax:20241009T083000
DTEND;TZID=America/Halifax:20241009T180000
DTSTAMP:20260425T181639
CREATED:20240821T193756Z
LAST-MODIFIED:20240918T191711Z
UID:10005471-1728462600-1728496800@christcovcincy.org
SUMMARY:CAFE Coop
DESCRIPTION:
URL:https://christcovcincy.org/event/cafe-coop-3/2024-10-09/
LOCATION:Christ Covenant Church\, 2191 Struble Rd\, Cincinnati\, 45231\, United States
ATTACH;FMTTYPE=image/jpeg:https://christcovcincy.org/wp-content/uploads/2024/09/CafeCoop.jpg
END:VEVENT
BEGIN:VEVENT
DTSTART;TZID=America/Halifax:20241002T083000
DTEND;TZID=America/Halifax:20241002T180000
DTSTAMP:20260425T181639
CREATED:20240821T193756Z
LAST-MODIFIED:20240918T191711Z
UID:10005470-1727857800-1727892000@christcovcincy.org
SUMMARY:CAFE Coop
DESCRIPTION:
URL:https://christcovcincy.org/event/cafe-coop-3/2024-10-02/
LOCATION:Christ Covenant Church\, 2191 Struble Rd\, Cincinnati\, 45231\, United States
ATTACH;FMTTYPE=image/jpeg:https://christcovcincy.org/wp-content/uploads/2024/09/CafeCoop.jpg
END:VEVENT
BEGIN:VEVENT
DTSTART;TZID=America/Halifax:20240925T083000
DTEND;TZID=America/Halifax:20240925T180000
DTSTAMP:20260425T181639
CREATED:20240821T193756Z
LAST-MODIFIED:20240918T191711Z
UID:10005469-1727253000-1727287200@christcovcincy.org
SUMMARY:CAFE Coop
DESCRIPTION:
URL:https://christcovcincy.org/event/cafe-coop-3/2024-09-25/
LOCATION:Christ Covenant Church\, 2191 Struble Rd\, Cincinnati\, 45231\, United States
ATTACH;FMTTYPE=image/jpeg:https://christcovcincy.org/wp-content/uploads/2024/09/CafeCoop.jpg
END:VEVENT
BEGIN:VEVENT
DTSTART;TZID=America/Halifax:20240918T083000
DTEND;TZID=America/Halifax:20240918T180000
DTSTAMP:20260425T181639
CREATED:20240821T193756Z
LAST-MODIFIED:20240918T191711Z
UID:10005468-1726648200-1726682400@christcovcincy.org
SUMMARY:CAFE Coop
DESCRIPTION:
URL:https://christcovcincy.org/event/cafe-coop-3/2024-09-18/
LOCATION:Christ Covenant Church\, 2191 Struble Rd\, Cincinnati\, 45231\, United States
ATTACH;FMTTYPE=image/jpeg:https://christcovcincy.org/wp-content/uploads/2024/09/CafeCoop.jpg
END:VEVENT
BEGIN:VEVENT
DTSTART;TZID=America/Halifax:20240911T083000
DTEND;TZID=America/Halifax:20240911T180000
DTSTAMP:20260425T181639
CREATED:20240821T193756Z
LAST-MODIFIED:20240918T191711Z
UID:10005467-1726043400-1726077600@christcovcincy.org
SUMMARY:CAFE Coop
DESCRIPTION:
URL:https://christcovcincy.org/event/cafe-coop-3/2024-09-11/
LOCATION:Christ Covenant Church\, 2191 Struble Rd\, Cincinnati\, 45231\, United States
ATTACH;FMTTYPE=image/jpeg:https://christcovcincy.org/wp-content/uploads/2024/09/CafeCoop.jpg
END:VEVENT
BEGIN:VEVENT
DTSTART;TZID=America/Halifax:20240904T083000
DTEND;TZID=America/Halifax:20240904T180000
DTSTAMP:20260425T181639
CREATED:20240821T193756Z
LAST-MODIFIED:20240918T191711Z
UID:10005466-1725438600-1725472800@christcovcincy.org
SUMMARY:CAFE Coop
DESCRIPTION:
URL:https://christcovcincy.org/event/cafe-coop-3/2024-09-04/
LOCATION:Christ Covenant Church\, 2191 Struble Rd\, Cincinnati\, 45231\, United States
ATTACH;FMTTYPE=image/jpeg:https://christcovcincy.org/wp-content/uploads/2024/09/CafeCoop.jpg
END:VEVENT
BEGIN:VEVENT
DTSTART;TZID=America/Halifax:20240828T083000
DTEND;TZID=America/Halifax:20240828T180000
DTSTAMP:20260425T181639
CREATED:20240821T193756Z
LAST-MODIFIED:20240918T191711Z
UID:10005465-1724833800-1724868000@christcovcincy.org
SUMMARY:CAFE Coop
DESCRIPTION:
URL:https://christcovcincy.org/event/cafe-coop-3/2024-08-28/
LOCATION:Christ Covenant Church\, 2191 Struble Rd\, Cincinnati\, 45231\, United States
ATTACH;FMTTYPE=image/jpeg:https://christcovcincy.org/wp-content/uploads/2024/09/CafeCoop.jpg
END:VEVENT
BEGIN:VEVENT
DTSTART;TZID=America/Halifax:20240821T083000
DTEND;TZID=America/Halifax:20240821T180000
DTSTAMP:20260425T181639
CREATED:20240821T193756Z
LAST-MODIFIED:20240918T191711Z
UID:10005464-1724229000-1724263200@christcovcincy.org
SUMMARY:CAFE Coop
DESCRIPTION:
URL:https://christcovcincy.org/event/cafe-coop-3/2024-08-21/
LOCATION:Christ Covenant Church\, 2191 Struble Rd\, Cincinnati\, 45231\, United States
ATTACH;FMTTYPE=image/jpeg:https://christcovcincy.org/wp-content/uploads/2024/09/CafeCoop.jpg
END:VEVENT
END:VCALENDAR