BEGIN:VCALENDAR
VERSION:2.0
PRODID:-//Christ Covenant Church - ECPv6.15.20//NONSGML v1.0//EN
CALSCALE:GREGORIAN
METHOD:PUBLISH
X-WR-CALNAME:Christ Covenant Church
X-ORIGINAL-URL:https://christcovcincy.org
X-WR-CALDESC:Events for Christ Covenant Church
REFRESH-INTERVAL;VALUE=DURATION:PT1H
X-Robots-Tag:noindex
X-PUBLISHED-TTL:PT1H
BEGIN:VTIMEZONE
TZID:America/Halifax
BEGIN:DAYLIGHT
TZOFFSETFROM:-0400
TZOFFSETTO:-0300
TZNAME:ADT
DTSTART:20220313T060000
END:DAYLIGHT
BEGIN:STANDARD
TZOFFSETFROM:-0300
TZOFFSETTO:-0400
TZNAME:AST
DTSTART:20221106T050000
END:STANDARD
BEGIN:DAYLIGHT
TZOFFSETFROM:-0400
TZOFFSETTO:-0300
TZNAME:ADT
DTSTART:20230312T060000
END:DAYLIGHT
BEGIN:STANDARD
TZOFFSETFROM:-0300
TZOFFSETTO:-0400
TZNAME:AST
DTSTART:20231105T050000
END:STANDARD
BEGIN:DAYLIGHT
TZOFFSETFROM:-0400
TZOFFSETTO:-0300
TZNAME:ADT
DTSTART:20240310T060000
END:DAYLIGHT
BEGIN:STANDARD
TZOFFSETFROM:-0300
TZOFFSETTO:-0400
TZNAME:AST
DTSTART:20241103T050000
END:STANDARD
END:VTIMEZONE
BEGIN:VTIMEZONE
TZID:America/New_York
BEGIN:DAYLIGHT
TZOFFSETFROM:-0500
TZOFFSETTO:-0400
TZNAME:EDT
DTSTART:20220313T070000
END:DAYLIGHT
BEGIN:STANDARD
TZOFFSETFROM:-0400
TZOFFSETTO:-0500
TZNAME:EST
DTSTART:20221106T060000
END:STANDARD
BEGIN:DAYLIGHT
TZOFFSETFROM:-0500
TZOFFSETTO:-0400
TZNAME:EDT
DTSTART:20230312T070000
END:DAYLIGHT
BEGIN:STANDARD
TZOFFSETFROM:-0400
TZOFFSETTO:-0500
TZNAME:EST
DTSTART:20231105T060000
END:STANDARD
BEGIN:DAYLIGHT
TZOFFSETFROM:-0500
TZOFFSETTO:-0400
TZNAME:EDT
DTSTART:20240310T070000
END:DAYLIGHT
BEGIN:STANDARD
TZOFFSETFROM:-0400
TZOFFSETTO:-0500
TZNAME:EST
DTSTART:20241103T060000
END:STANDARD
END:VTIMEZONE
BEGIN:VTIMEZONE
TZID:UTC
BEGIN:STANDARD
TZOFFSETFROM:+0000
TZOFFSETTO:+0000
TZNAME:UTC
DTSTART:20220101T000000
END:STANDARD
END:VTIMEZONE
BEGIN:VEVENT
DTSTART;TZID=America/Halifax:20231213T083000
DTEND;TZID=America/Halifax:20231213T170000
DTSTAMP:20260425T233439
CREATED:20230802T171643Z
LAST-MODIFIED:20230802T181226Z
UID:10005021-1702456200-1702486800@christcovcincy.org
SUMMARY:CAFE Coop
DESCRIPTION:CAFE Coop
URL:https://christcovcincy.org/event/cafe-coop-2/2023-12-13/
LOCATION:Christ Covenant Church\, 2191 Struble Rd\, Cincinnati\, 45231\, United States
CATEGORIES:private event
ATTACH;FMTTYPE=image/png:https://christcovcincy.org/wp-content/uploads/2022/07/Cafe-Event.png
END:VEVENT
BEGIN:VEVENT
DTSTART;TZID=America/Halifax:20231206T083000
DTEND;TZID=America/Halifax:20231206T170000
DTSTAMP:20260425T233439
CREATED:20230802T171643Z
LAST-MODIFIED:20230802T181226Z
UID:10005020-1701851400-1701882000@christcovcincy.org
SUMMARY:CAFE Coop
DESCRIPTION:CAFE Coop
URL:https://christcovcincy.org/event/cafe-coop-2/2023-12-06/
LOCATION:Christ Covenant Church\, 2191 Struble Rd\, Cincinnati\, 45231\, United States
CATEGORIES:private event
ATTACH;FMTTYPE=image/png:https://christcovcincy.org/wp-content/uploads/2022/07/Cafe-Event.png
END:VEVENT
BEGIN:VEVENT
DTSTART;TZID=America/Halifax:20231129T083000
DTEND;TZID=America/Halifax:20231129T170000
DTSTAMP:20260425T233439
CREATED:20230802T171643Z
LAST-MODIFIED:20230802T181226Z
UID:10005019-1701246600-1701277200@christcovcincy.org
SUMMARY:CAFE Coop
DESCRIPTION:CAFE Coop
URL:https://christcovcincy.org/event/cafe-coop-2/2023-11-29/
LOCATION:Christ Covenant Church\, 2191 Struble Rd\, Cincinnati\, 45231\, United States
CATEGORIES:private event
ATTACH;FMTTYPE=image/png:https://christcovcincy.org/wp-content/uploads/2022/07/Cafe-Event.png
END:VEVENT
BEGIN:VEVENT
DTSTART;TZID=America/Halifax:20231115T083000
DTEND;TZID=America/Halifax:20231115T170000
DTSTAMP:20260425T233439
CREATED:20230802T171643Z
LAST-MODIFIED:20230802T181226Z
UID:10005018-1700037000-1700067600@christcovcincy.org
SUMMARY:CAFE Coop
DESCRIPTION:CAFE Coop
URL:https://christcovcincy.org/event/cafe-coop-2/2023-11-15/
LOCATION:Christ Covenant Church\, 2191 Struble Rd\, Cincinnati\, 45231\, United States
CATEGORIES:private event
ATTACH;FMTTYPE=image/png:https://christcovcincy.org/wp-content/uploads/2022/07/Cafe-Event.png
END:VEVENT
BEGIN:VEVENT
DTSTART;TZID=America/Halifax:20231108T083000
DTEND;TZID=America/Halifax:20231108T170000
DTSTAMP:20260425T233439
CREATED:20230802T171643Z
LAST-MODIFIED:20230802T181226Z
UID:10005017-1699432200-1699462800@christcovcincy.org
SUMMARY:CAFE Coop
DESCRIPTION:CAFE Coop
URL:https://christcovcincy.org/event/cafe-coop-2/2023-11-08/
LOCATION:Christ Covenant Church\, 2191 Struble Rd\, Cincinnati\, 45231\, United States
CATEGORIES:private event
ATTACH;FMTTYPE=image/png:https://christcovcincy.org/wp-content/uploads/2022/07/Cafe-Event.png
END:VEVENT
BEGIN:VEVENT
DTSTART;TZID=America/Halifax:20231101T083000
DTEND;TZID=America/Halifax:20231101T170000
DTSTAMP:20260425T233439
CREATED:20230802T171643Z
LAST-MODIFIED:20230802T181226Z
UID:10005016-1698827400-1698858000@christcovcincy.org
SUMMARY:CAFE Coop
DESCRIPTION:CAFE Coop
URL:https://christcovcincy.org/event/cafe-coop-2/2023-11-01/
LOCATION:Christ Covenant Church\, 2191 Struble Rd\, Cincinnati\, 45231\, United States
CATEGORIES:private event
ATTACH;FMTTYPE=image/png:https://christcovcincy.org/wp-content/uploads/2022/07/Cafe-Event.png
END:VEVENT
BEGIN:VEVENT
DTSTART;TZID=America/Halifax:20231025T083000
DTEND;TZID=America/Halifax:20231025T170000
DTSTAMP:20260425T233439
CREATED:20230802T171643Z
LAST-MODIFIED:20230802T181226Z
UID:10005015-1698222600-1698253200@christcovcincy.org
SUMMARY:CAFE Coop
DESCRIPTION:CAFE Coop
URL:https://christcovcincy.org/event/cafe-coop-2/2023-10-25/
LOCATION:Christ Covenant Church\, 2191 Struble Rd\, Cincinnati\, 45231\, United States
CATEGORIES:private event
ATTACH;FMTTYPE=image/png:https://christcovcincy.org/wp-content/uploads/2022/07/Cafe-Event.png
END:VEVENT
BEGIN:VEVENT
DTSTART;TZID=America/Halifax:20231018T083000
DTEND;TZID=America/Halifax:20231018T170000
DTSTAMP:20260425T233439
CREATED:20230802T171643Z
LAST-MODIFIED:20230802T181226Z
UID:10005014-1697617800-1697648400@christcovcincy.org
SUMMARY:CAFE Coop
DESCRIPTION:CAFE Coop
URL:https://christcovcincy.org/event/cafe-coop-2/2023-10-18/
LOCATION:Christ Covenant Church\, 2191 Struble Rd\, Cincinnati\, 45231\, United States
CATEGORIES:private event
ATTACH;FMTTYPE=image/png:https://christcovcincy.org/wp-content/uploads/2022/07/Cafe-Event.png
END:VEVENT
BEGIN:VEVENT
DTSTART;TZID=America/Halifax:20231011T083000
DTEND;TZID=America/Halifax:20231011T170000
DTSTAMP:20260425T233439
CREATED:20230802T171643Z
LAST-MODIFIED:20230802T181226Z
UID:10005013-1697013000-1697043600@christcovcincy.org
SUMMARY:CAFE Coop
DESCRIPTION:CAFE Coop
URL:https://christcovcincy.org/event/cafe-coop-2/2023-10-11/
LOCATION:Christ Covenant Church\, 2191 Struble Rd\, Cincinnati\, 45231\, United States
CATEGORIES:private event
ATTACH;FMTTYPE=image/png:https://christcovcincy.org/wp-content/uploads/2022/07/Cafe-Event.png
END:VEVENT
BEGIN:VEVENT
DTSTART;TZID=America/Halifax:20231004T083000
DTEND;TZID=America/Halifax:20231004T170000
DTSTAMP:20260425T233439
CREATED:20230802T171643Z
LAST-MODIFIED:20230802T181226Z
UID:10005012-1696408200-1696438800@christcovcincy.org
SUMMARY:CAFE Coop
DESCRIPTION:CAFE Coop
URL:https://christcovcincy.org/event/cafe-coop-2/2023-10-04/
LOCATION:Christ Covenant Church\, 2191 Struble Rd\, Cincinnati\, 45231\, United States
CATEGORIES:private event
ATTACH;FMTTYPE=image/png:https://christcovcincy.org/wp-content/uploads/2022/07/Cafe-Event.png
END:VEVENT
BEGIN:VEVENT
DTSTART;TZID=America/Halifax:20230927T083000
DTEND;TZID=America/Halifax:20230927T170000
DTSTAMP:20260425T233439
CREATED:20230802T171643Z
LAST-MODIFIED:20230802T181226Z
UID:10005011-1695803400-1695834000@christcovcincy.org
SUMMARY:CAFE Coop
DESCRIPTION:CAFE Coop
URL:https://christcovcincy.org/event/cafe-coop-2/2023-09-27/
LOCATION:Christ Covenant Church\, 2191 Struble Rd\, Cincinnati\, 45231\, United States
CATEGORIES:private event
ATTACH;FMTTYPE=image/png:https://christcovcincy.org/wp-content/uploads/2022/07/Cafe-Event.png
END:VEVENT
BEGIN:VEVENT
DTSTART;TZID=America/Halifax:20230920T083000
DTEND;TZID=America/Halifax:20230920T170000
DTSTAMP:20260425T233439
CREATED:20230802T171643Z
LAST-MODIFIED:20230802T181226Z
UID:10005010-1695198600-1695229200@christcovcincy.org
SUMMARY:CAFE Coop
DESCRIPTION:CAFE Coop
URL:https://christcovcincy.org/event/cafe-coop-2/2023-09-20/
LOCATION:Christ Covenant Church\, 2191 Struble Rd\, Cincinnati\, 45231\, United States
CATEGORIES:private event
ATTACH;FMTTYPE=image/png:https://christcovcincy.org/wp-content/uploads/2022/07/Cafe-Event.png
END:VEVENT
BEGIN:VEVENT
DTSTART;TZID=America/Halifax:20230913T083000
DTEND;TZID=America/Halifax:20230913T170000
DTSTAMP:20260425T233439
CREATED:20230802T171643Z
LAST-MODIFIED:20230802T181226Z
UID:10005009-1694593800-1694624400@christcovcincy.org
SUMMARY:CAFE Coop
DESCRIPTION:CAFE Coop
URL:https://christcovcincy.org/event/cafe-coop-2/2023-09-13/
LOCATION:Christ Covenant Church\, 2191 Struble Rd\, Cincinnati\, 45231\, United States
CATEGORIES:private event
ATTACH;FMTTYPE=image/png:https://christcovcincy.org/wp-content/uploads/2022/07/Cafe-Event.png
END:VEVENT
BEGIN:VEVENT
DTSTART;TZID=America/Halifax:20230906T083000
DTEND;TZID=America/Halifax:20230906T170000
DTSTAMP:20260425T233439
CREATED:20230802T171643Z
LAST-MODIFIED:20230802T181226Z
UID:10005008-1693989000-1694019600@christcovcincy.org
SUMMARY:CAFE Coop
DESCRIPTION:CAFE Coop
URL:https://christcovcincy.org/event/cafe-coop-2/2023-09-06/
LOCATION:Christ Covenant Church\, 2191 Struble Rd\, Cincinnati\, 45231\, United States
CATEGORIES:private event
ATTACH;FMTTYPE=image/png:https://christcovcincy.org/wp-content/uploads/2022/07/Cafe-Event.png
END:VEVENT
BEGIN:VEVENT
DTSTART;TZID=America/Halifax:20230830T083000
DTEND;TZID=America/Halifax:20230830T170000
DTSTAMP:20260425T233439
CREATED:20230802T171643Z
LAST-MODIFIED:20230802T181226Z
UID:10005007-1693384200-1693414800@christcovcincy.org
SUMMARY:CAFE Coop
DESCRIPTION:CAFE Coop
URL:https://christcovcincy.org/event/cafe-coop-2/2023-08-30/
LOCATION:Christ Covenant Church\, 2191 Struble Rd\, Cincinnati\, 45231\, United States
CATEGORIES:private event
ATTACH;FMTTYPE=image/png:https://christcovcincy.org/wp-content/uploads/2022/07/Cafe-Event.png
END:VEVENT
BEGIN:VEVENT
DTSTART;TZID=America/Halifax:20230823T083000
DTEND;TZID=America/Halifax:20230823T170000
DTSTAMP:20260425T233439
CREATED:20230802T171643Z
LAST-MODIFIED:20230802T181226Z
UID:10005006-1692779400-1692810000@christcovcincy.org
SUMMARY:CAFE Coop
DESCRIPTION:CAFE Coop
URL:https://christcovcincy.org/event/cafe-coop-2/2023-08-23/
LOCATION:Christ Covenant Church\, 2191 Struble Rd\, Cincinnati\, 45231\, United States
CATEGORIES:private event
ATTACH;FMTTYPE=image/png:https://christcovcincy.org/wp-content/uploads/2022/07/Cafe-Event.png
END:VEVENT
BEGIN:VEVENT
DTSTART;TZID=America/New_York:20230505T160000
DTEND;TZID=America/New_York:20230505T220000
DTSTAMP:20260425T233439
CREATED:20230427T150146Z
LAST-MODIFIED:20230427T150146Z
UID:10004570-1683302400-1683324000@christcovcincy.org
SUMMARY:Private Event
DESCRIPTION:CAFE Fine Arts Night
URL:https://christcovcincy.org/event/private-event-24/
LOCATION:Christ Covenant Church\, 2191 Struble Rd\, Cincinnati\, 45231\, United States
ATTACH;FMTTYPE=image/png:https://christcovcincy.org/wp-content/uploads/2023/03/Private-Eventwebcalendar.png
END:VEVENT
BEGIN:VEVENT
DTSTART;TZID=UTC:20230224T090000
DTEND;TZID=UTC:20230224T120000
DTSTAMP:20260425T233439
CREATED:20230209T005840Z
LAST-MODIFIED:20230209T005840Z
UID:10004752-1677229200-1677240000@christcovcincy.org
SUMMARY:Private Event
DESCRIPTION:CAFE Coop Event: Sons of the American Revolution presentations
URL:https://christcovcincy.org/event/private-event-23/
LOCATION:Christ Covenant Church\, 2191 Struble Rd\, Cincinnati\, 45231\, United States
ATTACH;FMTTYPE=image/png:https://christcovcincy.org/wp-content/uploads/2022/07/Private-Event.png
END:VEVENT
END:VCALENDAR