BEGIN:VCALENDAR
VERSION:2.0
PRODID:-//Christ Covenant Church - ECPv6.15.20//NONSGML v1.0//EN
CALSCALE:GREGORIAN
METHOD:PUBLISH
X-ORIGINAL-URL:https://christcovcincy.org
X-WR-CALDESC:Events for Christ Covenant Church
REFRESH-INTERVAL;VALUE=DURATION:PT1H
X-Robots-Tag:noindex
X-PUBLISHED-TTL:PT1H
BEGIN:VTIMEZONE
TZID:America/Halifax
BEGIN:DAYLIGHT
TZOFFSETFROM:-0400
TZOFFSETTO:-0300
TZNAME:ADT
DTSTART:20220313T060000
END:DAYLIGHT
BEGIN:STANDARD
TZOFFSETFROM:-0300
TZOFFSETTO:-0400
TZNAME:AST
DTSTART:20221106T050000
END:STANDARD
BEGIN:DAYLIGHT
TZOFFSETFROM:-0400
TZOFFSETTO:-0300
TZNAME:ADT
DTSTART:20230312T060000
END:DAYLIGHT
BEGIN:STANDARD
TZOFFSETFROM:-0300
TZOFFSETTO:-0400
TZNAME:AST
DTSTART:20231105T050000
END:STANDARD
BEGIN:DAYLIGHT
TZOFFSETFROM:-0400
TZOFFSETTO:-0300
TZNAME:ADT
DTSTART:20240310T060000
END:DAYLIGHT
BEGIN:STANDARD
TZOFFSETFROM:-0300
TZOFFSETTO:-0400
TZNAME:AST
DTSTART:20241103T050000
END:STANDARD
BEGIN:DAYLIGHT
TZOFFSETFROM:-0400
TZOFFSETTO:-0300
TZNAME:ADT
DTSTART:20250309T060000
END:DAYLIGHT
BEGIN:STANDARD
TZOFFSETFROM:-0300
TZOFFSETTO:-0400
TZNAME:AST
DTSTART:20251102T050000
END:STANDARD
END:VTIMEZONE
BEGIN:VEVENT
DTSTART;TZID=America/Halifax:20240827T150000
DTEND;TZID=America/Halifax:20240827T170000
DTSTAMP:20260423T225201
CREATED:20240306T202623Z
LAST-MODIFIED:20240610T155758Z
UID:10004974-1724770800-1724778000@christcovcincy.org
SUMMARY:Family Swim Time
DESCRIPTION:
URL:https://christcovcincy.org/event/family-swim-time-4/2024-08-27/
LOCATION:Christ Covenant Church Office\, 2192 Springdale Road\, Cincinnati\, OH\, 45231
CATEGORIES:Children's Ministry,summer gatherings
ATTACH;FMTTYPE=image/jpeg:https://christcovcincy.org/wp-content/uploads/2023/05/Swim.jpg
END:VEVENT
BEGIN:VEVENT
DTSTART;TZID=America/Halifax:20240820T150000
DTEND;TZID=America/Halifax:20240820T170000
DTSTAMP:20260423T225201
CREATED:20240306T202623Z
LAST-MODIFIED:20240610T155758Z
UID:10004973-1724166000-1724173200@christcovcincy.org
SUMMARY:Family Swim Time
DESCRIPTION:
URL:https://christcovcincy.org/event/family-swim-time-4/2024-08-20/
LOCATION:Christ Covenant Church Office\, 2192 Springdale Road\, Cincinnati\, OH\, 45231
CATEGORIES:Children's Ministry,summer gatherings
ATTACH;FMTTYPE=image/jpeg:https://christcovcincy.org/wp-content/uploads/2023/05/Swim.jpg
END:VEVENT
BEGIN:VEVENT
DTSTART;TZID=America/Halifax:20240813T170000
DTEND;TZID=America/Halifax:20240813T184500
DTSTAMP:20260423T225201
CREATED:20240702T180836Z
LAST-MODIFIED:20240807T171620Z
UID:10005429-1723568400-1723574700@christcovcincy.org
SUMMARY:Family Fellowship & Cookout
DESCRIPTION:Join us for family fellowship & cookout after family swim time. Bring your own grilling items or main dish for your family and a side dish to share.
URL:https://christcovcincy.org/event/private-event-81/2024-08-13/
LOCATION:Christ Covenant picnic and office complex\, 2192 Springdale Rd.\, Cincinnati\, OH\, 45231\, United States
ATTACH;FMTTYPE=image/jpeg:https://christcovcincy.org/wp-content/uploads/2023/08/cookout.jpg
END:VEVENT
BEGIN:VEVENT
DTSTART;TZID=America/Halifax:20240813T150000
DTEND;TZID=America/Halifax:20240813T170000
DTSTAMP:20260423T225201
CREATED:20240306T202623Z
LAST-MODIFIED:20240610T155758Z
UID:10004972-1723561200-1723568400@christcovcincy.org
SUMMARY:Family Swim Time
DESCRIPTION:
URL:https://christcovcincy.org/event/family-swim-time-4/2024-08-13/
LOCATION:Christ Covenant Church Office\, 2192 Springdale Road\, Cincinnati\, OH\, 45231
CATEGORIES:Children's Ministry,summer gatherings
ATTACH;FMTTYPE=image/jpeg:https://christcovcincy.org/wp-content/uploads/2023/05/Swim.jpg
END:VEVENT
BEGIN:VEVENT
DTSTART;TZID=America/Halifax:20240730T150000
DTEND;TZID=America/Halifax:20240730T170000
DTSTAMP:20260423T225201
CREATED:20240306T202623Z
LAST-MODIFIED:20240610T155758Z
UID:10004971-1722351600-1722358800@christcovcincy.org
SUMMARY:Family Swim Time
DESCRIPTION:
URL:https://christcovcincy.org/event/family-swim-time-4/2024-07-30/
LOCATION:Christ Covenant Church Office\, 2192 Springdale Road\, Cincinnati\, OH\, 45231
CATEGORIES:Children's Ministry,summer gatherings
ATTACH;FMTTYPE=image/jpeg:https://christcovcincy.org/wp-content/uploads/2023/05/Swim.jpg
END:VEVENT
BEGIN:VEVENT
DTSTART;TZID=America/Halifax:20240726T123000
DTEND;TZID=America/Halifax:20240726T160000
DTSTAMP:20260423T225201
CREATED:20240725T200033Z
LAST-MODIFIED:20240725T200033Z
UID:10005447-1721997000-1722009600@christcovcincy.org
SUMMARY:Family Swim Time
DESCRIPTION:
URL:https://christcovcincy.org/event/family-swim-time-5/
LOCATION:Swimming Pool
ATTACH;FMTTYPE=image/jpeg:https://christcovcincy.org/wp-content/uploads/2023/05/Swim.jpg
END:VEVENT
BEGIN:VEVENT
DTSTART;TZID=America/Halifax:20240723T170000
DTEND;TZID=America/Halifax:20240723T184500
DTSTAMP:20260423T225201
CREATED:20240702T180836Z
LAST-MODIFIED:20240807T171620Z
UID:10005428-1721754000-1721760300@christcovcincy.org
SUMMARY:Family Fellowship & Cookout
DESCRIPTION:Join us for family fellowship & cookout after family swim time. Bring your own grilling items or main dish for your family and a side dish to share.
URL:https://christcovcincy.org/event/private-event-81/2024-07-23/
LOCATION:Christ Covenant picnic and office complex\, 2192 Springdale Rd.\, Cincinnati\, OH\, 45231\, United States
ATTACH;FMTTYPE=image/jpeg:https://christcovcincy.org/wp-content/uploads/2023/08/cookout.jpg
END:VEVENT
BEGIN:VEVENT
DTSTART;TZID=America/Halifax:20240723T150000
DTEND;TZID=America/Halifax:20240723T170000
DTSTAMP:20260423T225201
CREATED:20240306T202623Z
LAST-MODIFIED:20240610T155758Z
UID:10004970-1721746800-1721754000@christcovcincy.org
SUMMARY:Family Swim Time
DESCRIPTION:
URL:https://christcovcincy.org/event/family-swim-time-4/2024-07-23/
LOCATION:Christ Covenant Church Office\, 2192 Springdale Road\, Cincinnati\, OH\, 45231
CATEGORIES:Children's Ministry,summer gatherings
ATTACH;FMTTYPE=image/jpeg:https://christcovcincy.org/wp-content/uploads/2023/05/Swim.jpg
END:VEVENT
BEGIN:VEVENT
DTSTART;TZID=America/Halifax:20240716T150000
DTEND;TZID=America/Halifax:20240716T170000
DTSTAMP:20260423T225201
CREATED:20240306T202623Z
LAST-MODIFIED:20240610T155758Z
UID:10004969-1721142000-1721149200@christcovcincy.org
SUMMARY:Family Swim Time
DESCRIPTION:
URL:https://christcovcincy.org/event/family-swim-time-4/2024-07-16/
LOCATION:Christ Covenant Church Office\, 2192 Springdale Road\, Cincinnati\, OH\, 45231
CATEGORIES:Children's Ministry,summer gatherings
ATTACH;FMTTYPE=image/jpeg:https://christcovcincy.org/wp-content/uploads/2023/05/Swim.jpg
END:VEVENT
BEGIN:VEVENT
DTSTART;TZID=America/Halifax:20240709T150000
DTEND;TZID=America/Halifax:20240709T170000
DTSTAMP:20260423T225201
CREATED:20240306T202623Z
LAST-MODIFIED:20240610T155758Z
UID:10004968-1720537200-1720544400@christcovcincy.org
SUMMARY:Family Swim Time
DESCRIPTION:
URL:https://christcovcincy.org/event/family-swim-time-4/2024-07-09/
LOCATION:Christ Covenant Church Office\, 2192 Springdale Road\, Cincinnati\, OH\, 45231
CATEGORIES:Children's Ministry,summer gatherings
ATTACH;FMTTYPE=image/jpeg:https://christcovcincy.org/wp-content/uploads/2023/05/Swim.jpg
END:VEVENT
BEGIN:VEVENT
DTSTART;TZID=America/Halifax:20240702T150000
DTEND;TZID=America/Halifax:20240702T170000
DTSTAMP:20260423T225201
CREATED:20240306T202623Z
LAST-MODIFIED:20240610T155758Z
UID:10004967-1719932400-1719939600@christcovcincy.org
SUMMARY:Family Swim Time
DESCRIPTION:
URL:https://christcovcincy.org/event/family-swim-time-4/2024-07-02/
LOCATION:Christ Covenant Church Office\, 2192 Springdale Road\, Cincinnati\, OH\, 45231
CATEGORIES:Children's Ministry,summer gatherings
ATTACH;FMTTYPE=image/jpeg:https://christcovcincy.org/wp-content/uploads/2023/05/Swim.jpg
END:VEVENT
BEGIN:VEVENT
DTSTART;TZID=America/Halifax:20240625T170000
DTEND;TZID=America/Halifax:20240625T184500
DTSTAMP:20260423T225201
CREATED:20240702T180836Z
LAST-MODIFIED:20240807T171620Z
UID:10005427-1719334800-1719341100@christcovcincy.org
SUMMARY:Family Fellowship & Cookout
DESCRIPTION:Join us for family fellowship & cookout after family swim time. Bring your own grilling items or main dish for your family and a side dish to share.
URL:https://christcovcincy.org/event/private-event-81/2024-06-25/
LOCATION:Christ Covenant picnic and office complex\, 2192 Springdale Rd.\, Cincinnati\, OH\, 45231\, United States
ATTACH;FMTTYPE=image/jpeg:https://christcovcincy.org/wp-content/uploads/2023/08/cookout.jpg
END:VEVENT
BEGIN:VEVENT
DTSTART;TZID=America/Halifax:20240625T150000
DTEND;TZID=America/Halifax:20240625T170000
DTSTAMP:20260423T225201
CREATED:20240306T202623Z
LAST-MODIFIED:20240610T155758Z
UID:10004966-1719327600-1719334800@christcovcincy.org
SUMMARY:Family Swim Time
DESCRIPTION:
URL:https://christcovcincy.org/event/family-swim-time-4/2024-06-25/
LOCATION:Christ Covenant Church Office\, 2192 Springdale Road\, Cincinnati\, OH\, 45231
CATEGORIES:Children's Ministry,summer gatherings
ATTACH;FMTTYPE=image/jpeg:https://christcovcincy.org/wp-content/uploads/2023/05/Swim.jpg
END:VEVENT
BEGIN:VEVENT
DTSTART;TZID=America/Halifax:20240618T150000
DTEND;TZID=America/Halifax:20240618T170000
DTSTAMP:20260423T225201
CREATED:20240306T202623Z
LAST-MODIFIED:20240610T155758Z
UID:10004965-1718722800-1718730000@christcovcincy.org
SUMMARY:Family Swim Time
DESCRIPTION:
URL:https://christcovcincy.org/event/family-swim-time-4/2024-06-18/
LOCATION:Christ Covenant Church Office\, 2192 Springdale Road\, Cincinnati\, OH\, 45231
CATEGORIES:Children's Ministry,summer gatherings
ATTACH;FMTTYPE=image/jpeg:https://christcovcincy.org/wp-content/uploads/2023/05/Swim.jpg
END:VEVENT
BEGIN:VEVENT
DTSTART;TZID=America/Halifax:20240611T150000
DTEND;TZID=America/Halifax:20240611T170000
DTSTAMP:20260423T225201
CREATED:20240306T202623Z
LAST-MODIFIED:20240610T155140Z
UID:10004977-1718118000-1718125200@christcovcincy.org
SUMMARY:Family Swim Time
DESCRIPTION:
URL:https://christcovcincy.org/event/family-swim-time-4-2024-06-11/
LOCATION:Christ Covenant Church Office\, 2192 Springdale Road\, Cincinnati\, OH\, 45231
CATEGORIES:Children's Ministry,summer gatherings
ATTACH;FMTTYPE=image/jpeg:https://christcovcincy.org/wp-content/uploads/2023/05/Swim.jpg
END:VEVENT
BEGIN:VEVENT
DTSTART;TZID=America/Halifax:20230905T150000
DTEND;TZID=America/Halifax:20230905T170000
DTSTAMP:20260423T225201
CREATED:20230823T163221Z
LAST-MODIFIED:20230823T163221Z
UID:10004755-1693926000-1693933200@christcovcincy.org
SUMMARY:Private Event
DESCRIPTION:Fellowship & Swim Time
URL:https://christcovcincy.org/event/private-event-41/2023-09-05/
LOCATION:Christ Covenant Church Office\, 2192 Springdale Road\, Cincinnati\, OH\, 45231
ATTACH;FMTTYPE=image/jpeg:https://christcovcincy.org/wp-content/uploads/2023/06/privateeventcalendar.jpg
END:VEVENT
BEGIN:VEVENT
DTSTART;TZID=America/Halifax:20230829T150000
DTEND;TZID=America/Halifax:20230829T170000
DTSTAMP:20260423T225201
CREATED:20230823T163221Z
LAST-MODIFIED:20230823T163221Z
UID:10004754-1693321200-1693328400@christcovcincy.org
SUMMARY:Private Event
DESCRIPTION:Fellowship & Swim Time
URL:https://christcovcincy.org/event/private-event-41/2023-08-29/
LOCATION:Christ Covenant Church Office\, 2192 Springdale Road\, Cincinnati\, OH\, 45231
ATTACH;FMTTYPE=image/jpeg:https://christcovcincy.org/wp-content/uploads/2023/06/privateeventcalendar.jpg
END:VEVENT
BEGIN:VEVENT
DTSTART;TZID=America/Halifax:20230822T150000
DTEND;TZID=America/Halifax:20230822T170000
DTSTAMP:20260423T225201
CREATED:20230823T163221Z
LAST-MODIFIED:20230823T163221Z
UID:10004753-1692716400-1692723600@christcovcincy.org
SUMMARY:Private Event
DESCRIPTION:Fellowship & Swim Time
URL:https://christcovcincy.org/event/private-event-41/2023-08-22/
LOCATION:Christ Covenant Church Office\, 2192 Springdale Road\, Cincinnati\, OH\, 45231
ATTACH;FMTTYPE=image/jpeg:https://christcovcincy.org/wp-content/uploads/2023/06/privateeventcalendar.jpg
END:VEVENT
BEGIN:VEVENT
DTSTART;TZID=America/Halifax:20230819T110000
DTEND;TZID=America/Halifax:20230819T200000
DTSTAMP:20260423T225201
CREATED:20230614T160134Z
LAST-MODIFIED:20230614T160134Z
UID:10004936-1692442800-1692475200@christcovcincy.org
SUMMARY:Private Event
DESCRIPTION:McEnaney Family Grill-Out & Fellowship
URL:https://christcovcincy.org/event/private-event-36/
LOCATION:Christ Covenant picnic and office complex\, 2192 Springdale Rd.\, Cincinnati\, OH\, 45231\, United States
END:VEVENT
END:VCALENDAR