BEGIN:VCALENDAR
VERSION:2.0
PRODID:-//Christ Covenant Church - ECPv6.15.20//NONSGML v1.0//EN
CALSCALE:GREGORIAN
METHOD:PUBLISH
X-ORIGINAL-URL:https://christcovcincy.org
X-WR-CALDESC:Events for Christ Covenant Church
REFRESH-INTERVAL;VALUE=DURATION:PT1H
X-Robots-Tag:noindex
X-PUBLISHED-TTL:PT1H
BEGIN:VTIMEZONE
TZID:America/New_York
BEGIN:DAYLIGHT
TZOFFSETFROM:-0500
TZOFFSETTO:-0400
TZNAME:EDT
DTSTART:20240310T070000
END:DAYLIGHT
BEGIN:STANDARD
TZOFFSETFROM:-0400
TZOFFSETTO:-0500
TZNAME:EST
DTSTART:20241103T060000
END:STANDARD
BEGIN:DAYLIGHT
TZOFFSETFROM:-0500
TZOFFSETTO:-0400
TZNAME:EDT
DTSTART:20250309T070000
END:DAYLIGHT
BEGIN:STANDARD
TZOFFSETFROM:-0400
TZOFFSETTO:-0500
TZNAME:EST
DTSTART:20251102T060000
END:STANDARD
BEGIN:DAYLIGHT
TZOFFSETFROM:-0500
TZOFFSETTO:-0400
TZNAME:EDT
DTSTART:20260308T070000
END:DAYLIGHT
BEGIN:STANDARD
TZOFFSETFROM:-0400
TZOFFSETTO:-0500
TZNAME:EST
DTSTART:20261101T060000
END:STANDARD
END:VTIMEZONE
BEGIN:VTIMEZONE
TZID:America/Halifax
BEGIN:DAYLIGHT
TZOFFSETFROM:-0400
TZOFFSETTO:-0300
TZNAME:ADT
DTSTART:20230312T060000
END:DAYLIGHT
BEGIN:STANDARD
TZOFFSETFROM:-0300
TZOFFSETTO:-0400
TZNAME:AST
DTSTART:20231105T050000
END:STANDARD
BEGIN:DAYLIGHT
TZOFFSETFROM:-0400
TZOFFSETTO:-0300
TZNAME:ADT
DTSTART:20240310T060000
END:DAYLIGHT
BEGIN:STANDARD
TZOFFSETFROM:-0300
TZOFFSETTO:-0400
TZNAME:AST
DTSTART:20241103T050000
END:STANDARD
BEGIN:DAYLIGHT
TZOFFSETFROM:-0400
TZOFFSETTO:-0300
TZNAME:ADT
DTSTART:20250309T060000
END:DAYLIGHT
BEGIN:STANDARD
TZOFFSETFROM:-0300
TZOFFSETTO:-0400
TZNAME:AST
DTSTART:20251102T050000
END:STANDARD
END:VTIMEZONE
BEGIN:VEVENT
DTSTART;TZID=America/New_York:20251108T110000
DTEND;TZID=America/New_York:20251108T160000
DTSTAMP:20260423T215301
CREATED:20251030T173059Z
LAST-MODIFIED:20251030T173059Z
UID:10007329-1762599600-1762617600@christcovcincy.org
SUMMARY:Private Event
DESCRIPTION:Rainous Family birthday celebration (kitchen & fellowship hall)
URL:https://christcovcincy.org/event/private-event-109/
LOCATION:Christ Covenant Church\, 2191 Struble Rd\, Cincinnati\, 45231\, United States
CATEGORIES:private event
ATTACH;FMTTYPE=image/jpeg:https://christcovcincy.org/wp-content/uploads/2023/06/privateeventcalendar.jpg
END:VEVENT
BEGIN:VEVENT
DTSTART;TZID=America/Halifax:20240810T140000
DTEND;TZID=America/Halifax:20240810T210000
DTSTAMP:20260423T215301
CREATED:20240724T181710Z
LAST-MODIFIED:20240724T184406Z
UID:10005441-1723298400-1723323600@christcovcincy.org
SUMMARY:Private Event
DESCRIPTION:Rainous Family birthday party/picnic/pool time
URL:https://christcovcincy.org/event/private-event-83/
LOCATION:Christ Covenant picnic and office complex\, 2192 Springdale Rd.\, Cincinnati\, OH\, 45231\, United States
CATEGORIES:private event
ATTACH;FMTTYPE=image/jpeg:https://christcovcincy.org/wp-content/uploads/2023/06/privateeventcalendar.jpg
END:VEVENT
BEGIN:VEVENT
DTSTART;TZID=America/Halifax:20240810T080000
DTEND;TZID=America/Halifax:20240810T140000
DTSTAMP:20260423T215301
CREATED:20240613T141456Z
LAST-MODIFIED:20240613T141456Z
UID:10005135-1723276800-1723298400@christcovcincy.org
SUMMARY:Private Event
DESCRIPTION:S (Rainous) Shelley baby shower – morning preparations begin at 8am\, shower begins at 10am
URL:https://christcovcincy.org/event/private-event-78/
LOCATION:Christ Covenant Church Office\, 2192 Springdale Road\, Cincinnati\, OH\, 45231
CATEGORIES:private event
ATTACH;FMTTYPE=image/jpeg:https://christcovcincy.org/wp-content/uploads/2023/06/privateeventcalendar.jpg
END:VEVENT
BEGIN:VEVENT
DTSTART;TZID=America/Halifax:20240809T160000
DTEND;TZID=America/Halifax:20240809T180000
DTSTAMP:20260423T215301
CREATED:20240613T141638Z
LAST-MODIFIED:20240613T141638Z
UID:10005139-1723219200-1723226400@christcovcincy.org
SUMMARY:Private Event
DESCRIPTION:S (Rainous) Shelley – set up for baby shower
URL:https://christcovcincy.org/event/private-event-79/
LOCATION:Christ Covenant Church Office\, 2192 Springdale Road\, Cincinnati\, OH\, 45231
CATEGORIES:private event
ATTACH;FMTTYPE=image/jpeg:https://christcovcincy.org/wp-content/uploads/2023/06/privateeventcalendar.jpg
END:VEVENT
BEGIN:VEVENT
DTSTART;TZID=America/Halifax:20240608T080000
DTEND;TZID=America/Halifax:20240608T160000
DTSTAMP:20260423T215301
CREATED:20240425T163018Z
LAST-MODIFIED:20240425T163018Z
UID:10005328-1717833600-1717862400@christcovcincy.org
SUMMARY:Private Event
DESCRIPTION:Baby Shower for S. Evans – 11am-2pm
URL:https://christcovcincy.org/event/private-event-60/
LOCATION:Christ Covenant Church Office\, 2192 Springdale Road\, Cincinnati\, OH\, 45231
ATTACH;FMTTYPE=image/jpeg:https://christcovcincy.org/wp-content/uploads/2023/06/privateeventcalendar.jpg
END:VEVENT
BEGIN:VEVENT
DTSTART;TZID=America/Halifax:20240607T160000
DTEND;TZID=America/Halifax:20240607T190000
DTSTAMP:20260423T215301
CREATED:20240605T143227Z
LAST-MODIFIED:20240605T143227Z
UID:10005426-1717776000-1717786800@christcovcincy.org
SUMMARY:Private Event
DESCRIPTION:Set Up for S. Evans shower in chapel and kitchen
URL:https://christcovcincy.org/event/private-event-74/
LOCATION:Christ Covenant Church Office\, 2192 Springdale Road\, Cincinnati\, OH\, 45231
CATEGORIES:private event
ATTACH;FMTTYPE=image/jpeg:https://christcovcincy.org/wp-content/uploads/2023/06/privateeventcalendar.jpg
END:VEVENT
END:VCALENDAR