BEGIN:VCALENDAR
VERSION:2.0
PRODID:-//Christ Covenant Church - ECPv6.15.20//NONSGML v1.0//EN
CALSCALE:GREGORIAN
METHOD:PUBLISH
X-WR-CALNAME:Christ Covenant Church
X-ORIGINAL-URL:https://christcovcincy.org
X-WR-CALDESC:Events for Christ Covenant Church
REFRESH-INTERVAL;VALUE=DURATION:PT1H
X-Robots-Tag:noindex
X-PUBLISHED-TTL:PT1H
BEGIN:VTIMEZONE
TZID:America/New_York
BEGIN:DAYLIGHT
TZOFFSETFROM:-0500
TZOFFSETTO:-0400
TZNAME:EDT
DTSTART:20240310T070000
END:DAYLIGHT
BEGIN:STANDARD
TZOFFSETFROM:-0400
TZOFFSETTO:-0500
TZNAME:EST
DTSTART:20241103T060000
END:STANDARD
BEGIN:DAYLIGHT
TZOFFSETFROM:-0500
TZOFFSETTO:-0400
TZNAME:EDT
DTSTART:20250309T070000
END:DAYLIGHT
BEGIN:STANDARD
TZOFFSETFROM:-0400
TZOFFSETTO:-0500
TZNAME:EST
DTSTART:20251102T060000
END:STANDARD
BEGIN:DAYLIGHT
TZOFFSETFROM:-0500
TZOFFSETTO:-0400
TZNAME:EDT
DTSTART:20260308T070000
END:DAYLIGHT
BEGIN:STANDARD
TZOFFSETFROM:-0400
TZOFFSETTO:-0500
TZNAME:EST
DTSTART:20261101T060000
END:STANDARD
BEGIN:DAYLIGHT
TZOFFSETFROM:-0500
TZOFFSETTO:-0400
TZNAME:EDT
DTSTART:20270314T070000
END:DAYLIGHT
BEGIN:STANDARD
TZOFFSETFROM:-0400
TZOFFSETTO:-0500
TZNAME:EST
DTSTART:20271107T060000
END:STANDARD
END:VTIMEZONE
BEGIN:VEVENT
DTSTART;TZID=America/New_York:20260219T183000
DTEND;TZID=America/New_York:20260219T200000
DTSTAMP:20260423T170511
CREATED:20250821T193342Z
LAST-MODIFIED:20260417T161411Z
UID:10007006-1771525800-1771531200@christcovcincy.org
SUMMARY:Choir Rehearsal
DESCRIPTION:
URL:https://christcovcincy.org/event/choir-rehearsal-21/2026-02-19/
LOCATION:Christ Covenant Church\, 2191 Struble Rd\, Cincinnati\, 45231\, United States
ATTACH;FMTTYPE=image/jpeg:https://christcovcincy.org/wp-content/uploads/2023/03/ChancelChoirforWeb.jpg
END:VEVENT
BEGIN:VEVENT
DTSTART;TZID=America/New_York:20260212T183000
DTEND;TZID=America/New_York:20260212T200000
DTSTAMP:20260423T170511
CREATED:20250821T193342Z
LAST-MODIFIED:20260417T161411Z
UID:10007005-1770921000-1770926400@christcovcincy.org
SUMMARY:Choir Rehearsal
DESCRIPTION:
URL:https://christcovcincy.org/event/choir-rehearsal-21/2026-02-12/
LOCATION:Christ Covenant Church\, 2191 Struble Rd\, Cincinnati\, 45231\, United States
ATTACH;FMTTYPE=image/jpeg:https://christcovcincy.org/wp-content/uploads/2023/03/ChancelChoirforWeb.jpg
END:VEVENT
BEGIN:VEVENT
DTSTART;TZID=America/New_York:20260205T183000
DTEND;TZID=America/New_York:20260205T200000
DTSTAMP:20260423T170511
CREATED:20250821T193342Z
LAST-MODIFIED:20260417T161411Z
UID:10007004-1770316200-1770321600@christcovcincy.org
SUMMARY:Choir Rehearsal
DESCRIPTION:
URL:https://christcovcincy.org/event/choir-rehearsal-21/2026-02-05/
LOCATION:Christ Covenant Church\, 2191 Struble Rd\, Cincinnati\, 45231\, United States
ATTACH;FMTTYPE=image/jpeg:https://christcovcincy.org/wp-content/uploads/2023/03/ChancelChoirforWeb.jpg
END:VEVENT
BEGIN:VEVENT
DTSTART;TZID=America/New_York:20260129T183000
DTEND;TZID=America/New_York:20260129T200000
DTSTAMP:20260423T170511
CREATED:20250821T193342Z
LAST-MODIFIED:20260417T161411Z
UID:10007003-1769711400-1769716800@christcovcincy.org
SUMMARY:Choir Rehearsal
DESCRIPTION:
URL:https://christcovcincy.org/event/choir-rehearsal-21/2026-01-29/
LOCATION:Christ Covenant Church\, 2191 Struble Rd\, Cincinnati\, 45231\, United States
ATTACH;FMTTYPE=image/jpeg:https://christcovcincy.org/wp-content/uploads/2023/03/ChancelChoirforWeb.jpg
END:VEVENT
BEGIN:VEVENT
DTSTART;TZID=America/New_York:20260122T183000
DTEND;TZID=America/New_York:20260122T200000
DTSTAMP:20260423T170511
CREATED:20250821T193342Z
LAST-MODIFIED:20260417T161411Z
UID:10007002-1769106600-1769112000@christcovcincy.org
SUMMARY:Choir Rehearsal
DESCRIPTION:
URL:https://christcovcincy.org/event/choir-rehearsal-21/2026-01-22/
LOCATION:Christ Covenant Church\, 2191 Struble Rd\, Cincinnati\, 45231\, United States
ATTACH;FMTTYPE=image/jpeg:https://christcovcincy.org/wp-content/uploads/2023/03/ChancelChoirforWeb.jpg
END:VEVENT
BEGIN:VEVENT
DTSTART;TZID=America/New_York:20260115T183000
DTEND;TZID=America/New_York:20260115T200000
DTSTAMP:20260423T170511
CREATED:20250821T193342Z
LAST-MODIFIED:20260417T161411Z
UID:10007001-1768501800-1768507200@christcovcincy.org
SUMMARY:Choir Rehearsal
DESCRIPTION:
URL:https://christcovcincy.org/event/choir-rehearsal-21/2026-01-15/
LOCATION:Christ Covenant Church\, 2191 Struble Rd\, Cincinnati\, 45231\, United States
ATTACH;FMTTYPE=image/jpeg:https://christcovcincy.org/wp-content/uploads/2023/03/ChancelChoirforWeb.jpg
END:VEVENT
BEGIN:VEVENT
DTSTART;TZID=America/New_York:20251223T150000
DTEND;TZID=America/New_York:20251223T163000
DTSTAMP:20260423T170511
CREATED:20251222T165456Z
LAST-MODIFIED:20251222T170353Z
UID:10007396-1766502000-1766507400@christcovcincy.org
SUMMARY:Christmas Eve Rehearsal
DESCRIPTION:for worship service participants in the sanctuary
URL:https://christcovcincy.org/event/christmas-eve-rehearsal/
LOCATION:Christ Covenant Church\, 2191 Struble Rd\, Cincinnati\, 45231\, United States
END:VEVENT
BEGIN:VEVENT
DTSTART;TZID=America/New_York:20251221T183000
DTEND;TZID=America/New_York:20251221T210000
DTSTAMP:20260423T170511
CREATED:20250723T190222Z
LAST-MODIFIED:20251204T013745Z
UID:10006919-1766341800-1766350800@christcovcincy.org
SUMMARY:Christmas Cantata
DESCRIPTION:Program begins at 6:30pm with a reception following in Fellowship Hall
URL:https://christcovcincy.org/event/christmas-cantata-4/
LOCATION:Christ Covenant Church\, 2191 Struble Rd\, Cincinnati\, 45231\, United States
ATTACH;FMTTYPE=image/jpeg:https://christcovcincy.org/wp-content/uploads/2025/12/BrightestBestwebsite.jpg
END:VEVENT
BEGIN:VEVENT
DTSTART;TZID=America/New_York:20251220T093000
DTEND;TZID=America/New_York:20251220T120000
DTSTAMP:20260423T170511
CREATED:20251112T192121Z
LAST-MODIFIED:20251112T192121Z
UID:10007349-1766223000-1766232000@christcovcincy.org
SUMMARY:Choir Rehearsal
DESCRIPTION:Dress rehearsal for the Cantata
URL:https://christcovcincy.org/event/choir-rehearsal-24/
LOCATION:Christ Covenant Church\, 2191 Struble Rd\, Cincinnati\, 45231\, United States
ATTACH;FMTTYPE=image/jpeg:https://christcovcincy.org/wp-content/uploads/2023/03/ChancelChoirforWeb.jpg
END:VEVENT
BEGIN:VEVENT
DTSTART;TZID=America/New_York:20251218T183000
DTEND;TZID=America/New_York:20251218T200000
DTSTAMP:20260423T170511
CREATED:20250821T193342Z
LAST-MODIFIED:20260417T161411Z
UID:10006997-1766082600-1766088000@christcovcincy.org
SUMMARY:Choir Rehearsal
DESCRIPTION:
URL:https://christcovcincy.org/event/choir-rehearsal-21/2025-12-18/
LOCATION:Christ Covenant Church\, 2191 Struble Rd\, Cincinnati\, 45231\, United States
ATTACH;FMTTYPE=image/jpeg:https://christcovcincy.org/wp-content/uploads/2023/03/ChancelChoirforWeb.jpg
END:VEVENT
BEGIN:VEVENT
DTSTART;TZID=America/New_York:20251214T180000
DTEND;TZID=America/New_York:20251214T193000
DTSTAMP:20260423T170511
CREATED:20251112T192010Z
LAST-MODIFIED:20251120T212228Z
UID:10007360-1765735200-1765740600@christcovcincy.org
SUMMARY:Choir Rehearsal
DESCRIPTION:Sunday afternoon rehearsal for the Cantata
URL:https://christcovcincy.org/event/choir-rehearsal-23/2025-12-14/
LOCATION:Christ Covenant Church\, 2191 Struble Rd\, Cincinnati\, 45231\, United States
ATTACH;FMTTYPE=image/jpeg:https://christcovcincy.org/wp-content/uploads/2023/03/ChancelChoirforWeb.jpg
END:VEVENT
BEGIN:VEVENT
DTSTART;TZID=America/New_York:20251213T163000
DTEND;TZID=America/New_York:20251213T180000
DTSTAMP:20260423T170511
CREATED:20251112T191815Z
LAST-MODIFIED:20251120T212019Z
UID:10007359-1765643400-1765648800@christcovcincy.org
SUMMARY:Choir Rehearsal
DESCRIPTION:Saturday morning rehearsal for the Cantata
URL:https://christcovcincy.org/event/choir-rehearsal-22/2025-12-13/
LOCATION:Christ Covenant Church\, 2191 Struble Rd\, Cincinnati\, 45231\, United States
ATTACH;FMTTYPE=image/jpeg:https://christcovcincy.org/wp-content/uploads/2023/03/ChancelChoirforWeb.jpg
END:VEVENT
BEGIN:VEVENT
DTSTART;TZID=America/New_York:20251211T183000
DTEND;TZID=America/New_York:20251211T200000
DTSTAMP:20260423T170511
CREATED:20250821T193342Z
LAST-MODIFIED:20260417T161411Z
UID:10006996-1765477800-1765483200@christcovcincy.org
SUMMARY:Choir Rehearsal
DESCRIPTION:
URL:https://christcovcincy.org/event/choir-rehearsal-21/2025-12-11/
LOCATION:Christ Covenant Church\, 2191 Struble Rd\, Cincinnati\, 45231\, United States
ATTACH;FMTTYPE=image/jpeg:https://christcovcincy.org/wp-content/uploads/2023/03/ChancelChoirforWeb.jpg
END:VEVENT
BEGIN:VEVENT
DTSTART;TZID=America/New_York:20251207T121500
DTEND;TZID=America/New_York:20251207T133000
DTSTAMP:20260423T170511
CREATED:20251112T192010Z
LAST-MODIFIED:20251120T212228Z
UID:10007348-1765109700-1765114200@christcovcincy.org
SUMMARY:Choir Rehearsal
DESCRIPTION:Sunday afternoon rehearsal for the Cantata
URL:https://christcovcincy.org/event/choir-rehearsal-23/2025-12-07/
LOCATION:Christ Covenant Church\, 2191 Struble Rd\, Cincinnati\, 45231\, United States
ATTACH;FMTTYPE=image/jpeg:https://christcovcincy.org/wp-content/uploads/2023/03/ChancelChoirforWeb.jpg
END:VEVENT
BEGIN:VEVENT
DTSTART;TZID=America/New_York:20251206T093000
DTEND;TZID=America/New_York:20251206T110000
DTSTAMP:20260423T170511
CREATED:20251112T191815Z
LAST-MODIFIED:20251120T212019Z
UID:10007358-1765013400-1765018800@christcovcincy.org
SUMMARY:Choir Rehearsal
DESCRIPTION:Saturday morning rehearsal for the Cantata
URL:https://christcovcincy.org/event/choir-rehearsal-22/2025-12-06/
LOCATION:Christ Covenant Church\, 2191 Struble Rd\, Cincinnati\, 45231\, United States
ATTACH;FMTTYPE=image/jpeg:https://christcovcincy.org/wp-content/uploads/2023/03/ChancelChoirforWeb.jpg
END:VEVENT
BEGIN:VEVENT
DTSTART;TZID=America/New_York:20251204T183000
DTEND;TZID=America/New_York:20251204T200000
DTSTAMP:20260423T170511
CREATED:20250821T193342Z
LAST-MODIFIED:20260417T161411Z
UID:10006995-1764873000-1764878400@christcovcincy.org
SUMMARY:Choir Rehearsal
DESCRIPTION:
URL:https://christcovcincy.org/event/choir-rehearsal-21/2025-12-04/
LOCATION:Christ Covenant Church\, 2191 Struble Rd\, Cincinnati\, 45231\, United States
ATTACH;FMTTYPE=image/jpeg:https://christcovcincy.org/wp-content/uploads/2023/03/ChancelChoirforWeb.jpg
END:VEVENT
BEGIN:VEVENT
DTSTART;TZID=America/New_York:20251130T121500
DTEND;TZID=America/New_York:20251130T133000
DTSTAMP:20260423T170511
CREATED:20251112T192010Z
LAST-MODIFIED:20251120T212228Z
UID:10007347-1764504900-1764509400@christcovcincy.org
SUMMARY:Choir Rehearsal
DESCRIPTION:Sunday afternoon rehearsal for the Cantata
URL:https://christcovcincy.org/event/choir-rehearsal-23/2025-11-30/
LOCATION:Christ Covenant Church\, 2191 Struble Rd\, Cincinnati\, 45231\, United States
ATTACH;FMTTYPE=image/jpeg:https://christcovcincy.org/wp-content/uploads/2023/03/ChancelChoirforWeb.jpg
END:VEVENT
BEGIN:VEVENT
DTSTART;TZID=America/New_York:20251120T183000
DTEND;TZID=America/New_York:20251120T200000
DTSTAMP:20260423T170511
CREATED:20250821T193342Z
LAST-MODIFIED:20260417T161411Z
UID:10006993-1763663400-1763668800@christcovcincy.org
SUMMARY:Choir Rehearsal
DESCRIPTION:
URL:https://christcovcincy.org/event/choir-rehearsal-21/2025-11-20/
LOCATION:Christ Covenant Church\, 2191 Struble Rd\, Cincinnati\, 45231\, United States
ATTACH;FMTTYPE=image/jpeg:https://christcovcincy.org/wp-content/uploads/2023/03/ChancelChoirforWeb.jpg
END:VEVENT
BEGIN:VEVENT
DTSTART;TZID=America/New_York:20251115T093000
DTEND;TZID=America/New_York:20251115T110000
DTSTAMP:20260423T170511
CREATED:20251112T191815Z
LAST-MODIFIED:20251120T212019Z
UID:10007346-1763199000-1763204400@christcovcincy.org
SUMMARY:Choir Rehearsal
DESCRIPTION:Saturday morning rehearsal for the Cantata
URL:https://christcovcincy.org/event/choir-rehearsal-22/2025-11-15/
LOCATION:Christ Covenant Church\, 2191 Struble Rd\, Cincinnati\, 45231\, United States
ATTACH;FMTTYPE=image/jpeg:https://christcovcincy.org/wp-content/uploads/2023/03/ChancelChoirforWeb.jpg
END:VEVENT
BEGIN:VEVENT
DTSTART;TZID=America/New_York:20251113T183000
DTEND;TZID=America/New_York:20251113T200000
DTSTAMP:20260423T170511
CREATED:20250821T193342Z
LAST-MODIFIED:20260417T161411Z
UID:10007608-1763058600-1763064000@christcovcincy.org
SUMMARY:Choir Rehearsal
DESCRIPTION:
URL:https://christcovcincy.org/event/choir-rehearsal-21/2025-11-13/
LOCATION:Christ Covenant Church\, 2191 Struble Rd\, Cincinnati\, 45231\, United States
ATTACH;FMTTYPE=image/jpeg:https://christcovcincy.org/wp-content/uploads/2023/03/ChancelChoirforWeb.jpg
END:VEVENT
BEGIN:VEVENT
DTSTART;TZID=America/New_York:20251113T180000
DTEND;TZID=America/New_York:20251113T200000
DTSTAMP:20260423T170511
CREATED:20251113T141615Z
LAST-MODIFIED:20251113T141615Z
UID:10007350-1763056800-1763064000@christcovcincy.org
SUMMARY:Music on the Move (Christmas edition)
DESCRIPTION:Join us to sing carols and share Christmas joy. Choir members and others are welcome. Sing carols for 45 minutes\, then choir will rehearse the anthem for Sunday. \nThe Mercy Residence at Winton Woods (the former St. Francis Seminary)\, 10290 Mill Road\, 45231 \n 
URL:https://christcovcincy.org/event/music-on-the-move-christmas-edition/
ATTACH;FMTTYPE=image/jpeg:https://christcovcincy.org/wp-content/uploads/2024/05/MusicontheMovecalendar.jpg
END:VEVENT
BEGIN:VEVENT
DTSTART;TZID=America/New_York:20251108T093000
DTEND;TZID=America/New_York:20251108T110000
DTSTAMP:20260423T170511
CREATED:20251112T191815Z
LAST-MODIFIED:20251120T212019Z
UID:10007345-1762594200-1762599600@christcovcincy.org
SUMMARY:Choir Rehearsal
DESCRIPTION:Saturday morning rehearsal for the Cantata
URL:https://christcovcincy.org/event/choir-rehearsal-22/2025-11-08/
LOCATION:Christ Covenant Church\, 2191 Struble Rd\, Cincinnati\, 45231\, United States
ATTACH;FMTTYPE=image/jpeg:https://christcovcincy.org/wp-content/uploads/2023/03/ChancelChoirforWeb.jpg
END:VEVENT
BEGIN:VEVENT
DTSTART;TZID=America/New_York:20251106T183000
DTEND;TZID=America/New_York:20251106T200000
DTSTAMP:20260423T170511
CREATED:20250821T193342Z
LAST-MODIFIED:20260417T161411Z
UID:10006991-1762453800-1762459200@christcovcincy.org
SUMMARY:Choir Rehearsal
DESCRIPTION:
URL:https://christcovcincy.org/event/choir-rehearsal-21/2025-11-06/
LOCATION:Christ Covenant Church\, 2191 Struble Rd\, Cincinnati\, 45231\, United States
ATTACH;FMTTYPE=image/jpeg:https://christcovcincy.org/wp-content/uploads/2023/03/ChancelChoirforWeb.jpg
END:VEVENT
BEGIN:VEVENT
DTSTART;TZID=America/New_York:20251106T180000
DTEND;TZID=America/New_York:20251106T210000
DTSTAMP:20260423T170511
CREATED:20251023T184041Z
LAST-MODIFIED:20251030T173507Z
UID:10007328-1762452000-1762462800@christcovcincy.org
SUMMARY:"Christmas" Choir Dinner & Rehearsal
DESCRIPTION:Come to the church office by 6pm to enjoy a festive meal together\, then continue rehearsing music for the Christmas season. Families are welcome to join us for dinner.
URL:https://christcovcincy.org/event/christmas-choir-dinner-rehearsal/
LOCATION:Chapel @ Christ Covenant Church Office\, 2192 Springdale Rd\, Cincinnati\, OH\, 45231
ATTACH;FMTTYPE=image/jpeg:https://christcovcincy.org/wp-content/uploads/2024/10/ana-maltez-M8GmV16gch0-unsplash-scaled.jpg
END:VEVENT
BEGIN:VEVENT
DTSTART;TZID=America/New_York:20251030T183000
DTEND;TZID=America/New_York:20251030T200000
DTSTAMP:20260423T170511
CREATED:20250821T193342Z
LAST-MODIFIED:20260417T161411Z
UID:10007330-1761849000-1761854400@christcovcincy.org
SUMMARY:Choir Rehearsal
DESCRIPTION:
URL:https://christcovcincy.org/event/choir-rehearsal-21/2025-10-30/
LOCATION:Christ Covenant Church\, 2191 Struble Rd\, Cincinnati\, 45231\, United States
ATTACH;FMTTYPE=image/jpeg:https://christcovcincy.org/wp-content/uploads/2023/03/ChancelChoirforWeb.jpg
END:VEVENT
BEGIN:VEVENT
DTSTART;TZID=America/New_York:20251023T183000
DTEND;TZID=America/New_York:20251023T200000
DTSTAMP:20260423T170511
CREATED:20250821T193342Z
LAST-MODIFIED:20260417T161411Z
UID:10006989-1761244200-1761249600@christcovcincy.org
SUMMARY:Choir Rehearsal
DESCRIPTION:
URL:https://christcovcincy.org/event/choir-rehearsal-21/2025-10-23/
LOCATION:Christ Covenant Church\, 2191 Struble Rd\, Cincinnati\, 45231\, United States
ATTACH;FMTTYPE=image/jpeg:https://christcovcincy.org/wp-content/uploads/2023/03/ChancelChoirforWeb.jpg
END:VEVENT
BEGIN:VEVENT
DTSTART;TZID=America/New_York:20251016T183000
DTEND;TZID=America/New_York:20251016T200000
DTSTAMP:20260423T170511
CREATED:20250821T193342Z
LAST-MODIFIED:20260417T161411Z
UID:10006988-1760639400-1760644800@christcovcincy.org
SUMMARY:Choir Rehearsal
DESCRIPTION:
URL:https://christcovcincy.org/event/choir-rehearsal-21/2025-10-16/
LOCATION:Christ Covenant Church\, 2191 Struble Rd\, Cincinnati\, 45231\, United States
ATTACH;FMTTYPE=image/jpeg:https://christcovcincy.org/wp-content/uploads/2023/03/ChancelChoirforWeb.jpg
END:VEVENT
BEGIN:VEVENT
DTSTART;TZID=America/New_York:20251009T183000
DTEND;TZID=America/New_York:20251009T200000
DTSTAMP:20260423T170511
CREATED:20250821T193342Z
LAST-MODIFIED:20260417T161411Z
UID:10006987-1760034600-1760040000@christcovcincy.org
SUMMARY:Choir Rehearsal
DESCRIPTION:
URL:https://christcovcincy.org/event/choir-rehearsal-21/2025-10-09/
LOCATION:Christ Covenant Church\, 2191 Struble Rd\, Cincinnati\, 45231\, United States
ATTACH;FMTTYPE=image/jpeg:https://christcovcincy.org/wp-content/uploads/2023/03/ChancelChoirforWeb.jpg
END:VEVENT
BEGIN:VEVENT
DTSTART;TZID=America/New_York:20251002T183000
DTEND;TZID=America/New_York:20251002T200000
DTSTAMP:20260423T170511
CREATED:20250821T193342Z
LAST-MODIFIED:20260417T161411Z
UID:10006986-1759429800-1759435200@christcovcincy.org
SUMMARY:Choir Rehearsal
DESCRIPTION:
URL:https://christcovcincy.org/event/choir-rehearsal-21/2025-10-02/
LOCATION:Christ Covenant Church\, 2191 Struble Rd\, Cincinnati\, 45231\, United States
ATTACH;FMTTYPE=image/jpeg:https://christcovcincy.org/wp-content/uploads/2023/03/ChancelChoirforWeb.jpg
END:VEVENT
BEGIN:VEVENT
DTSTART;TZID=America/New_York:20250925T183000
DTEND;TZID=America/New_York:20250925T200000
DTSTAMP:20260423T170511
CREATED:20250821T193342Z
LAST-MODIFIED:20260417T161411Z
UID:10006985-1758825000-1758830400@christcovcincy.org
SUMMARY:Choir Rehearsal
DESCRIPTION:
URL:https://christcovcincy.org/event/choir-rehearsal-21/2025-09-25/
LOCATION:Christ Covenant Church\, 2191 Struble Rd\, Cincinnati\, 45231\, United States
ATTACH;FMTTYPE=image/jpeg:https://christcovcincy.org/wp-content/uploads/2023/03/ChancelChoirforWeb.jpg
END:VEVENT
END:VCALENDAR