BEGIN:VCALENDAR
VERSION:2.0
PRODID:-//Christ Covenant Church - ECPv6.15.20//NONSGML v1.0//EN
CALSCALE:GREGORIAN
METHOD:PUBLISH
X-ORIGINAL-URL:https://christcovcincy.org
X-WR-CALDESC:Events for Christ Covenant Church
REFRESH-INTERVAL;VALUE=DURATION:PT1H
X-Robots-Tag:noindex
X-PUBLISHED-TTL:PT1H
BEGIN:VTIMEZONE
TZID:America/New_York
BEGIN:DAYLIGHT
TZOFFSETFROM:-0500
TZOFFSETTO:-0400
TZNAME:EDT
DTSTART:20240310T070000
END:DAYLIGHT
BEGIN:STANDARD
TZOFFSETFROM:-0400
TZOFFSETTO:-0500
TZNAME:EST
DTSTART:20241103T060000
END:STANDARD
BEGIN:DAYLIGHT
TZOFFSETFROM:-0500
TZOFFSETTO:-0400
TZNAME:EDT
DTSTART:20250309T070000
END:DAYLIGHT
BEGIN:STANDARD
TZOFFSETFROM:-0400
TZOFFSETTO:-0500
TZNAME:EST
DTSTART:20251102T060000
END:STANDARD
BEGIN:DAYLIGHT
TZOFFSETFROM:-0500
TZOFFSETTO:-0400
TZNAME:EDT
DTSTART:20260308T070000
END:DAYLIGHT
BEGIN:STANDARD
TZOFFSETFROM:-0400
TZOFFSETTO:-0500
TZNAME:EST
DTSTART:20261101T060000
END:STANDARD
END:VTIMEZONE
BEGIN:VTIMEZONE
TZID:America/Halifax
BEGIN:DAYLIGHT
TZOFFSETFROM:-0400
TZOFFSETTO:-0300
TZNAME:ADT
DTSTART:20240310T060000
END:DAYLIGHT
BEGIN:STANDARD
TZOFFSETFROM:-0300
TZOFFSETTO:-0400
TZNAME:AST
DTSTART:20241103T050000
END:STANDARD
BEGIN:DAYLIGHT
TZOFFSETFROM:-0400
TZOFFSETTO:-0300
TZNAME:ADT
DTSTART:20250309T060000
END:DAYLIGHT
BEGIN:STANDARD
TZOFFSETFROM:-0300
TZOFFSETTO:-0400
TZNAME:AST
DTSTART:20251102T050000
END:STANDARD
BEGIN:DAYLIGHT
TZOFFSETFROM:-0400
TZOFFSETTO:-0300
TZNAME:ADT
DTSTART:20260308T060000
END:DAYLIGHT
BEGIN:STANDARD
TZOFFSETFROM:-0300
TZOFFSETTO:-0400
TZNAME:AST
DTSTART:20261101T050000
END:STANDARD
END:VTIMEZONE
BEGIN:VEVENT
DTSTART;TZID=America/New_York:20251030T183000
DTEND;TZID=America/New_York:20251030T200000
DTSTAMP:20260423T194008
CREATED:20250821T193342Z
LAST-MODIFIED:20260417T161411Z
UID:10007330-1761849000-1761854400@christcovcincy.org
SUMMARY:Choir Rehearsal
DESCRIPTION:
URL:https://christcovcincy.org/event/choir-rehearsal-21/2025-10-30/
LOCATION:Christ Covenant Church\, 2191 Struble Rd\, Cincinnati\, 45231\, United States
ATTACH;FMTTYPE=image/jpeg:https://christcovcincy.org/wp-content/uploads/2023/03/ChancelChoirforWeb.jpg
END:VEVENT
BEGIN:VEVENT
DTSTART;TZID=America/New_York:20251023T183000
DTEND;TZID=America/New_York:20251023T200000
DTSTAMP:20260423T194008
CREATED:20250821T193342Z
LAST-MODIFIED:20260417T161411Z
UID:10006989-1761244200-1761249600@christcovcincy.org
SUMMARY:Choir Rehearsal
DESCRIPTION:
URL:https://christcovcincy.org/event/choir-rehearsal-21/2025-10-23/
LOCATION:Christ Covenant Church\, 2191 Struble Rd\, Cincinnati\, 45231\, United States
ATTACH;FMTTYPE=image/jpeg:https://christcovcincy.org/wp-content/uploads/2023/03/ChancelChoirforWeb.jpg
END:VEVENT
BEGIN:VEVENT
DTSTART;TZID=America/New_York:20251016T183000
DTEND;TZID=America/New_York:20251016T200000
DTSTAMP:20260423T194008
CREATED:20250821T193342Z
LAST-MODIFIED:20260417T161411Z
UID:10006988-1760639400-1760644800@christcovcincy.org
SUMMARY:Choir Rehearsal
DESCRIPTION:
URL:https://christcovcincy.org/event/choir-rehearsal-21/2025-10-16/
LOCATION:Christ Covenant Church\, 2191 Struble Rd\, Cincinnati\, 45231\, United States
ATTACH;FMTTYPE=image/jpeg:https://christcovcincy.org/wp-content/uploads/2023/03/ChancelChoirforWeb.jpg
END:VEVENT
BEGIN:VEVENT
DTSTART;TZID=America/New_York:20251009T183000
DTEND;TZID=America/New_York:20251009T200000
DTSTAMP:20260423T194008
CREATED:20250821T193342Z
LAST-MODIFIED:20260417T161411Z
UID:10006987-1760034600-1760040000@christcovcincy.org
SUMMARY:Choir Rehearsal
DESCRIPTION:
URL:https://christcovcincy.org/event/choir-rehearsal-21/2025-10-09/
LOCATION:Christ Covenant Church\, 2191 Struble Rd\, Cincinnati\, 45231\, United States
ATTACH;FMTTYPE=image/jpeg:https://christcovcincy.org/wp-content/uploads/2023/03/ChancelChoirforWeb.jpg
END:VEVENT
BEGIN:VEVENT
DTSTART;TZID=America/New_York:20251002T183000
DTEND;TZID=America/New_York:20251002T200000
DTSTAMP:20260423T194008
CREATED:20250821T193342Z
LAST-MODIFIED:20260417T161411Z
UID:10006986-1759429800-1759435200@christcovcincy.org
SUMMARY:Choir Rehearsal
DESCRIPTION:
URL:https://christcovcincy.org/event/choir-rehearsal-21/2025-10-02/
LOCATION:Christ Covenant Church\, 2191 Struble Rd\, Cincinnati\, 45231\, United States
ATTACH;FMTTYPE=image/jpeg:https://christcovcincy.org/wp-content/uploads/2023/03/ChancelChoirforWeb.jpg
END:VEVENT
BEGIN:VEVENT
DTSTART;TZID=America/New_York:20250925T183000
DTEND;TZID=America/New_York:20250925T200000
DTSTAMP:20260423T194008
CREATED:20250821T193342Z
LAST-MODIFIED:20260417T161411Z
UID:10006985-1758825000-1758830400@christcovcincy.org
SUMMARY:Choir Rehearsal
DESCRIPTION:
URL:https://christcovcincy.org/event/choir-rehearsal-21/2025-09-25/
LOCATION:Christ Covenant Church\, 2191 Struble Rd\, Cincinnati\, 45231\, United States
ATTACH;FMTTYPE=image/jpeg:https://christcovcincy.org/wp-content/uploads/2023/03/ChancelChoirforWeb.jpg
END:VEVENT
BEGIN:VEVENT
DTSTART;TZID=America/New_York:20250918T183000
DTEND;TZID=America/New_York:20250918T200000
DTSTAMP:20260423T194008
CREATED:20250821T193342Z
LAST-MODIFIED:20260417T161411Z
UID:10006984-1758220200-1758225600@christcovcincy.org
SUMMARY:Choir Rehearsal
DESCRIPTION:
URL:https://christcovcincy.org/event/choir-rehearsal-21/2025-09-18/
LOCATION:Christ Covenant Church\, 2191 Struble Rd\, Cincinnati\, 45231\, United States
ATTACH;FMTTYPE=image/jpeg:https://christcovcincy.org/wp-content/uploads/2023/03/ChancelChoirforWeb.jpg
END:VEVENT
BEGIN:VEVENT
DTSTART;TZID=America/New_York:20250914T114500
DTEND;TZID=America/New_York:20250914T130000
DTSTAMP:20260423T194008
CREATED:20250910T144907Z
LAST-MODIFIED:20250910T144907Z
UID:10007167-1757850300-1757854800@christcovcincy.org
SUMMARY:Choir & Music Team Picnic
DESCRIPTION:Members of the choir and music teams are invited to enjoy a fall ministry kickoff picnic together
URL:https://christcovcincy.org/event/choir-music-team-picnic/
LOCATION:Christ Covenant picnic and office complex\, 2192 Springdale Rd.\, Cincinnati\, OH\, 45231\, United States
CATEGORIES:fellowships
ATTACH;FMTTYPE=image/jpeg:https://christcovcincy.org/wp-content/uploads/2023/08/cookout.jpg
END:VEVENT
BEGIN:VEVENT
DTSTART;TZID=America/New_York:20250911T183000
DTEND;TZID=America/New_York:20250911T200000
DTSTAMP:20260423T194008
CREATED:20250821T193342Z
LAST-MODIFIED:20260417T161411Z
UID:10006983-1757615400-1757620800@christcovcincy.org
SUMMARY:Choir Rehearsal
DESCRIPTION:
URL:https://christcovcincy.org/event/choir-rehearsal-21/2025-09-11/
LOCATION:Christ Covenant Church\, 2191 Struble Rd\, Cincinnati\, 45231\, United States
ATTACH;FMTTYPE=image/jpeg:https://christcovcincy.org/wp-content/uploads/2023/03/ChancelChoirforWeb.jpg
END:VEVENT
BEGIN:VEVENT
DTSTART;TZID=America/New_York:20250904T183000
DTEND;TZID=America/New_York:20250904T200000
DTSTAMP:20260423T194008
CREATED:20250821T193342Z
LAST-MODIFIED:20260417T161411Z
UID:10006982-1757010600-1757016000@christcovcincy.org
SUMMARY:Choir Rehearsal
DESCRIPTION:
URL:https://christcovcincy.org/event/choir-rehearsal-21/2025-09-04/
LOCATION:Christ Covenant Church\, 2191 Struble Rd\, Cincinnati\, 45231\, United States
ATTACH;FMTTYPE=image/jpeg:https://christcovcincy.org/wp-content/uploads/2023/03/ChancelChoirforWeb.jpg
END:VEVENT
BEGIN:VEVENT
DTSTART;TZID=America/New_York:20250828T183000
DTEND;TZID=America/New_York:20250828T200000
DTSTAMP:20260423T194008
CREATED:20250821T193342Z
LAST-MODIFIED:20260417T161411Z
UID:10006981-1756405800-1756411200@christcovcincy.org
SUMMARY:Choir Rehearsal
DESCRIPTION:
URL:https://christcovcincy.org/event/choir-rehearsal-21/2025-08-28/
LOCATION:Christ Covenant Church\, 2191 Struble Rd\, Cincinnati\, 45231\, United States
ATTACH;FMTTYPE=image/jpeg:https://christcovcincy.org/wp-content/uploads/2023/03/ChancelChoirforWeb.jpg
END:VEVENT
BEGIN:VEVENT
DTSTART;TZID=America/New_York:20250825T175000
DTEND;TZID=America/New_York:20250825T200000
DTSTAMP:20260423T194008
CREATED:20250724T143210Z
LAST-MODIFIED:20250724T143210Z
UID:10006922-1756144200-1756152000@christcovcincy.org
SUMMARY:Music on the Move
DESCRIPTION:This week we will gather in song with Sherry Smith.  Meet at the church office parking lot by 5:50 p.m. to carpool.  We will meet at the Sherry’s home at 6:30 p.m.  Sign up in the foyer\, or contact Steve Aldredge\, Judy Langdon\, or Sue Brown.
URL:https://christcovcincy.org/event/music-on-the-move-11/
CATEGORIES:summer gatherings
ATTACH;FMTTYPE=image/jpeg:https://christcovcincy.org/wp-content/uploads/2024/05/MusicontheMovecalendar.jpg
END:VEVENT
BEGIN:VEVENT
DTSTART;TZID=America/New_York:20250810T140000
DTEND;TZID=America/New_York:20250810T153000
DTSTAMP:20260423T194008
CREATED:20250724T142657Z
LAST-MODIFIED:20250724T142657Z
UID:10006921-1754834400-1754839800@christcovcincy.org
SUMMARY:Music on the Move
DESCRIPTION:This week we will share a special Sunday afternoon time of singing with Don & Mary Ann Harkrader.  Gather in the foyer after worship to carpool to lunch together. We will go to the Harkrader’s together around 2 p.m. following lunch.  Sign up in the foyer\, or contact Steve Aldredge\, Judy Langdon\, or Sue Brown.
URL:https://christcovcincy.org/event/music-on-the-move-10/
CATEGORIES:summer gatherings
ATTACH;FMTTYPE=image/jpeg:https://christcovcincy.org/wp-content/uploads/2024/05/MusicontheMovecalendar.jpg
END:VEVENT
BEGIN:VEVENT
DTSTART;TZID=America/New_York:20250623T175000
DTEND;TZID=America/New_York:20250623T203000
DTSTAMP:20260423T194008
CREATED:20250529T175616Z
LAST-MODIFIED:20250619T154022Z
UID:10006799-1750701000-1750710600@christcovcincy.org
SUMMARY:Music on the Move
DESCRIPTION:Gather with Scooter & Carol Franks and our friends at Maple Knoll Village for a time of fellowship & singing. Meet at the church office parking lot by 5:50 p.m. to carpool or meet inside the building’s entrance (11170 Maple Knoll Terrace) at 6:30 p.m.
URL:https://christcovcincy.org/event/music-on-the-move-6/
ATTACH;FMTTYPE=image/jpeg:https://christcovcincy.org/wp-content/uploads/2024/05/MusicontheMovecalendar.jpg
END:VEVENT
BEGIN:VEVENT
DTSTART;TZID=America/New_York:20250607T093000
DTEND;TZID=America/New_York:20250607T103000
DTSTAMP:20260423T194008
CREATED:20250606T190220Z
LAST-MODIFIED:20250606T190220Z
UID:10006802-1749288600-1749292200@christcovcincy.org
SUMMARY:Choir Rehearsal
DESCRIPTION:An additional rehearsal opportunity for Pentecost music
URL:https://christcovcincy.org/event/choir-rehearsal-20/
LOCATION:Christ Covenant Church\, 2191 Struble Rd\, Cincinnati\, 45231\, United States
ATTACH;FMTTYPE=image/jpeg:https://christcovcincy.org/wp-content/uploads/2023/03/ChancelChoirforWeb.jpg
END:VEVENT
BEGIN:VEVENT
DTSTART;TZID=America/New_York:20250605T174500
DTEND;TZID=America/New_York:20250605T183000
DTSTAMP:20260423T194008
CREATED:20250605T153026Z
LAST-MODIFIED:20250605T153026Z
UID:10006801-1749145500-1749148200@christcovcincy.org
SUMMARY:Choir Rehearsal
DESCRIPTION:Rehearsal in the sanctuary to prepare for Pentecost on June 8
URL:https://christcovcincy.org/event/choir-rehearsal-19/
LOCATION:Christ Covenant Church\, 2191 Struble Rd\, Cincinnati\, 45231\, United States
ATTACH;FMTTYPE=image/jpeg:https://christcovcincy.org/wp-content/uploads/2023/03/ChancelChoirforWeb.jpg
END:VEVENT
BEGIN:VEVENT
DTSTART;TZID=America/Halifax:20250529T183000
DTEND;TZID=America/Halifax:20250529T200000
DTSTAMP:20260423T194008
CREATED:20240822T205437Z
LAST-MODIFIED:20250605T152816Z
UID:10005563-1748543400-1748548800@christcovcincy.org
SUMMARY:Choir Rehearsal
DESCRIPTION:Join us in the sanctuary as we prepare music to lead in Sunday worship services
URL:https://christcovcincy.org/event/choir-rehearsal-12/2025-05-29/
LOCATION:Christ Covenant Church\, 2191 Struble Rd\, Cincinnati\, 45231\, United States
ATTACH;FMTTYPE=image/jpeg:https://christcovcincy.org/wp-content/uploads/2023/03/ChancelChoirforWeb.jpg
END:VEVENT
BEGIN:VEVENT
DTSTART;TZID=America/Halifax:20250522T183000
DTEND;TZID=America/Halifax:20250522T200000
DTSTAMP:20260423T194008
CREATED:20240822T205437Z
LAST-MODIFIED:20250605T152816Z
UID:10005562-1747938600-1747944000@christcovcincy.org
SUMMARY:Choir Rehearsal
DESCRIPTION:Join us in the sanctuary as we prepare music to lead in Sunday worship services
URL:https://christcovcincy.org/event/choir-rehearsal-12/2025-05-22/
LOCATION:Christ Covenant Church\, 2191 Struble Rd\, Cincinnati\, 45231\, United States
ATTACH;FMTTYPE=image/jpeg:https://christcovcincy.org/wp-content/uploads/2023/03/ChancelChoirforWeb.jpg
END:VEVENT
BEGIN:VEVENT
DTSTART;TZID=America/Halifax:20250515T183000
DTEND;TZID=America/Halifax:20250515T200000
DTSTAMP:20260423T194008
CREATED:20240822T205437Z
LAST-MODIFIED:20250605T152816Z
UID:10005561-1747333800-1747339200@christcovcincy.org
SUMMARY:Choir Rehearsal
DESCRIPTION:Join us in the sanctuary as we prepare music to lead in Sunday worship services
URL:https://christcovcincy.org/event/choir-rehearsal-12/2025-05-15/
LOCATION:Christ Covenant Church\, 2191 Struble Rd\, Cincinnati\, 45231\, United States
ATTACH;FMTTYPE=image/jpeg:https://christcovcincy.org/wp-content/uploads/2023/03/ChancelChoirforWeb.jpg
END:VEVENT
BEGIN:VEVENT
DTSTART;TZID=America/Halifax:20250508T183000
DTEND;TZID=America/Halifax:20250508T200000
DTSTAMP:20260423T194008
CREATED:20240822T205437Z
LAST-MODIFIED:20250605T152816Z
UID:10005560-1746729000-1746734400@christcovcincy.org
SUMMARY:Choir Rehearsal
DESCRIPTION:Join us in the sanctuary as we prepare music to lead in Sunday worship services
URL:https://christcovcincy.org/event/choir-rehearsal-12/2025-05-08/
LOCATION:Christ Covenant Church\, 2191 Struble Rd\, Cincinnati\, 45231\, United States
ATTACH;FMTTYPE=image/jpeg:https://christcovcincy.org/wp-content/uploads/2023/03/ChancelChoirforWeb.jpg
END:VEVENT
BEGIN:VEVENT
DTSTART;TZID=America/Halifax:20250501T183000
DTEND;TZID=America/Halifax:20250501T200000
DTSTAMP:20260423T194008
CREATED:20240822T205437Z
LAST-MODIFIED:20250605T152816Z
UID:10005559-1746124200-1746129600@christcovcincy.org
SUMMARY:Choir Rehearsal
DESCRIPTION:Join us in the sanctuary as we prepare music to lead in Sunday worship services
URL:https://christcovcincy.org/event/choir-rehearsal-12/2025-05-01/
LOCATION:Christ Covenant Church\, 2191 Struble Rd\, Cincinnati\, 45231\, United States
ATTACH;FMTTYPE=image/jpeg:https://christcovcincy.org/wp-content/uploads/2023/03/ChancelChoirforWeb.jpg
END:VEVENT
BEGIN:VEVENT
DTSTART;TZID=America/Halifax:20250419T090000
DTEND;TZID=America/Halifax:20250419T130000
DTSTAMP:20260423T194008
CREATED:20250320T194105Z
LAST-MODIFIED:20250320T194105Z
UID:10005797-1745053200-1745067600@christcovcincy.org
SUMMARY:Choir Rehearsal
DESCRIPTION:An extra rehearsal opportunity to prepare music for Holy Week services
URL:https://christcovcincy.org/event/choir-rehearsal-17/
LOCATION:Christ Covenant Church\, 2191 Struble Rd\, Cincinnati\, 45231\, United States
ATTACH;FMTTYPE=image/jpeg:https://christcovcincy.org/wp-content/uploads/2023/03/ChancelChoirforWeb.jpg
END:VEVENT
BEGIN:VEVENT
DTSTART;TZID=America/Halifax:20250413T120000
DTEND;TZID=America/Halifax:20250413T133000
DTSTAMP:20260423T194008
CREATED:20250320T194240Z
LAST-MODIFIED:20250320T194240Z
UID:10005800-1744545600-1744551000@christcovcincy.org
SUMMARY:Choir Rehearsal
DESCRIPTION:An extra rehearsal opportunity to prepare music for Holy Week services
URL:https://christcovcincy.org/event/choir-rehearsal-18/2025-04-13/
LOCATION:Christ Covenant Church\, 2191 Struble Rd\, Cincinnati\, 45231\, United States
ATTACH;FMTTYPE=image/jpeg:https://christcovcincy.org/wp-content/uploads/2023/03/ChancelChoirforWeb.jpg
END:VEVENT
BEGIN:VEVENT
DTSTART;TZID=America/Halifax:20250412T090000
DTEND;TZID=America/Halifax:20250412T120000
DTSTAMP:20260423T194008
CREATED:20250320T193953Z
LAST-MODIFIED:20250320T193953Z
UID:10005796-1744448400-1744459200@christcovcincy.org
SUMMARY:Choir Rehearsal
DESCRIPTION:An extra rehearsal opportunity to prepare music for Holy Week services
URL:https://christcovcincy.org/event/choir-rehearsal-16/2025-04-12/
LOCATION:Christ Covenant Church\, 2191 Struble Rd\, Cincinnati\, 45231\, United States
ATTACH;FMTTYPE=image/jpeg:https://christcovcincy.org/wp-content/uploads/2023/03/ChancelChoirforWeb.jpg
END:VEVENT
BEGIN:VEVENT
DTSTART;TZID=America/Halifax:20250410T183000
DTEND;TZID=America/Halifax:20250410T200000
DTSTAMP:20260423T194008
CREATED:20240822T205437Z
LAST-MODIFIED:20250605T152816Z
UID:10005557-1744309800-1744315200@christcovcincy.org
SUMMARY:Choir Rehearsal
DESCRIPTION:Join us in the sanctuary as we prepare music to lead in Sunday worship services
URL:https://christcovcincy.org/event/choir-rehearsal-12/2025-04-10/
LOCATION:Christ Covenant Church\, 2191 Struble Rd\, Cincinnati\, 45231\, United States
ATTACH;FMTTYPE=image/jpeg:https://christcovcincy.org/wp-content/uploads/2023/03/ChancelChoirforWeb.jpg
END:VEVENT
BEGIN:VEVENT
DTSTART;TZID=America/Halifax:20250406T120000
DTEND;TZID=America/Halifax:20250406T133000
DTSTAMP:20260423T194008
CREATED:20250320T194240Z
LAST-MODIFIED:20250320T194240Z
UID:10005799-1743940800-1743946200@christcovcincy.org
SUMMARY:Choir Rehearsal
DESCRIPTION:An extra rehearsal opportunity to prepare music for Holy Week services
URL:https://christcovcincy.org/event/choir-rehearsal-18/2025-04-06/
LOCATION:Christ Covenant Church\, 2191 Struble Rd\, Cincinnati\, 45231\, United States
ATTACH;FMTTYPE=image/jpeg:https://christcovcincy.org/wp-content/uploads/2023/03/ChancelChoirforWeb.jpg
END:VEVENT
BEGIN:VEVENT
DTSTART;TZID=America/Halifax:20250405T090000
DTEND;TZID=America/Halifax:20250405T120000
DTSTAMP:20260423T194008
CREATED:20250320T193953Z
LAST-MODIFIED:20250320T193953Z
UID:10005795-1743843600-1743854400@christcovcincy.org
SUMMARY:Choir Rehearsal
DESCRIPTION:An extra rehearsal opportunity to prepare music for Holy Week services
URL:https://christcovcincy.org/event/choir-rehearsal-16/2025-04-05/
LOCATION:Christ Covenant Church\, 2191 Struble Rd\, Cincinnati\, 45231\, United States
ATTACH;FMTTYPE=image/jpeg:https://christcovcincy.org/wp-content/uploads/2023/03/ChancelChoirforWeb.jpg
END:VEVENT
BEGIN:VEVENT
DTSTART;TZID=America/Halifax:20250403T183000
DTEND;TZID=America/Halifax:20250403T200000
DTSTAMP:20260423T194008
CREATED:20240822T205437Z
LAST-MODIFIED:20250605T152816Z
UID:10005556-1743705000-1743710400@christcovcincy.org
SUMMARY:Choir Rehearsal
DESCRIPTION:Join us in the sanctuary as we prepare music to lead in Sunday worship services
URL:https://christcovcincy.org/event/choir-rehearsal-12/2025-04-03/
LOCATION:Christ Covenant Church\, 2191 Struble Rd\, Cincinnati\, 45231\, United States
ATTACH;FMTTYPE=image/jpeg:https://christcovcincy.org/wp-content/uploads/2023/03/ChancelChoirforWeb.jpg
END:VEVENT
BEGIN:VEVENT
DTSTART;TZID=America/Halifax:20250330T120000
DTEND;TZID=America/Halifax:20250330T133000
DTSTAMP:20260423T194008
CREATED:20250320T194240Z
LAST-MODIFIED:20250320T194240Z
UID:10005798-1743336000-1743341400@christcovcincy.org
SUMMARY:Choir Rehearsal
DESCRIPTION:An extra rehearsal opportunity to prepare music for Holy Week services
URL:https://christcovcincy.org/event/choir-rehearsal-18/2025-03-30/
LOCATION:Christ Covenant Church\, 2191 Struble Rd\, Cincinnati\, 45231\, United States
ATTACH;FMTTYPE=image/jpeg:https://christcovcincy.org/wp-content/uploads/2023/03/ChancelChoirforWeb.jpg
END:VEVENT
BEGIN:VEVENT
DTSTART;TZID=America/Halifax:20250329T090000
DTEND;TZID=America/Halifax:20250329T120000
DTSTAMP:20260423T194008
CREATED:20250320T193953Z
LAST-MODIFIED:20250320T193953Z
UID:10005794-1743238800-1743249600@christcovcincy.org
SUMMARY:Choir Rehearsal
DESCRIPTION:An extra rehearsal opportunity to prepare music for Holy Week services
URL:https://christcovcincy.org/event/choir-rehearsal-16/2025-03-29/
LOCATION:Christ Covenant Church\, 2191 Struble Rd\, Cincinnati\, 45231\, United States
ATTACH;FMTTYPE=image/jpeg:https://christcovcincy.org/wp-content/uploads/2023/03/ChancelChoirforWeb.jpg
END:VEVENT
END:VCALENDAR