BEGIN:VCALENDAR
VERSION:2.0
PRODID:-//Christ Covenant Church - ECPv6.15.20//NONSGML v1.0//EN
CALSCALE:GREGORIAN
METHOD:PUBLISH
X-WR-CALNAME:Christ Covenant Church
X-ORIGINAL-URL:https://christcovcincy.org
X-WR-CALDESC:Events for Christ Covenant Church
REFRESH-INTERVAL;VALUE=DURATION:PT1H
X-Robots-Tag:noindex
X-PUBLISHED-TTL:PT1H
BEGIN:VTIMEZONE
TZID:America/Halifax
BEGIN:DAYLIGHT
TZOFFSETFROM:-0400
TZOFFSETTO:-0300
TZNAME:ADT
DTSTART:20230312T060000
END:DAYLIGHT
BEGIN:STANDARD
TZOFFSETFROM:-0300
TZOFFSETTO:-0400
TZNAME:AST
DTSTART:20231105T050000
END:STANDARD
BEGIN:DAYLIGHT
TZOFFSETFROM:-0400
TZOFFSETTO:-0300
TZNAME:ADT
DTSTART:20240310T060000
END:DAYLIGHT
BEGIN:STANDARD
TZOFFSETFROM:-0300
TZOFFSETTO:-0400
TZNAME:AST
DTSTART:20241103T050000
END:STANDARD
BEGIN:DAYLIGHT
TZOFFSETFROM:-0400
TZOFFSETTO:-0300
TZNAME:ADT
DTSTART:20250309T060000
END:DAYLIGHT
BEGIN:STANDARD
TZOFFSETFROM:-0300
TZOFFSETTO:-0400
TZNAME:AST
DTSTART:20251102T050000
END:STANDARD
BEGIN:DAYLIGHT
TZOFFSETFROM:-0400
TZOFFSETTO:-0300
TZNAME:ADT
DTSTART:20260308T060000
END:DAYLIGHT
BEGIN:STANDARD
TZOFFSETFROM:-0300
TZOFFSETTO:-0400
TZNAME:AST
DTSTART:20261101T050000
END:STANDARD
END:VTIMEZONE
BEGIN:VEVENT
DTSTART;TZID=America/Halifax:20250220T183000
DTEND;TZID=America/Halifax:20250220T200000
DTSTAMP:20260423T231611
CREATED:20240822T205437Z
LAST-MODIFIED:20250605T152816Z
UID:10005550-1740076200-1740081600@christcovcincy.org
SUMMARY:Choir Rehearsal
DESCRIPTION:Join us in the sanctuary as we prepare music to lead in Sunday worship services
URL:https://christcovcincy.org/event/choir-rehearsal-12/2025-02-20/
LOCATION:Christ Covenant Church\, 2191 Struble Rd\, Cincinnati\, 45231\, United States
ATTACH;FMTTYPE=image/jpeg:https://christcovcincy.org/wp-content/uploads/2023/03/ChancelChoirforWeb.jpg
END:VEVENT
BEGIN:VEVENT
DTSTART;TZID=America/Halifax:20250213T183000
DTEND;TZID=America/Halifax:20250213T200000
DTSTAMP:20260423T231611
CREATED:20240822T205437Z
LAST-MODIFIED:20250605T152816Z
UID:10005549-1739471400-1739476800@christcovcincy.org
SUMMARY:Choir Rehearsal
DESCRIPTION:Join us in the sanctuary as we prepare music to lead in Sunday worship services
URL:https://christcovcincy.org/event/choir-rehearsal-12/2025-02-13/
LOCATION:Christ Covenant Church\, 2191 Struble Rd\, Cincinnati\, 45231\, United States
ATTACH;FMTTYPE=image/jpeg:https://christcovcincy.org/wp-content/uploads/2023/03/ChancelChoirforWeb.jpg
END:VEVENT
BEGIN:VEVENT
DTSTART;TZID=America/Halifax:20250206T183000
DTEND;TZID=America/Halifax:20250206T200000
DTSTAMP:20260423T231611
CREATED:20240822T205437Z
LAST-MODIFIED:20250206T163716Z
UID:10005607-1738866600-1738872000@christcovcincy.org
SUMMARY:Choir Rehearsal CANCELLED
DESCRIPTION:No rehearsal this week as Steve is out of town
URL:https://christcovcincy.org/event/choir-rehearsal-12-2025-02-06/
LOCATION:Christ Covenant Church\, 2191 Struble Rd\, Cincinnati\, 45231\, United States
ATTACH;FMTTYPE=image/jpeg:https://christcovcincy.org/wp-content/uploads/2023/03/ChancelChoirforWeb.jpg
END:VEVENT
BEGIN:VEVENT
DTSTART;TZID=America/Halifax:20250130T183000
DTEND;TZID=America/Halifax:20250130T200000
DTSTAMP:20260423T231611
CREATED:20240822T205437Z
LAST-MODIFIED:20250605T152816Z
UID:10005548-1738261800-1738267200@christcovcincy.org
SUMMARY:Choir Rehearsal
DESCRIPTION:Join us in the sanctuary as we prepare music to lead in Sunday worship services
URL:https://christcovcincy.org/event/choir-rehearsal-12/2025-01-30/
LOCATION:Christ Covenant Church\, 2191 Struble Rd\, Cincinnati\, 45231\, United States
ATTACH;FMTTYPE=image/jpeg:https://christcovcincy.org/wp-content/uploads/2023/03/ChancelChoirforWeb.jpg
END:VEVENT
BEGIN:VEVENT
DTSTART;TZID=America/Halifax:20250123T183000
DTEND;TZID=America/Halifax:20250123T200000
DTSTAMP:20260423T231611
CREATED:20240822T205437Z
LAST-MODIFIED:20250605T152816Z
UID:10005547-1737657000-1737662400@christcovcincy.org
SUMMARY:Choir Rehearsal
DESCRIPTION:Join us in the sanctuary as we prepare music to lead in Sunday worship services
URL:https://christcovcincy.org/event/choir-rehearsal-12/2025-01-23/
LOCATION:Christ Covenant Church\, 2191 Struble Rd\, Cincinnati\, 45231\, United States
ATTACH;FMTTYPE=image/jpeg:https://christcovcincy.org/wp-content/uploads/2023/03/ChancelChoirforWeb.jpg
END:VEVENT
BEGIN:VEVENT
DTSTART;TZID=America/Halifax:20250116T183000
DTEND;TZID=America/Halifax:20250116T200000
DTSTAMP:20260423T231611
CREATED:20240822T205437Z
LAST-MODIFIED:20250605T152816Z
UID:10005546-1737052200-1737057600@christcovcincy.org
SUMMARY:Choir Rehearsal
DESCRIPTION:Join us in the sanctuary as we prepare music to lead in Sunday worship services
URL:https://christcovcincy.org/event/choir-rehearsal-12/2025-01-16/
LOCATION:Christ Covenant Church\, 2191 Struble Rd\, Cincinnati\, 45231\, United States
ATTACH;FMTTYPE=image/jpeg:https://christcovcincy.org/wp-content/uploads/2023/03/ChancelChoirforWeb.jpg
END:VEVENT
BEGIN:VEVENT
DTSTART;TZID=America/Halifax:20250109T183000
DTEND;TZID=America/Halifax:20250109T200000
DTSTAMP:20260423T231611
CREATED:20240822T205437Z
LAST-MODIFIED:20250605T152816Z
UID:10005545-1736447400-1736452800@christcovcincy.org
SUMMARY:Choir Rehearsal
DESCRIPTION:Join us in the sanctuary as we prepare music to lead in Sunday worship services
URL:https://christcovcincy.org/event/choir-rehearsal-12/2025-01-09/
LOCATION:Christ Covenant Church\, 2191 Struble Rd\, Cincinnati\, 45231\, United States
ATTACH;FMTTYPE=image/jpeg:https://christcovcincy.org/wp-content/uploads/2023/03/ChancelChoirforWeb.jpg
END:VEVENT
BEGIN:VEVENT
DTSTART;TZID=America/Halifax:20241221T093000
DTEND;TZID=America/Halifax:20241221T120000
DTSTAMP:20260423T231611
CREATED:20241010T144651Z
LAST-MODIFIED:20241126T212912Z
UID:10005623-1734773400-1734782400@christcovcincy.org
SUMMARY:Cantata Dress Rehearsal
DESCRIPTION:Singers\, Instrumentalists\, Joyful Noise\, Covenant Chimes\, Readers. See Church Life for further details.
URL:https://christcovcincy.org/event/cantata-dress-rehearsal-2/
LOCATION:Christ Covenant Church\, 2191 Struble Rd\, Cincinnati\, 45231\, United States
ATTACH;FMTTYPE=image/jpeg:https://christcovcincy.org/wp-content/uploads/2022/11/scott-kelley-vNLZFT8Kcg-unsplash-scaled.jpg
END:VEVENT
BEGIN:VEVENT
DTSTART;TZID=America/Halifax:20241219T183000
DTEND;TZID=America/Halifax:20241219T200000
DTSTAMP:20260423T231611
CREATED:20240822T205437Z
LAST-MODIFIED:20250605T152816Z
UID:10005544-1734633000-1734638400@christcovcincy.org
SUMMARY:Choir Rehearsal
DESCRIPTION:Join us in the sanctuary as we prepare music to lead in Sunday worship services
URL:https://christcovcincy.org/event/choir-rehearsal-12/2024-12-19/
LOCATION:Christ Covenant Church\, 2191 Struble Rd\, Cincinnati\, 45231\, United States
ATTACH;FMTTYPE=image/jpeg:https://christcovcincy.org/wp-content/uploads/2023/03/ChancelChoirforWeb.jpg
END:VEVENT
BEGIN:VEVENT
DTSTART;TZID=America/Halifax:20241215T183000
DTEND;TZID=America/Halifax:20241215T200000
DTSTAMP:20260423T231611
CREATED:20241113T181649Z
LAST-MODIFIED:20241126T212551Z
UID:10005669-1734287400-1734292800@christcovcincy.org
SUMMARY:Choir Rehearsal
DESCRIPTION:Sunday EVENING rehearsal for the Cantata – NOTE LATER START TIME!
URL:https://christcovcincy.org/event/choir-rehearsal-14-2024-12-15/
LOCATION:Christ Covenant Church\, 2191 Struble Rd\, Cincinnati\, 45231\, United States
ATTACH;FMTTYPE=image/jpeg:https://christcovcincy.org/wp-content/uploads/2023/03/ChancelChoirforWeb.jpg
END:VEVENT
BEGIN:VEVENT
DTSTART;TZID=America/Halifax:20241214T080000
DTEND;TZID=America/Halifax:20241214T093000
DTSTAMP:20260423T231611
CREATED:20241010T144041Z
LAST-MODIFIED:20241126T212321Z
UID:10005622-1734163200-1734168600@christcovcincy.org
SUMMARY:Choir Rehearsal
DESCRIPTION:Saturday morning rehearsal for the Cantata – NOTE EARLIER START TIME!
URL:https://christcovcincy.org/event/choir-rehearsal-13-2024-12-14/
LOCATION:Christ Covenant Church\, 2191 Struble Rd\, Cincinnati\, 45231\, United States
ATTACH;FMTTYPE=image/jpeg:https://christcovcincy.org/wp-content/uploads/2023/03/ChancelChoirforWeb.jpg
END:VEVENT
BEGIN:VEVENT
DTSTART;TZID=America/Halifax:20241212T183000
DTEND;TZID=America/Halifax:20241212T200000
DTSTAMP:20260423T231611
CREATED:20240822T205437Z
LAST-MODIFIED:20250605T152816Z
UID:10005543-1734028200-1734033600@christcovcincy.org
SUMMARY:Choir Rehearsal
DESCRIPTION:Join us in the sanctuary as we prepare music to lead in Sunday worship services
URL:https://christcovcincy.org/event/choir-rehearsal-12/2024-12-12/
LOCATION:Christ Covenant Church\, 2191 Struble Rd\, Cincinnati\, 45231\, United States
ATTACH;FMTTYPE=image/jpeg:https://christcovcincy.org/wp-content/uploads/2023/03/ChancelChoirforWeb.jpg
END:VEVENT
BEGIN:VEVENT
DTSTART;TZID=America/Halifax:20241208T120000
DTEND;TZID=America/Halifax:20241208T140000
DTSTAMP:20260423T231611
CREATED:20241113T181649Z
LAST-MODIFIED:20241113T181649Z
UID:10005668-1733659200-1733666400@christcovcincy.org
SUMMARY:Choir Rehearsal
DESCRIPTION:Rehearse music for the Christmas season\, including the Cantata.  Steve will provide a quick lunch immediately following the service.
URL:https://christcovcincy.org/event/choir-rehearsal-14/2024-12-08/
LOCATION:Christ Covenant Church\, 2191 Struble Rd\, Cincinnati\, 45231\, United States
ATTACH;FMTTYPE=image/jpeg:https://christcovcincy.org/wp-content/uploads/2023/03/ChancelChoirforWeb.jpg
END:VEVENT
BEGIN:VEVENT
DTSTART;TZID=America/Halifax:20241207T160000
DTEND;TZID=America/Halifax:20241207T173000
DTSTAMP:20260423T231611
CREATED:20241010T144041Z
LAST-MODIFIED:20241126T212123Z
UID:10005621-1733587200-1733592600@christcovcincy.org
SUMMARY:Choir Rehearsal
DESCRIPTION:Saturday AFTERNOON rehearsal for the Cantata
URL:https://christcovcincy.org/event/choir-rehearsal-13-2024-12-07/
LOCATION:Christ Covenant Church\, 2191 Struble Rd\, Cincinnati\, 45231\, United States
ATTACH;FMTTYPE=image/jpeg:https://christcovcincy.org/wp-content/uploads/2023/03/ChancelChoirforWeb.jpg
END:VEVENT
BEGIN:VEVENT
DTSTART;TZID=America/Halifax:20241205T183000
DTEND;TZID=America/Halifax:20241205T200000
DTSTAMP:20260423T231611
CREATED:20240822T205437Z
LAST-MODIFIED:20250605T152816Z
UID:10005542-1733423400-1733428800@christcovcincy.org
SUMMARY:Choir Rehearsal
DESCRIPTION:Join us in the sanctuary as we prepare music to lead in Sunday worship services
URL:https://christcovcincy.org/event/choir-rehearsal-12/2024-12-05/
LOCATION:Christ Covenant Church\, 2191 Struble Rd\, Cincinnati\, 45231\, United States
ATTACH;FMTTYPE=image/jpeg:https://christcovcincy.org/wp-content/uploads/2023/03/ChancelChoirforWeb.jpg
END:VEVENT
BEGIN:VEVENT
DTSTART;TZID=America/Halifax:20241201T120000
DTEND;TZID=America/Halifax:20241201T140000
DTSTAMP:20260423T231611
CREATED:20241113T181649Z
LAST-MODIFIED:20241113T181649Z
UID:10005667-1733054400-1733061600@christcovcincy.org
SUMMARY:Choir Rehearsal
DESCRIPTION:Rehearse music for the Christmas season\, including the Cantata.  Steve will provide a quick lunch immediately following the service.
URL:https://christcovcincy.org/event/choir-rehearsal-14/2024-12-01/
LOCATION:Christ Covenant Church\, 2191 Struble Rd\, Cincinnati\, 45231\, United States
ATTACH;FMTTYPE=image/jpeg:https://christcovcincy.org/wp-content/uploads/2023/03/ChancelChoirforWeb.jpg
END:VEVENT
BEGIN:VEVENT
DTSTART;TZID=America/Halifax:20241123T093000
DTEND;TZID=America/Halifax:20241123T110000
DTSTAMP:20260423T231611
CREATED:20241010T144041Z
LAST-MODIFIED:20241010T144041Z
UID:10005620-1732354200-1732359600@christcovcincy.org
SUMMARY:Choir Rehearsal
DESCRIPTION:Saturday morning rehearsal for the Cantata
URL:https://christcovcincy.org/event/choir-rehearsal-13/2024-11-23/
LOCATION:Christ Covenant Church\, 2191 Struble Rd\, Cincinnati\, 45231\, United States
ATTACH;FMTTYPE=image/jpeg:https://christcovcincy.org/wp-content/uploads/2023/03/ChancelChoirforWeb.jpg
END:VEVENT
BEGIN:VEVENT
DTSTART;TZID=America/Halifax:20241121T183000
DTEND;TZID=America/Halifax:20241121T200000
DTSTAMP:20260423T231611
CREATED:20240822T205437Z
LAST-MODIFIED:20250605T152816Z
UID:10005541-1732213800-1732219200@christcovcincy.org
SUMMARY:Choir Rehearsal
DESCRIPTION:Join us in the sanctuary as we prepare music to lead in Sunday worship services
URL:https://christcovcincy.org/event/choir-rehearsal-12/2024-11-21/
LOCATION:Christ Covenant Church\, 2191 Struble Rd\, Cincinnati\, 45231\, United States
ATTACH;FMTTYPE=image/jpeg:https://christcovcincy.org/wp-content/uploads/2023/03/ChancelChoirforWeb.jpg
END:VEVENT
BEGIN:VEVENT
DTSTART;TZID=America/Halifax:20241116T093000
DTEND;TZID=America/Halifax:20241116T110000
DTSTAMP:20260423T231611
CREATED:20241010T144041Z
LAST-MODIFIED:20241010T144041Z
UID:10005619-1731749400-1731754800@christcovcincy.org
SUMMARY:Choir Rehearsal
DESCRIPTION:Saturday morning rehearsal for the Cantata
URL:https://christcovcincy.org/event/choir-rehearsal-13/2024-11-16/
LOCATION:Christ Covenant Church\, 2191 Struble Rd\, Cincinnati\, 45231\, United States
ATTACH;FMTTYPE=image/jpeg:https://christcovcincy.org/wp-content/uploads/2023/03/ChancelChoirforWeb.jpg
END:VEVENT
BEGIN:VEVENT
DTSTART;TZID=America/Halifax:20241114T183000
DTEND;TZID=America/Halifax:20241114T200000
DTSTAMP:20260423T231611
CREATED:20240822T205437Z
LAST-MODIFIED:20250605T152816Z
UID:10005540-1731609000-1731614400@christcovcincy.org
SUMMARY:Choir Rehearsal
DESCRIPTION:Join us in the sanctuary as we prepare music to lead in Sunday worship services
URL:https://christcovcincy.org/event/choir-rehearsal-12/2024-11-14/
LOCATION:Christ Covenant Church\, 2191 Struble Rd\, Cincinnati\, 45231\, United States
ATTACH;FMTTYPE=image/jpeg:https://christcovcincy.org/wp-content/uploads/2023/03/ChancelChoirforWeb.jpg
END:VEVENT
BEGIN:VEVENT
DTSTART;TZID=America/Halifax:20241109T093000
DTEND;TZID=America/Halifax:20241109T110000
DTSTAMP:20260423T231611
CREATED:20241010T144041Z
LAST-MODIFIED:20241010T144041Z
UID:10005618-1731144600-1731150000@christcovcincy.org
SUMMARY:Choir Rehearsal
DESCRIPTION:Saturday morning rehearsal for the Cantata
URL:https://christcovcincy.org/event/choir-rehearsal-13/2024-11-09/
LOCATION:Christ Covenant Church\, 2191 Struble Rd\, Cincinnati\, 45231\, United States
ATTACH;FMTTYPE=image/jpeg:https://christcovcincy.org/wp-content/uploads/2023/03/ChancelChoirforWeb.jpg
END:VEVENT
BEGIN:VEVENT
DTSTART;TZID=America/Halifax:20241107T180000
DTEND;TZID=America/Halifax:20241107T210000
DTSTAMP:20260423T231611
CREATED:20241010T143602Z
LAST-MODIFIED:20241010T143602Z
UID:10005617-1731002400-1731013200@christcovcincy.org
SUMMARY:"Christmas in November" Choir Dinner
DESCRIPTION:Come to the church office by 6pm to enjoy a festive meal together\, then continue rehearsing music for the Christmas season. Families are welcome to join us for dinner.
URL:https://christcovcincy.org/event/christmas-in-november-choir-dinner/
LOCATION:Christ Covenant Church Office\, 2192 Springdale Road\, Cincinnati\, OH\, 45231
ATTACH;FMTTYPE=image/jpeg:https://christcovcincy.org/wp-content/uploads/2024/10/ana-maltez-M8GmV16gch0-unsplash-scaled.jpg
END:VEVENT
BEGIN:VEVENT
DTSTART;TZID=America/Halifax:20241031T183000
DTEND;TZID=America/Halifax:20241031T200000
DTSTAMP:20260423T231611
CREATED:20240822T205437Z
LAST-MODIFIED:20250605T152816Z
UID:10005539-1730399400-1730404800@christcovcincy.org
SUMMARY:Choir Rehearsal
DESCRIPTION:Join us in the sanctuary as we prepare music to lead in Sunday worship services
URL:https://christcovcincy.org/event/choir-rehearsal-12/2024-10-31/
LOCATION:Christ Covenant Church\, 2191 Struble Rd\, Cincinnati\, 45231\, United States
ATTACH;FMTTYPE=image/jpeg:https://christcovcincy.org/wp-content/uploads/2023/03/ChancelChoirforWeb.jpg
END:VEVENT
BEGIN:VEVENT
DTSTART;TZID=America/Halifax:20241024T183000
DTEND;TZID=America/Halifax:20241024T200000
DTSTAMP:20260423T231611
CREATED:20240822T205437Z
LAST-MODIFIED:20250605T152816Z
UID:10005538-1729794600-1729800000@christcovcincy.org
SUMMARY:Choir Rehearsal
DESCRIPTION:Join us in the sanctuary as we prepare music to lead in Sunday worship services
URL:https://christcovcincy.org/event/choir-rehearsal-12/2024-10-24/
LOCATION:Christ Covenant Church\, 2191 Struble Rd\, Cincinnati\, 45231\, United States
ATTACH;FMTTYPE=image/jpeg:https://christcovcincy.org/wp-content/uploads/2023/03/ChancelChoirforWeb.jpg
END:VEVENT
BEGIN:VEVENT
DTSTART;TZID=America/Halifax:20241017T183000
DTEND;TZID=America/Halifax:20241017T200000
DTSTAMP:20260423T231611
CREATED:20240822T205437Z
LAST-MODIFIED:20250605T152816Z
UID:10005537-1729189800-1729195200@christcovcincy.org
SUMMARY:Choir Rehearsal
DESCRIPTION:Join us in the sanctuary as we prepare music to lead in Sunday worship services
URL:https://christcovcincy.org/event/choir-rehearsal-12/2024-10-17/
LOCATION:Christ Covenant Church\, 2191 Struble Rd\, Cincinnati\, 45231\, United States
ATTACH;FMTTYPE=image/jpeg:https://christcovcincy.org/wp-content/uploads/2023/03/ChancelChoirforWeb.jpg
END:VEVENT
BEGIN:VEVENT
DTSTART;TZID=America/Halifax:20241010T183000
DTEND;TZID=America/Halifax:20241010T200000
DTSTAMP:20260423T231611
CREATED:20240822T205437Z
LAST-MODIFIED:20250605T152816Z
UID:10005536-1728585000-1728590400@christcovcincy.org
SUMMARY:Choir Rehearsal
DESCRIPTION:Join us in the sanctuary as we prepare music to lead in Sunday worship services
URL:https://christcovcincy.org/event/choir-rehearsal-12/2024-10-10/
LOCATION:Christ Covenant Church\, 2191 Struble Rd\, Cincinnati\, 45231\, United States
ATTACH;FMTTYPE=image/jpeg:https://christcovcincy.org/wp-content/uploads/2023/03/ChancelChoirforWeb.jpg
END:VEVENT
BEGIN:VEVENT
DTSTART;TZID=America/Halifax:20241003T183000
DTEND;TZID=America/Halifax:20241003T200000
DTSTAMP:20260423T231611
CREATED:20240822T205437Z
LAST-MODIFIED:20250605T152816Z
UID:10005535-1727980200-1727985600@christcovcincy.org
SUMMARY:Choir Rehearsal
DESCRIPTION:Join us in the sanctuary as we prepare music to lead in Sunday worship services
URL:https://christcovcincy.org/event/choir-rehearsal-12/2024-10-03/
LOCATION:Christ Covenant Church\, 2191 Struble Rd\, Cincinnati\, 45231\, United States
ATTACH;FMTTYPE=image/jpeg:https://christcovcincy.org/wp-content/uploads/2023/03/ChancelChoirforWeb.jpg
END:VEVENT
BEGIN:VEVENT
DTSTART;TZID=America/Halifax:20240926T183000
DTEND;TZID=America/Halifax:20240926T200000
DTSTAMP:20260423T231611
CREATED:20240822T205437Z
LAST-MODIFIED:20250605T152816Z
UID:10005534-1727375400-1727380800@christcovcincy.org
SUMMARY:Choir Rehearsal
DESCRIPTION:Join us in the sanctuary as we prepare music to lead in Sunday worship services
URL:https://christcovcincy.org/event/choir-rehearsal-12/2024-09-26/
LOCATION:Christ Covenant Church\, 2191 Struble Rd\, Cincinnati\, 45231\, United States
ATTACH;FMTTYPE=image/jpeg:https://christcovcincy.org/wp-content/uploads/2023/03/ChancelChoirforWeb.jpg
END:VEVENT
BEGIN:VEVENT
DTSTART;TZID=America/Halifax:20240919T183000
DTEND;TZID=America/Halifax:20240919T200000
DTSTAMP:20260423T231611
CREATED:20240822T205437Z
LAST-MODIFIED:20250605T152816Z
UID:10005533-1726770600-1726776000@christcovcincy.org
SUMMARY:Choir Rehearsal
DESCRIPTION:Join us in the sanctuary as we prepare music to lead in Sunday worship services
URL:https://christcovcincy.org/event/choir-rehearsal-12/2024-09-19/
LOCATION:Christ Covenant Church\, 2191 Struble Rd\, Cincinnati\, 45231\, United States
ATTACH;FMTTYPE=image/jpeg:https://christcovcincy.org/wp-content/uploads/2023/03/ChancelChoirforWeb.jpg
END:VEVENT
BEGIN:VEVENT
DTSTART;TZID=America/Halifax:20240912T183000
DTEND;TZID=America/Halifax:20240912T200000
DTSTAMP:20260423T231611
CREATED:20240822T205437Z
LAST-MODIFIED:20250605T152816Z
UID:10005532-1726165800-1726171200@christcovcincy.org
SUMMARY:Choir Rehearsal
DESCRIPTION:Join us in the sanctuary as we prepare music to lead in Sunday worship services
URL:https://christcovcincy.org/event/choir-rehearsal-12/2024-09-12/
LOCATION:Christ Covenant Church\, 2191 Struble Rd\, Cincinnati\, 45231\, United States
ATTACH;FMTTYPE=image/jpeg:https://christcovcincy.org/wp-content/uploads/2023/03/ChancelChoirforWeb.jpg
END:VEVENT
END:VCALENDAR