BEGIN:VCALENDAR
VERSION:2.0
PRODID:-//Christ Covenant Church - ECPv6.15.20//NONSGML v1.0//EN
CALSCALE:GREGORIAN
METHOD:PUBLISH
X-ORIGINAL-URL:https://christcovcincy.org
X-WR-CALDESC:Events for Christ Covenant Church
REFRESH-INTERVAL;VALUE=DURATION:PT1H
X-Robots-Tag:noindex
X-PUBLISHED-TTL:PT1H
BEGIN:VTIMEZONE
TZID:America/Halifax
BEGIN:DAYLIGHT
TZOFFSETFROM:-0400
TZOFFSETTO:-0300
TZNAME:ADT
DTSTART:20220313T060000
END:DAYLIGHT
BEGIN:STANDARD
TZOFFSETFROM:-0300
TZOFFSETTO:-0400
TZNAME:AST
DTSTART:20221106T050000
END:STANDARD
BEGIN:DAYLIGHT
TZOFFSETFROM:-0400
TZOFFSETTO:-0300
TZNAME:ADT
DTSTART:20230312T060000
END:DAYLIGHT
BEGIN:STANDARD
TZOFFSETFROM:-0300
TZOFFSETTO:-0400
TZNAME:AST
DTSTART:20231105T050000
END:STANDARD
BEGIN:DAYLIGHT
TZOFFSETFROM:-0400
TZOFFSETTO:-0300
TZNAME:ADT
DTSTART:20240310T060000
END:DAYLIGHT
BEGIN:STANDARD
TZOFFSETFROM:-0300
TZOFFSETTO:-0400
TZNAME:AST
DTSTART:20241103T050000
END:STANDARD
BEGIN:DAYLIGHT
TZOFFSETFROM:-0400
TZOFFSETTO:-0300
TZNAME:ADT
DTSTART:20250309T060000
END:DAYLIGHT
BEGIN:STANDARD
TZOFFSETFROM:-0300
TZOFFSETTO:-0400
TZNAME:AST
DTSTART:20251102T050000
END:STANDARD
END:VTIMEZONE
BEGIN:VTIMEZONE
TZID:America/New_York
BEGIN:DAYLIGHT
TZOFFSETFROM:-0500
TZOFFSETTO:-0400
TZNAME:EDT
DTSTART:20220313T070000
END:DAYLIGHT
BEGIN:STANDARD
TZOFFSETFROM:-0400
TZOFFSETTO:-0500
TZNAME:EST
DTSTART:20221106T060000
END:STANDARD
BEGIN:DAYLIGHT
TZOFFSETFROM:-0500
TZOFFSETTO:-0400
TZNAME:EDT
DTSTART:20230312T070000
END:DAYLIGHT
BEGIN:STANDARD
TZOFFSETFROM:-0400
TZOFFSETTO:-0500
TZNAME:EST
DTSTART:20231105T060000
END:STANDARD
BEGIN:DAYLIGHT
TZOFFSETFROM:-0500
TZOFFSETTO:-0400
TZNAME:EDT
DTSTART:20240310T070000
END:DAYLIGHT
BEGIN:STANDARD
TZOFFSETFROM:-0400
TZOFFSETTO:-0500
TZNAME:EST
DTSTART:20241103T060000
END:STANDARD
END:VTIMEZONE
BEGIN:VTIMEZONE
TZID:UTC
BEGIN:STANDARD
TZOFFSETFROM:+0000
TZOFFSETTO:+0000
TZNAME:UTC
DTSTART:20220101T000000
END:STANDARD
END:VTIMEZONE
BEGIN:VEVENT
DTSTART;TZID=America/Halifax:20240615T150000
DTEND;TZID=America/Halifax:20240615T190000
DTSTAMP:20260424T071150
CREATED:20240530T143311Z
LAST-MODIFIED:20240530T143311Z
UID:10005422-1718463600-1718478000@christcovcincy.org
SUMMARY:Private Event
DESCRIPTION:Miller event
URL:https://christcovcincy.org/event/private-event-70/
LOCATION:Christ Covenant picnic and office complex\, 2192 Springdale Rd.\, Cincinnati\, OH\, 45231\, United States
CATEGORIES:private event
ATTACH;FMTTYPE=image/jpeg:https://christcovcincy.org/wp-content/uploads/2023/06/privateeventcalendar.jpg
END:VEVENT
BEGIN:VEVENT
DTSTART;TZID=America/Halifax:20240612T170000
DTEND;TZID=America/Halifax:20240612T200000
DTSTAMP:20260424T071150
CREATED:20240321T192331Z
LAST-MODIFIED:20240531T164618Z
UID:10005283-1718211600-1718222400@christcovcincy.org
SUMMARY:Rock Solid
DESCRIPTION:Fantastic Family Nights are back! Join us Wednesdays in June to learn  rock solid truth to stand on in the shifting sands of our life! Crafts\, games\, music\, food\, fun\, and Truth lessons. For kids ages 5-12 (and their parents). \nDinner for the whole family at 5:00. Program begins at 5:45. \n  \n 
URL:https://christcovcincy.org/event/rock-solid/2024-06-12/
LOCATION:Christ Covenant picnic and office complex\, 2192 Springdale Rd.\, Cincinnati\, OH\, 45231\, United States
CATEGORIES:Children's Ministry,summer gatherings
ATTACH;FMTTYPE=image/jpeg:https://christcovcincy.org/wp-content/uploads/2024/05/Rock-Solid-calendar-version.jpg
END:VEVENT
BEGIN:VEVENT
DTSTART;TZID=America/Halifax:20240605T170000
DTEND;TZID=America/Halifax:20240605T200000
DTSTAMP:20260424T071150
CREATED:20240321T192331Z
LAST-MODIFIED:20240531T164618Z
UID:10005282-1717606800-1717617600@christcovcincy.org
SUMMARY:Rock Solid
DESCRIPTION:Fantastic Family Nights are back! Join us Wednesdays in June to learn  rock solid truth to stand on in the shifting sands of our life! Crafts\, games\, music\, food\, fun\, and Truth lessons. For kids ages 5-12 (and their parents). \nDinner for the whole family at 5:00. Program begins at 5:45. \n  \n 
URL:https://christcovcincy.org/event/rock-solid/2024-06-05/
LOCATION:Christ Covenant picnic and office complex\, 2192 Springdale Rd.\, Cincinnati\, OH\, 45231\, United States
CATEGORIES:Children's Ministry,summer gatherings
ATTACH;FMTTYPE=image/jpeg:https://christcovcincy.org/wp-content/uploads/2024/05/Rock-Solid-calendar-version.jpg
END:VEVENT
BEGIN:VEVENT
DTSTART;TZID=America/Halifax:20240530T180000
DTEND;TZID=America/Halifax:20240530T210000
DTSTAMP:20260424T071150
CREATED:20240516T183004Z
LAST-MODIFIED:20240516T183004Z
UID:10005410-1717092000-1717102800@christcovcincy.org
SUMMARY:Gould Community Group Picnic
DESCRIPTION:
URL:https://christcovcincy.org/event/gould-community-group-picnic/
LOCATION:Christ Covenant picnic and office complex\, 2192 Springdale Rd.\, Cincinnati\, OH\, 45231\, United States
ATTACH;FMTTYPE=image/png:https://christcovcincy.org/wp-content/uploads/2022/07/Community-Group.png
END:VEVENT
BEGIN:VEVENT
DTSTART;TZID=America/Halifax:20240512T091500
DTEND;TZID=America/Halifax:20240512T101500
DTSTAMP:20260424T071150
CREATED:20240321T184231Z
LAST-MODIFIED:20240418T023600Z
UID:10005273-1715505300-1715508900@christcovcincy.org
SUMMARY:Gospel Centered Parenting class
DESCRIPTION:A Sunday School class for parents of children from birth to young adult to equip you to talk to your kids about today’s cultural issues from a gospel point of view. Join us in the modular during Sunday School beginning April 7. This six-week class is designed to facilitate discussion based on the book and videos published by Lifeway called Christ-Centered Parenting – Gospel Conversations on Complex Cultural Issues. See David Rudolph or Tina Miller for information and to receive a copy of the book.
URL:https://christcovcincy.org/event/gospel-centered-parenting-class/2024-05-12/
CATEGORIES:Children's Ministry,Men's Discipleship,Women's Discipleship,Youth Ministry
ATTACH;FMTTYPE=image/jpeg:https://christcovcincy.org/wp-content/uploads/2024/04/Christcenteredparenting.jpg
END:VEVENT
BEGIN:VEVENT
DTSTART;TZID=America/Halifax:20240505T091500
DTEND;TZID=America/Halifax:20240505T101500
DTSTAMP:20260424T071150
CREATED:20240321T184231Z
LAST-MODIFIED:20240418T023600Z
UID:10005272-1714900500-1714904100@christcovcincy.org
SUMMARY:Gospel Centered Parenting class
DESCRIPTION:A Sunday School class for parents of children from birth to young adult to equip you to talk to your kids about today’s cultural issues from a gospel point of view. Join us in the modular during Sunday School beginning April 7. This six-week class is designed to facilitate discussion based on the book and videos published by Lifeway called Christ-Centered Parenting – Gospel Conversations on Complex Cultural Issues. See David Rudolph or Tina Miller for information and to receive a copy of the book.
URL:https://christcovcincy.org/event/gospel-centered-parenting-class/2024-05-05/
CATEGORIES:Children's Ministry,Men's Discipleship,Women's Discipleship,Youth Ministry
ATTACH;FMTTYPE=image/jpeg:https://christcovcincy.org/wp-content/uploads/2024/04/Christcenteredparenting.jpg
END:VEVENT
BEGIN:VEVENT
DTSTART;TZID=America/Halifax:20240428T160000
DTEND;TZID=America/Halifax:20240428T200000
DTSTAMP:20260424T071150
CREATED:20240425T162055Z
LAST-MODIFIED:20240425T162055Z
UID:10005325-1714320000-1714334400@christcovcincy.org
SUMMARY:Private Event
DESCRIPTION:Miller Family event
URL:https://christcovcincy.org/event/private-event-59/
LOCATION:Christ Covenant picnic and office complex\, 2192 Springdale Rd.\, Cincinnati\, OH\, 45231\, United States
ATTACH;FMTTYPE=image/jpeg:https://christcovcincy.org/wp-content/uploads/2023/06/privateeventcalendar.jpg
END:VEVENT
BEGIN:VEVENT
DTSTART;TZID=America/Halifax:20240428T091500
DTEND;TZID=America/Halifax:20240428T101500
DTSTAMP:20260424T071150
CREATED:20240321T184231Z
LAST-MODIFIED:20240418T023600Z
UID:10005271-1714295700-1714299300@christcovcincy.org
SUMMARY:Gospel Centered Parenting class
DESCRIPTION:A Sunday School class for parents of children from birth to young adult to equip you to talk to your kids about today’s cultural issues from a gospel point of view. Join us in the modular during Sunday School beginning April 7. This six-week class is designed to facilitate discussion based on the book and videos published by Lifeway called Christ-Centered Parenting – Gospel Conversations on Complex Cultural Issues. See David Rudolph or Tina Miller for information and to receive a copy of the book.
URL:https://christcovcincy.org/event/gospel-centered-parenting-class/2024-04-28/
CATEGORIES:Children's Ministry,Men's Discipleship,Women's Discipleship,Youth Ministry
ATTACH;FMTTYPE=image/jpeg:https://christcovcincy.org/wp-content/uploads/2024/04/Christcenteredparenting.jpg
END:VEVENT
BEGIN:VEVENT
DTSTART;TZID=America/Halifax:20240421T091500
DTEND;TZID=America/Halifax:20240421T101500
DTSTAMP:20260424T071150
CREATED:20240321T184231Z
LAST-MODIFIED:20240418T023600Z
UID:10005270-1713690900-1713694500@christcovcincy.org
SUMMARY:Gospel Centered Parenting class
DESCRIPTION:A Sunday School class for parents of children from birth to young adult to equip you to talk to your kids about today’s cultural issues from a gospel point of view. Join us in the modular during Sunday School beginning April 7. This six-week class is designed to facilitate discussion based on the book and videos published by Lifeway called Christ-Centered Parenting – Gospel Conversations on Complex Cultural Issues. See David Rudolph or Tina Miller for information and to receive a copy of the book.
URL:https://christcovcincy.org/event/gospel-centered-parenting-class/2024-04-21/
CATEGORIES:Children's Ministry,Men's Discipleship,Women's Discipleship,Youth Ministry
ATTACH;FMTTYPE=image/jpeg:https://christcovcincy.org/wp-content/uploads/2024/04/Christcenteredparenting.jpg
END:VEVENT
BEGIN:VEVENT
DTSTART;TZID=America/Halifax:20240414T091500
DTEND;TZID=America/Halifax:20240414T101500
DTSTAMP:20260424T071150
CREATED:20240321T184231Z
LAST-MODIFIED:20240418T023600Z
UID:10005269-1713086100-1713089700@christcovcincy.org
SUMMARY:Gospel Centered Parenting class
DESCRIPTION:A Sunday School class for parents of children from birth to young adult to equip you to talk to your kids about today’s cultural issues from a gospel point of view. Join us in the modular during Sunday School beginning April 7. This six-week class is designed to facilitate discussion based on the book and videos published by Lifeway called Christ-Centered Parenting – Gospel Conversations on Complex Cultural Issues. See David Rudolph or Tina Miller for information and to receive a copy of the book.
URL:https://christcovcincy.org/event/gospel-centered-parenting-class/2024-04-14/
CATEGORIES:Children's Ministry,Men's Discipleship,Women's Discipleship,Youth Ministry
ATTACH;FMTTYPE=image/jpeg:https://christcovcincy.org/wp-content/uploads/2024/04/Christcenteredparenting.jpg
END:VEVENT
BEGIN:VEVENT
DTSTART;TZID=America/Halifax:20240407T091500
DTEND;TZID=America/Halifax:20240407T101500
DTSTAMP:20260424T071150
CREATED:20240321T184231Z
LAST-MODIFIED:20240418T023600Z
UID:10005268-1712481300-1712484900@christcovcincy.org
SUMMARY:Gospel Centered Parenting class
DESCRIPTION:A Sunday School class for parents of children from birth to young adult to equip you to talk to your kids about today’s cultural issues from a gospel point of view. Join us in the modular during Sunday School beginning April 7. This six-week class is designed to facilitate discussion based on the book and videos published by Lifeway called Christ-Centered Parenting – Gospel Conversations on Complex Cultural Issues. See David Rudolph or Tina Miller for information and to receive a copy of the book.
URL:https://christcovcincy.org/event/gospel-centered-parenting-class/2024-04-07/
CATEGORIES:Children's Ministry,Men's Discipleship,Women's Discipleship,Youth Ministry
ATTACH;FMTTYPE=image/jpeg:https://christcovcincy.org/wp-content/uploads/2024/04/Christcenteredparenting.jpg
END:VEVENT
BEGIN:VEVENT
DTSTART;TZID=America/Halifax:20240323T130000
DTEND;TZID=America/Halifax:20240323T153000
DTSTAMP:20260424T071150
CREATED:20240207T214401Z
LAST-MODIFIED:20240315T190605Z
UID:10005198-1711198800-1711207800@christcovcincy.org
SUMMARY:Easter Explained
DESCRIPTION:An Easter event for children ages 5-12 (Kindergarten-6th grade). Come explore the meaning of Easter through games\, stories\, crafts\, and more!
URL:https://christcovcincy.org/event/easter-event/
LOCATION:Christ Covenant Church\, 2191 Struble Rd\, Cincinnati\, 45231\, United States
CATEGORIES:Children's Ministry
ATTACH;FMTTYPE=image/jpeg:https://christcovcincy.org/wp-content/uploads/2024/03/EasterExplained.jpg
END:VEVENT
BEGIN:VEVENT
DTSTART;TZID=America/Halifax:20240310T181500
DTEND;TZID=America/Halifax:20240310T194500
DTSTAMP:20260424T071150
CREATED:20240306T204142Z
LAST-MODIFIED:20240306T204142Z
UID:10004963-1710094500-1710099900@christcovcincy.org
SUMMARY:Mom's Nite
DESCRIPTION:Join other moms of kids from birth through high school for a time of fellowship as we enjoy some snacks\, talk about change in ourselves and our children\, and pray together for our families.
URL:https://christcovcincy.org/event/moms-nite/
LOCATION:Chapel @ Christ Covenant Church Office\, 2192 Springdale Rd\, Cincinnati\, OH\, 45231
CATEGORIES:Children's Ministry,fellowships,Women's Discipleship
ATTACH;FMTTYPE=image/jpeg:https://christcovcincy.org/wp-content/uploads/2023/11/priscilla-du-preez-1u-rkWzmRew-unsplash-1-scaled.jpg
END:VEVENT
BEGIN:VEVENT
DTSTART;TZID=America/Halifax:20240105T190000
DTEND;TZID=America/Halifax:20240105T210000
DTSTAMP:20260424T071150
CREATED:20231227T194720Z
LAST-MODIFIED:20231227T194720Z
UID:10005180-1704481200-1704488400@christcovcincy.org
SUMMARY:Moms Night
DESCRIPTION:Moms Night is back for January by popular request!  January 5 from 7:00-9:00 p.m. at Michelle Nephew’s home. Come join us for some fellowship\, talking about momhood in 2024\, some laughter\, some prayer\, some encouragement and support (as well as a little no-kid quiet!).
URL:https://christcovcincy.org/event/moms-night-3/
CATEGORIES:Children's Ministry,Women's Discipleship
ATTACH;FMTTYPE=image/jpeg:https://christcovcincy.org/wp-content/uploads/2023/02/study-bible.jpg
END:VEVENT
BEGIN:VEVENT
DTSTART;TZID=America/Halifax:20231210T174500
DTEND;TZID=America/Halifax:20231210T194500
DTSTAMP:20260424T071150
CREATED:20231101T160612Z
LAST-MODIFIED:20231101T161705Z
UID:10004859-1702230300-1702237500@christcovcincy.org
SUMMARY:Birthday Party for Jesus
DESCRIPTION:Join in our celebration of Jesus’ birth for kids ages 4-12. \nPizza dinner\, Christmas activities\, games\, crafts\, and of course–birthday cake. \nGift exchange: Children bring a wrapped $5 gift that begins with the first letter of their name \nBring your friends and neighbors! Parents welcome\, but not required to stay. \nRSVP to Tina Miller by December 6.
URL:https://christcovcincy.org/event/birthday-party-for-jesus-2/
LOCATION:Church Fellowship Hall
CATEGORIES:Children's Ministry
ATTACH;FMTTYPE=image/png:https://christcovcincy.org/wp-content/uploads/2023/11/Birthday-Party-for-Jesus-2023.png
END:VEVENT
BEGIN:VEVENT
DTSTART;TZID=America/Halifax:20231201T190000
DTEND;TZID=America/Halifax:20231201T203000
DTSTAMP:20260424T071150
CREATED:20231108T204731Z
LAST-MODIFIED:20231108T204731Z
UID:10005148-1701457200-1701462600@christcovcincy.org
SUMMARY:Mom's Night
DESCRIPTION:Details TBA
URL:https://christcovcincy.org/event/moms-night-2/
CATEGORIES:Children's Ministry,Women's Discipleship
ATTACH;FMTTYPE=image/jpeg:https://christcovcincy.org/wp-content/uploads/2023/11/priscilla-du-preez-1u-rkWzmRew-unsplash-1-scaled.jpg
END:VEVENT
BEGIN:VEVENT
DTSTART;TZID=America/Halifax:20230928T080000
DTEND;TZID=America/Halifax:20230928T120000
DTSTAMP:20260424T071150
CREATED:20230927T182322Z
LAST-MODIFIED:20231009T145154Z
UID:10005119-1695888000-1695902400@christcovcincy.org
SUMMARY:Mt. Healthy North Elementary Activity Day
DESCRIPTION:Volunteers will lead activities\, serve snacks\, and interact with no more than 25 students from Mt. Healthy North Elementary on this morning when teachers are having a record or conference day. Organized by Children’s Director\, Tina Miller (tmiller@christcovcincy.org).
URL:https://christcovcincy.org/event/mt-healthy-north-elementary-activity-day/2023-09-28/
LOCATION:Christ Covenant Church\, 2191 Struble Rd\, Cincinnati\, 45231\, United States
ATTACH;FMTTYPE=image/jpeg:https://christcovcincy.org/wp-content/uploads/2023/09/mthealthyactivityday.jpg
END:VEVENT
BEGIN:VEVENT
DTSTART;TZID=America/Halifax:20230820T083000
DTEND;TZID=America/Halifax:20230820T101500
DTSTAMP:20260424T071150
CREATED:20230706T164454Z
LAST-MODIFIED:20230706T164454Z
UID:10004960-1692520200-1692526500@christcovcincy.org
SUMMARY:Sunday School Kick-Off Breakfast
DESCRIPTION:Join in a time of fellowship over breakfast and then stick around to see the children who are promoting in this new Sunday School year. We’ll spend time praying for the children and their teachers as we offer this ministry to the Lord for the 2023-2024 year.
URL:https://christcovcincy.org/event/sunday-school-kick-off-breakfast/
LOCATION:Church Fellowship Hall
END:VEVENT
BEGIN:VEVENT
DTSTART;TZID=America/Halifax:20230815T170000
DTEND;TZID=America/Halifax:20230815T183000
DTSTAMP:20260424T071150
CREATED:20230601T193133Z
LAST-MODIFIED:20230614T155819Z
UID:10004930-1692118800-1692124200@christcovcincy.org
SUMMARY:Family Cookout
DESCRIPTION:Very casual. Families bring their own main dish (grill available) and a side &/or dessert to share with others. Drinks and paper goods provided.
URL:https://christcovcincy.org/event/family-cookout/2023-08-15/
LOCATION:Christ Covenant picnic and office complex\, 2192 Springdale Rd.\, Cincinnati\, OH\, 45231\, United States
CATEGORIES:Children's Ministry,fellowships
ATTACH;FMTTYPE=image/jpeg:https://christcovcincy.org/wp-content/uploads/2023/06/zac-cain-jLzukAj_PhQ-unsplash-scaled.jpg
END:VEVENT
BEGIN:VEVENT
DTSTART;TZID=America/New_York:20230815T150000
DTEND;TZID=America/New_York:20230815T170000
DTSTAMP:20260424T071150
CREATED:20230503T181611Z
LAST-MODIFIED:20230531T173859Z
UID:10004900-1692111600-1692118800@christcovcincy.org
SUMMARY:Family Swim Time
DESCRIPTION:
URL:https://christcovcincy.org/event/family-swim-time-3/2023-08-15/
LOCATION:Christ Covenant Church Office\, 2192 Springdale Road\, Cincinnati\, OH\, 45231
CATEGORIES:Children's Ministry
ATTACH;FMTTYPE=image/jpeg:https://christcovcincy.org/wp-content/uploads/2023/05/Swim.jpg
END:VEVENT
BEGIN:VEVENT
DTSTART;TZID=America/Halifax:20230805T130000
DTEND;TZID=America/Halifax:20230805T170000
DTSTAMP:20260424T071150
CREATED:20230706T172045Z
LAST-MODIFIED:20230706T172045Z
UID:10004962-1691240400-1691254800@christcovcincy.org
SUMMARY:Private Event
DESCRIPTION:Miller baby shower
URL:https://christcovcincy.org/event/private-event-39/
LOCATION:Christ Covenant Church Office\, 2192 Springdale Road\, Cincinnati\, OH\, 45231
ATTACH;FMTTYPE=image/jpeg:https://christcovcincy.org/wp-content/uploads/2023/06/privateeventcalendar.jpg
END:VEVENT
BEGIN:VEVENT
DTSTART;TZID=America/New_York:20230801T150000
DTEND;TZID=America/New_York:20230801T170000
DTSTAMP:20260424T071150
CREATED:20230503T181611Z
LAST-MODIFIED:20230531T173859Z
UID:10004899-1690902000-1690909200@christcovcincy.org
SUMMARY:Family Swim Time
DESCRIPTION:
URL:https://christcovcincy.org/event/family-swim-time-3/2023-08-01/
LOCATION:Christ Covenant Church Office\, 2192 Springdale Road\, Cincinnati\, OH\, 45231
CATEGORIES:Children's Ministry
ATTACH;FMTTYPE=image/jpeg:https://christcovcincy.org/wp-content/uploads/2023/05/Swim.jpg
END:VEVENT
BEGIN:VEVENT
DTSTART;TZID=UTC:20230727T170000
DTEND;TZID=UTC:20230727T200000
DTSTAMP:20260424T071150
CREATED:20230203T064312Z
LAST-MODIFIED:20230626T140918Z
UID:10004751-1690477200-1690488000@christcovcincy.org
SUMMARY:Fantastic Family Nights
DESCRIPTION:You’re invited to discover: \nThings Hidden \nlearning from Jesus’s kingdom parables \nmusic\, crafts\, games\, Bible lessons\, activities  \nFor kids ages 5-12 (parents welcome too!) \nDinner served at 5:00
URL:https://christcovcincy.org/event/fantastic-family-nights-2/2023-07-27/
LOCATION:Christ Covenant picnic and office complex\, 2192 Springdale Rd.\, Cincinnati\, OH\, 45231\, United States
CATEGORIES:Children's Ministry
END:VEVENT
BEGIN:VEVENT
DTSTART;TZID=America/New_York:20230725T150000
DTEND;TZID=America/New_York:20230725T170000
DTSTAMP:20260424T071150
CREATED:20230503T181611Z
LAST-MODIFIED:20230531T173859Z
UID:10004898-1690297200-1690304400@christcovcincy.org
SUMMARY:Family Swim Time
DESCRIPTION:
URL:https://christcovcincy.org/event/family-swim-time-3/2023-07-25/
LOCATION:Christ Covenant Church Office\, 2192 Springdale Road\, Cincinnati\, OH\, 45231
CATEGORIES:Children's Ministry
ATTACH;FMTTYPE=image/jpeg:https://christcovcincy.org/wp-content/uploads/2023/05/Swim.jpg
END:VEVENT
BEGIN:VEVENT
DTSTART;TZID=UTC:20230720T170000
DTEND;TZID=UTC:20230720T200000
DTSTAMP:20260424T071150
CREATED:20230203T064312Z
LAST-MODIFIED:20230626T140918Z
UID:10004750-1689872400-1689883200@christcovcincy.org
SUMMARY:Fantastic Family Nights
DESCRIPTION:You’re invited to discover: \nThings Hidden \nlearning from Jesus’s kingdom parables \nmusic\, crafts\, games\, Bible lessons\, activities  \nFor kids ages 5-12 (parents welcome too!) \nDinner served at 5:00
URL:https://christcovcincy.org/event/fantastic-family-nights-2/2023-07-20/
LOCATION:Christ Covenant picnic and office complex\, 2192 Springdale Rd.\, Cincinnati\, OH\, 45231\, United States
CATEGORIES:Children's Ministry
END:VEVENT
BEGIN:VEVENT
DTSTART;TZID=America/New_York:20230718T150000
DTEND;TZID=America/New_York:20230718T170000
DTSTAMP:20260424T071150
CREATED:20230503T181611Z
LAST-MODIFIED:20230531T173859Z
UID:10004897-1689692400-1689699600@christcovcincy.org
SUMMARY:Family Swim Time
DESCRIPTION:
URL:https://christcovcincy.org/event/family-swim-time-3/2023-07-18/
LOCATION:Christ Covenant Church Office\, 2192 Springdale Road\, Cincinnati\, OH\, 45231
CATEGORIES:Children's Ministry
ATTACH;FMTTYPE=image/jpeg:https://christcovcincy.org/wp-content/uploads/2023/05/Swim.jpg
END:VEVENT
BEGIN:VEVENT
DTSTART;TZID=UTC:20230713T170000
DTEND;TZID=UTC:20230713T200000
DTSTAMP:20260424T071150
CREATED:20230203T064312Z
LAST-MODIFIED:20230626T140918Z
UID:10004749-1689267600-1689278400@christcovcincy.org
SUMMARY:Fantastic Family Nights
DESCRIPTION:You’re invited to discover: \nThings Hidden \nlearning from Jesus’s kingdom parables \nmusic\, crafts\, games\, Bible lessons\, activities  \nFor kids ages 5-12 (parents welcome too!) \nDinner served at 5:00
URL:https://christcovcincy.org/event/fantastic-family-nights-2/2023-07-13/
LOCATION:Christ Covenant picnic and office complex\, 2192 Springdale Rd.\, Cincinnati\, OH\, 45231\, United States
CATEGORIES:Children's Ministry
END:VEVENT
BEGIN:VEVENT
DTSTART;TZID=America/New_York:20230711T150000
DTEND;TZID=America/New_York:20230711T170000
DTSTAMP:20260424T071150
CREATED:20230503T181611Z
LAST-MODIFIED:20230531T173859Z
UID:10004896-1689087600-1689094800@christcovcincy.org
SUMMARY:Family Swim Time
DESCRIPTION:
URL:https://christcovcincy.org/event/family-swim-time-3/2023-07-11/
LOCATION:Christ Covenant Church Office\, 2192 Springdale Road\, Cincinnati\, OH\, 45231
CATEGORIES:Children's Ministry
ATTACH;FMTTYPE=image/jpeg:https://christcovcincy.org/wp-content/uploads/2023/05/Swim.jpg
END:VEVENT
BEGIN:VEVENT
DTSTART;TZID=UTC:20230706T170000
DTEND;TZID=UTC:20230706T200000
DTSTAMP:20260424T071150
CREATED:20230203T064312Z
LAST-MODIFIED:20230626T140918Z
UID:10004748-1688662800-1688673600@christcovcincy.org
SUMMARY:Fantastic Family Nights
DESCRIPTION:You’re invited to discover: \nThings Hidden \nlearning from Jesus’s kingdom parables \nmusic\, crafts\, games\, Bible lessons\, activities  \nFor kids ages 5-12 (parents welcome too!) \nDinner served at 5:00
URL:https://christcovcincy.org/event/fantastic-family-nights-2/2023-07-06/
LOCATION:Christ Covenant picnic and office complex\, 2192 Springdale Rd.\, Cincinnati\, OH\, 45231\, United States
CATEGORIES:Children's Ministry
END:VEVENT
BEGIN:VEVENT
DTSTART;TZID=America/Halifax:20230704T150000
DTEND;TZID=America/Halifax:20230704T200000
DTSTAMP:20260424T071150
CREATED:20230608T153154Z
LAST-MODIFIED:20230628T164214Z
UID:10004933-1688482800-1688500800@christcovcincy.org
SUMMARY:Private Event
DESCRIPTION:Miller Family Event
URL:https://christcovcincy.org/event/private-event-33/
LOCATION:Christ Covenant picnic and office complex\, 2192 Springdale Rd.\, Cincinnati\, OH\, 45231\, United States
ATTACH;FMTTYPE=image/jpeg:https://christcovcincy.org/wp-content/uploads/2023/06/privateeventcalendar.jpg
END:VEVENT
END:VCALENDAR