BEGIN:VCALENDAR
VERSION:2.0
PRODID:-//Christ Covenant Church - ECPv6.15.20//NONSGML v1.0//EN
CALSCALE:GREGORIAN
METHOD:PUBLISH
X-WR-CALNAME:Christ Covenant Church
X-ORIGINAL-URL:https://christcovcincy.org
X-WR-CALDESC:Events for Christ Covenant Church
REFRESH-INTERVAL;VALUE=DURATION:PT1H
X-Robots-Tag:noindex
X-PUBLISHED-TTL:PT1H
BEGIN:VTIMEZONE
TZID:UTC
BEGIN:STANDARD
TZOFFSETFROM:+0000
TZOFFSETTO:+0000
TZNAME:UTC
DTSTART:20210101T000000
END:STANDARD
END:VTIMEZONE
BEGIN:VEVENT
DTSTART;TZID=UTC:20220728T170000
DTEND;TZID=UTC:20220728T200000
DTSTAMP:20260424T132852
CREATED:20220714T192800Z
LAST-MODIFIED:20220714T192800Z
UID:10003877-1659027600-1659038400@christcovcincy.org
SUMMARY:Fantastic Family Nights
DESCRIPTION:FANTASTIC FAMILY NIGHTS: MythBusters – continues THIS WEEK! Learning to Hear God’s Voice in a Confusing World: Crafts\, games\, experiments for the entire family\, Bible lessons and parent discussion times. Dinner is provided. Thursday nights in July (July 14\, 21 & 28) from 5:15 to 8:00 p.m. Questions? Tina Miller at 513-374-0651.
URL:https://christcovcincy.org/event/fantastic-family-nights/2022-07-28/
END:VEVENT
BEGIN:VEVENT
DTSTART;TZID=UTC:20220726T150000
DTEND;TZID=UTC:20220726T170000
DTSTAMP:20260424T132852
CREATED:20220714T205846Z
LAST-MODIFIED:20220802T231239Z
UID:10004083-1658847600-1658854800@christcovcincy.org
SUMMARY:Family Swim Time
DESCRIPTION:Family Swim Time \nQuestions? Call Tina Miller (513)374-0851
URL:https://christcovcincy.org/event/family-swim-time/2022-07-26/
ATTACH;FMTTYPE=image/png:https://christcovcincy.org/wp-content/uploads/2022/07/Fellowship-Event.png
END:VEVENT
BEGIN:VEVENT
DTSTART;TZID=UTC:20220721T170000
DTEND;TZID=UTC:20220721T200000
DTSTAMP:20260424T132852
CREATED:20220714T192800Z
LAST-MODIFIED:20220714T192800Z
UID:10003876-1658422800-1658433600@christcovcincy.org
SUMMARY:Fantastic Family Nights
DESCRIPTION:FANTASTIC FAMILY NIGHTS: MythBusters – continues THIS WEEK! Learning to Hear God’s Voice in a Confusing World: Crafts\, games\, experiments for the entire family\, Bible lessons and parent discussion times. Dinner is provided. Thursday nights in July (July 14\, 21 & 28) from 5:15 to 8:00 p.m. Questions? Tina Miller at 513-374-0651.
URL:https://christcovcincy.org/event/fantastic-family-nights/2022-07-21/
END:VEVENT
BEGIN:VEVENT
DTSTART;TZID=UTC:20220719T150000
DTEND;TZID=UTC:20220719T170000
DTSTAMP:20260424T132852
CREATED:20220714T205846Z
LAST-MODIFIED:20220802T231239Z
UID:10004082-1658242800-1658250000@christcovcincy.org
SUMMARY:Family Swim Time
DESCRIPTION:Family Swim Time \nQuestions? Call Tina Miller (513)374-0851
URL:https://christcovcincy.org/event/family-swim-time/2022-07-19/
ATTACH;FMTTYPE=image/png:https://christcovcincy.org/wp-content/uploads/2022/07/Fellowship-Event.png
END:VEVENT
BEGIN:VEVENT
DTSTART;TZID=UTC:20220714T170000
DTEND;TZID=UTC:20220714T200000
DTSTAMP:20260424T132852
CREATED:20220714T192800Z
LAST-MODIFIED:20220714T192800Z
UID:10003875-1657818000-1657828800@christcovcincy.org
SUMMARY:Fantastic Family Nights
DESCRIPTION:FANTASTIC FAMILY NIGHTS: MythBusters – continues THIS WEEK! Learning to Hear God’s Voice in a Confusing World: Crafts\, games\, experiments for the entire family\, Bible lessons and parent discussion times. Dinner is provided. Thursday nights in July (July 14\, 21 & 28) from 5:15 to 8:00 p.m. Questions? Tina Miller at 513-374-0651.
URL:https://christcovcincy.org/event/fantastic-family-nights/2022-07-14/
END:VEVENT
END:VCALENDAR