BEGIN:VCALENDAR
VERSION:2.0
PRODID:-//Christ Covenant Church - ECPv6.15.20//NONSGML v1.0//EN
CALSCALE:GREGORIAN
METHOD:PUBLISH
X-ORIGINAL-URL:https://christcovcincy.org
X-WR-CALDESC:Events for Christ Covenant Church
REFRESH-INTERVAL;VALUE=DURATION:PT1H
X-Robots-Tag:noindex
X-PUBLISHED-TTL:PT1H
BEGIN:VTIMEZONE
TZID:America/Halifax
BEGIN:DAYLIGHT
TZOFFSETFROM:-0400
TZOFFSETTO:-0300
TZNAME:ADT
DTSTART:20230312T060000
END:DAYLIGHT
BEGIN:STANDARD
TZOFFSETFROM:-0300
TZOFFSETTO:-0400
TZNAME:AST
DTSTART:20231105T050000
END:STANDARD
BEGIN:DAYLIGHT
TZOFFSETFROM:-0400
TZOFFSETTO:-0300
TZNAME:ADT
DTSTART:20240310T060000
END:DAYLIGHT
BEGIN:STANDARD
TZOFFSETFROM:-0300
TZOFFSETTO:-0400
TZNAME:AST
DTSTART:20241103T050000
END:STANDARD
BEGIN:DAYLIGHT
TZOFFSETFROM:-0400
TZOFFSETTO:-0300
TZNAME:ADT
DTSTART:20250309T060000
END:DAYLIGHT
BEGIN:STANDARD
TZOFFSETFROM:-0300
TZOFFSETTO:-0400
TZNAME:AST
DTSTART:20251102T050000
END:STANDARD
BEGIN:DAYLIGHT
TZOFFSETFROM:-0400
TZOFFSETTO:-0300
TZNAME:ADT
DTSTART:20260308T060000
END:DAYLIGHT
BEGIN:STANDARD
TZOFFSETFROM:-0300
TZOFFSETTO:-0400
TZNAME:AST
DTSTART:20261101T050000
END:STANDARD
END:VTIMEZONE
BEGIN:VEVENT
DTSTART;TZID=America/Halifax:20250209T091500
DTEND;TZID=America/Halifax:20250209T101500
DTSTAMP:20260424T013435
CREATED:20240822T210038Z
LAST-MODIFIED:20240822T210038Z
UID:10005585-1739092500-1739096100@christcovcincy.org
SUMMARY:Sunday School Classes
DESCRIPTION:Nursery Care is available for ages 3 and under. \nChildren’s classes for Preschool (ages 4-5) in Room 105\, for grades 1 & 2 in Room 102\, for grades 3 & 4 in Room 104\, for grades 5 & 6 in Room 108. \nJunior High class for grades 7 & 8 in Room 106. \nHigh School class for grades 9 & 10 in the modular building. \nAdult Sunday School for HS grades 11 & 12 and adults in Fellowship Hall.
URL:https://christcovcincy.org/event/sunday-school-classes-6/2025-02-09/
LOCATION:Christ Covenant Church\, 2191 Struble Rd\, Cincinnati\, 45231\, United States
CATEGORIES:Children's Ministry,Sunday School,Youth Ministry
ATTACH;FMTTYPE=image/jpeg:https://christcovcincy.org/wp-content/uploads/2023/01/SundaySchoolGeneral.jpg
END:VEVENT
BEGIN:VEVENT
DTSTART;TZID=America/Halifax:20250204T190000
DTEND;TZID=America/Halifax:20250204T204500
DTSTAMP:20260424T013435
CREATED:20250407T170351Z
LAST-MODIFIED:20250407T170351Z
UID:10005231-1738695600-1738701900@christcovcincy.org
SUMMARY:Women's Bible Study
DESCRIPTION:Join us for the six session study of this small but very applicable epistle on Tuesdays at 9:15 a.m. or 7:00 p.m. The study involves homework and group discussion led by Colleen Grogan\, Barb Weidus\, and Tina Miller. Preview a sample of the book\, here at Lifeway.com.
URL:https://christcovcincy.org/event/womens-bible-study-15/2025-02-04/
LOCATION:Chapel @ Christ Covenant Church Office\, 2192 Springdale Rd\, Cincinnati\, OH\, 45231
CATEGORIES:Women's Discipleship
ATTACH;FMTTYPE=image/png:https://christcovcincy.org/wp-content/uploads/2024/12/Jude.png
END:VEVENT
BEGIN:VEVENT
DTSTART;TZID=America/Halifax:20250204T091500
DTEND;TZID=America/Halifax:20250204T230000
DTSTAMP:20260424T013435
CREATED:20250407T170351Z
LAST-MODIFIED:20250407T170351Z
UID:10005224-1738660500-1738710000@christcovcincy.org
SUMMARY:Women's Bible Study
DESCRIPTION:Join us for the six session study of this small but very applicable epistle on Tuesdays at 9:15 a.m. or 7:00 p.m. The study involves homework and group discussion led by Colleen Grogan\, Barb Weidus\, and Tina Miller. Preview a sample of the book\, here at Lifeway.com.
URL:https://christcovcincy.org/event/womens-bible-study-14/2025-02-04/
LOCATION:Christ Covenant picnic and office complex\, 2192 Springdale Rd.\, Cincinnati\, OH\, 45231\, United States
CATEGORIES:Women's Discipleship
ATTACH;FMTTYPE=image/png:https://christcovcincy.org/wp-content/uploads/2024/12/Jude.png
END:VEVENT
BEGIN:VEVENT
DTSTART;TZID=America/Halifax:20250202T091500
DTEND;TZID=America/Halifax:20250202T101500
DTSTAMP:20260424T013435
CREATED:20240822T210038Z
LAST-MODIFIED:20240822T210038Z
UID:10005584-1738487700-1738491300@christcovcincy.org
SUMMARY:Sunday School Classes
DESCRIPTION:Nursery Care is available for ages 3 and under. \nChildren’s classes for Preschool (ages 4-5) in Room 105\, for grades 1 & 2 in Room 102\, for grades 3 & 4 in Room 104\, for grades 5 & 6 in Room 108. \nJunior High class for grades 7 & 8 in Room 106. \nHigh School class for grades 9 & 10 in the modular building. \nAdult Sunday School for HS grades 11 & 12 and adults in Fellowship Hall.
URL:https://christcovcincy.org/event/sunday-school-classes-6/2025-02-02/
LOCATION:Christ Covenant Church\, 2191 Struble Rd\, Cincinnati\, 45231\, United States
CATEGORIES:Children's Ministry,Sunday School,Youth Ministry
ATTACH;FMTTYPE=image/jpeg:https://christcovcincy.org/wp-content/uploads/2023/01/SundaySchoolGeneral.jpg
END:VEVENT
BEGIN:VEVENT
DTSTART;TZID=America/Halifax:20250126T091500
DTEND;TZID=America/Halifax:20250126T101500
DTSTAMP:20260424T013435
CREATED:20240822T210038Z
LAST-MODIFIED:20240822T210038Z
UID:10005583-1737882900-1737886500@christcovcincy.org
SUMMARY:Sunday School Classes
DESCRIPTION:Nursery Care is available for ages 3 and under. \nChildren’s classes for Preschool (ages 4-5) in Room 105\, for grades 1 & 2 in Room 102\, for grades 3 & 4 in Room 104\, for grades 5 & 6 in Room 108. \nJunior High class for grades 7 & 8 in Room 106. \nHigh School class for grades 9 & 10 in the modular building. \nAdult Sunday School for HS grades 11 & 12 and adults in Fellowship Hall.
URL:https://christcovcincy.org/event/sunday-school-classes-6/2025-01-26/
LOCATION:Christ Covenant Church\, 2191 Struble Rd\, Cincinnati\, 45231\, United States
CATEGORIES:Children's Ministry,Sunday School,Youth Ministry
ATTACH;FMTTYPE=image/jpeg:https://christcovcincy.org/wp-content/uploads/2023/01/SundaySchoolGeneral.jpg
END:VEVENT
BEGIN:VEVENT
DTSTART;TZID=America/Halifax:20250121T190000
DTEND;TZID=America/Halifax:20250121T204500
DTSTAMP:20260424T013435
CREATED:20241218T170807Z
LAST-MODIFIED:20241218T171431Z
UID:10005228-1737486000-1737492300@christcovcincy.org
SUMMARY:Women's Bible Study
DESCRIPTION:Join us for the six session study of this small but very applicable epistle on Tuesdays at 9:15 a.m. or 7:00 p.m. The study involves homework and group discussion led by Colleen Grogan\, Barb Weidus\, and Tina Miller. Preview a sample of the book\, here at Lifeway.com.
URL:https://christcovcincy.org/event/womens-bible-study-15/2025-01-21/
LOCATION:Chapel @ Christ Covenant Church Office\, 2192 Springdale Rd\, Cincinnati\, OH\, 45231
CATEGORIES:Women's Discipleship
ATTACH;FMTTYPE=image/png:https://christcovcincy.org/wp-content/uploads/2024/12/Jude.png
END:VEVENT
BEGIN:VEVENT
DTSTART;TZID=America/Halifax:20250121T091500
DTEND;TZID=America/Halifax:20250121T230000
DTSTAMP:20260424T013435
CREATED:20241216T172814Z
LAST-MODIFIED:20241218T171244Z
UID:10005221-1737450900-1737500400@christcovcincy.org
SUMMARY:Women's Bible Study
DESCRIPTION:Join us for the six session study of this small but very applicable epistle on Tuesdays at 9:15 a.m. or 7:00 p.m. The study involves homework and group discussion led by Colleen Grogan\, Barb Weidus\, and Tina Miller. Preview a sample of the book\, here at Lifeway.com.
URL:https://christcovcincy.org/event/womens-bible-study-14/2025-01-21/
LOCATION:Christ Covenant picnic and office complex\, 2192 Springdale Rd.\, Cincinnati\, OH\, 45231\, United States
CATEGORIES:Women's Discipleship
ATTACH;FMTTYPE=image/png:https://christcovcincy.org/wp-content/uploads/2024/12/Jude.png
END:VEVENT
BEGIN:VEVENT
DTSTART;TZID=America/Halifax:20250119T091500
DTEND;TZID=America/Halifax:20250119T101500
DTSTAMP:20260424T013435
CREATED:20240822T210038Z
LAST-MODIFIED:20240822T210038Z
UID:10005582-1737278100-1737281700@christcovcincy.org
SUMMARY:Sunday School Classes
DESCRIPTION:Nursery Care is available for ages 3 and under. \nChildren’s classes for Preschool (ages 4-5) in Room 105\, for grades 1 & 2 in Room 102\, for grades 3 & 4 in Room 104\, for grades 5 & 6 in Room 108. \nJunior High class for grades 7 & 8 in Room 106. \nHigh School class for grades 9 & 10 in the modular building. \nAdult Sunday School for HS grades 11 & 12 and adults in Fellowship Hall.
URL:https://christcovcincy.org/event/sunday-school-classes-6/2025-01-19/
LOCATION:Christ Covenant Church\, 2191 Struble Rd\, Cincinnati\, 45231\, United States
CATEGORIES:Children's Ministry,Sunday School,Youth Ministry
ATTACH;FMTTYPE=image/jpeg:https://christcovcincy.org/wp-content/uploads/2023/01/SundaySchoolGeneral.jpg
END:VEVENT
BEGIN:VEVENT
DTSTART;TZID=America/Halifax:20250112T091500
DTEND;TZID=America/Halifax:20250112T101500
DTSTAMP:20260424T013435
CREATED:20240822T210038Z
LAST-MODIFIED:20240822T210038Z
UID:10005581-1736673300-1736676900@christcovcincy.org
SUMMARY:Sunday School Classes
DESCRIPTION:Nursery Care is available for ages 3 and under. \nChildren’s classes for Preschool (ages 4-5) in Room 105\, for grades 1 & 2 in Room 102\, for grades 3 & 4 in Room 104\, for grades 5 & 6 in Room 108. \nJunior High class for grades 7 & 8 in Room 106. \nHigh School class for grades 9 & 10 in the modular building. \nAdult Sunday School for HS grades 11 & 12 and adults in Fellowship Hall.
URL:https://christcovcincy.org/event/sunday-school-classes-6/2025-01-12/
LOCATION:Christ Covenant Church\, 2191 Struble Rd\, Cincinnati\, 45231\, United States
CATEGORIES:Children's Ministry,Sunday School,Youth Ministry
ATTACH;FMTTYPE=image/jpeg:https://christcovcincy.org/wp-content/uploads/2023/01/SundaySchoolGeneral.jpg
END:VEVENT
BEGIN:VEVENT
DTSTART;TZID=America/Halifax:20250105T091500
DTEND;TZID=America/Halifax:20250105T101500
DTSTAMP:20260424T013435
CREATED:20240822T210038Z
LAST-MODIFIED:20240822T210038Z
UID:10005580-1736068500-1736072100@christcovcincy.org
SUMMARY:Sunday School Classes
DESCRIPTION:Nursery Care is available for ages 3 and under. \nChildren’s classes for Preschool (ages 4-5) in Room 105\, for grades 1 & 2 in Room 102\, for grades 3 & 4 in Room 104\, for grades 5 & 6 in Room 108. \nJunior High class for grades 7 & 8 in Room 106. \nHigh School class for grades 9 & 10 in the modular building. \nAdult Sunday School for HS grades 11 & 12 and adults in Fellowship Hall.
URL:https://christcovcincy.org/event/sunday-school-classes-6/2025-01-05/
LOCATION:Christ Covenant Church\, 2191 Struble Rd\, Cincinnati\, 45231\, United States
CATEGORIES:Children's Ministry,Sunday School,Youth Ministry
ATTACH;FMTTYPE=image/jpeg:https://christcovcincy.org/wp-content/uploads/2023/01/SundaySchoolGeneral.jpg
END:VEVENT
BEGIN:VEVENT
DTSTART;TZID=America/Halifax:20241229T091500
DTEND;TZID=America/Halifax:20241229T101500
DTSTAMP:20260424T013435
CREATED:20240822T210038Z
LAST-MODIFIED:20241016T192253Z
UID:10005601-1735463700-1735467300@christcovcincy.org
SUMMARY:NO SUNDAY SCHOOL CLASSES
DESCRIPTION:Nursery Care is available for ages 3 and under. \nChildren’s classes for Preschool (ages 4-5) in Room 105\, for grades 1 & 2 in Room 102\, for grades 3 & 4 in Room 104\, for grades 5 & 6 in Room 108. \nJunior High class for grades 7 & 8 in Room 106. \nHigh School class for grades 9 & 10 in the modular building. \nAdult Sunday School for HS grades 11 & 12 and adults in Fellowship Hall.
URL:https://christcovcincy.org/event/sunday-school-classes-6-2024-12-29/
LOCATION:Christ Covenant Church\, 2191 Struble Rd\, Cincinnati\, 45231\, United States
CATEGORIES:Children's Ministry,Sunday School,Youth Ministry
ATTACH;FMTTYPE=image/jpeg:https://christcovcincy.org/wp-content/uploads/2023/01/SundaySchoolGeneral.jpg
END:VEVENT
BEGIN:VEVENT
DTSTART;TZID=America/Halifax:20241222T091500
DTEND;TZID=America/Halifax:20241222T101500
DTSTAMP:20260424T013435
CREATED:20240822T210038Z
LAST-MODIFIED:20241016T192407Z
UID:10005600-1734858900-1734862500@christcovcincy.org
SUMMARY:NO SUNDAY SCHOOL CLASSES
DESCRIPTION:Nursery Care is available for ages 3 and under. \nChildren’s classes for Preschool (ages 4-5) in Room 105\, for grades 1 & 2 in Room 102\, for grades 3 & 4 in Room 104\, for grades 5 & 6 in Room 108. \nJunior High class for grades 7 & 8 in Room 106. \nHigh School class for grades 9 & 10 in the modular building. \nAdult Sunday School for HS grades 11 & 12 and adults in Fellowship Hall.
URL:https://christcovcincy.org/event/sunday-school-classes-6-2024-12-22/
LOCATION:Christ Covenant Church\, 2191 Struble Rd\, Cincinnati\, 45231\, United States
CATEGORIES:Children's Ministry,Sunday School,Youth Ministry
ATTACH;FMTTYPE=image/jpeg:https://christcovcincy.org/wp-content/uploads/2023/01/SundaySchoolGeneral.jpg
END:VEVENT
BEGIN:VEVENT
DTSTART;TZID=America/Halifax:20241220T154500
DTEND;TZID=America/Halifax:20241220T174500
DTSTAMP:20260424T013435
CREATED:20241127T182912Z
LAST-MODIFIED:20241205T232242Z
UID:10005686-1734709500-1734716700@christcovcincy.org
SUMMARY:Birthday Party for Jesus: "A Gift for Santa"
DESCRIPTION:Where: church fellowship hall \nWho: Kids ages 4-12 \nWhat to bring: a wrapped present ($5) for a gift exchange and your friends and family and neighbors
URL:https://christcovcincy.org/event/birthday-party-for-jesus-3/
LOCATION:Church Fellowship Hall
CATEGORIES:Children's Ministry
ATTACH;FMTTYPE=image/png:https://christcovcincy.org/wp-content/uploads/2024/11/Santa-publicity.png
END:VEVENT
BEGIN:VEVENT
DTSTART;TZID=America/Halifax:20241215T091500
DTEND;TZID=America/Halifax:20241215T101500
DTSTAMP:20260424T013435
CREATED:20240822T210038Z
LAST-MODIFIED:20240822T210038Z
UID:10005579-1734254100-1734257700@christcovcincy.org
SUMMARY:Sunday School Classes
DESCRIPTION:Nursery Care is available for ages 3 and under. \nChildren’s classes for Preschool (ages 4-5) in Room 105\, for grades 1 & 2 in Room 102\, for grades 3 & 4 in Room 104\, for grades 5 & 6 in Room 108. \nJunior High class for grades 7 & 8 in Room 106. \nHigh School class for grades 9 & 10 in the modular building. \nAdult Sunday School for HS grades 11 & 12 and adults in Fellowship Hall.
URL:https://christcovcincy.org/event/sunday-school-classes-6/2024-12-15/
LOCATION:Christ Covenant Church\, 2191 Struble Rd\, Cincinnati\, 45231\, United States
CATEGORIES:Children's Ministry,Sunday School,Youth Ministry
ATTACH;FMTTYPE=image/jpeg:https://christcovcincy.org/wp-content/uploads/2023/01/SundaySchoolGeneral.jpg
END:VEVENT
BEGIN:VEVENT
DTSTART;TZID=America/Halifax:20241208T091500
DTEND;TZID=America/Halifax:20241208T101500
DTSTAMP:20260424T013435
CREATED:20240822T210038Z
LAST-MODIFIED:20240822T210038Z
UID:10005578-1733649300-1733652900@christcovcincy.org
SUMMARY:Sunday School Classes
DESCRIPTION:Nursery Care is available for ages 3 and under. \nChildren’s classes for Preschool (ages 4-5) in Room 105\, for grades 1 & 2 in Room 102\, for grades 3 & 4 in Room 104\, for grades 5 & 6 in Room 108. \nJunior High class for grades 7 & 8 in Room 106. \nHigh School class for grades 9 & 10 in the modular building. \nAdult Sunday School for HS grades 11 & 12 and adults in Fellowship Hall.
URL:https://christcovcincy.org/event/sunday-school-classes-6/2024-12-08/
LOCATION:Christ Covenant Church\, 2191 Struble Rd\, Cincinnati\, 45231\, United States
CATEGORIES:Children's Ministry,Sunday School,Youth Ministry
ATTACH;FMTTYPE=image/jpeg:https://christcovcincy.org/wp-content/uploads/2023/01/SundaySchoolGeneral.jpg
END:VEVENT
BEGIN:VEVENT
DTSTART;TZID=America/Halifax:20241203T190000
DTEND;TZID=America/Halifax:20241203T204500
DTSTAMP:20260424T013435
CREATED:20250407T170417Z
LAST-MODIFIED:20250407T170417Z
UID:10005529-1733252400-1733258700@christcovcincy.org
SUMMARY:Women's Bible Study
DESCRIPTION:In the Tuesday Bible studies this fall\, we will be studying the book of Romans. We meet on the 1st & 3rd Tuesday mornings from 9:15-11:00 am and in the evenings from 7:00 -8:45 pm at the church office (2192 Springdale Road). We will use the study guide In View of God’s Mercies by Courtney Doctor. You can attend either morning or evening\, since the study will be the same at each time.
URL:https://christcovcincy.org/event/womens-bible-study-13/2024-12-03/
LOCATION:Chapel @ Christ Covenant Church Office\, 2192 Springdale Rd\, Cincinnati\, OH\, 45231
CATEGORIES:Women's Discipleship
ATTACH;FMTTYPE=image/jpeg:https://christcovcincy.org/wp-content/uploads/2023/10/WomensBibleStudy2.jpg
END:VEVENT
BEGIN:VEVENT
DTSTART;TZID=America/Halifax:20241203T180000
DTEND;TZID=America/Halifax:20241203T190000
DTSTAMP:20260424T013435
CREATED:20241030T183133Z
LAST-MODIFIED:20241030T183133Z
UID:10005660-1733248800-1733252400@christcovcincy.org
SUMMARY:Women's Bible Study Dinner
DESCRIPTION:Let’s enjoy dinner together before our final Bible study of this year!
URL:https://christcovcincy.org/event/womens-bible-study-dinner/
LOCATION:Chapel @ Christ Covenant Church Office\, 2192 Springdale Rd\, Cincinnati\, OH\, 45231
CATEGORIES:Women's Discipleship
END:VEVENT
BEGIN:VEVENT
DTSTART;TZID=America/Halifax:20241201T091500
DTEND;TZID=America/Halifax:20241201T101500
DTSTAMP:20260424T013435
CREATED:20240822T210038Z
LAST-MODIFIED:20240822T210038Z
UID:10005577-1733044500-1733048100@christcovcincy.org
SUMMARY:Sunday School Classes
DESCRIPTION:Nursery Care is available for ages 3 and under. \nChildren’s classes for Preschool (ages 4-5) in Room 105\, for grades 1 & 2 in Room 102\, for grades 3 & 4 in Room 104\, for grades 5 & 6 in Room 108. \nJunior High class for grades 7 & 8 in Room 106. \nHigh School class for grades 9 & 10 in the modular building. \nAdult Sunday School for HS grades 11 & 12 and adults in Fellowship Hall.
URL:https://christcovcincy.org/event/sunday-school-classes-6/2024-12-01/
LOCATION:Christ Covenant Church\, 2191 Struble Rd\, Cincinnati\, 45231\, United States
CATEGORIES:Children's Ministry,Sunday School,Youth Ministry
ATTACH;FMTTYPE=image/jpeg:https://christcovcincy.org/wp-content/uploads/2023/01/SundaySchoolGeneral.jpg
END:VEVENT
BEGIN:VEVENT
DTSTART;TZID=America/Halifax:20241124T091500
DTEND;TZID=America/Halifax:20241124T101500
DTSTAMP:20260424T013435
CREATED:20240822T210038Z
LAST-MODIFIED:20240822T210038Z
UID:10005576-1732439700-1732443300@christcovcincy.org
SUMMARY:Sunday School Classes
DESCRIPTION:Nursery Care is available for ages 3 and under. \nChildren’s classes for Preschool (ages 4-5) in Room 105\, for grades 1 & 2 in Room 102\, for grades 3 & 4 in Room 104\, for grades 5 & 6 in Room 108. \nJunior High class for grades 7 & 8 in Room 106. \nHigh School class for grades 9 & 10 in the modular building. \nAdult Sunday School for HS grades 11 & 12 and adults in Fellowship Hall.
URL:https://christcovcincy.org/event/sunday-school-classes-6/2024-11-24/
LOCATION:Christ Covenant Church\, 2191 Struble Rd\, Cincinnati\, 45231\, United States
CATEGORIES:Children's Ministry,Sunday School,Youth Ministry
ATTACH;FMTTYPE=image/jpeg:https://christcovcincy.org/wp-content/uploads/2023/01/SundaySchoolGeneral.jpg
END:VEVENT
BEGIN:VEVENT
DTSTART;TZID=America/Halifax:20241119T190000
DTEND;TZID=America/Halifax:20241119T204500
DTSTAMP:20260424T013435
CREATED:20240822T203300Z
LAST-MODIFIED:20240828T163919Z
UID:10005526-1732042800-1732049100@christcovcincy.org
SUMMARY:Women's Bible Study
DESCRIPTION:In the Tuesday Bible studies this fall\, we will be studying the book of Romans. We meet on the 1st & 3rd Tuesday mornings from 9:15-11:00 am and in the evenings from 7:00 -8:45 pm at the church office (2192 Springdale Road). We will use the study guide In View of God’s Mercies by Courtney Doctor. You can attend either morning or evening\, since the study will be the same at each time.
URL:https://christcovcincy.org/event/womens-bible-study-13/2024-11-19/
LOCATION:Chapel @ Christ Covenant Church Office\, 2192 Springdale Rd\, Cincinnati\, OH\, 45231
CATEGORIES:Women's Discipleship
ATTACH;FMTTYPE=image/jpeg:https://christcovcincy.org/wp-content/uploads/2023/10/WomensBibleStudy2.jpg
END:VEVENT
BEGIN:VEVENT
DTSTART;TZID=America/Halifax:20241117T120000
DTEND;TZID=America/Halifax:20241117T130000
DTSTAMP:20260424T013435
CREATED:20241031T153139Z
LAST-MODIFIED:20241031T153258Z
UID:10005662-1731844800-1731848400@christcovcincy.org
SUMMARY:"Pray For Me" Campaign Lunch
DESCRIPTION:Prayer Champions and their uplifted families are invited for a time of fellowship and fun together
URL:https://christcovcincy.org/event/pray-for-me-campaign-lunch/
LOCATION:Church Fellowship Hall
CATEGORIES:Children's Ministry,fellowships
END:VEVENT
BEGIN:VEVENT
DTSTART;TZID=America/Halifax:20241117T091500
DTEND;TZID=America/Halifax:20241117T101500
DTSTAMP:20260424T013435
CREATED:20240822T210038Z
LAST-MODIFIED:20240822T210038Z
UID:10005575-1731834900-1731838500@christcovcincy.org
SUMMARY:Sunday School Classes
DESCRIPTION:Nursery Care is available for ages 3 and under. \nChildren’s classes for Preschool (ages 4-5) in Room 105\, for grades 1 & 2 in Room 102\, for grades 3 & 4 in Room 104\, for grades 5 & 6 in Room 108. \nJunior High class for grades 7 & 8 in Room 106. \nHigh School class for grades 9 & 10 in the modular building. \nAdult Sunday School for HS grades 11 & 12 and adults in Fellowship Hall.
URL:https://christcovcincy.org/event/sunday-school-classes-6/2024-11-17/
LOCATION:Christ Covenant Church\, 2191 Struble Rd\, Cincinnati\, 45231\, United States
CATEGORIES:Children's Ministry,Sunday School,Youth Ministry
ATTACH;FMTTYPE=image/jpeg:https://christcovcincy.org/wp-content/uploads/2023/01/SundaySchoolGeneral.jpg
END:VEVENT
BEGIN:VEVENT
DTSTART;TZID=America/Halifax:20241110T091500
DTEND;TZID=America/Halifax:20241110T101500
DTSTAMP:20260424T013435
CREATED:20240822T210038Z
LAST-MODIFIED:20240822T210038Z
UID:10005574-1731230100-1731233700@christcovcincy.org
SUMMARY:Sunday School Classes
DESCRIPTION:Nursery Care is available for ages 3 and under. \nChildren’s classes for Preschool (ages 4-5) in Room 105\, for grades 1 & 2 in Room 102\, for grades 3 & 4 in Room 104\, for grades 5 & 6 in Room 108. \nJunior High class for grades 7 & 8 in Room 106. \nHigh School class for grades 9 & 10 in the modular building. \nAdult Sunday School for HS grades 11 & 12 and adults in Fellowship Hall.
URL:https://christcovcincy.org/event/sunday-school-classes-6/2024-11-10/
LOCATION:Christ Covenant Church\, 2191 Struble Rd\, Cincinnati\, 45231\, United States
CATEGORIES:Children's Ministry,Sunday School,Youth Ministry
ATTACH;FMTTYPE=image/jpeg:https://christcovcincy.org/wp-content/uploads/2023/01/SundaySchoolGeneral.jpg
END:VEVENT
BEGIN:VEVENT
DTSTART;TZID=America/Halifax:20241103T091500
DTEND;TZID=America/Halifax:20241103T101500
DTSTAMP:20260424T013435
CREATED:20240822T210038Z
LAST-MODIFIED:20240822T210038Z
UID:10005573-1730625300-1730628900@christcovcincy.org
SUMMARY:Sunday School Classes
DESCRIPTION:Nursery Care is available for ages 3 and under. \nChildren’s classes for Preschool (ages 4-5) in Room 105\, for grades 1 & 2 in Room 102\, for grades 3 & 4 in Room 104\, for grades 5 & 6 in Room 108. \nJunior High class for grades 7 & 8 in Room 106. \nHigh School class for grades 9 & 10 in the modular building. \nAdult Sunday School for HS grades 11 & 12 and adults in Fellowship Hall.
URL:https://christcovcincy.org/event/sunday-school-classes-6/2024-11-03/
LOCATION:Christ Covenant Church\, 2191 Struble Rd\, Cincinnati\, 45231\, United States
CATEGORIES:Children's Ministry,Sunday School,Youth Ministry
ATTACH;FMTTYPE=image/jpeg:https://christcovcincy.org/wp-content/uploads/2023/01/SundaySchoolGeneral.jpg
END:VEVENT
BEGIN:VEVENT
DTSTART;TZID=America/Halifax:20241029T190000
DTEND;TZID=America/Halifax:20241029T204500
DTSTAMP:20260424T013435
CREATED:20240822T203300Z
LAST-MODIFIED:20240828T163919Z
UID:10005525-1730228400-1730234700@christcovcincy.org
SUMMARY:Women's Bible Study
DESCRIPTION:In the Tuesday Bible studies this fall\, we will be studying the book of Romans. We meet on the 1st & 3rd Tuesday mornings from 9:15-11:00 am and in the evenings from 7:00 -8:45 pm at the church office (2192 Springdale Road). We will use the study guide In View of God’s Mercies by Courtney Doctor. You can attend either morning or evening\, since the study will be the same at each time.
URL:https://christcovcincy.org/event/womens-bible-study-13/2024-10-29/
LOCATION:Chapel @ Christ Covenant Church Office\, 2192 Springdale Rd\, Cincinnati\, OH\, 45231
CATEGORIES:Women's Discipleship
ATTACH;FMTTYPE=image/jpeg:https://christcovcincy.org/wp-content/uploads/2023/10/WomensBibleStudy2.jpg
END:VEVENT
BEGIN:VEVENT
DTSTART;TZID=America/Halifax:20241027T091500
DTEND;TZID=America/Halifax:20241027T101500
DTSTAMP:20260424T013435
CREATED:20240822T210038Z
LAST-MODIFIED:20241016T192008Z
UID:10005599-1730020500-1730024100@christcovcincy.org
SUMMARY:Sunday School Classes (No ADULT class this week)
DESCRIPTION:Nursery Care is available for ages 3 and under. \nChildren’s classes for Preschool (ages 4-5) in Room 105\, for grades 1 & 2 in Room 102\, for grades 3 & 4 in Room 104\, for grades 5 & 6 in Room 108. \nJunior High class for grades 7 & 8 in Room 106. \nHigh School class for grades 9 & 10 in the modular building. \nAdult Sunday School for HS grades 11 & 12 and adults in Fellowship Hall.
URL:https://christcovcincy.org/event/sunday-school-classes-6-2024-10-27/
LOCATION:Christ Covenant Church\, 2191 Struble Rd\, Cincinnati\, 45231\, United States
CATEGORIES:Children's Ministry,Sunday School,Youth Ministry
ATTACH;FMTTYPE=image/jpeg:https://christcovcincy.org/wp-content/uploads/2023/01/SundaySchoolGeneral.jpg
END:VEVENT
BEGIN:VEVENT
DTSTART;TZID=America/Halifax:20241020T091500
DTEND;TZID=America/Halifax:20241020T101500
DTSTAMP:20260424T013435
CREATED:20240822T210038Z
LAST-MODIFIED:20240822T210038Z
UID:10005572-1729415700-1729419300@christcovcincy.org
SUMMARY:Sunday School Classes
DESCRIPTION:Nursery Care is available for ages 3 and under. \nChildren’s classes for Preschool (ages 4-5) in Room 105\, for grades 1 & 2 in Room 102\, for grades 3 & 4 in Room 104\, for grades 5 & 6 in Room 108. \nJunior High class for grades 7 & 8 in Room 106. \nHigh School class for grades 9 & 10 in the modular building. \nAdult Sunday School for HS grades 11 & 12 and adults in Fellowship Hall.
URL:https://christcovcincy.org/event/sunday-school-classes-6/2024-10-20/
LOCATION:Christ Covenant Church\, 2191 Struble Rd\, Cincinnati\, 45231\, United States
CATEGORIES:Children's Ministry,Sunday School,Youth Ministry
ATTACH;FMTTYPE=image/jpeg:https://christcovcincy.org/wp-content/uploads/2023/01/SundaySchoolGeneral.jpg
END:VEVENT
BEGIN:VEVENT
DTSTART;TZID=America/Halifax:20241015T190000
DTEND;TZID=America/Halifax:20241015T204500
DTSTAMP:20260424T013435
CREATED:20240822T203300Z
LAST-MODIFIED:20240828T163919Z
UID:10005524-1729018800-1729025100@christcovcincy.org
SUMMARY:Women's Bible Study
DESCRIPTION:In the Tuesday Bible studies this fall\, we will be studying the book of Romans. We meet on the 1st & 3rd Tuesday mornings from 9:15-11:00 am and in the evenings from 7:00 -8:45 pm at the church office (2192 Springdale Road). We will use the study guide In View of God’s Mercies by Courtney Doctor. You can attend either morning or evening\, since the study will be the same at each time.
URL:https://christcovcincy.org/event/womens-bible-study-13/2024-10-15/
LOCATION:Chapel @ Christ Covenant Church Office\, 2192 Springdale Rd\, Cincinnati\, OH\, 45231
CATEGORIES:Women's Discipleship
ATTACH;FMTTYPE=image/jpeg:https://christcovcincy.org/wp-content/uploads/2023/10/WomensBibleStudy2.jpg
END:VEVENT
BEGIN:VEVENT
DTSTART;TZID=America/Halifax:20241013T091500
DTEND;TZID=America/Halifax:20241013T101500
DTSTAMP:20260424T013435
CREATED:20240822T210038Z
LAST-MODIFIED:20240822T210038Z
UID:10005571-1728810900-1728814500@christcovcincy.org
SUMMARY:Sunday School Classes
DESCRIPTION:Nursery Care is available for ages 3 and under. \nChildren’s classes for Preschool (ages 4-5) in Room 105\, for grades 1 & 2 in Room 102\, for grades 3 & 4 in Room 104\, for grades 5 & 6 in Room 108. \nJunior High class for grades 7 & 8 in Room 106. \nHigh School class for grades 9 & 10 in the modular building. \nAdult Sunday School for HS grades 11 & 12 and adults in Fellowship Hall.
URL:https://christcovcincy.org/event/sunday-school-classes-6/2024-10-13/
LOCATION:Christ Covenant Church\, 2191 Struble Rd\, Cincinnati\, 45231\, United States
CATEGORIES:Children's Ministry,Sunday School,Youth Ministry
ATTACH;FMTTYPE=image/jpeg:https://christcovcincy.org/wp-content/uploads/2023/01/SundaySchoolGeneral.jpg
END:VEVENT
BEGIN:VEVENT
DTSTART;TZID=America/Halifax:20241006T091500
DTEND;TZID=America/Halifax:20241006T101500
DTSTAMP:20260424T013435
CREATED:20240822T210038Z
LAST-MODIFIED:20240822T210038Z
UID:10005570-1728206100-1728209700@christcovcincy.org
SUMMARY:Sunday School Classes
DESCRIPTION:Nursery Care is available for ages 3 and under. \nChildren’s classes for Preschool (ages 4-5) in Room 105\, for grades 1 & 2 in Room 102\, for grades 3 & 4 in Room 104\, for grades 5 & 6 in Room 108. \nJunior High class for grades 7 & 8 in Room 106. \nHigh School class for grades 9 & 10 in the modular building. \nAdult Sunday School for HS grades 11 & 12 and adults in Fellowship Hall.
URL:https://christcovcincy.org/event/sunday-school-classes-6/2024-10-06/
LOCATION:Christ Covenant Church\, 2191 Struble Rd\, Cincinnati\, 45231\, United States
CATEGORIES:Children's Ministry,Sunday School,Youth Ministry
ATTACH;FMTTYPE=image/jpeg:https://christcovcincy.org/wp-content/uploads/2023/01/SundaySchoolGeneral.jpg
END:VEVENT
END:VCALENDAR