BEGIN:VCALENDAR
VERSION:2.0
PRODID:-//Christ Covenant Church - ECPv6.15.20//NONSGML v1.0//EN
CALSCALE:GREGORIAN
METHOD:PUBLISH
X-ORIGINAL-URL:https://christcovcincy.org
X-WR-CALDESC:Events for Christ Covenant Church
REFRESH-INTERVAL;VALUE=DURATION:PT1H
X-Robots-Tag:noindex
X-PUBLISHED-TTL:PT1H
BEGIN:VTIMEZONE
TZID:America/Halifax
BEGIN:DAYLIGHT
TZOFFSETFROM:-0400
TZOFFSETTO:-0300
TZNAME:ADT
DTSTART:20230312T060000
END:DAYLIGHT
BEGIN:STANDARD
TZOFFSETFROM:-0300
TZOFFSETTO:-0400
TZNAME:AST
DTSTART:20231105T050000
END:STANDARD
BEGIN:DAYLIGHT
TZOFFSETFROM:-0400
TZOFFSETTO:-0300
TZNAME:ADT
DTSTART:20240310T060000
END:DAYLIGHT
BEGIN:STANDARD
TZOFFSETFROM:-0300
TZOFFSETTO:-0400
TZNAME:AST
DTSTART:20241103T050000
END:STANDARD
BEGIN:DAYLIGHT
TZOFFSETFROM:-0400
TZOFFSETTO:-0300
TZNAME:ADT
DTSTART:20250309T060000
END:DAYLIGHT
BEGIN:STANDARD
TZOFFSETFROM:-0300
TZOFFSETTO:-0400
TZNAME:AST
DTSTART:20251102T050000
END:STANDARD
BEGIN:DAYLIGHT
TZOFFSETFROM:-0400
TZOFFSETTO:-0300
TZNAME:ADT
DTSTART:20260308T060000
END:DAYLIGHT
BEGIN:STANDARD
TZOFFSETFROM:-0300
TZOFFSETTO:-0400
TZNAME:AST
DTSTART:20261101T050000
END:STANDARD
END:VTIMEZONE
BEGIN:VTIMEZONE
TZID:UTC
BEGIN:STANDARD
TZOFFSETFROM:+0000
TZOFFSETTO:+0000
TZNAME:UTC
DTSTART:20220101T000000
END:STANDARD
END:VTIMEZONE
BEGIN:VEVENT
DTSTART;TZID=America/Halifax:20250109T093000
DTEND;TZID=America/Halifax:20250109T113000
DTSTAMP:20260423T163132
CREATED:20240502T155455Z
LAST-MODIFIED:20241211T183101Z
UID:10005348-1736415000-1736422200@christcovcincy.org
SUMMARY:Women's Bible Study
DESCRIPTION:We will be studying the book of Revelation using the study guide by Jen Wilkin. This 10-session study meets every other Thursday in the church office from 9:30–11:30 am. To sign up and order a workbook\, contact Wendy at wdetroy@fuse.net by December 22.
URL:https://christcovcincy.org/event/womens-bible-study-11/2025-01-09/
LOCATION:Chapel @ Christ Covenant Church Office\, 2192 Springdale Rd\, Cincinnati\, OH\, 45231
CATEGORIES:Women's Discipleship
ATTACH;FMTTYPE=image/jpeg:https://christcovcincy.org/wp-content/uploads/2022/10/two-people-Bible.jpg
END:VEVENT
BEGIN:VEVENT
DTSTART;TZID=America/Halifax:20241121T093000
DTEND;TZID=America/Halifax:20241121T113000
DTSTAMP:20260423T163132
CREATED:20240502T154831Z
LAST-MODIFIED:20240502T160223Z
UID:10005347-1732181400-1732188600@christcovcincy.org
SUMMARY:Women's Bible Study
DESCRIPTION:We will be studying the book of Philippians using the study guide by Beth Moore. This 5-session study meets every other Thursday in the church office from 9:30–11:30 am. To sign up and order a workbook\, contact Wendy at wdetroy@fuse.net.
URL:https://christcovcincy.org/event/womens-bible-study-10/2024-11-21/
LOCATION:Chapel @ Christ Covenant Church Office\, 2192 Springdale Rd\, Cincinnati\, OH\, 45231
CATEGORIES:Women's Discipleship
ATTACH;FMTTYPE=image/jpeg:https://christcovcincy.org/wp-content/uploads/2022/10/two-people-Bible.jpg
END:VEVENT
BEGIN:VEVENT
DTSTART;TZID=America/Halifax:20241107T093000
DTEND;TZID=America/Halifax:20241107T113000
DTSTAMP:20260423T163132
CREATED:20240502T154831Z
LAST-MODIFIED:20240502T160223Z
UID:10005346-1730971800-1730979000@christcovcincy.org
SUMMARY:Women's Bible Study
DESCRIPTION:We will be studying the book of Philippians using the study guide by Beth Moore. This 5-session study meets every other Thursday in the church office from 9:30–11:30 am. To sign up and order a workbook\, contact Wendy at wdetroy@fuse.net.
URL:https://christcovcincy.org/event/womens-bible-study-10/2024-11-07/
LOCATION:Chapel @ Christ Covenant Church Office\, 2192 Springdale Rd\, Cincinnati\, OH\, 45231
CATEGORIES:Women's Discipleship
ATTACH;FMTTYPE=image/jpeg:https://christcovcincy.org/wp-content/uploads/2022/10/two-people-Bible.jpg
END:VEVENT
BEGIN:VEVENT
DTSTART;TZID=America/Halifax:20241024T093000
DTEND;TZID=America/Halifax:20241024T113000
DTSTAMP:20260423T163132
CREATED:20240502T154831Z
LAST-MODIFIED:20240502T160223Z
UID:10005345-1729762200-1729769400@christcovcincy.org
SUMMARY:Women's Bible Study
DESCRIPTION:We will be studying the book of Philippians using the study guide by Beth Moore. This 5-session study meets every other Thursday in the church office from 9:30–11:30 am. To sign up and order a workbook\, contact Wendy at wdetroy@fuse.net.
URL:https://christcovcincy.org/event/womens-bible-study-10/2024-10-24/
LOCATION:Chapel @ Christ Covenant Church Office\, 2192 Springdale Rd\, Cincinnati\, OH\, 45231
CATEGORIES:Women's Discipleship
ATTACH;FMTTYPE=image/jpeg:https://christcovcincy.org/wp-content/uploads/2022/10/two-people-Bible.jpg
END:VEVENT
BEGIN:VEVENT
DTSTART;TZID=America/Halifax:20241010T093000
DTEND;TZID=America/Halifax:20241010T113000
DTSTAMP:20260423T163132
CREATED:20240502T154831Z
LAST-MODIFIED:20240502T160223Z
UID:10005344-1728552600-1728559800@christcovcincy.org
SUMMARY:Women's Bible Study
DESCRIPTION:We will be studying the book of Philippians using the study guide by Beth Moore. This 5-session study meets every other Thursday in the church office from 9:30–11:30 am. To sign up and order a workbook\, contact Wendy at wdetroy@fuse.net.
URL:https://christcovcincy.org/event/womens-bible-study-10/2024-10-10/
LOCATION:Chapel @ Christ Covenant Church Office\, 2192 Springdale Rd\, Cincinnati\, OH\, 45231
CATEGORIES:Women's Discipleship
ATTACH;FMTTYPE=image/jpeg:https://christcovcincy.org/wp-content/uploads/2022/10/two-people-Bible.jpg
END:VEVENT
BEGIN:VEVENT
DTSTART;TZID=America/Halifax:20240926T093000
DTEND;TZID=America/Halifax:20240926T113000
DTSTAMP:20260423T163132
CREATED:20240502T154831Z
LAST-MODIFIED:20240502T160223Z
UID:10005343-1727343000-1727350200@christcovcincy.org
SUMMARY:Women's Bible Study
DESCRIPTION:We will be studying the book of Philippians using the study guide by Beth Moore. This 5-session study meets every other Thursday in the church office from 9:30–11:30 am. To sign up and order a workbook\, contact Wendy at wdetroy@fuse.net.
URL:https://christcovcincy.org/event/womens-bible-study-10/2024-09-26/
LOCATION:Chapel @ Christ Covenant Church Office\, 2192 Springdale Rd\, Cincinnati\, OH\, 45231
CATEGORIES:Women's Discipleship
ATTACH;FMTTYPE=image/jpeg:https://christcovcincy.org/wp-content/uploads/2022/10/two-people-Bible.jpg
END:VEVENT
BEGIN:VEVENT
DTSTART;TZID=UTC:20230518T093000
DTEND;TZID=UTC:20230518T113000
DTSTAMP:20260423T163132
CREATED:20221209T180701Z
LAST-MODIFIED:20230217T234524Z
UID:10004328-1684402200-1684409400@christcovcincy.org
SUMMARY:Women's Bible study
DESCRIPTION:We will be studying the book of Exodus\, chapters 1-18 using the study guide God of Deliverance\, by Jen Wilkin. This is a 10 session study that meets every other Thursday in the Church office at 2192 Springdale Road from 9:30 am – 11:30 am. To sign up and order a workbook\, contact Wendy at wdetroy@fuse.net no later than December 31\, 2022.
URL:https://christcovcincy.org/event/womens-bible-study-4/2023-05-18/
LOCATION:Chapel @ Christ Covenant Church Office\, 2192 Springdale Rd\, Cincinnati\, OH\, 45231
CATEGORIES:Women's Discipleship
ATTACH;FMTTYPE=image/jpeg:https://christcovcincy.org/wp-content/uploads/2023/02/WomensBibleStudy.jpg
END:VEVENT
BEGIN:VEVENT
DTSTART;TZID=UTC:20230504T093000
DTEND;TZID=UTC:20230504T113000
DTSTAMP:20260423T163132
CREATED:20221209T180701Z
LAST-MODIFIED:20230217T234524Z
UID:10004327-1683192600-1683199800@christcovcincy.org
SUMMARY:Women's Bible study
DESCRIPTION:We will be studying the book of Exodus\, chapters 1-18 using the study guide God of Deliverance\, by Jen Wilkin. This is a 10 session study that meets every other Thursday in the Church office at 2192 Springdale Road from 9:30 am – 11:30 am. To sign up and order a workbook\, contact Wendy at wdetroy@fuse.net no later than December 31\, 2022.
URL:https://christcovcincy.org/event/womens-bible-study-4/2023-05-04/
LOCATION:Chapel @ Christ Covenant Church Office\, 2192 Springdale Rd\, Cincinnati\, OH\, 45231
CATEGORIES:Women's Discipleship
ATTACH;FMTTYPE=image/jpeg:https://christcovcincy.org/wp-content/uploads/2023/02/WomensBibleStudy.jpg
END:VEVENT
BEGIN:VEVENT
DTSTART;TZID=UTC:20230420T093000
DTEND;TZID=UTC:20230420T113000
DTSTAMP:20260423T163132
CREATED:20221209T180701Z
LAST-MODIFIED:20230217T234524Z
UID:10004326-1681983000-1681990200@christcovcincy.org
SUMMARY:Women's Bible study
DESCRIPTION:We will be studying the book of Exodus\, chapters 1-18 using the study guide God of Deliverance\, by Jen Wilkin. This is a 10 session study that meets every other Thursday in the Church office at 2192 Springdale Road from 9:30 am – 11:30 am. To sign up and order a workbook\, contact Wendy at wdetroy@fuse.net no later than December 31\, 2022.
URL:https://christcovcincy.org/event/womens-bible-study-4/2023-04-20/
LOCATION:Chapel @ Christ Covenant Church Office\, 2192 Springdale Rd\, Cincinnati\, OH\, 45231
CATEGORIES:Women's Discipleship
ATTACH;FMTTYPE=image/jpeg:https://christcovcincy.org/wp-content/uploads/2023/02/WomensBibleStudy.jpg
END:VEVENT
BEGIN:VEVENT
DTSTART;TZID=UTC:20230406T093000
DTEND;TZID=UTC:20230406T113000
DTSTAMP:20260423T163132
CREATED:20221209T180701Z
LAST-MODIFIED:20230217T234524Z
UID:10004325-1680773400-1680780600@christcovcincy.org
SUMMARY:Women's Bible study
DESCRIPTION:We will be studying the book of Exodus\, chapters 1-18 using the study guide God of Deliverance\, by Jen Wilkin. This is a 10 session study that meets every other Thursday in the Church office at 2192 Springdale Road from 9:30 am – 11:30 am. To sign up and order a workbook\, contact Wendy at wdetroy@fuse.net no later than December 31\, 2022.
URL:https://christcovcincy.org/event/womens-bible-study-4/2023-04-06/
LOCATION:Chapel @ Christ Covenant Church Office\, 2192 Springdale Rd\, Cincinnati\, OH\, 45231
CATEGORIES:Women's Discipleship
ATTACH;FMTTYPE=image/jpeg:https://christcovcincy.org/wp-content/uploads/2023/02/WomensBibleStudy.jpg
END:VEVENT
BEGIN:VEVENT
DTSTART;TZID=UTC:20230323T093000
DTEND;TZID=UTC:20230323T113000
DTSTAMP:20260423T163132
CREATED:20221209T180701Z
LAST-MODIFIED:20230217T234524Z
UID:10004324-1679563800-1679571000@christcovcincy.org
SUMMARY:Women's Bible study
DESCRIPTION:We will be studying the book of Exodus\, chapters 1-18 using the study guide God of Deliverance\, by Jen Wilkin. This is a 10 session study that meets every other Thursday in the Church office at 2192 Springdale Road from 9:30 am – 11:30 am. To sign up and order a workbook\, contact Wendy at wdetroy@fuse.net no later than December 31\, 2022.
URL:https://christcovcincy.org/event/womens-bible-study-4/2023-03-23/
LOCATION:Chapel @ Christ Covenant Church Office\, 2192 Springdale Rd\, Cincinnati\, OH\, 45231
CATEGORIES:Women's Discipleship
ATTACH;FMTTYPE=image/jpeg:https://christcovcincy.org/wp-content/uploads/2023/02/WomensBibleStudy.jpg
END:VEVENT
BEGIN:VEVENT
DTSTART;TZID=UTC:20230309T093000
DTEND;TZID=UTC:20230309T113000
DTSTAMP:20260423T163132
CREATED:20221209T180701Z
LAST-MODIFIED:20230217T234524Z
UID:10004323-1678354200-1678361400@christcovcincy.org
SUMMARY:Women's Bible study
DESCRIPTION:We will be studying the book of Exodus\, chapters 1-18 using the study guide God of Deliverance\, by Jen Wilkin. This is a 10 session study that meets every other Thursday in the Church office at 2192 Springdale Road from 9:30 am – 11:30 am. To sign up and order a workbook\, contact Wendy at wdetroy@fuse.net no later than December 31\, 2022.
URL:https://christcovcincy.org/event/womens-bible-study-4/2023-03-09/
LOCATION:Chapel @ Christ Covenant Church Office\, 2192 Springdale Rd\, Cincinnati\, OH\, 45231
CATEGORIES:Women's Discipleship
ATTACH;FMTTYPE=image/jpeg:https://christcovcincy.org/wp-content/uploads/2023/02/WomensBibleStudy.jpg
END:VEVENT
BEGIN:VEVENT
DTSTART;TZID=UTC:20230223T093000
DTEND;TZID=UTC:20230223T113000
DTSTAMP:20260423T163132
CREATED:20221209T180701Z
LAST-MODIFIED:20230217T234524Z
UID:10004322-1677144600-1677151800@christcovcincy.org
SUMMARY:Women's Bible study
DESCRIPTION:We will be studying the book of Exodus\, chapters 1-18 using the study guide God of Deliverance\, by Jen Wilkin. This is a 10 session study that meets every other Thursday in the Church office at 2192 Springdale Road from 9:30 am – 11:30 am. To sign up and order a workbook\, contact Wendy at wdetroy@fuse.net no later than December 31\, 2022.
URL:https://christcovcincy.org/event/womens-bible-study-4/2023-02-23/
LOCATION:Chapel @ Christ Covenant Church Office\, 2192 Springdale Rd\, Cincinnati\, OH\, 45231
CATEGORIES:Women's Discipleship
ATTACH;FMTTYPE=image/jpeg:https://christcovcincy.org/wp-content/uploads/2023/02/WomensBibleStudy.jpg
END:VEVENT
BEGIN:VEVENT
DTSTART;TZID=UTC:20230209T093000
DTEND;TZID=UTC:20230209T113000
DTSTAMP:20260423T163132
CREATED:20221209T180701Z
LAST-MODIFIED:20230217T234524Z
UID:10004321-1675935000-1675942200@christcovcincy.org
SUMMARY:Women's Bible study
DESCRIPTION:We will be studying the book of Exodus\, chapters 1-18 using the study guide God of Deliverance\, by Jen Wilkin. This is a 10 session study that meets every other Thursday in the Church office at 2192 Springdale Road from 9:30 am – 11:30 am. To sign up and order a workbook\, contact Wendy at wdetroy@fuse.net no later than December 31\, 2022.
URL:https://christcovcincy.org/event/womens-bible-study-4/2023-02-09/
LOCATION:Chapel @ Christ Covenant Church Office\, 2192 Springdale Rd\, Cincinnati\, OH\, 45231
CATEGORIES:Women's Discipleship
ATTACH;FMTTYPE=image/jpeg:https://christcovcincy.org/wp-content/uploads/2023/02/WomensBibleStudy.jpg
END:VEVENT
BEGIN:VEVENT
DTSTART;TZID=UTC:20230126T093000
DTEND;TZID=UTC:20230126T113000
DTSTAMP:20260423T163132
CREATED:20221209T180701Z
LAST-MODIFIED:20230217T234524Z
UID:10004320-1674725400-1674732600@christcovcincy.org
SUMMARY:Women's Bible study
DESCRIPTION:We will be studying the book of Exodus\, chapters 1-18 using the study guide God of Deliverance\, by Jen Wilkin. This is a 10 session study that meets every other Thursday in the Church office at 2192 Springdale Road from 9:30 am – 11:30 am. To sign up and order a workbook\, contact Wendy at wdetroy@fuse.net no later than December 31\, 2022.
URL:https://christcovcincy.org/event/womens-bible-study-4/2023-01-26/
LOCATION:Chapel @ Christ Covenant Church Office\, 2192 Springdale Rd\, Cincinnati\, OH\, 45231
CATEGORIES:Women's Discipleship
ATTACH;FMTTYPE=image/jpeg:https://christcovcincy.org/wp-content/uploads/2023/02/WomensBibleStudy.jpg
END:VEVENT
BEGIN:VEVENT
DTSTART;TZID=UTC:20230112T093000
DTEND;TZID=UTC:20230112T113000
DTSTAMP:20260423T163132
CREATED:20221209T180701Z
LAST-MODIFIED:20230217T234524Z
UID:10004319-1673515800-1673523000@christcovcincy.org
SUMMARY:Women's Bible study
DESCRIPTION:We will be studying the book of Exodus\, chapters 1-18 using the study guide God of Deliverance\, by Jen Wilkin. This is a 10 session study that meets every other Thursday in the Church office at 2192 Springdale Road from 9:30 am – 11:30 am. To sign up and order a workbook\, contact Wendy at wdetroy@fuse.net no later than December 31\, 2022.
URL:https://christcovcincy.org/event/womens-bible-study-4/2023-01-12/
LOCATION:Chapel @ Christ Covenant Church Office\, 2192 Springdale Rd\, Cincinnati\, OH\, 45231
CATEGORIES:Women's Discipleship
ATTACH;FMTTYPE=image/jpeg:https://christcovcincy.org/wp-content/uploads/2023/02/WomensBibleStudy.jpg
END:VEVENT
END:VCALENDAR