BEGIN:VCALENDAR
VERSION:2.0
PRODID:-//Christ Covenant Church - ECPv6.15.20//NONSGML v1.0//EN
CALSCALE:GREGORIAN
METHOD:PUBLISH
X-WR-CALNAME:Christ Covenant Church
X-ORIGINAL-URL:https://christcovcincy.org
X-WR-CALDESC:Events for Christ Covenant Church
REFRESH-INTERVAL;VALUE=DURATION:PT1H
X-Robots-Tag:noindex
X-PUBLISHED-TTL:PT1H
BEGIN:VTIMEZONE
TZID:America/Halifax
BEGIN:DAYLIGHT
TZOFFSETFROM:-0400
TZOFFSETTO:-0300
TZNAME:ADT
DTSTART:20240310T060000
END:DAYLIGHT
BEGIN:STANDARD
TZOFFSETFROM:-0300
TZOFFSETTO:-0400
TZNAME:AST
DTSTART:20241103T050000
END:STANDARD
BEGIN:DAYLIGHT
TZOFFSETFROM:-0400
TZOFFSETTO:-0300
TZNAME:ADT
DTSTART:20250309T060000
END:DAYLIGHT
BEGIN:STANDARD
TZOFFSETFROM:-0300
TZOFFSETTO:-0400
TZNAME:AST
DTSTART:20251102T050000
END:STANDARD
BEGIN:DAYLIGHT
TZOFFSETFROM:-0400
TZOFFSETTO:-0300
TZNAME:ADT
DTSTART:20260308T060000
END:DAYLIGHT
BEGIN:STANDARD
TZOFFSETFROM:-0300
TZOFFSETTO:-0400
TZNAME:AST
DTSTART:20261101T050000
END:STANDARD
END:VTIMEZONE
BEGIN:VTIMEZONE
TZID:UTC
BEGIN:STANDARD
TZOFFSETFROM:+0000
TZOFFSETTO:+0000
TZNAME:UTC
DTSTART:20240101T000000
END:STANDARD
END:VTIMEZONE
BEGIN:VEVENT
DTSTART;TZID=America/Halifax:20250409T111500
DTEND;TZID=America/Halifax:20250409T130000
DTSTAMP:20260424T043109
CREATED:20250115T204157Z
LAST-MODIFIED:20251203T194201Z
UID:10005710-1744197300-1744203600@christcovcincy.org
SUMMARY:Staff Meeting
DESCRIPTION:Staff typically meets on the 1st and 3rd Wednesday between 11:15am and 1:00pm in the chapel. \nDevotional Assignments: \nRich — Jan 15\, April 9\, July 23 \nIan — Feb 5\, May 7\, Aug 20 \nTina — March 5\, May 21 \nDavid — April 23\, July 9 \nColleen — Feb 19\, June 25 \nJoyce — March 19\, June 4
URL:https://christcovcincy.org/event/staff-meeting-4/2025-04-09/
LOCATION:Chapel @ Christ Covenant Church Office\, 2192 Springdale Rd\, Cincinnati\, OH\, 45231
ATTACH;FMTTYPE=image/jpeg:https://christcovcincy.org/wp-content/uploads/2023/01/staffmeeting.jpg
END:VEVENT
BEGIN:VEVENT
DTSTART;TZID=America/Halifax:20250405T073000
DTEND;TZID=America/Halifax:20250405T090000
DTSTAMP:20260424T043109
CREATED:20241024T163346Z
LAST-MODIFIED:20260122T201225Z
UID:10005645-1743838200-1743843600@christcovcincy.org
SUMMARY:Men's Bible Study
DESCRIPTION:Join the Men of Christ Covenant as they continue their study through the book of I Samuel.
URL:https://christcovcincy.org/event/mens-bible-study-3-2025-02-01/2025-04-05/
LOCATION:Chapel @ Christ Covenant Church Office\, 2192 Springdale Rd\, Cincinnati\, OH\, 45231
CATEGORIES:Men's Discipleship
ATTACH;FMTTYPE=image/jpeg:https://christcovcincy.org/wp-content/uploads/2023/02/MensBibleStudy-copy.jpg
END:VEVENT
BEGIN:VEVENT
DTSTART;TZID=America/Halifax:20250403T093000
DTEND;TZID=America/Halifax:20250403T113000
DTSTAMP:20260424T043109
CREATED:20240502T155455Z
LAST-MODIFIED:20241211T183101Z
UID:10005353-1743672600-1743679800@christcovcincy.org
SUMMARY:Women's Bible Study
DESCRIPTION:We will be studying the book of Revelation using the study guide by Jen Wilkin. This 10-session study meets every other Thursday in the church office from 9:30–11:30 am. To sign up and order a workbook\, contact Wendy at wdetroy@fuse.net by December 22.
URL:https://christcovcincy.org/event/womens-bible-study-11/2025-04-03/
LOCATION:Chapel @ Christ Covenant Church Office\, 2192 Springdale Rd\, Cincinnati\, OH\, 45231
CATEGORIES:Women's Discipleship
ATTACH;FMTTYPE=image/jpeg:https://christcovcincy.org/wp-content/uploads/2022/10/two-people-Bible.jpg
END:VEVENT
BEGIN:VEVENT
DTSTART;TZID=America/Halifax:20250401T190000
DTEND;TZID=America/Halifax:20250401T204500
DTSTAMP:20260424T043109
CREATED:20250407T170351Z
LAST-MODIFIED:20250407T170351Z
UID:10005233-1743534000-1743540300@christcovcincy.org
SUMMARY:Women's Bible Study
DESCRIPTION:Join us for the six session study of this small but very applicable epistle on Tuesdays at 9:15 a.m. or 7:00 p.m. The study involves homework and group discussion led by Colleen Grogan\, Barb Weidus\, and Tina Miller. Preview a sample of the book\, here at Lifeway.com.
URL:https://christcovcincy.org/event/womens-bible-study-15/2025-04-01/
LOCATION:Chapel @ Christ Covenant Church Office\, 2192 Springdale Rd\, Cincinnati\, OH\, 45231
CATEGORIES:Women's Discipleship
ATTACH;FMTTYPE=image/png:https://christcovcincy.org/wp-content/uploads/2024/12/Jude.png
END:VEVENT
BEGIN:VEVENT
DTSTART;TZID=America/Halifax:20250320T093000
DTEND;TZID=America/Halifax:20250320T113000
DTSTAMP:20260424T043109
CREATED:20240502T155455Z
LAST-MODIFIED:20241211T183101Z
UID:10005352-1742463000-1742470200@christcovcincy.org
SUMMARY:Women's Bible Study
DESCRIPTION:We will be studying the book of Revelation using the study guide by Jen Wilkin. This 10-session study meets every other Thursday in the church office from 9:30–11:30 am. To sign up and order a workbook\, contact Wendy at wdetroy@fuse.net by December 22.
URL:https://christcovcincy.org/event/womens-bible-study-11/2025-03-20/
LOCATION:Chapel @ Christ Covenant Church Office\, 2192 Springdale Rd\, Cincinnati\, OH\, 45231
CATEGORIES:Women's Discipleship
ATTACH;FMTTYPE=image/jpeg:https://christcovcincy.org/wp-content/uploads/2022/10/two-people-Bible.jpg
END:VEVENT
BEGIN:VEVENT
DTSTART;TZID=America/Halifax:20250319T111500
DTEND;TZID=America/Halifax:20250319T130000
DTSTAMP:20260424T043109
CREATED:20250115T204157Z
LAST-MODIFIED:20250319T170517Z
UID:10005742-1742382900-1742389200@christcovcincy.org
SUMMARY:Staff Meeting
DESCRIPTION:Staff typically meets on the 1st and 3rd Wednesday between 11:15am and 1:00pm in the chapel. \nDevotional Assignments: \nRich — Jan 15\, April 9\, July 23 \nIan — Feb 5\, May 7\, Aug 20 \nTina — March 5\, May 21 \nDavid — April 23\, July 9 \nColleen — Feb 19\, June 25 \nJoyce — March 19\, June 4
URL:https://christcovcincy.org/event/staff-meeting-4-2025-03-19/
LOCATION:Chapel @ Christ Covenant Church Office\, 2192 Springdale Rd\, Cincinnati\, OH\, 45231
ATTACH;FMTTYPE=image/jpeg:https://christcovcincy.org/wp-content/uploads/2023/01/staffmeeting.jpg
END:VEVENT
BEGIN:VEVENT
DTSTART;TZID=America/Halifax:20250318T190000
DTEND;TZID=America/Halifax:20250318T204500
DTSTAMP:20260424T043109
CREATED:20241218T170807Z
LAST-MODIFIED:20241218T171431Z
UID:10005230-1742324400-1742330700@christcovcincy.org
SUMMARY:Women's Bible Study
DESCRIPTION:Join us for the six session study of this small but very applicable epistle on Tuesdays at 9:15 a.m. or 7:00 p.m. The study involves homework and group discussion led by Colleen Grogan\, Barb Weidus\, and Tina Miller. Preview a sample of the book\, here at Lifeway.com.
URL:https://christcovcincy.org/event/womens-bible-study-15/2025-03-18/
LOCATION:Chapel @ Christ Covenant Church Office\, 2192 Springdale Rd\, Cincinnati\, OH\, 45231
CATEGORIES:Women's Discipleship
ATTACH;FMTTYPE=image/png:https://christcovcincy.org/wp-content/uploads/2024/12/Jude.png
END:VEVENT
BEGIN:VEVENT
DTSTART;TZID=UTC:20250317T190000
DTEND;TZID=UTC:20250317T210000
DTSTAMP:20260424T043109
CREATED:20221122T221840Z
LAST-MODIFIED:20251001T185731Z
UID:10004659-1742238000-1742245200@christcovcincy.org
SUMMARY:Trustee Meeting
DESCRIPTION:
URL:https://christcovcincy.org/event/trustees-meeting/2025-03-17/
LOCATION:Chapel @ Christ Covenant Church Office\, 2192 Springdale Rd\, Cincinnati\, OH\, 45231
ATTACH;FMTTYPE=image/png:https://christcovcincy.org/wp-content/uploads/2022/07/Board-Meeting.png
END:VEVENT
BEGIN:VEVENT
DTSTART;TZID=UTC:20250310T190000
DTEND;TZID=UTC:20250310T210000
DTSTAMP:20260424T043109
CREATED:20221122T221642Z
LAST-MODIFIED:20250521T182505Z
UID:10004622-1741633200-1741640400@christcovcincy.org
SUMMARY:Session Meeting
DESCRIPTION:
URL:https://christcovcincy.org/event/session-meeting-2/2025-03-10/
LOCATION:Chapel @ Christ Covenant Church Office\, 2192 Springdale Rd\, Cincinnati\, OH\, 45231
ATTACH;FMTTYPE=image/png:https://christcovcincy.org/wp-content/uploads/2022/07/Board-Meeting.png
END:VEVENT
BEGIN:VEVENT
DTSTART;TZID=America/Halifax:20250306T093000
DTEND;TZID=America/Halifax:20250306T113000
DTSTAMP:20260424T043109
CREATED:20240502T155455Z
LAST-MODIFIED:20241211T183101Z
UID:10005351-1741253400-1741260600@christcovcincy.org
SUMMARY:Women's Bible Study
DESCRIPTION:We will be studying the book of Revelation using the study guide by Jen Wilkin. This 10-session study meets every other Thursday in the church office from 9:30–11:30 am. To sign up and order a workbook\, contact Wendy at wdetroy@fuse.net by December 22.
URL:https://christcovcincy.org/event/womens-bible-study-11/2025-03-06/
LOCATION:Chapel @ Christ Covenant Church Office\, 2192 Springdale Rd\, Cincinnati\, OH\, 45231
CATEGORIES:Women's Discipleship
ATTACH;FMTTYPE=image/jpeg:https://christcovcincy.org/wp-content/uploads/2022/10/two-people-Bible.jpg
END:VEVENT
BEGIN:VEVENT
DTSTART;TZID=America/Halifax:20250305T111500
DTEND;TZID=America/Halifax:20250305T130000
DTSTAMP:20260424T043109
CREATED:20250407T170431Z
LAST-MODIFIED:20251105T190041Z
UID:10005721-1741173300-1741179600@christcovcincy.org
SUMMARY:Staff Meeting
DESCRIPTION:Staff typically meets on the 1st and 3rd Wednesday between 11:15am and 1:00pm in the chapel. \nDevotional Assignments: \nRich — Jan 15\, April 9 \nIan — Feb 5\, May 7 (did not meet)\, Aug 20 \nTina — March 5 (cancelled)\, May 21 \nDavid — April 23\, July 16 \nColleen — Feb 19\, June 25 \nJoyce — March 19\, June 4
URL:https://christcovcincy.org/event/staff-meeting-4-2/2025-03-05/
LOCATION:Chapel @ Christ Covenant Church Office\, 2192 Springdale Rd\, Cincinnati\, OH\, 45231
ATTACH;FMTTYPE=image/jpeg:https://christcovcincy.org/wp-content/uploads/2023/01/staffmeeting.jpg
END:VEVENT
BEGIN:VEVENT
DTSTART;TZID=America/Halifax:20250304T190000
DTEND;TZID=America/Halifax:20250304T204500
DTSTAMP:20260424T043109
CREATED:20250407T170351Z
LAST-MODIFIED:20250407T170351Z
UID:10005232-1741114800-1741121100@christcovcincy.org
SUMMARY:Women's Bible Study
DESCRIPTION:Join us for the six session study of this small but very applicable epistle on Tuesdays at 9:15 a.m. or 7:00 p.m. The study involves homework and group discussion led by Colleen Grogan\, Barb Weidus\, and Tina Miller. Preview a sample of the book\, here at Lifeway.com.
URL:https://christcovcincy.org/event/womens-bible-study-15/2025-03-04/
LOCATION:Chapel @ Christ Covenant Church Office\, 2192 Springdale Rd\, Cincinnati\, OH\, 45231
CATEGORIES:Women's Discipleship
ATTACH;FMTTYPE=image/png:https://christcovcincy.org/wp-content/uploads/2024/12/Jude.png
END:VEVENT
BEGIN:VEVENT
DTSTART;TZID=America/Halifax:20250301T073000
DTEND;TZID=America/Halifax:20250301T090000
DTSTAMP:20260424T043109
CREATED:20241024T163346Z
LAST-MODIFIED:20260122T201225Z
UID:10005644-1740814200-1740819600@christcovcincy.org
SUMMARY:Men's Bible Study
DESCRIPTION:Join the Men of Christ Covenant as they continue their study through the book of I Samuel.
URL:https://christcovcincy.org/event/mens-bible-study-3-2025-02-01/2025-03-01/
LOCATION:Chapel @ Christ Covenant Church Office\, 2192 Springdale Rd\, Cincinnati\, OH\, 45231
CATEGORIES:Men's Discipleship
ATTACH;FMTTYPE=image/jpeg:https://christcovcincy.org/wp-content/uploads/2023/02/MensBibleStudy-copy.jpg
END:VEVENT
BEGIN:VEVENT
DTSTART;TZID=America/Halifax:20250220T093000
DTEND;TZID=America/Halifax:20250220T113000
DTSTAMP:20260424T043109
CREATED:20240502T155455Z
LAST-MODIFIED:20250220T165001Z
UID:10005358-1740043800-1740051000@christcovcincy.org
SUMMARY:Women's Bible Study - CANCELLED
DESCRIPTION:We will be studying the book of Revelation using the study guide by Jen Wilkin. This 10-session study meets every other Thursday in the church office from 9:30–11:30 am. To sign up and order a workbook\, contact Wendy at wdetroy@fuse.net by December 22.
URL:https://christcovcincy.org/event/womens-bible-study-11-2025-02-20/
LOCATION:Chapel @ Christ Covenant Church Office\, 2192 Springdale Rd\, Cincinnati\, OH\, 45231
CATEGORIES:Women's Discipleship
ATTACH;FMTTYPE=image/jpeg:https://christcovcincy.org/wp-content/uploads/2022/10/two-people-Bible.jpg
END:VEVENT
BEGIN:VEVENT
DTSTART;TZID=America/Halifax:20250219T111500
DTEND;TZID=America/Halifax:20250219T130000
DTSTAMP:20260424T043109
CREATED:20250115T204157Z
LAST-MODIFIED:20251203T194201Z
UID:10005709-1739963700-1739970000@christcovcincy.org
SUMMARY:Staff Meeting
DESCRIPTION:Staff typically meets on the 1st and 3rd Wednesday between 11:15am and 1:00pm in the chapel. \nDevotional Assignments: \nRich — Jan 15\, April 9\, July 23 \nIan — Feb 5\, May 7\, Aug 20 \nTina — March 5\, May 21 \nDavid — April 23\, July 9 \nColleen — Feb 19\, June 25 \nJoyce — March 19\, June 4
URL:https://christcovcincy.org/event/staff-meeting-4/2025-02-19/
LOCATION:Chapel @ Christ Covenant Church Office\, 2192 Springdale Rd\, Cincinnati\, OH\, 45231
ATTACH;FMTTYPE=image/jpeg:https://christcovcincy.org/wp-content/uploads/2023/01/staffmeeting.jpg
END:VEVENT
BEGIN:VEVENT
DTSTART;TZID=America/Halifax:20250218T190000
DTEND;TZID=America/Halifax:20250218T204500
DTSTAMP:20260424T043109
CREATED:20241218T170807Z
LAST-MODIFIED:20241218T171431Z
UID:10005229-1739905200-1739911500@christcovcincy.org
SUMMARY:Women's Bible Study
DESCRIPTION:Join us for the six session study of this small but very applicable epistle on Tuesdays at 9:15 a.m. or 7:00 p.m. The study involves homework and group discussion led by Colleen Grogan\, Barb Weidus\, and Tina Miller. Preview a sample of the book\, here at Lifeway.com.
URL:https://christcovcincy.org/event/womens-bible-study-15/2025-02-18/
LOCATION:Chapel @ Christ Covenant Church Office\, 2192 Springdale Rd\, Cincinnati\, OH\, 45231
CATEGORIES:Women's Discipleship
ATTACH;FMTTYPE=image/png:https://christcovcincy.org/wp-content/uploads/2024/12/Jude.png
END:VEVENT
BEGIN:VEVENT
DTSTART;TZID=UTC:20250217T190000
DTEND;TZID=UTC:20250217T210000
DTSTAMP:20260424T043109
CREATED:20221122T221840Z
LAST-MODIFIED:20251001T185731Z
UID:10004658-1739818800-1739826000@christcovcincy.org
SUMMARY:Trustee Meeting
DESCRIPTION:
URL:https://christcovcincy.org/event/trustees-meeting/2025-02-17/
LOCATION:Chapel @ Christ Covenant Church Office\, 2192 Springdale Rd\, Cincinnati\, OH\, 45231
ATTACH;FMTTYPE=image/png:https://christcovcincy.org/wp-content/uploads/2022/07/Board-Meeting.png
END:VEVENT
BEGIN:VEVENT
DTSTART;TZID=UTC:20250210T190000
DTEND;TZID=UTC:20250210T210000
DTSTAMP:20260424T043109
CREATED:20221122T221642Z
LAST-MODIFIED:20250521T182505Z
UID:10004621-1739214000-1739221200@christcovcincy.org
SUMMARY:Session Meeting
DESCRIPTION:
URL:https://christcovcincy.org/event/session-meeting-2/2025-02-10/
LOCATION:Chapel @ Christ Covenant Church Office\, 2192 Springdale Rd\, Cincinnati\, OH\, 45231
ATTACH;FMTTYPE=image/png:https://christcovcincy.org/wp-content/uploads/2022/07/Board-Meeting.png
END:VEVENT
BEGIN:VEVENT
DTSTART;TZID=America/Halifax:20250206T093000
DTEND;TZID=America/Halifax:20250206T113000
DTSTAMP:20260424T043109
CREATED:20240502T155455Z
LAST-MODIFIED:20241211T183101Z
UID:10005350-1738834200-1738841400@christcovcincy.org
SUMMARY:Women's Bible Study
DESCRIPTION:We will be studying the book of Revelation using the study guide by Jen Wilkin. This 10-session study meets every other Thursday in the church office from 9:30–11:30 am. To sign up and order a workbook\, contact Wendy at wdetroy@fuse.net by December 22.
URL:https://christcovcincy.org/event/womens-bible-study-11/2025-02-06/
LOCATION:Chapel @ Christ Covenant Church Office\, 2192 Springdale Rd\, Cincinnati\, OH\, 45231
CATEGORIES:Women's Discipleship
ATTACH;FMTTYPE=image/jpeg:https://christcovcincy.org/wp-content/uploads/2022/10/two-people-Bible.jpg
END:VEVENT
BEGIN:VEVENT
DTSTART;TZID=America/Halifax:20250205T111500
DTEND;TZID=America/Halifax:20250205T130000
DTSTAMP:20260424T043109
CREATED:20250407T170431Z
LAST-MODIFIED:20251105T190041Z
UID:10005720-1738754100-1738760400@christcovcincy.org
SUMMARY:Staff Meeting
DESCRIPTION:Staff typically meets on the 1st and 3rd Wednesday between 11:15am and 1:00pm in the chapel. \nDevotional Assignments: \nRich — Jan 15\, April 9 \nIan — Feb 5\, May 7 (did not meet)\, Aug 20 \nTina — March 5 (cancelled)\, May 21 \nDavid — April 23\, July 16 \nColleen — Feb 19\, June 25 \nJoyce — March 19\, June 4
URL:https://christcovcincy.org/event/staff-meeting-4-2/2025-02-05/
LOCATION:Chapel @ Christ Covenant Church Office\, 2192 Springdale Rd\, Cincinnati\, OH\, 45231
ATTACH;FMTTYPE=image/jpeg:https://christcovcincy.org/wp-content/uploads/2023/01/staffmeeting.jpg
END:VEVENT
BEGIN:VEVENT
DTSTART;TZID=America/Halifax:20250204T190000
DTEND;TZID=America/Halifax:20250204T204500
DTSTAMP:20260424T043109
CREATED:20250407T170351Z
LAST-MODIFIED:20250407T170351Z
UID:10005231-1738695600-1738701900@christcovcincy.org
SUMMARY:Women's Bible Study
DESCRIPTION:Join us for the six session study of this small but very applicable epistle on Tuesdays at 9:15 a.m. or 7:00 p.m. The study involves homework and group discussion led by Colleen Grogan\, Barb Weidus\, and Tina Miller. Preview a sample of the book\, here at Lifeway.com.
URL:https://christcovcincy.org/event/womens-bible-study-15/2025-02-04/
LOCATION:Chapel @ Christ Covenant Church Office\, 2192 Springdale Rd\, Cincinnati\, OH\, 45231
CATEGORIES:Women's Discipleship
ATTACH;FMTTYPE=image/png:https://christcovcincy.org/wp-content/uploads/2024/12/Jude.png
END:VEVENT
BEGIN:VEVENT
DTSTART;TZID=America/Halifax:20250201T073000
DTEND;TZID=America/Halifax:20250201T090000
DTSTAMP:20260424T043109
CREATED:20241024T163346Z
LAST-MODIFIED:20260122T201225Z
UID:10005643-1738395000-1738400400@christcovcincy.org
SUMMARY:Men's Bible Study
DESCRIPTION:Join the Men of Christ Covenant as they continue their study through the book of I Samuel.
URL:https://christcovcincy.org/event/mens-bible-study-3-2025-02-01/2025-02-01/
LOCATION:Chapel @ Christ Covenant Church Office\, 2192 Springdale Rd\, Cincinnati\, OH\, 45231
CATEGORIES:Men's Discipleship
ATTACH;FMTTYPE=image/jpeg:https://christcovcincy.org/wp-content/uploads/2023/02/MensBibleStudy-copy.jpg
END:VEVENT
BEGIN:VEVENT
DTSTART;TZID=America/Halifax:20250123T093000
DTEND;TZID=America/Halifax:20250123T113000
DTSTAMP:20260424T043109
CREATED:20240502T155455Z
LAST-MODIFIED:20241211T183101Z
UID:10005349-1737624600-1737631800@christcovcincy.org
SUMMARY:Women's Bible Study
DESCRIPTION:We will be studying the book of Revelation using the study guide by Jen Wilkin. This 10-session study meets every other Thursday in the church office from 9:30–11:30 am. To sign up and order a workbook\, contact Wendy at wdetroy@fuse.net by December 22.
URL:https://christcovcincy.org/event/womens-bible-study-11/2025-01-23/
LOCATION:Chapel @ Christ Covenant Church Office\, 2192 Springdale Rd\, Cincinnati\, OH\, 45231
CATEGORIES:Women's Discipleship
ATTACH;FMTTYPE=image/jpeg:https://christcovcincy.org/wp-content/uploads/2022/10/two-people-Bible.jpg
END:VEVENT
BEGIN:VEVENT
DTSTART;TZID=America/Halifax:20250122T111500
DTEND;TZID=America/Halifax:20250122T130000
DTSTAMP:20260424T043109
CREATED:20250115T204157Z
LAST-MODIFIED:20251203T194201Z
UID:10005708-1737544500-1737550800@christcovcincy.org
SUMMARY:Staff Meeting
DESCRIPTION:Staff typically meets on the 1st and 3rd Wednesday between 11:15am and 1:00pm in the chapel. \nDevotional Assignments: \nRich — Jan 15\, April 9\, July 23 \nIan — Feb 5\, May 7\, Aug 20 \nTina — March 5\, May 21 \nDavid — April 23\, July 9 \nColleen — Feb 19\, June 25 \nJoyce — March 19\, June 4
URL:https://christcovcincy.org/event/staff-meeting-4/2025-01-22/
LOCATION:Chapel @ Christ Covenant Church Office\, 2192 Springdale Rd\, Cincinnati\, OH\, 45231
ATTACH;FMTTYPE=image/jpeg:https://christcovcincy.org/wp-content/uploads/2023/01/staffmeeting.jpg
END:VEVENT
BEGIN:VEVENT
DTSTART;TZID=America/Halifax:20250121T190000
DTEND;TZID=America/Halifax:20250121T204500
DTSTAMP:20260424T043109
CREATED:20241218T170807Z
LAST-MODIFIED:20241218T171431Z
UID:10005228-1737486000-1737492300@christcovcincy.org
SUMMARY:Women's Bible Study
DESCRIPTION:Join us for the six session study of this small but very applicable epistle on Tuesdays at 9:15 a.m. or 7:00 p.m. The study involves homework and group discussion led by Colleen Grogan\, Barb Weidus\, and Tina Miller. Preview a sample of the book\, here at Lifeway.com.
URL:https://christcovcincy.org/event/womens-bible-study-15/2025-01-21/
LOCATION:Chapel @ Christ Covenant Church Office\, 2192 Springdale Rd\, Cincinnati\, OH\, 45231
CATEGORIES:Women's Discipleship
ATTACH;FMTTYPE=image/png:https://christcovcincy.org/wp-content/uploads/2024/12/Jude.png
END:VEVENT
BEGIN:VEVENT
DTSTART;TZID=UTC:20250120T190000
DTEND;TZID=UTC:20250120T210000
DTSTAMP:20260424T043109
CREATED:20221122T221840Z
LAST-MODIFIED:20251001T185731Z
UID:10004657-1737399600-1737406800@christcovcincy.org
SUMMARY:Trustee Meeting
DESCRIPTION:
URL:https://christcovcincy.org/event/trustees-meeting/2025-01-20/
LOCATION:Chapel @ Christ Covenant Church Office\, 2192 Springdale Rd\, Cincinnati\, OH\, 45231
ATTACH;FMTTYPE=image/png:https://christcovcincy.org/wp-content/uploads/2022/07/Board-Meeting.png
END:VEVENT
BEGIN:VEVENT
DTSTART;TZID=America/Halifax:20250120T163000
DTEND;TZID=America/Halifax:20250120T180000
DTSTAMP:20260424T043109
CREATED:20250115T201922Z
LAST-MODIFIED:20250115T201922Z
UID:10005692-1737390600-1737396000@christcovcincy.org
SUMMARY:Deacon Meeting
DESCRIPTION:
URL:https://christcovcincy.org/event/deacon-meeting-3/
LOCATION:Chapel @ Christ Covenant Church Office\, 2192 Springdale Rd\, Cincinnati\, OH\, 45231
ATTACH;FMTTYPE=image/png:https://christcovcincy.org/wp-content/uploads/2022/07/Board-Meeting.png
END:VEVENT
BEGIN:VEVENT
DTSTART;TZID=America/Halifax:20250115T111500
DTEND;TZID=America/Halifax:20250115T130000
DTSTAMP:20260424T043109
CREATED:20250115T204157Z
LAST-MODIFIED:20251203T194201Z
UID:10005707-1736939700-1736946000@christcovcincy.org
SUMMARY:Staff Meeting
DESCRIPTION:Staff typically meets on the 1st and 3rd Wednesday between 11:15am and 1:00pm in the chapel. \nDevotional Assignments: \nRich — Jan 15\, April 9\, July 23 \nIan — Feb 5\, May 7\, Aug 20 \nTina — March 5\, May 21 \nDavid — April 23\, July 9 \nColleen — Feb 19\, June 25 \nJoyce — March 19\, June 4
URL:https://christcovcincy.org/event/staff-meeting-4/2025-01-15/
LOCATION:Chapel @ Christ Covenant Church Office\, 2192 Springdale Rd\, Cincinnati\, OH\, 45231
ATTACH;FMTTYPE=image/jpeg:https://christcovcincy.org/wp-content/uploads/2023/01/staffmeeting.jpg
END:VEVENT
BEGIN:VEVENT
DTSTART;TZID=UTC:20250113T190000
DTEND;TZID=UTC:20250113T210000
DTSTAMP:20260424T043109
CREATED:20221122T221642Z
LAST-MODIFIED:20250521T182505Z
UID:10004620-1736794800-1736802000@christcovcincy.org
SUMMARY:Session Meeting
DESCRIPTION:
URL:https://christcovcincy.org/event/session-meeting-2/2025-01-13/
LOCATION:Chapel @ Christ Covenant Church Office\, 2192 Springdale Rd\, Cincinnati\, OH\, 45231
ATTACH;FMTTYPE=image/png:https://christcovcincy.org/wp-content/uploads/2022/07/Board-Meeting.png
END:VEVENT
BEGIN:VEVENT
DTSTART;TZID=America/Halifax:20250109T093000
DTEND;TZID=America/Halifax:20250109T113000
DTSTAMP:20260424T043109
CREATED:20240502T155455Z
LAST-MODIFIED:20241211T183101Z
UID:10005348-1736415000-1736422200@christcovcincy.org
SUMMARY:Women's Bible Study
DESCRIPTION:We will be studying the book of Revelation using the study guide by Jen Wilkin. This 10-session study meets every other Thursday in the church office from 9:30–11:30 am. To sign up and order a workbook\, contact Wendy at wdetroy@fuse.net by December 22.
URL:https://christcovcincy.org/event/womens-bible-study-11/2025-01-09/
LOCATION:Chapel @ Christ Covenant Church Office\, 2192 Springdale Rd\, Cincinnati\, OH\, 45231
CATEGORIES:Women's Discipleship
ATTACH;FMTTYPE=image/jpeg:https://christcovcincy.org/wp-content/uploads/2022/10/two-people-Bible.jpg
END:VEVENT
END:VCALENDAR