BEGIN:VCALENDAR
VERSION:2.0
PRODID:-//Christ Covenant Church - ECPv6.15.20//NONSGML v1.0//EN
CALSCALE:GREGORIAN
METHOD:PUBLISH
X-WR-CALNAME:Christ Covenant Church
X-ORIGINAL-URL:https://christcovcincy.org
X-WR-CALDESC:Events for Christ Covenant Church
REFRESH-INTERVAL;VALUE=DURATION:PT1H
X-Robots-Tag:noindex
X-PUBLISHED-TTL:PT1H
BEGIN:VTIMEZONE
TZID:UTC
BEGIN:STANDARD
TZOFFSETFROM:+0000
TZOFFSETTO:+0000
TZNAME:UTC
DTSTART:20280101T000000
END:STANDARD
END:VTIMEZONE
BEGIN:VTIMEZONE
TZID:America/Halifax
BEGIN:DAYLIGHT
TZOFFSETFROM:-0400
TZOFFSETTO:-0300
TZNAME:ADT
DTSTART:20280312T060000
END:DAYLIGHT
BEGIN:STANDARD
TZOFFSETFROM:-0300
TZOFFSETTO:-0400
TZNAME:AST
DTSTART:20281105T050000
END:STANDARD
BEGIN:DAYLIGHT
TZOFFSETFROM:-0400
TZOFFSETTO:-0300
TZNAME:ADT
DTSTART:20290311T060000
END:DAYLIGHT
BEGIN:STANDARD
TZOFFSETFROM:-0300
TZOFFSETTO:-0400
TZNAME:AST
DTSTART:20291104T050000
END:STANDARD
BEGIN:DAYLIGHT
TZOFFSETFROM:-0400
TZOFFSETTO:-0300
TZNAME:ADT
DTSTART:20300310T060000
END:DAYLIGHT
BEGIN:STANDARD
TZOFFSETFROM:-0300
TZOFFSETTO:-0400
TZNAME:AST
DTSTART:20301103T050000
END:STANDARD
BEGIN:DAYLIGHT
TZOFFSETFROM:-0400
TZOFFSETTO:-0300
TZNAME:ADT
DTSTART:20310309T060000
END:DAYLIGHT
BEGIN:STANDARD
TZOFFSETFROM:-0300
TZOFFSETTO:-0400
TZNAME:AST
DTSTART:20311102T050000
END:STANDARD
END:VTIMEZONE
BEGIN:VEVENT
DTSTART;TZID=UTC:20290319T190000
DTEND;TZID=UTC:20290319T210000
DTSTAMP:20260424T031650
CREATED:20221122T221840Z
LAST-MODIFIED:20251001T185731Z
UID:10007283-1868641200-1868648400@christcovcincy.org
SUMMARY:Trustee Meeting
DESCRIPTION:
URL:https://christcovcincy.org/event/trustees-meeting/2029-03-19/
LOCATION:Chapel @ Christ Covenant Church Office\, 2192 Springdale Rd\, Cincinnati\, OH\, 45231
ATTACH;FMTTYPE=image/png:https://christcovcincy.org/wp-content/uploads/2022/07/Board-Meeting.png
END:VEVENT
BEGIN:VEVENT
DTSTART;TZID=America/Halifax:20290407T073000
DTEND;TZID=America/Halifax:20290407T090000
DTSTAMP:20260424T031650
CREATED:20241024T163346Z
LAST-MODIFIED:20260122T201225Z
UID:10007225-1870241400-1870246800@christcovcincy.org
SUMMARY:Men's Bible Study
DESCRIPTION:Join the Men of Christ Covenant as they continue their study through the book of I Samuel.
URL:https://christcovcincy.org/event/mens-bible-study-3-2025-02-01/2029-04-07/
LOCATION:Chapel @ Christ Covenant Church Office\, 2192 Springdale Rd\, Cincinnati\, OH\, 45231
CATEGORIES:Men's Discipleship
ATTACH;FMTTYPE=image/jpeg:https://christcovcincy.org/wp-content/uploads/2023/02/MensBibleStudy-copy.jpg
END:VEVENT
BEGIN:VEVENT
DTSTART;TZID=UTC:20290409T190000
DTEND;TZID=UTC:20290409T210000
DTSTAMP:20260424T031650
CREATED:20221122T221642Z
LAST-MODIFIED:20250521T182505Z
UID:10006731-1870455600-1870462800@christcovcincy.org
SUMMARY:Session Meeting
DESCRIPTION:
URL:https://christcovcincy.org/event/session-meeting-2/2029-04-09/
LOCATION:Chapel @ Christ Covenant Church Office\, 2192 Springdale Rd\, Cincinnati\, OH\, 45231
ATTACH;FMTTYPE=image/png:https://christcovcincy.org/wp-content/uploads/2022/07/Board-Meeting.png
END:VEVENT
BEGIN:VEVENT
DTSTART;TZID=UTC:20290416T190000
DTEND;TZID=UTC:20290416T210000
DTSTAMP:20260424T031650
CREATED:20221122T221840Z
LAST-MODIFIED:20251001T185731Z
UID:10007284-1871060400-1871067600@christcovcincy.org
SUMMARY:Trustee Meeting
DESCRIPTION:
URL:https://christcovcincy.org/event/trustees-meeting/2029-04-16/
LOCATION:Chapel @ Christ Covenant Church Office\, 2192 Springdale Rd\, Cincinnati\, OH\, 45231
ATTACH;FMTTYPE=image/png:https://christcovcincy.org/wp-content/uploads/2022/07/Board-Meeting.png
END:VEVENT
BEGIN:VEVENT
DTSTART;TZID=America/Halifax:20290505T073000
DTEND;TZID=America/Halifax:20290505T090000
DTSTAMP:20260424T031650
CREATED:20241024T163346Z
LAST-MODIFIED:20260122T201225Z
UID:10007226-1872660600-1872666000@christcovcincy.org
SUMMARY:Men's Bible Study
DESCRIPTION:Join the Men of Christ Covenant as they continue their study through the book of I Samuel.
URL:https://christcovcincy.org/event/mens-bible-study-3-2025-02-01/2029-05-05/
LOCATION:Chapel @ Christ Covenant Church Office\, 2192 Springdale Rd\, Cincinnati\, OH\, 45231
CATEGORIES:Men's Discipleship
ATTACH;FMTTYPE=image/jpeg:https://christcovcincy.org/wp-content/uploads/2023/02/MensBibleStudy-copy.jpg
END:VEVENT
BEGIN:VEVENT
DTSTART;TZID=UTC:20290514T190000
DTEND;TZID=UTC:20290514T210000
DTSTAMP:20260424T031650
CREATED:20221122T221642Z
LAST-MODIFIED:20250521T182505Z
UID:10006732-1873479600-1873486800@christcovcincy.org
SUMMARY:Session Meeting
DESCRIPTION:
URL:https://christcovcincy.org/event/session-meeting-2/2029-05-14/
LOCATION:Chapel @ Christ Covenant Church Office\, 2192 Springdale Rd\, Cincinnati\, OH\, 45231
ATTACH;FMTTYPE=image/png:https://christcovcincy.org/wp-content/uploads/2022/07/Board-Meeting.png
END:VEVENT
BEGIN:VEVENT
DTSTART;TZID=UTC:20290521T190000
DTEND;TZID=UTC:20290521T210000
DTSTAMP:20260424T031650
CREATED:20221122T221840Z
LAST-MODIFIED:20251001T185731Z
UID:10007285-1874084400-1874091600@christcovcincy.org
SUMMARY:Trustee Meeting
DESCRIPTION:
URL:https://christcovcincy.org/event/trustees-meeting/2029-05-21/
LOCATION:Chapel @ Christ Covenant Church Office\, 2192 Springdale Rd\, Cincinnati\, OH\, 45231
ATTACH;FMTTYPE=image/png:https://christcovcincy.org/wp-content/uploads/2022/07/Board-Meeting.png
END:VEVENT
BEGIN:VEVENT
DTSTART;TZID=America/Halifax:20290602T073000
DTEND;TZID=America/Halifax:20290602T090000
DTSTAMP:20260424T031650
CREATED:20241024T163346Z
LAST-MODIFIED:20260122T201225Z
UID:10007227-1875079800-1875085200@christcovcincy.org
SUMMARY:Men's Bible Study
DESCRIPTION:Join the Men of Christ Covenant as they continue their study through the book of I Samuel.
URL:https://christcovcincy.org/event/mens-bible-study-3-2025-02-01/2029-06-02/
LOCATION:Chapel @ Christ Covenant Church Office\, 2192 Springdale Rd\, Cincinnati\, OH\, 45231
CATEGORIES:Men's Discipleship
ATTACH;FMTTYPE=image/jpeg:https://christcovcincy.org/wp-content/uploads/2023/02/MensBibleStudy-copy.jpg
END:VEVENT
BEGIN:VEVENT
DTSTART;TZID=UTC:20290611T190000
DTEND;TZID=UTC:20290611T210000
DTSTAMP:20260424T031650
CREATED:20221122T221642Z
LAST-MODIFIED:20250521T182505Z
UID:10006733-1875898800-1875906000@christcovcincy.org
SUMMARY:Session Meeting
DESCRIPTION:
URL:https://christcovcincy.org/event/session-meeting-2/2029-06-11/
LOCATION:Chapel @ Christ Covenant Church Office\, 2192 Springdale Rd\, Cincinnati\, OH\, 45231
ATTACH;FMTTYPE=image/png:https://christcovcincy.org/wp-content/uploads/2022/07/Board-Meeting.png
END:VEVENT
BEGIN:VEVENT
DTSTART;TZID=UTC:20290618T190000
DTEND;TZID=UTC:20290618T210000
DTSTAMP:20260424T031650
CREATED:20221122T221840Z
LAST-MODIFIED:20251001T185731Z
UID:10007286-1876503600-1876510800@christcovcincy.org
SUMMARY:Trustee Meeting
DESCRIPTION:
URL:https://christcovcincy.org/event/trustees-meeting/2029-06-18/
LOCATION:Chapel @ Christ Covenant Church Office\, 2192 Springdale Rd\, Cincinnati\, OH\, 45231
ATTACH;FMTTYPE=image/png:https://christcovcincy.org/wp-content/uploads/2022/07/Board-Meeting.png
END:VEVENT
BEGIN:VEVENT
DTSTART;TZID=America/Halifax:20290707T073000
DTEND;TZID=America/Halifax:20290707T090000
DTSTAMP:20260424T031650
CREATED:20241024T163346Z
LAST-MODIFIED:20260122T201225Z
UID:10007228-1878103800-1878109200@christcovcincy.org
SUMMARY:Men's Bible Study
DESCRIPTION:Join the Men of Christ Covenant as they continue their study through the book of I Samuel.
URL:https://christcovcincy.org/event/mens-bible-study-3-2025-02-01/2029-07-07/
LOCATION:Chapel @ Christ Covenant Church Office\, 2192 Springdale Rd\, Cincinnati\, OH\, 45231
CATEGORIES:Men's Discipleship
ATTACH;FMTTYPE=image/jpeg:https://christcovcincy.org/wp-content/uploads/2023/02/MensBibleStudy-copy.jpg
END:VEVENT
BEGIN:VEVENT
DTSTART;TZID=UTC:20290709T190000
DTEND;TZID=UTC:20290709T210000
DTSTAMP:20260424T031650
CREATED:20221122T221642Z
LAST-MODIFIED:20250521T182505Z
UID:10006734-1878318000-1878325200@christcovcincy.org
SUMMARY:Session Meeting
DESCRIPTION:
URL:https://christcovcincy.org/event/session-meeting-2/2029-07-09/
LOCATION:Chapel @ Christ Covenant Church Office\, 2192 Springdale Rd\, Cincinnati\, OH\, 45231
ATTACH;FMTTYPE=image/png:https://christcovcincy.org/wp-content/uploads/2022/07/Board-Meeting.png
END:VEVENT
BEGIN:VEVENT
DTSTART;TZID=UTC:20290716T190000
DTEND;TZID=UTC:20290716T210000
DTSTAMP:20260424T031650
CREATED:20221122T221840Z
LAST-MODIFIED:20251001T185731Z
UID:10007287-1878922800-1878930000@christcovcincy.org
SUMMARY:Trustee Meeting
DESCRIPTION:
URL:https://christcovcincy.org/event/trustees-meeting/2029-07-16/
LOCATION:Chapel @ Christ Covenant Church Office\, 2192 Springdale Rd\, Cincinnati\, OH\, 45231
ATTACH;FMTTYPE=image/png:https://christcovcincy.org/wp-content/uploads/2022/07/Board-Meeting.png
END:VEVENT
BEGIN:VEVENT
DTSTART;TZID=America/Halifax:20290804T073000
DTEND;TZID=America/Halifax:20290804T090000
DTSTAMP:20260424T031650
CREATED:20241024T163346Z
LAST-MODIFIED:20260122T201225Z
UID:10007229-1880523000-1880528400@christcovcincy.org
SUMMARY:Men's Bible Study
DESCRIPTION:Join the Men of Christ Covenant as they continue their study through the book of I Samuel.
URL:https://christcovcincy.org/event/mens-bible-study-3-2025-02-01/2029-08-04/
LOCATION:Chapel @ Christ Covenant Church Office\, 2192 Springdale Rd\, Cincinnati\, OH\, 45231
CATEGORIES:Men's Discipleship
ATTACH;FMTTYPE=image/jpeg:https://christcovcincy.org/wp-content/uploads/2023/02/MensBibleStudy-copy.jpg
END:VEVENT
BEGIN:VEVENT
DTSTART;TZID=UTC:20290813T190000
DTEND;TZID=UTC:20290813T210000
DTSTAMP:20260424T031650
CREATED:20221122T221642Z
LAST-MODIFIED:20250521T182505Z
UID:10006735-1881342000-1881349200@christcovcincy.org
SUMMARY:Session Meeting
DESCRIPTION:
URL:https://christcovcincy.org/event/session-meeting-2/2029-08-13/
LOCATION:Chapel @ Christ Covenant Church Office\, 2192 Springdale Rd\, Cincinnati\, OH\, 45231
ATTACH;FMTTYPE=image/png:https://christcovcincy.org/wp-content/uploads/2022/07/Board-Meeting.png
END:VEVENT
BEGIN:VEVENT
DTSTART;TZID=UTC:20290820T190000
DTEND;TZID=UTC:20290820T210000
DTSTAMP:20260424T031650
CREATED:20221122T221840Z
LAST-MODIFIED:20251001T185731Z
UID:10007288-1881946800-1881954000@christcovcincy.org
SUMMARY:Trustee Meeting
DESCRIPTION:
URL:https://christcovcincy.org/event/trustees-meeting/2029-08-20/
LOCATION:Chapel @ Christ Covenant Church Office\, 2192 Springdale Rd\, Cincinnati\, OH\, 45231
ATTACH;FMTTYPE=image/png:https://christcovcincy.org/wp-content/uploads/2022/07/Board-Meeting.png
END:VEVENT
BEGIN:VEVENT
DTSTART;TZID=America/Halifax:20290901T073000
DTEND;TZID=America/Halifax:20290901T090000
DTSTAMP:20260424T031650
CREATED:20241024T163346Z
LAST-MODIFIED:20260122T201225Z
UID:10007230-1882942200-1882947600@christcovcincy.org
SUMMARY:Men's Bible Study
DESCRIPTION:Join the Men of Christ Covenant as they continue their study through the book of I Samuel.
URL:https://christcovcincy.org/event/mens-bible-study-3-2025-02-01/2029-09-01/
LOCATION:Chapel @ Christ Covenant Church Office\, 2192 Springdale Rd\, Cincinnati\, OH\, 45231
CATEGORIES:Men's Discipleship
ATTACH;FMTTYPE=image/jpeg:https://christcovcincy.org/wp-content/uploads/2023/02/MensBibleStudy-copy.jpg
END:VEVENT
BEGIN:VEVENT
DTSTART;TZID=UTC:20290910T190000
DTEND;TZID=UTC:20290910T210000
DTSTAMP:20260424T031650
CREATED:20221122T221642Z
LAST-MODIFIED:20250521T182505Z
UID:10006736-1883761200-1883768400@christcovcincy.org
SUMMARY:Session Meeting
DESCRIPTION:
URL:https://christcovcincy.org/event/session-meeting-2/2029-09-10/
LOCATION:Chapel @ Christ Covenant Church Office\, 2192 Springdale Rd\, Cincinnati\, OH\, 45231
ATTACH;FMTTYPE=image/png:https://christcovcincy.org/wp-content/uploads/2022/07/Board-Meeting.png
END:VEVENT
BEGIN:VEVENT
DTSTART;TZID=UTC:20290917T190000
DTEND;TZID=UTC:20290917T210000
DTSTAMP:20260424T031650
CREATED:20221122T221840Z
LAST-MODIFIED:20251001T185731Z
UID:10007289-1884366000-1884373200@christcovcincy.org
SUMMARY:Trustee Meeting
DESCRIPTION:
URL:https://christcovcincy.org/event/trustees-meeting/2029-09-17/
LOCATION:Chapel @ Christ Covenant Church Office\, 2192 Springdale Rd\, Cincinnati\, OH\, 45231
ATTACH;FMTTYPE=image/png:https://christcovcincy.org/wp-content/uploads/2022/07/Board-Meeting.png
END:VEVENT
BEGIN:VEVENT
DTSTART;TZID=America/Halifax:20291006T073000
DTEND;TZID=America/Halifax:20291006T090000
DTSTAMP:20260424T031650
CREATED:20241024T163346Z
LAST-MODIFIED:20260122T201225Z
UID:10007231-1885966200-1885971600@christcovcincy.org
SUMMARY:Men's Bible Study
DESCRIPTION:Join the Men of Christ Covenant as they continue their study through the book of I Samuel.
URL:https://christcovcincy.org/event/mens-bible-study-3-2025-02-01/2029-10-06/
LOCATION:Chapel @ Christ Covenant Church Office\, 2192 Springdale Rd\, Cincinnati\, OH\, 45231
CATEGORIES:Men's Discipleship
ATTACH;FMTTYPE=image/jpeg:https://christcovcincy.org/wp-content/uploads/2023/02/MensBibleStudy-copy.jpg
END:VEVENT
BEGIN:VEVENT
DTSTART;TZID=UTC:20291008T190000
DTEND;TZID=UTC:20291008T210000
DTSTAMP:20260424T031650
CREATED:20221122T221642Z
LAST-MODIFIED:20250521T182505Z
UID:10006737-1886180400-1886187600@christcovcincy.org
SUMMARY:Session Meeting
DESCRIPTION:
URL:https://christcovcincy.org/event/session-meeting-2/2029-10-08/
LOCATION:Chapel @ Christ Covenant Church Office\, 2192 Springdale Rd\, Cincinnati\, OH\, 45231
ATTACH;FMTTYPE=image/png:https://christcovcincy.org/wp-content/uploads/2022/07/Board-Meeting.png
END:VEVENT
BEGIN:VEVENT
DTSTART;TZID=UTC:20291015T190000
DTEND;TZID=UTC:20291015T210000
DTSTAMP:20260424T031650
CREATED:20221122T221840Z
LAST-MODIFIED:20251001T185731Z
UID:10007290-1886785200-1886792400@christcovcincy.org
SUMMARY:Trustee Meeting
DESCRIPTION:
URL:https://christcovcincy.org/event/trustees-meeting/2029-10-15/
LOCATION:Chapel @ Christ Covenant Church Office\, 2192 Springdale Rd\, Cincinnati\, OH\, 45231
ATTACH;FMTTYPE=image/png:https://christcovcincy.org/wp-content/uploads/2022/07/Board-Meeting.png
END:VEVENT
BEGIN:VEVENT
DTSTART;TZID=America/Halifax:20291103T073000
DTEND;TZID=America/Halifax:20291103T090000
DTSTAMP:20260424T031650
CREATED:20241024T163346Z
LAST-MODIFIED:20260122T201225Z
UID:10007232-1888385400-1888390800@christcovcincy.org
SUMMARY:Men's Bible Study
DESCRIPTION:Join the Men of Christ Covenant as they continue their study through the book of I Samuel.
URL:https://christcovcincy.org/event/mens-bible-study-3-2025-02-01/2029-11-03/
LOCATION:Chapel @ Christ Covenant Church Office\, 2192 Springdale Rd\, Cincinnati\, OH\, 45231
CATEGORIES:Men's Discipleship
ATTACH;FMTTYPE=image/jpeg:https://christcovcincy.org/wp-content/uploads/2023/02/MensBibleStudy-copy.jpg
END:VEVENT
BEGIN:VEVENT
DTSTART;TZID=UTC:20291112T190000
DTEND;TZID=UTC:20291112T210000
DTSTAMP:20260424T031650
CREATED:20221122T221642Z
LAST-MODIFIED:20250521T182505Z
UID:10006738-1889204400-1889211600@christcovcincy.org
SUMMARY:Session Meeting
DESCRIPTION:
URL:https://christcovcincy.org/event/session-meeting-2/2029-11-12/
LOCATION:Chapel @ Christ Covenant Church Office\, 2192 Springdale Rd\, Cincinnati\, OH\, 45231
ATTACH;FMTTYPE=image/png:https://christcovcincy.org/wp-content/uploads/2022/07/Board-Meeting.png
END:VEVENT
BEGIN:VEVENT
DTSTART;TZID=UTC:20291119T190000
DTEND;TZID=UTC:20291119T210000
DTSTAMP:20260424T031650
CREATED:20221122T221840Z
LAST-MODIFIED:20251001T185731Z
UID:10007291-1889809200-1889816400@christcovcincy.org
SUMMARY:Trustee Meeting
DESCRIPTION:
URL:https://christcovcincy.org/event/trustees-meeting/2029-11-19/
LOCATION:Chapel @ Christ Covenant Church Office\, 2192 Springdale Rd\, Cincinnati\, OH\, 45231
ATTACH;FMTTYPE=image/png:https://christcovcincy.org/wp-content/uploads/2022/07/Board-Meeting.png
END:VEVENT
BEGIN:VEVENT
DTSTART;TZID=America/Halifax:20291201T073000
DTEND;TZID=America/Halifax:20291201T090000
DTSTAMP:20260424T031650
CREATED:20241024T163346Z
LAST-MODIFIED:20260122T201225Z
UID:10007233-1890804600-1890810000@christcovcincy.org
SUMMARY:Men's Bible Study
DESCRIPTION:Join the Men of Christ Covenant as they continue their study through the book of I Samuel.
URL:https://christcovcincy.org/event/mens-bible-study-3-2025-02-01/2029-12-01/
LOCATION:Chapel @ Christ Covenant Church Office\, 2192 Springdale Rd\, Cincinnati\, OH\, 45231
CATEGORIES:Men's Discipleship
ATTACH;FMTTYPE=image/jpeg:https://christcovcincy.org/wp-content/uploads/2023/02/MensBibleStudy-copy.jpg
END:VEVENT
BEGIN:VEVENT
DTSTART;TZID=UTC:20291210T190000
DTEND;TZID=UTC:20291210T210000
DTSTAMP:20260424T031650
CREATED:20221122T221642Z
LAST-MODIFIED:20250521T182505Z
UID:10006739-1891623600-1891630800@christcovcincy.org
SUMMARY:Session Meeting
DESCRIPTION:
URL:https://christcovcincy.org/event/session-meeting-2/2029-12-10/
LOCATION:Chapel @ Christ Covenant Church Office\, 2192 Springdale Rd\, Cincinnati\, OH\, 45231
ATTACH;FMTTYPE=image/png:https://christcovcincy.org/wp-content/uploads/2022/07/Board-Meeting.png
END:VEVENT
BEGIN:VEVENT
DTSTART;TZID=UTC:20291217T190000
DTEND;TZID=UTC:20291217T210000
DTSTAMP:20260424T031650
CREATED:20221122T221840Z
LAST-MODIFIED:20251001T185731Z
UID:10007292-1892228400-1892235600@christcovcincy.org
SUMMARY:Trustee Meeting
DESCRIPTION:
URL:https://christcovcincy.org/event/trustees-meeting/2029-12-17/
LOCATION:Chapel @ Christ Covenant Church Office\, 2192 Springdale Rd\, Cincinnati\, OH\, 45231
ATTACH;FMTTYPE=image/png:https://christcovcincy.org/wp-content/uploads/2022/07/Board-Meeting.png
END:VEVENT
BEGIN:VEVENT
DTSTART;TZID=America/Halifax:20300105T073000
DTEND;TZID=America/Halifax:20300105T090000
DTSTAMP:20260424T031650
CREATED:20241024T163346Z
LAST-MODIFIED:20260122T201225Z
UID:10007234-1893828600-1893834000@christcovcincy.org
SUMMARY:Men's Bible Study
DESCRIPTION:Join the Men of Christ Covenant as they continue their study through the book of I Samuel.
URL:https://christcovcincy.org/event/mens-bible-study-3-2025-02-01/2030-01-05/
LOCATION:Chapel @ Christ Covenant Church Office\, 2192 Springdale Rd\, Cincinnati\, OH\, 45231
CATEGORIES:Men's Discipleship
ATTACH;FMTTYPE=image/jpeg:https://christcovcincy.org/wp-content/uploads/2023/02/MensBibleStudy-copy.jpg
END:VEVENT
BEGIN:VEVENT
DTSTART;TZID=UTC:20300114T190000
DTEND;TZID=UTC:20300114T210000
DTSTAMP:20260424T031650
CREATED:20221122T221642Z
LAST-MODIFIED:20250521T182505Z
UID:10006740-1894647600-1894654800@christcovcincy.org
SUMMARY:Session Meeting
DESCRIPTION:
URL:https://christcovcincy.org/event/session-meeting-2/2030-01-14/
LOCATION:Chapel @ Christ Covenant Church Office\, 2192 Springdale Rd\, Cincinnati\, OH\, 45231
ATTACH;FMTTYPE=image/png:https://christcovcincy.org/wp-content/uploads/2022/07/Board-Meeting.png
END:VEVENT
END:VCALENDAR