BEGIN:VCALENDAR
VERSION:2.0
PRODID:-//Christ Covenant Church - ECPv6.15.20//NONSGML v1.0//EN
CALSCALE:GREGORIAN
METHOD:PUBLISH
X-WR-CALNAME:Christ Covenant Church
X-ORIGINAL-URL:https://christcovcincy.org
X-WR-CALDESC:Events for Christ Covenant Church
REFRESH-INTERVAL;VALUE=DURATION:PT1H
X-Robots-Tag:noindex
X-PUBLISHED-TTL:PT1H
BEGIN:VTIMEZONE
TZID:UTC
BEGIN:STANDARD
TZOFFSETFROM:+0000
TZOFFSETTO:+0000
TZNAME:UTC
DTSTART:20280101T000000
END:STANDARD
END:VTIMEZONE
BEGIN:VTIMEZONE
TZID:America/Halifax
BEGIN:DAYLIGHT
TZOFFSETFROM:-0400
TZOFFSETTO:-0300
TZNAME:ADT
DTSTART:20280312T060000
END:DAYLIGHT
BEGIN:STANDARD
TZOFFSETFROM:-0300
TZOFFSETTO:-0400
TZNAME:AST
DTSTART:20281105T050000
END:STANDARD
BEGIN:DAYLIGHT
TZOFFSETFROM:-0400
TZOFFSETTO:-0300
TZNAME:ADT
DTSTART:20290311T060000
END:DAYLIGHT
BEGIN:STANDARD
TZOFFSETFROM:-0300
TZOFFSETTO:-0400
TZNAME:AST
DTSTART:20291104T050000
END:STANDARD
BEGIN:DAYLIGHT
TZOFFSETFROM:-0400
TZOFFSETTO:-0300
TZNAME:ADT
DTSTART:20300310T060000
END:DAYLIGHT
BEGIN:STANDARD
TZOFFSETFROM:-0300
TZOFFSETTO:-0400
TZNAME:AST
DTSTART:20301103T050000
END:STANDARD
BEGIN:DAYLIGHT
TZOFFSETFROM:-0400
TZOFFSETTO:-0300
TZNAME:ADT
DTSTART:20310309T060000
END:DAYLIGHT
BEGIN:STANDARD
TZOFFSETFROM:-0300
TZOFFSETTO:-0400
TZNAME:AST
DTSTART:20311102T050000
END:STANDARD
END:VTIMEZONE
BEGIN:VEVENT
DTSTART;TZID=UTC:20291119T190000
DTEND;TZID=UTC:20291119T210000
DTSTAMP:20260424T054709
CREATED:20221122T221840Z
LAST-MODIFIED:20251001T185731Z
UID:10007291-1889809200-1889816400@christcovcincy.org
SUMMARY:Trustee Meeting
DESCRIPTION:
URL:https://christcovcincy.org/event/trustees-meeting/2029-11-19/
LOCATION:Chapel @ Christ Covenant Church Office\, 2192 Springdale Rd\, Cincinnati\, OH\, 45231
ATTACH;FMTTYPE=image/png:https://christcovcincy.org/wp-content/uploads/2022/07/Board-Meeting.png
END:VEVENT
BEGIN:VEVENT
DTSTART;TZID=America/Halifax:20291201T073000
DTEND;TZID=America/Halifax:20291201T090000
DTSTAMP:20260424T054709
CREATED:20241024T163346Z
LAST-MODIFIED:20260122T201225Z
UID:10007233-1890804600-1890810000@christcovcincy.org
SUMMARY:Men's Bible Study
DESCRIPTION:Join the Men of Christ Covenant as they continue their study through the book of I Samuel.
URL:https://christcovcincy.org/event/mens-bible-study-3-2025-02-01/2029-12-01/
LOCATION:Chapel @ Christ Covenant Church Office\, 2192 Springdale Rd\, Cincinnati\, OH\, 45231
CATEGORIES:Men's Discipleship
ATTACH;FMTTYPE=image/jpeg:https://christcovcincy.org/wp-content/uploads/2023/02/MensBibleStudy-copy.jpg
END:VEVENT
BEGIN:VEVENT
DTSTART;TZID=UTC:20291210T190000
DTEND;TZID=UTC:20291210T210000
DTSTAMP:20260424T054709
CREATED:20221122T221642Z
LAST-MODIFIED:20250521T182505Z
UID:10006739-1891623600-1891630800@christcovcincy.org
SUMMARY:Session Meeting
DESCRIPTION:
URL:https://christcovcincy.org/event/session-meeting-2/2029-12-10/
LOCATION:Chapel @ Christ Covenant Church Office\, 2192 Springdale Rd\, Cincinnati\, OH\, 45231
ATTACH;FMTTYPE=image/png:https://christcovcincy.org/wp-content/uploads/2022/07/Board-Meeting.png
END:VEVENT
BEGIN:VEVENT
DTSTART;TZID=UTC:20291217T190000
DTEND;TZID=UTC:20291217T210000
DTSTAMP:20260424T054709
CREATED:20221122T221840Z
LAST-MODIFIED:20251001T185731Z
UID:10007292-1892228400-1892235600@christcovcincy.org
SUMMARY:Trustee Meeting
DESCRIPTION:
URL:https://christcovcincy.org/event/trustees-meeting/2029-12-17/
LOCATION:Chapel @ Christ Covenant Church Office\, 2192 Springdale Rd\, Cincinnati\, OH\, 45231
ATTACH;FMTTYPE=image/png:https://christcovcincy.org/wp-content/uploads/2022/07/Board-Meeting.png
END:VEVENT
BEGIN:VEVENT
DTSTART;TZID=America/Halifax:20300105T073000
DTEND;TZID=America/Halifax:20300105T090000
DTSTAMP:20260424T054709
CREATED:20241024T163346Z
LAST-MODIFIED:20260122T201225Z
UID:10007234-1893828600-1893834000@christcovcincy.org
SUMMARY:Men's Bible Study
DESCRIPTION:Join the Men of Christ Covenant as they continue their study through the book of I Samuel.
URL:https://christcovcincy.org/event/mens-bible-study-3-2025-02-01/2030-01-05/
LOCATION:Chapel @ Christ Covenant Church Office\, 2192 Springdale Rd\, Cincinnati\, OH\, 45231
CATEGORIES:Men's Discipleship
ATTACH;FMTTYPE=image/jpeg:https://christcovcincy.org/wp-content/uploads/2023/02/MensBibleStudy-copy.jpg
END:VEVENT
BEGIN:VEVENT
DTSTART;TZID=UTC:20300114T190000
DTEND;TZID=UTC:20300114T210000
DTSTAMP:20260424T054709
CREATED:20221122T221642Z
LAST-MODIFIED:20250521T182505Z
UID:10006740-1894647600-1894654800@christcovcincy.org
SUMMARY:Session Meeting
DESCRIPTION:
URL:https://christcovcincy.org/event/session-meeting-2/2030-01-14/
LOCATION:Chapel @ Christ Covenant Church Office\, 2192 Springdale Rd\, Cincinnati\, OH\, 45231
ATTACH;FMTTYPE=image/png:https://christcovcincy.org/wp-content/uploads/2022/07/Board-Meeting.png
END:VEVENT
BEGIN:VEVENT
DTSTART;TZID=UTC:20300121T190000
DTEND;TZID=UTC:20300121T210000
DTSTAMP:20260424T054709
CREATED:20221122T221840Z
LAST-MODIFIED:20251001T185731Z
UID:10007293-1895252400-1895259600@christcovcincy.org
SUMMARY:Trustee Meeting
DESCRIPTION:
URL:https://christcovcincy.org/event/trustees-meeting/2030-01-21/
LOCATION:Chapel @ Christ Covenant Church Office\, 2192 Springdale Rd\, Cincinnati\, OH\, 45231
ATTACH;FMTTYPE=image/png:https://christcovcincy.org/wp-content/uploads/2022/07/Board-Meeting.png
END:VEVENT
BEGIN:VEVENT
DTSTART;TZID=America/Halifax:20300202T073000
DTEND;TZID=America/Halifax:20300202T090000
DTSTAMP:20260424T054709
CREATED:20241024T163346Z
LAST-MODIFIED:20260122T201225Z
UID:10007235-1896247800-1896253200@christcovcincy.org
SUMMARY:Men's Bible Study
DESCRIPTION:Join the Men of Christ Covenant as they continue their study through the book of I Samuel.
URL:https://christcovcincy.org/event/mens-bible-study-3-2025-02-01/2030-02-02/
LOCATION:Chapel @ Christ Covenant Church Office\, 2192 Springdale Rd\, Cincinnati\, OH\, 45231
CATEGORIES:Men's Discipleship
ATTACH;FMTTYPE=image/jpeg:https://christcovcincy.org/wp-content/uploads/2023/02/MensBibleStudy-copy.jpg
END:VEVENT
BEGIN:VEVENT
DTSTART;TZID=UTC:20300211T190000
DTEND;TZID=UTC:20300211T210000
DTSTAMP:20260424T054709
CREATED:20221122T221642Z
LAST-MODIFIED:20250521T182505Z
UID:10006741-1897066800-1897074000@christcovcincy.org
SUMMARY:Session Meeting
DESCRIPTION:
URL:https://christcovcincy.org/event/session-meeting-2/2030-02-11/
LOCATION:Chapel @ Christ Covenant Church Office\, 2192 Springdale Rd\, Cincinnati\, OH\, 45231
ATTACH;FMTTYPE=image/png:https://christcovcincy.org/wp-content/uploads/2022/07/Board-Meeting.png
END:VEVENT
BEGIN:VEVENT
DTSTART;TZID=UTC:20300218T190000
DTEND;TZID=UTC:20300218T210000
DTSTAMP:20260424T054709
CREATED:20221122T221840Z
LAST-MODIFIED:20251001T185731Z
UID:10007294-1897671600-1897678800@christcovcincy.org
SUMMARY:Trustee Meeting
DESCRIPTION:
URL:https://christcovcincy.org/event/trustees-meeting/2030-02-18/
LOCATION:Chapel @ Christ Covenant Church Office\, 2192 Springdale Rd\, Cincinnati\, OH\, 45231
ATTACH;FMTTYPE=image/png:https://christcovcincy.org/wp-content/uploads/2022/07/Board-Meeting.png
END:VEVENT
BEGIN:VEVENT
DTSTART;TZID=America/Halifax:20300302T073000
DTEND;TZID=America/Halifax:20300302T090000
DTSTAMP:20260424T054709
CREATED:20241024T163346Z
LAST-MODIFIED:20260122T201225Z
UID:10007236-1898667000-1898672400@christcovcincy.org
SUMMARY:Men's Bible Study
DESCRIPTION:Join the Men of Christ Covenant as they continue their study through the book of I Samuel.
URL:https://christcovcincy.org/event/mens-bible-study-3-2025-02-01/2030-03-02/
LOCATION:Chapel @ Christ Covenant Church Office\, 2192 Springdale Rd\, Cincinnati\, OH\, 45231
CATEGORIES:Men's Discipleship
ATTACH;FMTTYPE=image/jpeg:https://christcovcincy.org/wp-content/uploads/2023/02/MensBibleStudy-copy.jpg
END:VEVENT
BEGIN:VEVENT
DTSTART;TZID=UTC:20300311T190000
DTEND;TZID=UTC:20300311T210000
DTSTAMP:20260424T054709
CREATED:20221122T221642Z
LAST-MODIFIED:20250521T182505Z
UID:10006742-1899486000-1899493200@christcovcincy.org
SUMMARY:Session Meeting
DESCRIPTION:
URL:https://christcovcincy.org/event/session-meeting-2/2030-03-11/
LOCATION:Chapel @ Christ Covenant Church Office\, 2192 Springdale Rd\, Cincinnati\, OH\, 45231
ATTACH;FMTTYPE=image/png:https://christcovcincy.org/wp-content/uploads/2022/07/Board-Meeting.png
END:VEVENT
BEGIN:VEVENT
DTSTART;TZID=UTC:20300318T190000
DTEND;TZID=UTC:20300318T210000
DTSTAMP:20260424T054709
CREATED:20221122T221840Z
LAST-MODIFIED:20251001T185731Z
UID:10007295-1900090800-1900098000@christcovcincy.org
SUMMARY:Trustee Meeting
DESCRIPTION:
URL:https://christcovcincy.org/event/trustees-meeting/2030-03-18/
LOCATION:Chapel @ Christ Covenant Church Office\, 2192 Springdale Rd\, Cincinnati\, OH\, 45231
ATTACH;FMTTYPE=image/png:https://christcovcincy.org/wp-content/uploads/2022/07/Board-Meeting.png
END:VEVENT
BEGIN:VEVENT
DTSTART;TZID=America/Halifax:20300406T073000
DTEND;TZID=America/Halifax:20300406T090000
DTSTAMP:20260424T054709
CREATED:20241024T163346Z
LAST-MODIFIED:20260122T201225Z
UID:10007237-1901691000-1901696400@christcovcincy.org
SUMMARY:Men's Bible Study
DESCRIPTION:Join the Men of Christ Covenant as they continue their study through the book of I Samuel.
URL:https://christcovcincy.org/event/mens-bible-study-3-2025-02-01/2030-04-06/
LOCATION:Chapel @ Christ Covenant Church Office\, 2192 Springdale Rd\, Cincinnati\, OH\, 45231
CATEGORIES:Men's Discipleship
ATTACH;FMTTYPE=image/jpeg:https://christcovcincy.org/wp-content/uploads/2023/02/MensBibleStudy-copy.jpg
END:VEVENT
BEGIN:VEVENT
DTSTART;TZID=UTC:20300408T190000
DTEND;TZID=UTC:20300408T210000
DTSTAMP:20260424T054709
CREATED:20221122T221642Z
LAST-MODIFIED:20250521T182505Z
UID:10006743-1901905200-1901912400@christcovcincy.org
SUMMARY:Session Meeting
DESCRIPTION:
URL:https://christcovcincy.org/event/session-meeting-2/2030-04-08/
LOCATION:Chapel @ Christ Covenant Church Office\, 2192 Springdale Rd\, Cincinnati\, OH\, 45231
ATTACH;FMTTYPE=image/png:https://christcovcincy.org/wp-content/uploads/2022/07/Board-Meeting.png
END:VEVENT
BEGIN:VEVENT
DTSTART;TZID=UTC:20300415T190000
DTEND;TZID=UTC:20300415T210000
DTSTAMP:20260424T054709
CREATED:20221122T221840Z
LAST-MODIFIED:20251001T185731Z
UID:10007296-1902510000-1902517200@christcovcincy.org
SUMMARY:Trustee Meeting
DESCRIPTION:
URL:https://christcovcincy.org/event/trustees-meeting/2030-04-15/
LOCATION:Chapel @ Christ Covenant Church Office\, 2192 Springdale Rd\, Cincinnati\, OH\, 45231
ATTACH;FMTTYPE=image/png:https://christcovcincy.org/wp-content/uploads/2022/07/Board-Meeting.png
END:VEVENT
BEGIN:VEVENT
DTSTART;TZID=America/Halifax:20300504T073000
DTEND;TZID=America/Halifax:20300504T090000
DTSTAMP:20260424T054709
CREATED:20241024T163346Z
LAST-MODIFIED:20260122T201225Z
UID:10007238-1904110200-1904115600@christcovcincy.org
SUMMARY:Men's Bible Study
DESCRIPTION:Join the Men of Christ Covenant as they continue their study through the book of I Samuel.
URL:https://christcovcincy.org/event/mens-bible-study-3-2025-02-01/2030-05-04/
LOCATION:Chapel @ Christ Covenant Church Office\, 2192 Springdale Rd\, Cincinnati\, OH\, 45231
CATEGORIES:Men's Discipleship
ATTACH;FMTTYPE=image/jpeg:https://christcovcincy.org/wp-content/uploads/2023/02/MensBibleStudy-copy.jpg
END:VEVENT
BEGIN:VEVENT
DTSTART;TZID=UTC:20300513T190000
DTEND;TZID=UTC:20300513T210000
DTSTAMP:20260424T054709
CREATED:20221122T221642Z
LAST-MODIFIED:20250521T182505Z
UID:10006744-1904929200-1904936400@christcovcincy.org
SUMMARY:Session Meeting
DESCRIPTION:
URL:https://christcovcincy.org/event/session-meeting-2/2030-05-13/
LOCATION:Chapel @ Christ Covenant Church Office\, 2192 Springdale Rd\, Cincinnati\, OH\, 45231
ATTACH;FMTTYPE=image/png:https://christcovcincy.org/wp-content/uploads/2022/07/Board-Meeting.png
END:VEVENT
BEGIN:VEVENT
DTSTART;TZID=UTC:20300520T190000
DTEND;TZID=UTC:20300520T210000
DTSTAMP:20260424T054709
CREATED:20221122T221840Z
LAST-MODIFIED:20251001T185731Z
UID:10007297-1905534000-1905541200@christcovcincy.org
SUMMARY:Trustee Meeting
DESCRIPTION:
URL:https://christcovcincy.org/event/trustees-meeting/2030-05-20/
LOCATION:Chapel @ Christ Covenant Church Office\, 2192 Springdale Rd\, Cincinnati\, OH\, 45231
ATTACH;FMTTYPE=image/png:https://christcovcincy.org/wp-content/uploads/2022/07/Board-Meeting.png
END:VEVENT
BEGIN:VEVENT
DTSTART;TZID=America/Halifax:20300601T073000
DTEND;TZID=America/Halifax:20300601T090000
DTSTAMP:20260424T054709
CREATED:20241024T163346Z
LAST-MODIFIED:20260122T201225Z
UID:10007239-1906529400-1906534800@christcovcincy.org
SUMMARY:Men's Bible Study
DESCRIPTION:Join the Men of Christ Covenant as they continue their study through the book of I Samuel.
URL:https://christcovcincy.org/event/mens-bible-study-3-2025-02-01/2030-06-01/
LOCATION:Chapel @ Christ Covenant Church Office\, 2192 Springdale Rd\, Cincinnati\, OH\, 45231
CATEGORIES:Men's Discipleship
ATTACH;FMTTYPE=image/jpeg:https://christcovcincy.org/wp-content/uploads/2023/02/MensBibleStudy-copy.jpg
END:VEVENT
BEGIN:VEVENT
DTSTART;TZID=UTC:20300617T190000
DTEND;TZID=UTC:20300617T210000
DTSTAMP:20260424T054709
CREATED:20221122T221840Z
LAST-MODIFIED:20251001T185731Z
UID:10007298-1907953200-1907960400@christcovcincy.org
SUMMARY:Trustee Meeting
DESCRIPTION:
URL:https://christcovcincy.org/event/trustees-meeting/2030-06-17/
LOCATION:Chapel @ Christ Covenant Church Office\, 2192 Springdale Rd\, Cincinnati\, OH\, 45231
ATTACH;FMTTYPE=image/png:https://christcovcincy.org/wp-content/uploads/2022/07/Board-Meeting.png
END:VEVENT
BEGIN:VEVENT
DTSTART;TZID=America/Halifax:20300706T073000
DTEND;TZID=America/Halifax:20300706T090000
DTSTAMP:20260424T054709
CREATED:20241024T163346Z
LAST-MODIFIED:20260122T201225Z
UID:10007240-1909553400-1909558800@christcovcincy.org
SUMMARY:Men's Bible Study
DESCRIPTION:Join the Men of Christ Covenant as they continue their study through the book of I Samuel.
URL:https://christcovcincy.org/event/mens-bible-study-3-2025-02-01/2030-07-06/
LOCATION:Chapel @ Christ Covenant Church Office\, 2192 Springdale Rd\, Cincinnati\, OH\, 45231
CATEGORIES:Men's Discipleship
ATTACH;FMTTYPE=image/jpeg:https://christcovcincy.org/wp-content/uploads/2023/02/MensBibleStudy-copy.jpg
END:VEVENT
BEGIN:VEVENT
DTSTART;TZID=UTC:20300715T190000
DTEND;TZID=UTC:20300715T210000
DTSTAMP:20260424T054709
CREATED:20221122T221840Z
LAST-MODIFIED:20251001T185731Z
UID:10007299-1910372400-1910379600@christcovcincy.org
SUMMARY:Trustee Meeting
DESCRIPTION:
URL:https://christcovcincy.org/event/trustees-meeting/2030-07-15/
LOCATION:Chapel @ Christ Covenant Church Office\, 2192 Springdale Rd\, Cincinnati\, OH\, 45231
ATTACH;FMTTYPE=image/png:https://christcovcincy.org/wp-content/uploads/2022/07/Board-Meeting.png
END:VEVENT
BEGIN:VEVENT
DTSTART;TZID=America/Halifax:20300803T073000
DTEND;TZID=America/Halifax:20300803T090000
DTSTAMP:20260424T054709
CREATED:20241024T163346Z
LAST-MODIFIED:20260122T201225Z
UID:10007241-1911972600-1911978000@christcovcincy.org
SUMMARY:Men's Bible Study
DESCRIPTION:Join the Men of Christ Covenant as they continue their study through the book of I Samuel.
URL:https://christcovcincy.org/event/mens-bible-study-3-2025-02-01/2030-08-03/
LOCATION:Chapel @ Christ Covenant Church Office\, 2192 Springdale Rd\, Cincinnati\, OH\, 45231
CATEGORIES:Men's Discipleship
ATTACH;FMTTYPE=image/jpeg:https://christcovcincy.org/wp-content/uploads/2023/02/MensBibleStudy-copy.jpg
END:VEVENT
BEGIN:VEVENT
DTSTART;TZID=UTC:20300819T190000
DTEND;TZID=UTC:20300819T210000
DTSTAMP:20260424T054709
CREATED:20221122T221840Z
LAST-MODIFIED:20251001T185731Z
UID:10007300-1913396400-1913403600@christcovcincy.org
SUMMARY:Trustee Meeting
DESCRIPTION:
URL:https://christcovcincy.org/event/trustees-meeting/2030-08-19/
LOCATION:Chapel @ Christ Covenant Church Office\, 2192 Springdale Rd\, Cincinnati\, OH\, 45231
ATTACH;FMTTYPE=image/png:https://christcovcincy.org/wp-content/uploads/2022/07/Board-Meeting.png
END:VEVENT
BEGIN:VEVENT
DTSTART;TZID=America/Halifax:20300907T073000
DTEND;TZID=America/Halifax:20300907T090000
DTSTAMP:20260424T054709
CREATED:20241024T163346Z
LAST-MODIFIED:20260122T201225Z
UID:10007242-1914996600-1915002000@christcovcincy.org
SUMMARY:Men's Bible Study
DESCRIPTION:Join the Men of Christ Covenant as they continue their study through the book of I Samuel.
URL:https://christcovcincy.org/event/mens-bible-study-3-2025-02-01/2030-09-07/
LOCATION:Chapel @ Christ Covenant Church Office\, 2192 Springdale Rd\, Cincinnati\, OH\, 45231
CATEGORIES:Men's Discipleship
ATTACH;FMTTYPE=image/jpeg:https://christcovcincy.org/wp-content/uploads/2023/02/MensBibleStudy-copy.jpg
END:VEVENT
BEGIN:VEVENT
DTSTART;TZID=UTC:20300916T190000
DTEND;TZID=UTC:20300916T210000
DTSTAMP:20260424T054709
CREATED:20221122T221840Z
LAST-MODIFIED:20251001T185731Z
UID:10007301-1915815600-1915822800@christcovcincy.org
SUMMARY:Trustee Meeting
DESCRIPTION:
URL:https://christcovcincy.org/event/trustees-meeting/2030-09-16/
LOCATION:Chapel @ Christ Covenant Church Office\, 2192 Springdale Rd\, Cincinnati\, OH\, 45231
ATTACH;FMTTYPE=image/png:https://christcovcincy.org/wp-content/uploads/2022/07/Board-Meeting.png
END:VEVENT
BEGIN:VEVENT
DTSTART;TZID=America/Halifax:20301005T073000
DTEND;TZID=America/Halifax:20301005T090000
DTSTAMP:20260424T054709
CREATED:20241024T163346Z
LAST-MODIFIED:20260122T201225Z
UID:10007430-1917415800-1917421200@christcovcincy.org
SUMMARY:Men's Bible Study
DESCRIPTION:Join the Men of Christ Covenant as they continue their study through the book of I Samuel.
URL:https://christcovcincy.org/event/mens-bible-study-3-2025-02-01/2030-10-05/
LOCATION:Chapel @ Christ Covenant Church Office\, 2192 Springdale Rd\, Cincinnati\, OH\, 45231
CATEGORIES:Men's Discipleship
ATTACH;FMTTYPE=image/jpeg:https://christcovcincy.org/wp-content/uploads/2023/02/MensBibleStudy-copy.jpg
END:VEVENT
BEGIN:VEVENT
DTSTART;TZID=America/Halifax:20301102T073000
DTEND;TZID=America/Halifax:20301102T090000
DTSTAMP:20260424T054709
CREATED:20241024T163346Z
LAST-MODIFIED:20260122T201225Z
UID:10007431-1919835000-1919840400@christcovcincy.org
SUMMARY:Men's Bible Study
DESCRIPTION:Join the Men of Christ Covenant as they continue their study through the book of I Samuel.
URL:https://christcovcincy.org/event/mens-bible-study-3-2025-02-01/2030-11-02/
LOCATION:Chapel @ Christ Covenant Church Office\, 2192 Springdale Rd\, Cincinnati\, OH\, 45231
CATEGORIES:Men's Discipleship
ATTACH;FMTTYPE=image/jpeg:https://christcovcincy.org/wp-content/uploads/2023/02/MensBibleStudy-copy.jpg
END:VEVENT
BEGIN:VEVENT
DTSTART;TZID=America/Halifax:20301207T073000
DTEND;TZID=America/Halifax:20301207T090000
DTSTAMP:20260424T054709
CREATED:20241024T163346Z
LAST-MODIFIED:20260122T201225Z
UID:10007432-1922859000-1922864400@christcovcincy.org
SUMMARY:Men's Bible Study
DESCRIPTION:Join the Men of Christ Covenant as they continue their study through the book of I Samuel.
URL:https://christcovcincy.org/event/mens-bible-study-3-2025-02-01/2030-12-07/
LOCATION:Chapel @ Christ Covenant Church Office\, 2192 Springdale Rd\, Cincinnati\, OH\, 45231
CATEGORIES:Men's Discipleship
ATTACH;FMTTYPE=image/jpeg:https://christcovcincy.org/wp-content/uploads/2023/02/MensBibleStudy-copy.jpg
END:VEVENT
END:VCALENDAR